{"text_format":"1","workbook":"xlsx","n_sheets":25,"sheets":["Introduction","Model Organization","Model changes","User Inputs & Results","Bulk Assessment","Energy Consumption","GHG Emissions","Exploration","Drilling & Development","Production & Extraction","Surface Processing","Maintenance","Waste Disposal","Crude Transport","Bitumen Extraction & Upgrading","Gas Balance","Steam Injection","Venting & Fugitives","Flaring","Electricity","Drivers","Fuel Cycle","Emissions Factors","Fuel Specs","Input data"],"not_rendered":{"charts":3,"images":0,"macros":1,"external_links":0,"defined_names":8,"comments":0,"pivot_tables":0},"unopened":[],"bounds":{"document_bytes":16777216,"sheet_cells":100000,"rows_first":2000,"rows_last":500,"rows_between":2000,"halvings":0,"cell_chars":16384,"cell_head_chars":4096},"cells_cut":0,"cells_raw":0,"read":"whole","date_system":"1900"}

{"sheet":"Introduction","index":0,"n_rows":67,"n_cols":7,"rows_kept":67,"cut":false,"hidden":false,"merged":[]}
["Oil Production Greenhouse gas Emissions Estimator (OPGEE)"]
[]
["Model version ",null,"1.1 DRAFT A",null,"Model date",null,"2013-02-23"]
[]
[]
[]
["Authors"]
[]
[null,"Hassan M. El-Houjeiri",null,null,"Department of Energy Resources Engineering, Stanford University"]
[null,"Adam R. Brandt",null,null,"Department of Energy Resources Engineering, Stanford University"]
[]
[]
[]
[]
[]
["Acknowledgements"]
[]
[null,"Funding for OPGEE development has been provided by:"]
[null,null,"California Air Resouces Board, as part of agreement number 10-418"]
[null,null,"Stanford University School of Earth Sciences"]
[]
[]
[null,"OPGEE is an open-source project which has benefitted from feedback, discussion, and constructive comments from a variety of observers.  We acknowledge these contributions."]
[null,null,"In particular, we would like to acknowledge significant contributions from:"]
[null,null,"James Duffy",null,"California Air Resources Board"]
[null,null,"Chris Malins",null,"International Council on Clean Transportation"]
[]
[]
["Overview"]
[]
[null,"This model computes the greenhouse gas emissions from conventional and unconventional upstream oil operations, including all major upstream processes."]
[null,"Large process stages included:"]
[null,null,"Exploration"]
[null,null,"Drilling and development"]
[null,null,"Production and extraction"]
[null,null,"Separations and surface operations"]
[null,null,"Treatment and waste disposal"]
[null,null,"Transport"]
[]
[]
[]
[]
[]
["Copyright statement"]
[]
[null,"Copyright © 2012, 2013 The Board of Trustees of the Leland Stanford Junior University"]
[null,"All rights reserved."]
[]
[null,"The Oil Production Greenhouse Gas Emissions Estimator (OPGEE) Program (Software), source code, binary files, and operating manuals are being provided free of charge.  Software may be downloaded, modified and redistributed freely under the following terms and conditions: "]
[]
[null,"Redistributions of any of the following: Software's source code, executables, and any other materials provided must"]
[null,null,"* retain the above copyright notice"]
[null,null,"* require that the source and executable with any modifications be made publicly available under these same terms and conditions and"]
[null,null,"* be sent to: Adam Brandt, Department of Energy Resources Engineering, Stanford University, abrandt@stanford.edu"]
[null,null,"* include this entire Agreement with any redistribution"]
[]
[null,"Neither the name of Stanford University nor the names of the contributors may be used to endorse or promote products derived from this Software without specific prior written permission."]
[]
[null,"Software is being provided “AS IS” and With All Faults. Users acknowledge that Stanford or contributors will not provide any maintenance or support for Software."]
[]
[null,"Stanford makes no representations and extends no warranties of any kind, either express or implied."]
[]
[null,"Stanford disclaims any express or implied warranty of merchantability, or fitness for a particular purpose, of non-infringement, or arising out of any course of dealing."]
[]
[null,"Stanford is not liable for any special, consequential, lost profits, expectation, punitive or other indirect damages in connection with any claim arising out of or related to the use of Software whether grounded in tort (including negligence), strict liability, contract, or otherwise; and,"]
[]
[null,"Users will indemnify, hold harmless and defend Stanford against any claim of any kind arising out of or related to the exercise of any rights in this Agreement."]

{"sheet":"Model Organization","index":1,"n_rows":172,"n_cols":9,"rows_kept":172,"cut":false,"hidden":false,"merged":[[81,1,101,1],[139,2,144,2],[167,2,171,2],[87,2,101,2],[81,2,86,2],[136,1,149,1],[105,1,120,1],[124,1,130,1],[105,2,108,2],[110,2,111,2],[145,2,149,2],[145,3,146,3],[147,3,149,3],[154,1,171,1],[154,2,160,2],[161,2,166,2],[127,3,129,3],[124,3,126,3],[112,2,115,2],[167,3,171,3],[158,3,160,3],[154,3,157,3],[161,3,164,3],[165,3,166,3],[112,3,113,3],[114,3,115,3],[136,3,138,3],[136,2,138,2],[116,2,120,2],[124,2,129,2],[139,3,141,3],[142,3,144,3],[84,3,86,3],[58,3,61,3],[63,3,65,3],[99,3,101,3],[116,3,120,3],[110,3,111,3],[105,3,108,3],[81,3,83,3],[87,3,89,3],[90,3,95,3],[96,3,98,3],[42,3,43,3],[19,1,43,1],[19,2,25,2],[26,2,37,2],[38,2,43,2],[19,3,22,3],[23,3,25,3],[26,3,33,3],[34,3,37,3],[38,3,40,3],[47,1,76,1],[66,3,70,3],[71,3,75,3],[47,2,57,2],[58,2,65,2],[66,2,70,2],[71,2,76,2],[47,3,53,3],[54,3,57,3]]}
["Organization and overview"]
[]
[null,"This sheet provides an overview of the model stages and outlines which sub-processes are included or excluded from each model stage"]
[null,"Some emissions sources have the potential to reduce effective emissions through offsets. These are marked with [-]."]
[]
[]
["1 Emissions magnitude estimation"]
[]
["Importance code",null,"Estimated size",null,"Degree of treatment"]
["*",null,0.01,"g/MJ","Excluded"]
["**",null,0.1,"g/MJ","Included with defaults or excluded"]
["***",null,1,"g/MJ","Included with ease of customization"]
["****",null,10,"g/MJ","Included with significant treatment and uncertainty analysis"]
[]
[]
["2 Inclusion and exclusion in current model version"]
[]
[]
[null,"Main stage","Process","Sub-process","Emissions source","Variants","Sensitivity code","Estimated magnitude (gCO2 eq./MJ)","Included?"]
[null,"Exploration","Seismic exploration","Terrestrial seismic","Vehicular emissions","-","*",{"$f":"IF(G20=\"*\",\"<= 0.01 g\",IF(G20=\"**\",\"~ 0.1   g\",IF(G20=\"***\",\"~ 1 g\",IF(G20=\"****\",\"~ 10 g\",\"Error\"))))","v":"<= 0.01 g"},1]
[null,null,null,null,"Data processing","-","*","<= 0.01 g",0]
[null,null,null,null,"Consumed materials (charges etc.)","-","*","<= 0.01 g",0]
[null,null,null,null,"Land use impacts","-","*","<= 0.01 g",0]
[null,null,null,"Oceanic seismic","Ship emissions","-","*","<= 0.01 g",0]
[null,null,null,null,"Data processing","-","*","<= 0.01 g",0]
[null,null,null,null,"Consumed materials","-","*","<= 0.01 g",0]
[null,null,"Exploratory drilling","Terrestrial drilling","Prime mover emissions","-","*","<= 0.01 g",0]
[null,null,null,null,"Land clearing and construction","-","*","<= 0.01 g",0]
[null,null,null,null,"Vents and upset emissions","-","*","<= 0.01 g",0]
[null,null,null,null,"Drilling flares","-","*","<= 0.01 g",0]
[null,null,null,null,"Casing and cement","-","*","<= 0.01 g",0]
[null,null,null,null,"Other material consumption (e.g., frac sand)","-","*","<= 0.01 g",0]
[null,null,null,null,"Land use impacts","-","*","<= 0.01 g",0]
[null,null,null,null,"Indirect land use impacts (opening of inaccessible land)","-","*","<= 0.01 g",0]
[null,null,null,"Offshore drilling","Prime mover emissions","-","*","<= 0.01 g",0]
[null,null,null,null,"Drilling flares","-","*","<= 0.01 g",0]
[null,null,null,null,"Vents and upset emissions","-","*","<= 0.01 g",0]
[null,null,null,null,"Casing and cement","-","*","<= 0.01 g",0]
[null,null,"Waste handling and disposal","Mud and fluid handling","Energy consumption (other than prime mover)","-","*","<= 0.01 g",0]
[null,null,null,null,"Fugitives from mud","-","*","<= 0.01 g",0]
[null,null,null,null,"Disposal of mud","-","*","<= 0.01 g",0]
[null,null,null,"Fracturing fluid disposal","Processing and disposal of fracturing fluid","-","*","<= 0.01 g",0]
[null,null,null,"Produced water disposal","Processing of produced water","-","*","<= 0.01 g",0]
[null,null,null,null,"Disposal of produced water (remote or on-site reinjection)","-","*","<= 0.01 g",0]
[]
[]
[null,"Main stage","Process","Sub-process","Emissions source","Variants","Sensitivity code","Estimated magnitude","Included?"]
[null,"Drilling and development","Developmental drilling","Terrestrial drilling","Prime mover emissions","-","**",{"$f":"IF(G48=\"*\",\"<= 0.01 g\",IF(G48=\"**\",\"~ 0.1   g\",IF(G48=\"***\",\"~ 1 g\",IF(G48=\"****\",\"~ 10 g\",\"Error\"))))","v":"~ 0.1   g"},1]
[null,null,null,null,"Drilling flares","-","*","<= 0.01 g",0]
[null,null,null,null,"Vents and upset emissions","-","**","~ 0.1   g",0]
[null,null,null,null,"Land use impacts","-","**","~ 0.1   g",1]
[null,null,null,null,"Clearing and construction","-","*","<= 0.01 g",0]
[null,null,null,null,"Casing and cement embodied emissions","-","*","<= 0.01 g",0]
[null,null,null,null,"Other materials consumption (e.g., frac sand)","-","*","<= 0.01 g",0]
[null,null,null,"Oceanic drilling","Prime mover emissions","-","**","~ 0.1   g",1]
[null,null,null,null,"Drilling flares","-","*","<= 0.01 g",0]
[null,null,null,null,"Vents and upset emissions","-","**","~ 0.1   g",0]
[null,null,null,null,"Casing and cement embodied emissions","-","*","<= 0.01 g",0]
[null,null,"Processing capital investment","Oil/gas/water separators","Separator assembly","-","*","<= 0.01 g",0]
[null,null,null,null,"Separator fabrication","-","*","<= 0.01 g",0]
[null,null,null,null,"Separator transport","-","*","<= 0.01 g",0]
[null,null,null,null,"Raw materials manufacture","-","*","<= 0.01 g",0]
[null,null,null,"Water reinjection wells","Various drilling emissions from reinjection wells (see above)","-","*","<= 0.01 g",0]
[null,null,null,"Pumps","Pump assembly","-","*","<= 0.01 g",0]
[null,null,null,null,"Pump fabrication and raw materials manufacture","-","*","<= 0.01 g",0]
[null,null,null,null,"Pump transport","-","*","<= 0.01 g",0]
[null,null,"Storage capital investment","Storage capital investment","Tank assembly","-","*","<= 0.01 g",0]
[null,null,null,null,"Tank fabrication","-","*","<= 0.01 g",0]
[null,null,null,null,"Tank transport","-","*","<= 0.01 g",0]
[null,null,null,null,"Raw materials manufacture","-","*","<= 0.01 g",0]
[null,null,null,null,"Land use impacts","-","*","<= 0.01 g",0]
[null,null,"Transport capital investment","Pipeline capital investment","Pipeline assembly","-","*","<= 0.01 g",0]
[null,null,null,null,"Pipe fabrication","-","*","<= 0.01 g",0]
[null,null,null,null,"Pipe transport","-","*","<= 0.01 g",0]
[null,null,null,null,"Raw materials manufacture","-","*","<= 0.01 g",0]
[null,null,null,null,"Land use impacts","-","*","<= 0.01 g",0]
[null,null,null,"Other transport capital investment","Other infrastructure fabrication and assembly","-","*","<= 0.01 g",0]
[]
[]
[]
[null,"Main stage","Process","Sub-process","Emissions source","Variants","Sensitivity code","Estimated magnitude","Included?"]
[null,"Production and extraction","Lifting","Pumping","Combustion for pump driver","-","***",{"$f":"IF(G82=\"*\",\"<= 0.01 g\",IF(G82=\"**\",\"~ 0.1   g\",IF(G82=\"***\",\"~ 1 g\",IF(G82=\"****\",\"~ 10 g\",\"Error\"))))","v":"~ 1 g"},1]
[null,null,null,null,"Electricity for pump driver","-","***","~ 1 g",1]
[null,null,null,null,"Casing and wellhead fugitive emissions","-","***","~ 1 g",1]
[null,null,null,"Gas lift","Compressor prime mover emissions","-","***","~ 1 g",1]
[null,null,null,null,"Compression electricity emissions","-","***","~ 1 g",1]
[null,null,null,null,"Casing and wellhead fugitive emissions","-","***","~ 1 g",1]
[null,null,"Injection","Gas injection","External gas processing (e.g., N2 production)","-","**","~ 0.1   g",0]
[null,null,null,null,"Gas compression energy",null,"***",{"$f":"IF(G89=\"*\",\"<= 0.01 g\",IF(G89=\"**\",\"~ 0.1   g\",IF(G89=\"***\",\"~ 1 g\",IF(G89=\"****\",\"~ 10 g\",\"Error\"))))","v":"~ 1 g"},1]
[null,null,null,null,"[-] Gas sequestration credit (CO2 flood)","-","***","~ 1 g",0]
[null,null,null,"Steam injection","Water pre-treatment","-","*","<= 0.01 g",0]
[null,null,null,null,"OTSG fuel combustion","NG, produced oil","****","~ 10 g",1]
[null,null,null,null,"Turbine gas consumption (combined cycle) ","Low, med, high efficiency","****","~ 10 g",1]
[null,null,null,null,"HRSG duct firing (combined cycle)","-","***","~ 1 g",1]
[null,null,null,null,"[-] Electricity co-production offsets (combined cycle)","Grid mix variation","****","~ 10 g",1]
[null,null,null,null,"Steam pumping energy (if any)","-","*","<= 0.01 g",0]
[null,null,null,"Polymer flood","Polymer embodied energy","-","*","<= 0.01 g",0]
[null,null,null,null,"Polymer mixing","-","*","<= 0.01 g",0]
[null,null,null,null,"Polymer/water mixture pumping energy","-","*","<= 0.01 g",0]
[null,null,null,"Surfactant/other injection","Surfactant/other embodied energy","-","*","<= 0.01 g",0]
[null,null,null,null,"Surfactant/other mixing","-","*","<= 0.01 g",0]
[null,null,null,null,"Surfactant/other mixture pumping energy","-","*","<= 0.01 g",0]
[]
[]
[null,"Main stage","Process","Sub-process","Emissions source","Variants","Sensitivity code","Estimated magnitude","Included?"]
[null,"Separation and surface processing","Fluid separation","Oil-water-gas separation","Oil-water-gas separation ","-","**",{"$f":"IF(G106=\"*\",\"<= 0.01 g\",IF(G106=\"**\",\"~ 0.1   g\",IF(G106=\"***\",\"~ 1 g\",IF(G106=\"****\",\"~ 10 g\",\"Error\"))))","v":"~ 0.1   g"},1]
[null,null,null,null,"Oil-water-gas separation with heater-treaters","-","**","~ 0.1   g",1]
[null,null,null,null,"Associated gas venting","Variations in flare efficiency","****","~ 10 g",1]
[null,null,null,null,"Associated gas flaring","Variations in flare efficiency","****","~ 10 g",1]
[null,null,"Solid/fluid separation","Solid separation from fluids","Solids removal from separation","-","*","<= 0.01 g",0]
[null,null,"Gas treatment","Gas treatment","Produced gas dehydration","-","*","<= 0.01 g",1]
[null,null,null,null,"Produced gas venting and flaring","-","***","~ 1 g",1]
[null,null,"Water treatment and disposal","Water treatment","Produced water cleanup","-","**","~ 0.1   g",1]
[null,null,null,null,"Produced water handling and pumping","-","**","~ 0.1   g",1]
[null,null,null,"Water reinjection and disposal","Produced water reinjection","-","***","~ 1 g",1]
[null,null,null,null,"Produced water disposal","-","**","~ 0.1   g",1]
[null,null,"Storage (as part of separation)","Storage","Storage pumping energy","-","*","<= 0.01 g",0]
[null,null,null,null,"Tank assembly and installation","-","*","<= 0.01 g",0]
[null,null,null,null,"Evaporative and fugitive emissions","-","**","~ 0.1   g",1]
[null,null,null,null,"Tank materials manufacture","-","*","<= 0.01 g",0]
[null,null,null,null,"Land use impacts","-","*","<= 0.01 g",0]
[]
[]
[null,"Main stage","Process","Sub-process","Emissions source","Variants","Sensitivity code","Estimated magnitude","Included?"]
[null,"Maintenance and workovers","Well workover","Terrestrial well workover","Workover rig energy use","-","*",{"$f":"IF(G125=\"*\",\"<= 0.01 g\",IF(G125=\"**\",\"~ 0.1   g\",IF(G125=\"***\",\"~ 1 g\",IF(G125=\"****\",\"~ 10 g\",\"Error\"))))","v":"<= 0.01 g"},0]
[null,null,null,null,"Fugitive emissions during workover","-","**","~ 0.1   g",1]
[null,null,null,null,"Embodied energy in consumed replacement parts","-","*","<= 0.01 g",0]
[null,null,null,"Offshore well workover","Workover rig energy use","-","*","<= 0.01 g",0]
[null,null,null,null,"Fugitive emissions during workover","-","**","~ 0.1   g",1]
[null,null,null,null,"Embodied energy in consumed replacement parts",null,"*","<= 0.01 g",0]
[null,null,"Other maintenance","Other maintenance","Solids removal from separation","-","*","<= 0.01 g",0]
[]
[]
[]
[]
[null,"Main stage","Process","Sub-process","Emissions source","Variants","Sensitivity code","Estimated magnitude","Included?"]
[null,"Waste treatment and disposal","Water processing waste","Water treatment waste disposal","Subsurface disposal of concentrated WW residuals","-","*",{"$f":"IF(G137=\"*\",\"<= 0.01 g\",IF(G137=\"**\",\"~ 0.1   g\",IF(G137=\"***\",\"~ 1 g\",IF(G137=\"****\",\"~ 10 g\",\"Error\"))))","v":"<= 0.01 g"},0]
[null,null,null,null,"Surface disposal of separated solids","-","*","<= 0.01 g",0]
[null,null,null,null,"Surface disposal of concentrated WW residuals","-","*","<= 0.01 g",0]
[null,null,"Other waste separation and disposal","Other waste separation and processing","Other waste separation and processing","-","*","<= 0.01 g",0]
[null,null,null,null,"Other waste storage","-","*","<= 0.01 g",0]
[null,null,null,null,"Spills and other upsets","-","*","<= 0.01 g",0]
[null,null,null,"Other waste disposal","Other waste transport","-","*","<= 0.01 g",0]
[null,null,null,null,"Other waste disposal (non-hazardous)","-","*","<= 0.01 g",0]
[null,null,null,null,"Other waste disposal (hazardous)","-","*","<= 0.01 g",0]
[null,null,"Solid waste disposal and project decommissioning","Solid waste disposal","Solid waste separation and processing","-","*","<= 0.01 g",0]
[null,null,null,null,"Solid waste transport and disposal","-","*","<= 0.01 g",0]
[null,null,null,"End of life and decommissioning","Demolition and decommissioning","-","*","<= 0.01 g",0]
[null,null,null,null,"Scrap and waste disposal","-","*","<= 0.01 g",0]
[null,null,null,null,"[-] Credit for waste recycling (embodied energy)","-","*","<= 0.01 g",0]
[]
[]
[]
[null,"Main stage","Process","Sub-process","Emissions source","Variants","Sensitivity code","Estimated magnitude","Included?"]
[null,"Crude product transport","Pipeline transport","Pipeline transport","Combustion for pump prime mover","-","***",{"$f":"IF(G155=\"*\",\"<= 0.01 g\",IF(G155=\"**\",\"~ 0.1   g\",IF(G155=\"***\",\"~ 1 g\",IF(G155=\"****\",\"~ 10 g\",\"Error\"))))","v":"~ 1 g"},1]
[null,null,null,null,"Electricity for pump use","-","***","~ 1 g",1]
[null,null,null,null,"Process upsets (one-time events)","-","*","<= 0.01 g",1]
[null,null,null,null,"Leaks (pipeline losses)","-","***","~ 1 g",1]
[null,null,null,"Pipeline construction","Construction equipment energy use","-","*","<= 0.01 g",0]
[null,null,null,null,"Embodied energy in pipeline materials (cement and steel)","-","*","<= 0.01 g",0]
[null,null,null,null,"Land use impacts","-","*","<= 0.01 g",0]
[null,null,"Tanker transport","Tanker transport","Combustion in tanker prime mover (bunker fuels)","-","***","~ 1 g",1]
[null,null,null,null,"Loading and unloading pumping","-","*","<= 0.01 g",1]
[null,null,null,null,"Flares","-","*","<= 0.01 g",1]
[null,null,null,null,"Vents, leaks and upsets","-","*","<= 0.01 g",1]
[null,null,null,"Tanker construction","Embodied energy in tanker materials (steel)","-","*","<= 0.01 g",0]
[null,null,null,null,"Construction energy","-","*","<= 0.01 g",0]
[null,null,"Storage (as part of transport)","Storage","Storage pumping energy","-","*","<= 0.01 g",0]
[null,null,null,null,"Tank assembly and installation","-","*","<= 0.01 g",0]
[null,null,null,null,"Evaporative and fugitive emissions","-","**","~ 0.1   g",1]
[null,null,null,null,"Tank materials manufacture","-","*","<= 0.01 g",0]
[null,null,null,null,"Land use impacts","-","*","<= 0.01 g",0]

{"sheet":"Model changes","index":2,"n_rows":86,"n_cols":5,"rows_kept":86,"cut":false,"hidden":false,"merged":[]}
["Model changes"]
[]
[null,"This sheet tracks model changes from previous model versions"]
[]
[]
[]
["Changes: OPGEE v1.0 to OPGEE v1.1 draft A"]
[]
[null,"From OPGEE v.1.0 to OPGEE v1.1, the following changes were made:"]
[]
[null,"Overall model organization"]
[null,null,"Added sheet to track model changes (this sheet)"]
[null,null,"Changed color themes to OPGEE custom color theme"]
[null,null,"Divided VFF emissions calculations module into two modules, one for flaring and the other for venting and fugitives"]
[]
[null,"User inputs & results sheet "]
[null,null,"Organized user inputs sheet for the implementation of new macro for the bulk assessment"]
[null,null,"Allow removal of gas processing units on the user inputs sheet"]
[null,null,"Added ocean tanker size to user inputs sheet"]
[null,null,"Added volume fraction of diluent as a user input"]
[null,null,"Added a separate emissions category for diluent life cycle emissions"]
[null,null,"Removed allocation of offsite emissions"]
[null,null,"Added a separate emissions category for total offsite emissions"]
[]
[null,"Defaults and smart defaults"]
[null,null,"Rounded no. of injection wells to the nearest 1 well"]
[]
[null,"Data and input parameters"]
[null,null,"Modified land use change emissions factors to account for 30 year analysis period"]
[null,null,"Added petroleum coke life cycle energy consumption and GHG emissions"]
[null,null,"Water oil ratio model improved with more regional data and new functional form"]
[]
[null,"Error checks and warnings"]
[null,null,"Corrected the gas balance gas composition overall error check"]
[null,null,"Added error check to ensure that downhole pump and gas lift do not co-exist (results in miscalculation of required lifting work)"]
[null,null,"Added error check to ensure that user input for volume fraction of diluent is not less than the volume fraction of NGL produced onsite as crude oil blend"]
[]
[null,"New model functionality"]
[null,null,"Imrpoved flaring calculation sheet is now separate from fugitives and venting"]
[null,null,null,"Added sensitivity of flaring to flare exit velocity, flare diameter, wind speed, etc."]
[null,null,null,"Added smart default for flare diameters based on location (onshore, offishore)"]
[null,null,null,"Added dynamic flare sizing to meet flare exit speed regulation"]
[]
[null,null,"More detailed demethanizer model now includes energy consumed by demethanizer"]
[null,null,null,"Added demethanizer input data"]
[null,null,null,"Added N2 and H2S gas densities to input data sheet"]
[null,null,null,"Calculated gas feed into demethanizer in kmol"]
[null,null,null,"Added demethanizer chilling and fractionation energy consumption "]
[null,null,null,"Updated gathering sheets to include energy consumption and emissions of demethanizer"]
[]
[null,null,"Bulk assessment macro changes"]
[null,null,null,"Developed a new macro which runs the bulk assessment for unlimited number of fields and has a built in logic for errors fixing"]
[null,null,null,"Bulk assessment macro now has the following features:"]
[null,null,null,null,"Works with limited datasets, and fills in defaults or smart defaults where applicable"]
[null,null,null,null,"Resolves errors by changing programmatically the well diameter, productivity index, GOR etc.  See documentation for details."]
[null,null,null,null,"Uses colors to highlight where the macro fills in or alters data"]
[]
[null,null,"Processing configuration flexibility"]
[null,null,null,"Dehydrator can be switched ON/OFF"]
[null,null,null,"AGR unit can be switched ON/OFF"]
[null,null,null,"Demethanizer can be switched ON/OFF"]
[]
[null,null,"Diluent blending and upgrading for non oil sands heavy crudes"]
[null,null,null,"Developed the option of diluent blending after production. The model now accounts for indirect GHG emissions associated with importing NGL for use as diluent. Added an ERROR check to make sure that the diluent volume fraction is the minimum as indicated by model inputs (minimum is NGL produced onsite as blend)."]
[null,null,null,"Calculated non-integrated upgrader emissions and energy consumption for non-bitumen pathways using upgrading data from bitumen sheet "]
[null,null,null,"Added emissions and energy consumption of non-integrated upgrader (if applicable) to conventional oil GHG emissions"]
[]
[null,null,"Supplemental flaring sheet added to compute flaring efficiency using flare exit diameter etc."]
[]
[]
[null,"Corrections and improvements"]
[null,null,"Changed heater/treater calculations using default oil emulsion (14% emulsified water)"]
[null,null,"Corrected the AGR unit venting emissions calculation"]
[null,null,"Heating value basis in Bitumen Extraction & Upgrading sheet is changed from HHV basis to LHV basis to address error in emissions computation"]
[null,null,"Fixed treatment of imported vs. on site energy at bitumen production facilities and clarified use of fuel cycle emissions for imported fuels."]
[null,null,"Diluted bitumen pathways now exhibit sensitivity in flaring and fugitive emissions computations to level of diluent blending.  Upstream flaring and fugitive emissions from diluent life cycle are tracked in the \"Fuel Cycle\" sheet, and therefore should not be double counted in the Bitumen Extraction and Upgrading sheet."]
[null,null,"Improved compressor model (compressor now between 1 and 5 stages)"]
[null,null,"Corrected two typo mistakes in the bulk assessment sheet (scf/bbl liquid for gas lift injection and C4+ instead of C4 for gas composition)"]
[null,null,"Corrected flaring emissions so that calculations are based on reservior gas (pre-processing) composition"]
[]
[null,"Documentation and model explanation"]
[null,null,"Highlighted changes to heater/treater calculations"]
[null,null,"Improved description of offsite credits/debts"]
[null,null,"Fixed error in documentation of small sources."]
[null,null,"Labeling of bitumen extraction and upgrading Table 4.10 fixed "]
[null,null,"Fixed numbering in Bitumen Extraction & Upgrading sheet"]

{"sheet":"User Inputs & Results","index":3,"n_rows":300,"n_cols":14,"rows_kept":300,"cut":false,"hidden":false,"merged":[[7,1,7,6],[27,1,27,6]]}
["User inputs and summary results"]
[]
["1 Summary results"]
[]
[null,"Model error check:",null,{"$f":"J140","v":"OK"}]
[null,null,null,null,null,null,null,null,null,"Figure 1.1: Summary GHG emissions"]
[null,"Table 1.1: Summary GHG emissions"]
[null,"GHG emissions [gCO2eq/MJ]"]
[null,null,{"$f":"J67","v":"Generic"}]
[null,"Exploration",{"$f":"(G159)*G203+(G222)*G260","v":0}]
[null,"Drilling",{"$f":"(G165)*G203+(G229)*G260","v":1.3340894356386006}]
[null,"Production",{"$f":"(G171)*G203+(G236)*G260","v":0.88262210372856087}]
[null,"Processing",{"$f":"(G177)*G203","v":0.76371390972227182}]
[null,"Upgrading",{"$f":"G198*G203+(G242)*G260","v":0}]
[null,"Maintenance",{"$f":"(G183)*G203+(G248)*G260","v":0}]
[null,"Waste",{"$f":"(G189)*G203+(G254)*G260","v":0}]
[null,"VFF",{"$f":"(G160+G166+G172+G178+G184+G190)*G203+(G223+G230+G237+G243+G249+G255)*G260","v":3.5546748242320971}]
[null,"Diluent",{"$f":"G194*G203","v":0}]
[null,"Misc.",{"$f":"(G205)*G203+(G262)*G260","v":0.500031}]
[null,"Transport",{"$f":"G202+G259","v":0.89124677488936765}]
[null,"Offsite emissions",{"$f":"G207*G203+G264*G260","v":-0.56800361684111322}]
[null,"Net lifecycle emissions",{"$f":"J46*G211+J47*G268","v":7.3583744313697856}]
[null,"Notes: Copy highlighted column and paste 'as numbers' to generate a record"]
[]
[]
[null,null,null,null,null,null,null,null,null,"Figure 1.2: Summary energy consumption"]
[null,"Table 1.2: Summary energy consumption"]
[null,"Energy consumption [MJ/MJ]"]
[null,null,{"$f":"J67","v":"Generic"}]
[null,"Exploration",{"$f":"G157*G203+G220*G260","v":0}]
[null,"Drilling",{"$f":"G163*G203+G227*G260","v":8.8856875363707056E-4}]
[null,"Production",{"$f":"G169*G203+G234*G260","v":1.1754136757312728E-2}]
[null,"Processing",{"$f":"G175*G203","v":4.404210920290072E-2}]
[null,"Upgrading",{"$f":"G197*G203+G240*G260","v":0}]
[null,"Maintenance",{"$f":"G181*G203+G246*G260","v":1.7878187703170318E-4}]
[null,"Waste",{"$f":"G187*G203+G252*G260","v":0}]
[null,"Diluent",{"$f":"G193*G203","v":0}]
[null,"Transport",{"$f":"G201+G258","v":1.2654909091106279E-2}]
[null,"Total",{"$f":"J46*G209+J47*G266","v":6.9518505681988502E-2}]
[null,"Notes: Copy highlighted column and paste 'as numbers' to generate a record"]
[]
[]
["2 Petroleum resource"]
[]
[]
["2.1   Conventional",null,null,null,null,null,null,null,null,1,1,"NA"]
["2.2   Bitumen",null,null,null,null,null,null,null,null,0,0,"NA"]
[null,null,null,null,null,null,null,null,"Check:",{"$f":"IF(J46+J47=1,\"OK\",\"ERROR\")","v":"OK"},{"$f":"IF(K46+K47=1,\"OK\",\"ERROR\")","v":"OK"}]
[]
["3 User inputs - Conventional"]
[]
["Enter primary input parameters and choices"]
[null,null,null,null,null,null,null,null,null,"User","Default","Unit",null,"Notes"]
["3.1   Production methods"]
["Note: Enter \"1\" where applicable and \"0\" where not applicable"]
[]
[null,"3.1.1   Downhole pump",null,null,null,null,null,null,null,1,1,"NA"]
[null,"3.1.2   Water reinjection ",null,null,null,null,null,null,null,1,1,"NA",null,"If water flooding applies then \"0\""]
[null,"3.1.3   Gas reinjection",null,null,null,null,null,null,null,1,1,"NA",null,"If gas flooding applies then \"0\""]
[null,"3.1.4   Water flooding",null,null,null,null,null,null,null,0,0,"NA",null,"This is used for injecting amounts of water larger than the amount of produced water"]
[null,"3.1.5   Gas lifting",null,null,null,null,null,null,{"$f":"IF(AND(J57=1,J61=1),\"ERROR\",\"OK\")","v":"OK"},0,0,"NA",null,"This is used for gas lifting"]
[null,"3.1.6   Gas flooding",null,null,null,null,null,null,null,0,0,"NA",null,"This is used for injecting a different type of gas (e.g. N2) or amounts of gas larger than the amount of produced gas"]
[null,"3.1.7   Steam flooding",null,null,null,null,null,null,null,0,0,"NA",null,"This is used for injecting steam"]
[]
["3.2   Field properties"]
[null,"3.2.1   Field location (Country)",null,null,null,null,null,null,{"$f":"IF(ISNA(MATCH(J66,Flaring!B93:B151,0))=TRUE,\"ERROR\",\"OK\")","v":"OK"},"Generic","Generic","NA",null,{"$f":"IF(I66=\"ERROR\",\"Check the spelling of the field location (The location name must be spelled exactly the same as in the 'Flaring' sheet, Table 4.1)\",\"\")","v":""}]
[null,"3.2.2   Field name",null,null,null,null,null,null,null,"Generic","Generic","NA"]
[null,"3.2.3   Field age",null,null,null,null,null,null,null,35,35,"yr"]
[null,"3.2.4   Field depth",null,null,null,null,null,null,null,7240,7240,"ft"]
[null,"3.2.5   Oil production volume",null,null,null,null,null,null,null,1500,1500,"bbl/d"]
[null,"3.2.6   Number of producing wells",null,null,null,null,null,null,null,8,{"$f":"IF(ROUND(J70/183,0)<1,1,ROUND(J70/183,0))","v":8},"[-]"]
[null,"3.2.7   Number of water injecting wells",null,null,null,null,null,null,null,5,{"$f":"ROUNDUP(IF((J70/J71)<10,0.143*J71,IF((J70/J71)<100,0.254*J71,IF((J70/J71)<1000,0.532*J71,0.831*J71))),0)","v":5},"[-]"]
[null,"3.2.8   Well diameter",null,null,null,null,null,null,null,2.7749999999999999,{"$f":"(1.05+4.5)/2","v":2.7749999999999999},"in"]
[null,"3.2.9   Productivity index",null,null,null,null,null,null,null,3,3,"bbl/psi-d"]
[null,"3.2.10   Average reservoir pressure",null,null,null,null,null,null,null,1556.6,{"$f":"0.5*(J69*0.43)","v":1556.6},"psi"]
[]
["3.3   Fluid properties"]
[null,"3.3.1   API gravity of produced crude",null,null,null,null,null,null,null,30,30,"deg. API"]
[null,"3.3.2   Associated gas composition"]
[null,null,null,null,null,null,null,null,"N2",2,2,"mol%",null,"Composition on dry basis"]
[null,null,null,null,null,null,null,null,"CO2",6,6,"mol%"]
[null,null,null,null,null,null,null,null,"C1",84,84,"mol%"]
[null,null,null,null,null,null,null,null,"C2",4,4,"mol%"]
[null,null,null,null,null,null,null,null,"C3",2,2,"mol%"]
[null,null,null,null,null,null,null,null,"C4+",1,1,"mol%"]
[null,null,null,null,null,null,null,null,"H2S",1,1,"mol%"]
[]
["3.4   Production practices"]
["Notes: Enter \"NA\" where not applicable"]
[null,"3.4.1   Gas-to-oil ratio (GOR)",null,null,null,null,null,null,null,908,{"$f":"IF(J78<20,227,IF(AND(J78>=20,J78<=30),908,1297))","v":908},"scf/bbl oil",null,"In the case of gas lift, the gas oil ratio should include produced gas from the reservoir as well as injected lift gas."]
[null,"3.4.2   Water-to-oil ratio (WOR)",null,null,null,null,null,null,null,4.3083690574453417,{"$f":"1.706*EXP(0.036*J68)-1.706","v":4.3083690574453417},"bbl water/bbl oil"]
[null,"3.4.3   Water injection ratio",null,null,null,null,null,null,{"$f":"IF(AND(J92=\"NA\",J60=1),\"ERROR\",\"OK\")","v":"OK"},5.3083690574453417,{"$f":"J91+1","v":5.3083690574453417},"bbl water/bbl oil"]
[null,"3.4.4   Gas lifting injection ratio",null,null,null,null,null,null,{"$f":"IF(AND(J93=\"NA\",J61=1),\"ERROR\",\"OK\")","v":"OK"},1500,1500,"scf/bbl liquid",null,"Gas lifting injection (does not include gas reinjected into the reservoir)"]
[null,"3.4.5   Gas flooding injection ratio",null,null,null,null,null,null,{"$f":"IF(AND(J94=\"NA\",J62=1),\"ERROR\",\"OK\")","v":"OK"},1362,{"$f":"IF('Production & Extraction'!M186=1,1.5*J90,1200)","v":1362},"scf/bbl oil"]
[null,"3.4.6   Steam-to-oil ratio (SOR)",null,null,null,null,null,null,{"$f":"IF(AND(J95=\"NA\",J63=1),\"ERROR\",\"OK\")","v":"OK"},3,3,"bbl steam/bbl oil"]
[null,"3.4.7   Fraction of required electricity generated onsite",null,null,null,null,null,null,null,0,0,"[-]"]
[null,"3.4.8   Fraction of remaining gas reinjected",null,null,null,null,null,null,null,0,0,"[-]",null,"1.0 if gas flooding applies (Note: Do not enter NA at all times)"]
[null,"3.4.9   Fraction of water produced reinjected",null,null,null,null,null,null,null,1,1,"[-]",null,"1.0 if water flooding applies (Note: Do not enter NA at all times)"]
[null,"3.4.10   Fraction of steam generation via co-generation",null,null,null,null,null,null,null,0,0,"[-]"]
[]
["3.5   Processing practices"]
[null,"3.5.1   Heater/treater (1= Applicable; 0= Not applicable)",null,null,null,null,null,null,null,0,{"$f":"IF(J78<18,1,0)","v":0},"NA"]
[null,"3.5.2   Stabilizer column (1= Applicable; 0 = Not applicable)",null,null,null,null,null,null,null,1,{"$f":"IF(J90<=500,0,1)","v":1},"NA"]
[null,"3.5.3   Application of AGR unit (1= Applicable; 0 = Not applicable)",null,null,null,null,null,null,null,1,1,"NA"]
[null,"3.5.4   Application of gas dehydration unit (1= Applicable; 0 = Not applicable)",null,null,null,null,null,null,null,1,1,"NA"]
[null,"3.5.5   Application of demethanizer unit (1= Applicable; 0 = Not applicable)",null,null,null,null,null,null,null,1,1,"NA"]
[null,"3.5.6   Ratio of flaring to oil production",null,null,null,null,null,null,null,181.52809179284083,{"$f":"1000000*(Flaring!N15/'Production & Extraction'!M35)","v":181.52809179284083},"scf/bbl",null,"Default calculated based on satellite data from NOAA"]
[null,"3.5.7   Ratio of venting to oil production",null,null,null,null,null,null,null,0,0,"scf/bbl",null,"This is the ratio of venting used as a disposal mechanism (does not include operational venting / default leaks)"]
[null,"3.5.8   Volume fraction of diluent in diluted crude",null,null,null,null,null,null,{"$f":"IF(J109<K109,\"ERROR\",\"OK\")","v":"OK"},0,{"$f":"ROUND('Surface Processing'!M122*('Gas Balance'!AC36/'Fuel Specs'!M14)/(J70+'Surface Processing'!M122*('Gas Balance'!AC36/'Fuel Specs'!M14)),3)","v":0},"[-]",null,"Default is the minimum indicated by the model inputs"]
[]
["3.6   Land use impacts"]
[null,"3.6.1   Crude ecosystem carbon richness"]
[null,null,"3.6.1.1   Low carbon richness (semi-arid grasslands)",null,null,null,null,null,null,0,0,"NA"]
[null,null,"3.6.1.2   Moderate carbon richness (mixed)",null,null,null,null,null,null,1,1,"NA"]
[null,null,"3.6.1.3   High carbon richness (forested)",null,null,null,null,null,null,0,0,"NA"]
[null,"3.6.2   Field development intensity"]
[null,null,"3.6.2.1   Low intensity development and low oxidation",null,null,null,null,null,null,0,0,"NA"]
[null,null,"3.6.2.2   Moderate intensity development and moderate oxidation",null,null,null,null,null,null,1,1,"NA"]
[null,null,"3.6.2.3   High intensity development and high oxidation",null,null,null,null,null,null,0,0,"NA"]
[]
["3.7   Non-integrated upgrader (1= Applicable; 0= Not applicable)",null,null,null,null,null,null,null,null,0,0,"NA"]
[]
["3.8   Crude oil transport"]
[null,"3.8.1   Fraction of oil transported by each mode",null,null,null,null,null,null,null,null,null,null,null,"The total fraction of all modes may exceed 1.0 because more than one transportation legs may be involved for transporting the oil"]
[null,null,"3.8.1.1   Ocean tanker",null,null,null,null,null,null,1,1,"[-]"]
[null,null,"3.8.1.2   Barge",null,null,null,null,null,null,0,0,"[-]"]
[null,null,"3.8.1.3   Pipeline",null,null,null,null,null,null,1,1,"[-]"]
[null,null,"3.8.1.4   Rail",null,null,null,null,null,null,0,0,"[-]"]
[null,"3.8.2   Transport distance (one way)"]
[null,null,"3.8.2.1   Ocean tanker",null,null,null,null,null,null,5082,5082,"Miles"]
[null,null,"3.8.2.2   Barge",null,null,null,null,null,null,500,500,"Miles"]
[null,null,"3.8.2.3   Pipeline",null,null,null,null,null,null,750,750,"Miles"]
[null,null,"3.8.2.4   Rail",null,null,null,null,null,null,800,800,"Miles"]
[null,"3.8.3   Ocean tanker size, if applicable",null,null,null,null,null,null,null,250000,250000,"Tons"]
[]
["3.9   Small sources emissions",null,null,null,null,null,null,null,null,0.5,0.5,"gCO2 eq/MJ",null,"Assumption to account for numerous small sources not included in current version of OPGEE (see `Model organization' sheet for list of sources not explicitly modeled)"]
[]
[]
[null,null,null,null,null,null,null,null,null,"Status"]
["3.10   Overall error check",null,null,null,null,null,null,null,null,{"$f":"IF(J57=\"\",\"\",IF(OR(J276=\"ERROR\",J277=\"ERROR\",J278=\"ERROR\",J279=\"ERROR\",J280=\"ERROR\",J281=\"ERROR\",J282=\"ERROR\",J283=\"ERROR\",J284=\"ERROR\",J285=\"ERROR\",J286=\"ERROR\",J287=\"ERROR\",J288=\"ERROR\",J289=\"ERROR\",J290=\"ERROR\",J291=\"ERROR\",J292=\"ERROR\",J293=\"ERROR\",J294=\"ERROR\",J295=\"ERROR\",J296=\"ERROR\",J297=\"ERROR\",J298=\"ERROR\",J299=\"ERROR\",J300=\"ERROR\"),\"ERROR\",\"OK\"))","v":"OK"},null,null,null,"For specific error checks see section 7 below"]
[]
[]
["4 User inputs - Bitumen"]
[]
[]
["Notes:"]
["Change user inputs in Bitumen Extraction & Upgrading sheet."]
["Change crude production method in Drilling & Development sheet (section 2.1.3)."]
[]
[]
["5 Summary results - Conventional"]
[]
["These results are derived from calculations in following sheets"]
[]
[null,null,null,null,null,null,"Value","Unit",null,"Notes"]
["5.1   Exploration"]
[null,"5.1.1   Total energy consumption",null,null,null,null,{"$f":"J46*0","v":0},"MJ/MJ",null,"Exploration energy use is not included in the current version of the model"]
[null,"5.1.2   Total GHG emissions",null,null,null,null,{"$f":"J46*0","v":0},"gCO2eq/MJ",null,"Exploration emissions are not included in the current version of the model"]
[null,null,"5.1.2.1   Combustion/land use",null,null,null,{"$f":"J46*0","v":0},"gCO2eq/MJ"]
[null,null,"5.1.2.2   VFF",null,null,null,{"$f":"J46*0","v":0},"gCO2eq/MJ"]
[]
["5.2   Drilling & Development"]
[null,"5.2.1   Total energy consumption",null,null,null,null,{"$f":"J46*(1+IF(J109=1,0,('Surface Processing'!M122*('Gas Balance'!AC36/'Fuel Specs'!M14)/(J70/(1-J109))))-J109)*(('Energy Consumption'!H20/('Energy Consumption'!H61-'Energy Consumption'!H59))*('Energy Consumption'!E97+'Energy Consumption'!E108)+0)/('Production & Extraction'!M35*'Fuel Specs'!M14-'Energy Consumption'!E96+'Gas Balance'!AC35*'Surface Processing'!M122+IF('Fuel Cycle'!F10=2,ABS('Energy Consumption'!E84),0))","v":8.8851366578979163E-4},"MJ/MJ"]
[null,"5.2.2   Total GHG emissions",null,null,null,null,{"$f":"J46*SUM(G165:G166)","v":1.3340067272215128},"gCO2eq/MJ"]
[null,null,"5.2.2.1   Combustion/land use",null,null,null,{"$f":"J46*(1+IF(J109=1,0,('Surface Processing'!M122*('Gas Balance'!AC36/'Fuel Specs'!M14)/(J70/(1-J109))))-J109)*('GHG Emissions'!H12+'GHG Emissions'!I12)/('Input data'!E46*('Production & Extraction'!M35*'Fuel Specs'!M14-'Energy Consumption'!E96+'Gas Balance'!AC35*'Surface Processing'!M122+IF('Fuel Cycle'!F10=2,ABS('Energy Consumption'!E84),0)))","v":1.3340067272215128},"gCO2eq/MJ"]
[null,null,"5.2.2.2   VFF",null,null,null,{"$f":"J46*0","v":0},"gCO2eq/MJ"]
[]
["5.3   Crude production & extraction"]
[null,"5.3.1   Total energy consumption",null,null,null,null,{"$f":"J46*(1+IF(J109=1,0,('Surface Processing'!M122*('Gas Balance'!AC36/'Fuel Specs'!M14)/(J70/(1-J109))))-J109)*(('Energy Consumption'!H22/('Energy Consumption'!H61-'Energy Consumption'!H59))*('Energy Consumption'!E97+'Energy Consumption'!E108)+((Flaring!I80+'Venting & Fugitives'!H247+'Venting & Fugitives'!H251)/365))/('Production & Extraction'!M35*'Fuel Specs'!M14-'Energy Consumption'!E96+'Gas Balance'!AC35*'Surface Processing'!M122+IF('Fuel Cycle'!F10=2,ABS('Energy Consumption'!E84),0))","v":1.1753408046013875E-2},"MJ/MJ"]
[null,"5.3.2   Total GHG emissions",null,null,null,null,{"$f":"J46*(G171+G172)","v":0.89988621892298748},"gCO2eq/MJ",null,"MJ of crude output"]
[null,null,"5.3.2.1   Combustion/land use",null,null,null,{"$f":"J46*(1+IF(J109=1,0,('Surface Processing'!M122*('Gas Balance'!AC36/'Fuel Specs'!M14)/(J70/(1-J109))))-J109)*(('GHG Emissions'!H14+'GHG Emissions'!I14)+('Energy Consumption'!H22/('Energy Consumption'!H22+'Energy Consumption'!H34))*'GHG Emissions'!H49)/('Input data'!E46*('Production & Extraction'!M35*'Fuel Specs'!M14-'Energy Consumption'!E96+'Gas Balance'!AC35*'Surface Processing'!M122+IF('Fuel Cycle'!F10=2,ABS('Energy Consumption'!E84),0)))","v":0.8825673845507187},"gCO2eq/MJ"]
[null,null,"5.3.2.2   VFF",null,null,null,{"$f":"J46*(1+IF(J109=1,0,('Surface Processing'!M122*('Gas Balance'!AC36/'Fuel Specs'!M14)/(J70/(1-J109))))-J109)*('GHG Emissions'!J14+'GHG Emissions'!K14+'GHG Emissions'!L14)/('Input data'!E46*('Production & Extraction'!M35*'Fuel Specs'!M14-'Energy Consumption'!E96+'Gas Balance'!AC35*'Surface Processing'!M122+IF('Fuel Cycle'!F10=2,ABS('Energy Consumption'!E84),0)))","v":1.7318834372268721E-2},"gCO2eq/MJ"]
[]
["5.4   Surface processing"]
[null,"5.4.1   Total energy consumption",null,null,null,null,{"$f":"J46*(1+IF(J109=1,0,('Surface Processing'!M122*('Gas Balance'!AC36/'Fuel Specs'!M14)/(J70/(1-J109))))-J109)*(('Energy Consumption'!H34/('Energy Consumption'!H61-'Energy Consumption'!H59))*('Energy Consumption'!E97+'Energy Consumption'!E108)+((Flaring!I81+'Venting & Fugitives'!H248+'Venting & Fugitives'!H252)/365))/('Production & Extraction'!M35*'Fuel Specs'!M14-'Energy Consumption'!E96+'Gas Balance'!AC35*'Surface Processing'!M122+IF('Fuel Cycle'!F10=2,ABS('Energy Consumption'!E84),0))","v":4.4039378761417509E-2},"MJ/MJ"]
[null,"5.4.2   Total GHG emissions",null,null,null,null,{"$f":"J46*(G177+G178)","v":4.2147222265122668},"gCO2eq/MJ",null,"MJ of crude output"]
[null,null,"5.4.2.1   Combustion/land use ",null,null,null,{"$f":"J46*(1+IF(J109=1,0,('Surface Processing'!M122*('Gas Balance'!AC36/'Fuel Specs'!M14)/(J70/(1-J109))))-J109)*(('GHG Emissions'!H24+'GHG Emissions'!I24)+('Energy Consumption'!H34/('Energy Consumption'!H22+'Energy Consumption'!H34))*'GHG Emissions'!H49)/('Input data'!E46*('Production & Extraction'!M35*'Fuel Specs'!M14-'Energy Consumption'!E96+'Gas Balance'!AC35*'Surface Processing'!M122+IF('Fuel Cycle'!F10=2,ABS('Energy Consumption'!E84),0)))","v":0.76366656239540331},"gCO2eq/MJ"]
[null,null,"5.4.2.2   VFF ",null,null,null,{"$f":"J46*(1+IF(J109=1,0,('Surface Processing'!M122*('Gas Balance'!AC36/'Fuel Specs'!M14)/(J70/(1-J109))))-J109)*('GHG Emissions'!J24+'GHG Emissions'!K24+'GHG Emissions'!L24)/('Input data'!E46*('Production & Extraction'!M35*'Fuel Specs'!M14-'Energy Consumption'!E96+'Gas Balance'!AC35*'Surface Processing'!M122+IF('Fuel Cycle'!F10=2,ABS('Energy Consumption'!E84),0)))","v":3.4510556641168635},"gCO2eq/MJ"]
[]
["5.5   Maintenance"]
[null,"5.5.1   Total energy consumption",null,null,null,null,{"$f":"J46*(1+IF(J109=1,0,('Surface Processing'!M122*('Gas Balance'!AC36/'Fuel Specs'!M14)/(J70/(1-J109))))-J109)*(('Energy Consumption'!H55/('Energy Consumption'!H61-'Energy Consumption'!H59))*('Energy Consumption'!E97+'Energy Consumption'!E108)+((Flaring!I82+'Venting & Fugitives'!H249+'Venting & Fugitives'!H253)/365))/('Production & Extraction'!M35*'Fuel Specs'!M14-'Energy Consumption'!E96+'Gas Balance'!AC35*'Surface Processing'!M122+IF('Fuel Cycle'!F10=2,ABS('Energy Consumption'!E84),0))","v":1.7877079324252215E-4},"MJ/MJ"]
[null,"5.5.2   Total GHG emissions",null,null,null,null,{"$f":"J46*(G183+G184)","v":8.607994956718551E-2},"gCO2eq/MJ",null,"MJ of crude output"]
[null,null,"5.5.2.1   Combustion/land use ",null,null,null,{"$f":"J46*0","v":0},"gCO2eq/MJ"]
[null,null,"5.5.2.2   VFF ",null,null,null,{"$f":"J46*(1+IF(J109=1,0,('Surface Processing'!M122*('Gas Balance'!AC36/'Fuel Specs'!M14)/(J70/(1-J109))))-J109)*('GHG Emissions'!J45+'GHG Emissions'!K45+'GHG Emissions'!L45)/('Input data'!E46*('Production & Extraction'!M35*'Fuel Specs'!M14-'Energy Consumption'!E96+'Gas Balance'!AC35*'Surface Processing'!M122+IF('Fuel Cycle'!F10=2,ABS('Energy Consumption'!E84),0)))","v":8.607994956718551E-2},"gCO2eq/MJ"]
[]
["5.6   Waste disposal"]
[null,"5.6.1   Total energy consumption",null,null,null,null,{"$f":"J46*0","v":0},"MJ/MJ",null,"Waste disposal energy use is not included in the current version of the model"]
[null,"5.6.2   Total GHG emissions",null,null,null,null,{"$f":"J46*0","v":0},"gCO2eq/MJ",null,"Waste disposal emissions are not included in the current version of the model"]
[null,null,"5.6.2.1   Combustion/land use",null,null,null,{"$f":"J46*0","v":0},"gCO2eq/MJ"]
[null,null,"5.6.2.2   VFF",null,null,null,{"$f":"J46*0","v":0},"gCO2eq/MJ"]
[]
["5.7   Diluent"]
[null,"5.7.1   Total energy consumption",null,null,null,null,{"$f":"J46*IF(J109=1,'Fuel Cycle'!D59,'Fuel Cycle'!D59*(J109-('Surface Processing'!M122*('Gas Balance'!AC36/'Fuel Specs'!M14)/(J70/(1-J109)))))","v":0},"MJ/MJ"]
[null,"5.7.2   Total GHG emissions",null,null,null,null,{"$f":"J46*IF(J109=1,'Fuel Cycle'!D73/'Input data'!E46,('Fuel Cycle'!D73/'Input data'!E46)*(J109-('Surface Processing'!M122*('Gas Balance'!AC36/'Fuel Specs'!M14)/(J70/(1-J109)))))","v":0},"gCO2eq/MJ"]
[]
["5.8   Non-integrated upgrader"]
[null,"5.8.1   Total energy consumption",null,null,null,null,{"$f":"J46*(1+IF(J109=1,0,('Surface Processing'!M122*('Gas Balance'!AC36/'Fuel Specs'!M14)/(J70/(1-J109))))-J109)*IF(J121=1,0.271597710331727,0)","v":0},"MJ/MJ"]
[null,"5.8.2   Total GHG emissions",null,null,null,null,{"$f":"J46*(1+IF(J109=1,0,('Surface Processing'!M122*('Gas Balance'!AC36/'Fuel Specs'!M14)/(J70/(1-J109))))-J109)*IF(J121=1,16.8745465084971,0)","v":0},"gCO2eq/MJ",null,"MJ of SCO"]
[]
["5.9   Crude transport"]
[null,"5.9.1   Total energy consumption",null,null,null,null,{"$f":"J46*'Crude Transport'!M9","v":1.2654909091106279E-2},"MJ/MJ"]
[null,"5.9.2   Total GHG emissions",null,null,null,null,{"$f":"J46*'Crude Transport'!M10","v":0.89124677488936765},"gCO2eq/MJ",null,"MJ of crude transported"]
[null,"5.9.3   Loss factor",null,null,null,null,{"$f":"J46*(('Crude Transport'!B88/1000000)+1)","v":1.000062},"NA",null,"Calculated from crude oil losses"]
[]
["5.10   Other small sources",null,null,null,null,null,{"$f":"J46*(1+IF(J109=1,0,('Surface Processing'!M122*('Gas Balance'!AC36/'Fuel Specs'!M14)/(J70/(1-J109))))-J109)*J136","v":0.5},"gCO2eq/MJ",null,"See sheet \"Model Organization\" for list of all sources not explicitly modeled in OPGEE. These sources are included here as \"other small sources\" and assigned default value of 0.5 gCO2 eq./MJ"]
[]
["5.11   Offsite emissions credit/debit",null,null,null,null,null,{"$f":"J46*(1+IF(J109=1,0,('Surface Processing'!M122*('Gas Balance'!AC36/'Fuel Specs'!M14)/(J70/(1-J109))))-J109)*('GHG Emissions'!G63)/('Input data'!E46*('Production & Extraction'!M35*'Fuel Specs'!M14-'Energy Consumption'!E96+'Gas Balance'!AC35*'Surface Processing'!M122+IF('Fuel Cycle'!F10=2,ABS('Energy Consumption'!E84))))","v":-0.5679684028001396},"gCO2eq/MJ",null,"Credits (negative emissions) from fuels export + debts (positive emissions) from fuels import"]
[]
["5.12   Lifecycle energy consumption",null,null,null,null,null,{"$f":"J46*((G157+G163+G169+G175+G181+G187+G193+G197)*G203+G201)","v":6.9518505681988502E-2},"MJ/MJ"]
[]
["5.13   Lifecycle GHG emissions",null,null,null,null,null,{"$f":"J46*((G158+G164+G170+G176+G182+G188+G205+G194+G198+G207)*G203+G202)","v":7.3583744313697856},"gCO2eq/MJ",null,"MJ of crude at refinery gate"]
[]
[]
["6 Summary result - Bitumen"]
[]
["These results are derived from calculations in Bitumen Extraction & Upgrading sheet."]
[]
[null,null,null,null,null,null,"Value","Unit",null,"Notes"]
["6.1   Exploration"]
[null,"6.1.1   Total energy consumption",null,null,null,null,{"$f":"J47*0","v":0},"MJ/MJ",null,"Exploration energy use is not included in the current version of the model"]
[null,"6.1.2   Total GHG emissions",null,null,null,null,{"$f":"J47*0","v":0},"gCO2eq/MJ",null,"Exploration emissions are not included in the current version of the model"]
[null,null,"6.1.2.1   Combustion/land use ",null,null,null,{"$f":"J47*0","v":0},"gCO2eq/MJ"]
[null,null,"6.1.2.2   VFF ",null,null,null,{"$f":"J47*0","v":0},"gCO2eq/MJ"]
[]
[]
["6.2   Drilling & Development"]
[null,"6.2.1   Total energy consumption",null,null,null,null,{"$f":"J47*0","v":0},"MJ/MJ",null,"Energy use and emissions from mine preparation are included in bitumen extraction figures"]
[null,"6.2.2   Total GHG emissions",null,null,null,null,{"$f":"J47*(G229+G230)","v":0},"gCO2eq/MJ"]
[null,null,"6.2.2.1   Combustion/land use ",null,null,null,{"$f":"J47*'Bitumen Extraction & Upgrading'!M172","v":0},"gCO2eq/MJ"]
[null,null,"6.2.2.2   VFF ",null,null,null,{"$f":"J47*0","v":0},"gCO2eq/MJ"]
[]
[]
["6.3  Bitumen extraction"]
[null,"6.3.1   Total energy consumption",null,null,null,null,{"$f":"J47*'Bitumen Extraction & Upgrading'!M8","v":0},"MJ/MJ"]
[null,"6.3.2   Total GHG emissions",null,null,null,null,{"$f":"J47*(G236+G237)","v":0},"gCO2eq/MJ",null,"MJ of bitumen output"]
[null,null,"6.3.2.1   Combustion/land use ",null,null,null,{"$f":"J47*'Bitumen Extraction & Upgrading'!M18","v":0},"gCO2eq/MJ"]
[null,null,"6.3.2.2   VFF ",null,null,null,{"$f":"J47*'Bitumen Extraction & Upgrading'!M20","v":0},"gCO2eq/MJ"]
[]
["6.4   Upgrading"]
[null,"6.4.1   Total energy consumption",null,null,null,null,{"$f":"J47*'Bitumen Extraction & Upgrading'!M12","v":0},"MJ/MJ"]
[null,"6.4.2   Total GHG emissions",null,null,null,null,{"$f":"J47*(G242+G243)","v":0},"gCO2eq/MJ",null,"MJ of bitumen output"]
[null,null,"6.4.2.1   Combustion/land use ",null,null,null,{"$f":"J47*('Bitumen Extraction & Upgrading'!M22)","v":0},"gCO2eq/MJ"]
[null,null,"6.4.2.2   VFF ",null,null,null,{"$f":"J47*0","v":0},"gCO2eq/MJ"]
[]
["6.5   Maintenance"]
[null,"6.5.1   Total energy consumption",null,null,null,null,{"$f":"J47*0","v":0},"MJ/MJ"]
[null,"6.5.2   Total GHG emissions",null,null,null,null,{"$f":"J47*0","v":0},"gCO2eq/MJ",null,"MJ of bitumen output"]
[null,null,"6.5.2.1   Combustion/land use ",null,null,null,{"$f":"J47*0","v":0},"gCO2eq/MJ"]
[null,null,"6.5.2.2   VFF ",null,null,null,{"$f":"J47*0","v":0},"gCO2eq/MJ"]
[]
["6.6   Waste disposal"]
[null,"6.6.1   Total energy consumption",null,null,null,null,{"$f":"J47*0","v":0},"MJ/MJ",null,"Waste disposal energy use is not included in the current version of the model"]
[null,"6.6.2   Total GHG emissions",null,null,null,null,{"$f":"J47*0","v":0},"gCO2eq/MJ",null,"Waste disposal emissions are not included in the current version of the model"]
[null,null,"6.6.2.1   Combustion/land use ",null,null,null,{"$f":"J47*0","v":0},"gCO2eq/MJ"]
[null,null,"6.6.2.2   VFF ",null,null,null,{"$f":"J47*0","v":0},"gCO2eq/MJ"]
[]
["6.7   Crude transport"]
[null,"6.7.1   Total energy consumption",null,null,null,null,{"$f":"J47*'Crude Transport'!M9","v":0},"MJ/MJ"]
[null,"6.7.2   Total GHG emissions",null,null,null,null,{"$f":"J47*'Crude Transport'!M10","v":0},"gCO2eq/MJ",null,"MJ of crude transported"]
[null,"6.7.3   Loss factor",null,null,null,null,{"$f":"J47*(('Crude Transport'!B88/1000000)+1)","v":0},"NA",null,"Calculated from crude oil losses"]
[]
["6.8   Other small sources",null,null,null,null,null,{"$f":"J47*J136","v":0},"gCO2eq/MJ"]
[]
["6.9   Offsite emissions credit/debit",null,null,null,null,null,{"$f":"J47*('Bitumen Extraction & Upgrading'!M19+'Bitumen Extraction & Upgrading'!M23)","v":0},null,null,"Credits (negative emissions) from fuels export + debts (positive emissions) from fuels import"]
[]
["6.10   Lifecycle energy consumption",null,null,null,null,null,{"$f":"(G220+G227+G234+G240+G246+G252)*G260+G258","v":0},"MJ/MJ"]
[]
["6.11   Lifecycle GHG emissions",null,null,null,null,null,{"$f":"(G221+G228+G235+G241+G247+G253+G262+G264)*G260+G259","v":0},"gCO2eq/MJ",null,"MJ of crude at refinery gate"]
[]
[]
["7 Error check"]
[]
[]
[null,null,null,null,null,"Sheet",null,null,"Cell","Status","Notes"]
["7.1   Specific error checks"]
[null,"7.1.1   Production methods",null,null,null,"User Inputs & Results",null,null,"I61",{"$f":"I61","v":"OK"}]
[null,"7.1.2   Water injection ratio",null,null,null,"User Inputs & Results",null,null,"I92",{"$f":"I92","v":"OK"}]
[null,"7.1.3   Gas injection volume",null,null,null,"User Inputs & Results",null,null,"I93",{"$f":"I93","v":"OK"}]
[null,"7.1.4   N2 injection ratio",null,null,null,"User Inputs & Results",null,null,"I94","OK"]
[null,"7.1.5   Steam-to-oil ratio (SOR)",null,null,null,"User Inputs & Results",null,null,"I95","OK"]
[null,"7.1.6   Field location",null,null,null,"User Inputs & Results",null,null,"I66",{"$f":"I66","v":"OK"},{"$f":"N66","v":""}]
[null,"7.1.7   Volume fraction of diluent ",null,null,null,"User Inputs & Results",null,null,"I109",{"$f":"I109","v":"OK"}]
[null,"7.1.8   Crude production method",null,null,null,"Drilling & Development",null,null,"M43",{"$f":"'Drilling & Development'!M43","v":"OK"}]
[null,"7.1.9   Crude ecosystem carbon richness",null,null,null,"Drilling & Development",null,null,"M48",{"$f":"'Drilling & Development'!M48","v":"OK"}]
[null,"7.1.10   Field development intensity",null,null,null,"Drilling & Development",null,null,"M53",{"$f":"'Drilling & Development'!M53","v":"OK"}]
[null,"7.1.11   Gas composition",null,null,null,"Production & Extraction",null,null,"M45",{"$f":"IF(AND('Production & Extraction'!M45=\"OK\",'Gas Balance'!J40=\"OK\"),\"OK\",\"ERROR\")","v":"OK"}]
[null,"7.1.12   Fraction of gas to reinjection",null,null,null,"Production & Extraction",null,null,"L49",{"$f":"'Production & Extraction'!L49","v":"OK"},{"$f":"IF(J287=\"ERROR\",\"In the case of CH4 gas flooding, fraction of gas to reinjection must be 1.0\",\"\")","v":""}]
[null,"7.1.13   Fraction of water to reinjection",null,null,null,"Production & Extraction",null,null,"L56",{"$f":"'Production & Extraction'!L56","v":"OK"}]
[null,"7.1.14   Number of producing wells",null,null,null,"Production & Extraction",null,null,"L64",{"$f":"'Production & Extraction'!L64","v":"OK"}]
[null,"7.1.15   Productivity index",null,null,null,"Production & Extraction",null,null,"L66",{"$f":"'Production & Extraction'!L66","v":"OK"}]
[null,"7.1.16   Ratio of specific heats",null,null,null,"Production & Extraction",null,null,"L203",{"$f":"'Production & Extraction'!L203","v":"OK"}]
[null,"7.1.17   NGL use",null,null,null,"Surface Processing",null,null,"L122",{"$f":"'Surface Processing'!L122","v":"OK"}]
[null,"7.1.18   Stage 1 water treatment",null,null,null,"Surface Processing",null,null,"L131",{"$f":"IF(AND('Surface Processing'!L131=\"OK\",'Surface Processing'!N131=\"OK\"),\"OK\",\"ERROR\")","v":"OK"}]
[null,"7.1.19   Stage 2 water treatment",null,null,null,"Surface Processing",null,null,"L134",{"$f":"IF(AND('Surface Processing'!L134=\"OK\",'Surface Processing'!N134=\"OK\"),\"OK\",\"ERROR\")","v":"OK"}]
[null,"7.1.20   Stage 3 water treatment",null,null,null,"Surface Processing",null,null,"L143",{"$f":"IF(AND('Surface Processing'!L143=\"OK\",'Surface Processing'!N143=\"OK\"),\"OK\",\"ERROR\")","v":"OK"}]
[null,"7.1.21   Stage 4 water treatment",null,null,null,"Surface Processing",null,null,"L151",{"$f":"IF(AND('Surface Processing'!L151=\"OK\",'Surface Processing'!N151=\"OK\"),\"OK\",\"ERROR\")","v":"OK"}]
[null,"7.1.22   Lift gas volume",null,null,null,"Gas Balance",null,null,"AN19",{"$f":"'Gas Balance'!AP19","v":"OK"}]
[null,"7.1.23   Remaining gas volume",null,null,null,"Gas Balance",null,null,"AN28",{"$f":"'Gas Balance'!AP28","v":"OK"}]
[null,"7.1.24   Steam injection",null,null,null,"Steam Injection",null,null,"M65",{"$f":"'Steam Injection'!M65","v":"OK"}]
[null,"7.1.25   Offsite electricity fuel mix",null,null,null,"Electricity",null,null,"M26",{"$f":"Electricity!M26","v":"OK"}]

{"sheet":"Bulk Assessment","index":4,"n_rows":163,"n_cols":512,"rows_kept":163,"cut":false,"hidden":false,"merged":[[4,0,4,3],[97,0,97,3]]}
["OPGEE bulk assessment "]
["Number of fields",null,1,null,null,null,"Key:",null,"= Changed to OPGEE default",null,null,null," = Adjusted using bulk assessment macro",null,null,null,null,"= Outside of literature range"]
["1 Inputs"]
[]
["Output variables",null,null,null,"Unit",null,"Default","Field 1","Field 2","Field 3","Field 4","Field 5","Field 6","Field 7","Field 8","Field 9","Field 10","Field 11","Field 12","Field 13","Field 14","Field 15","Field 16","Field 17","Field 18","Field 19","Field 20","Field 21","Field 22","Field 23","Field 24","Field 25","Field 26","Field 27","Field 28","Field 29","Field 30","Field 31","Field 32","Field 33","Field 34","Field 35","Field 36","Field 37","Field 38","Field 39","Field 40","Field 41","Field 42","Field 43","Field 44","Field 45","Field 46","Field 47","Field 48","Field 49","Field 50","Field 51","Field 52","Field 53","Field 54","Field 55","Field 56","Field 57","Field 58","Field 59","Field 60","Field 61","Field 62","Field 63","Field 64","Field 65","Field 66","Field 67","Field 68","Field 69","Field 70","Field 71","Field 72","Field 73","Field 74","Field 75","Field 76","Field 77","Field 78","Field 79","Field 80","Field 81","Field 82","Field 83","Field 84","Field 85","Field 86","Field 87","Field 88","Field 89","Field 90","Field 91","Field 92","Field 93","Field 94","Field 95","Field 96","Field 97","Field 98","Field 99","Field 100","Field 101","Field 102","Field 103","Field 104","Field 105","Field 106","Field 107","Field 108","Field 109","Field 110","Field 111","Field 112","Field 113","Field 114","Field 115","Field 116","Field 117","Field 118","Field 119","Field 120","Field 121","Field 122","Field 123","Field 124","Field 125","Field 126","Field 127","Field 128","Field 129","Field 130","Field 131","Field 132","Field 133","Field 134","Field 135","Field 136","Field 137","Field 138","Field 139","Field 140","Field 141","Field 142","Field 143","Field 144","Field 145","Field 146","Field 147","Field 148","Field 149","Field 150","Field 151","Field 152","Field 153","Field 154","Field 155","Field 156","Field 157","Field 158","Field 159","Field 160","Field 161","Field 162","Field 163","Field 164","Field 165","Field 166","Field 167","Field 168","Field 169","Field 170","Field 171","Field 172","Field 173","Field 174","Field 175","Field 176","Field 177","Field 178","Field 179","Field 180","Field 181","Field 182","Field 183","Field 184","Field 185","Field 186","Field 187","Field 188","Field 189","Field 190","Field 191","Field 192","Field 193","Field 194","Field 195","Field 196","Field 197","Field 198","Field 199","Field 200","Field 201","Field 202","Field 203","Field 204","Field 205","Field 206","Field 207","Field 208","Field 209","Field 210","Field 211","Field 212","Field 213","Field 214","Field 215","Field 216","Field 217","Field 218","Field 219","Field 220","Field 221","Field 222","Field 223","Field 224","Field 225","Field 226","Field 227","Field 228","Field 229","Field 230","Field 231","Field 232","Field 233","Field 234","Field 235","Field 236","Field 237","Field 238","Field 239","Field 240","Field 241","Field 242","Field 243","Field 244","Field 245","Field 246","Field 247","Field 248","Field 249","Field 250","Field 251","Field 252","Field 253","Field 254","Field 255","Field 256","Field 257","Field 258","Field 259","Field 260","Field 261","Field 262","Field 263","Field 264","Field 265","Field 266","Field 267","Field 268","Field 269","Field 270","Field 271","Field 272","Field 273","Field 274","Field 275","Field 276","Field 277","Field 278","Field 279","Field 280","Field 281","Field 282","Field 283","Field 284","Field 285","Field 286","Field 287","Field 288","Field 289","Field 290","Field 291","Field 292","Field 293","Field 294","Field 295","Field 296","Field 297","Field 298","Field 299","Field 300","Field 301","Field 302","Field 303","Field 304","Field 305","Field 306","Field 307","Field 308","Field 309","Field 310","Field 311","Field 312","Field 313","Field 314","Field 315","Field 316","Field 317","Field 318","Field 319","Field 320","Field 321","Field 322","Field 323","Field 324","Field 325","Field 326","Field 327","Field 328","Field 329","Field 330","Field 331","Field 332","Field 333","Field 334","Field 335","Field 336","Field 337","Field 338","Field 339","Field 340","Field 341","Field 342","Field 343","Field 344","Field 345","Field 346","Field 347","Field 348","Field 349","Field 350","Field 351","Field 352","Field 353","Field 354","Field 355","Field 356","Field 357","Field 358","Field 359","Field 360","Field 361","Field 362","Field 363","Field 364","Field 365","Field 366","Field 367","Field 368","Field 369","Field 370","Field 371","Field 372","Field 373","Field 374","Field 375","Field 376","Field 377","Field 378","Field 379","Field 380","Field 381","Field 382","Field 383","Field 384","Field 385","Field 386","Field 387","Field 388","Field 389","Field 390","Field 391","Field 392","Field 393","Field 394","Field 395","Field 396","Field 397","Field 398","Field 399","Field 400","Field 401","Field 402","Field 403","Field 404","Field 405","Field 406","Field 407","Field 408","Field 409","Field 410","Field 411","Field 412","Field 413","Field 414","Field 415","Field 416","Field 417","Field 418","Field 419","Field 420","Field 421","Field 422","Field 423","Field 424","Field 425","Field 426","Field 427","Field 428","Field 429","Field 430","Field 431","Field 432","Field 433","Field 434","Field 435","Field 436","Field 437","Field 438","Field 439","Field 440","Field 441","Field 442","Field 443","Field 444","Field 445","Field 446","Field 447","Field 448","Field 449","Field 450","Field 451","Field 452","Field 453","Field 454","Field 455","Field 456","Field 457","Field 458","Field 459","Field 460","Field 461","Field 462","Field 463","Field 464","Field 465","Field 466","Field 467","Field 468","Field 469","Field 470","Field 471","Field 472","Field 473","Field 474","Field 475","Field 476","Field 477","Field 478","Field 479","Field 480","Field 481","Field 482","Field 483","Field 484","Field 485","Field 486","Field 487","Field 488","Field 489","Field 490","Field 491","Field 492","Field 493","Field 494","Field 495","Field 496","Field 497","Field 498","Field 499","Field 500","Field 501","Field 502","Field 503","Field 504","Field 505"]
[]
["1.1   Production methods"]
["Notes: Enter \"1\" where applicable and \"0\" where not applicable"]
[null,"1.1.1   Downhole pump",null,null,"NA",null,1]
[null,"1.1.2   Water reinjection ",null,null,"NA",null,1]
[null,"1.1.3   Gas reinjection",null,null,"NA",null,1]
[null,"1.1.4   Water flooding",null,null,"NA",null,0]
[null,"1.1.5   Gas lifting",null,null,"NA",null,0]
[null,"1.1.6   Gas flooding",null,null,"NA",null,0]
[null,"1.1.7   Steam flooding",null,null,"NA",null,0]
[]
["1.2    Field properties"]
[null,"1.2.1   Field location (Country)",null,null,"NA",null,"Generic"]
[null,"1.2.2   Field name",null,null,"NA",null,"Generic"]
[null,"1.2.3   Field age",null,null,"yr.",null,35]
[null,"1.2.4   Field depth",null,null,"ft",null,7240]
[null,"1.2.5   Oil production volume",null,null,"bbl/d",null,1500]
[null,"1.2.6   Number of producing wells",null,null,"[-]",null,8]
[null,"1.2.7   Number of water injecting wells",null,null,"[-]",null,5]
[null,"1.2.8   Well diameter",null,null,"in",null,2.7749999999999999]
[null,"1.2.9   Productivity index",null,null,"bbl/psi-d",null,3]
[null,"1.2.10   Reservoir pressure",null,null,"psi",null,1556.6]
[]
["1.3   Fluid properties"]
[null,"1.3.1   API gravity",null,null,"deg. API",null,30]
[null,"1.3.2   Gas composition"]
[null,null,null,"N2","mol%",null,2]
[null,null,null,"CO2","mol%",null,6]
[null,null,null,"C1","mol%",null,84]
[null,null,null,"C2","mol%",null,4]
[null,null,null,"C3","mol%",null,2]
[null,null,null,"C4+","mol%",null,1]
[null,null,null,"H2S","mol%",null,1]
[]
["1.4   Production practices"]
["Notes: Enter \"NA\" where not applicable"]
[null,"1.4.1   Gas-to-oil ratio (GOR)",null,null,"scf/bbl oil",null,908]
[null,"1.4.2   Water-to-oil ratio (WOR)",null,null,"bbl water/bbl oil",null,4.3083690574453417]
[null,"1.4.3   Water injection ratio",null,null,"bbl water/bbl oil",null,5.3083690574453417]
[null,"1.4.4   Gas lifting injection ratio",null,null,"scf/bbl liquid",null,1500]
[null,"1.4.5   Gas flooding injection ratio",null,null,"scf/bbl oil",null,1362]
[null,"1.4.6   Steam-to-oil ratio (SOR)",null,null,"bbl steam/bbl oil",null,3]
[null,"1.4.7   Fraction of required electricity generated onsite",null,null,"[-]",null,0]
[null,"1.4.8   Fraction of remaining gas reinjected",null,null,"[-]",null,0]
[null,"1.4.9   Fraction of water produced water reinjected",null,null,"[-]",null,1]
[null,"1.4.10   Fraction of steam generation via cogeneration ",null,null,"[-]",null,0]
[]
["1.5   Processing practices"]
[null,"1.5.1   Heater/treater",null,null,"NA",null,0]
[null,"1.5.2   Stabilizer column",null,null,"NA",null,1]
[null,"1.5.3   Application of AGR unit",null,null,"NA",null,1]
[null,"1.5.4   Application of gas dehydration unit",null,null,"NA",null,1]
[null,"1.5.5   Application of demethanizer unit",null,null,"NA",null,1]
[null,"1.5.6   Flaring-to-oil ratio",null,null,"scf/bbl oil",null,181.52809179284083]
[null,"1.5.7   Venting-to-oil ratio",null,null,"scf/bbl oil",null,0]
[null,"1.5.8   Volume fraction of diluent",null,null,"[-]",null,0]
[]
["1.6   Land use impacts"]
[null,"1.6.1   Crude ecosystem carbon richness"]
[null,null,"1.6.1.1   Low carbon richness (semi-arid grasslands)",null,"NA",null,0]
[null,null,"1.6.1.2   Moderate carbon richness (mixed)",null,"NA",null,1]
[null,null,"1.6.1.3   High carbon richness (forested)",null,"NA",null,0]
[null,"1.6.2   Field development intensity"]
[null,null,"1.6.2.1   Low intensity development and low oxidation",null,"NA",null,0]
[null,null,"1.6.2.2   Moderate intensity development and moderate oxidation",null,"NA",null,1]
[null,null,"1.6.2.3   High intensity development and high oxidation",null,"NA",null,0]
[]
["1.7   Non-integrated upgrader",null,null,null,"NA",null,0]
[]
["1.8   Crude oil transport"]
[null,"1.8.1   Fraction of oil transported by each mode"]
[null,null,"1.8.1.1   Ocean tanker",null,"[-]",null,1]
[null,null,"1.8.1.2   Barge",null,"[-]",null,0]
[null,null,"1.8.1.3   Pipeline",null,"[-]",null,1]
[null,null,"1.8.1.4   Rail",null,"[-]",null,0]
[null,"1.8.2   Transport distance (one way)"]
[null,null,"1.8.2.1   Ocean tanker",null,"Mile",null,5082]
[null,null,"1.8.2.2   Barge",null,"Mile",null,500]
[null,null,"1.8.2.3   Pipeline",null,"Mile",null,750]
[null,null,"1.8.2.4   Rail",null,"Mile",null,800]
[null,"1.8.3   Ocean tanker size, if applicable",null,null,"Ton",null,250000]
[]
["1.9   Small sources emissions",null,null,null,"gCO2eq/MJ",null,0.5]
[]
[]
[]
["1.10   Run bulk assessment"]
[]
[]
["2 Outputs"]
[null,null,null,null,null,null,"Generic",null,null,null,null,null,null,null,null,null,null,null,null,null,"Generic","Generic","Generic","Generic","Generic","Generic"]
[]
["Output variables",null,null,null,"Unit",null,"Default",null,"Field 2","Field 3","Field 4","Field 5","Field 6","Field 7","Field 8","Field 9","Field 10","Field 11","Field 12","Field 13","Field 14","Field 15","Field 16","Field 17","Field 18","Field 19","Field 20","Field 21","Field 22","Field 23","Field 24","Field 25","Field 26","Field 27","Field 28","Field 29","Field 30","Field 31","Field 32","Field 33","Field 34","Field 35","Field 36","Field 37","Field 38","Field 39","Field 40","Field 41","Field 42","Field 43","Field 44","Field 45","Field 46","Field 47","Field 48","Field 49","Field 50","Field 51","Field 52","Field 53","Field 54","Field 55","Field 56","Field 57","Field 58","Field 59","Field 60","Field 61","Field 62","Field 63","Field 64","Field 65","Field 66","Field 67","Field 68","Field 69","Field 70","Field 71","Field 72","Field 73","Field 74","Field 75","Field 76","Field 77","Field 78","Field 79","Field 80","Field 81","Field 82","Field 83","Field 84","Field 85","Field 86","Field 87","Field 88","Field 89","Field 90","Field 91","Field 92","Field 93","Field 94","Field 95","Field 96","Field 97","Field 98","Field 99","Field 100","Field 101","Field 102","Field 103","Field 104","Field 105","Field 106","Field 107","Field 108","Field 109","Field 110","Field 111","Field 112","Field 113","Field 114","Field 115","Field 116","Field 117","Field 118","Field 119","Field 120","Field 121","Field 122","Field 123","Field 124","Field 125","Field 126","Field 127","Field 128","Field 129","Field 130","Field 131","Field 132","Field 133","Field 134","Field 135","Field 136","Field 137","Field 138","Field 139","Field 140","Field 141","Field 142","Field 143","Field 144","Field 145","Field 146","Field 147","Field 148","Field 149","Field 150","Field 151","Field 152","Field 153","Field 154","Field 155","Field 156","Field 157","Field 158","Field 159","Field 160","Field 161","Field 162","Field 163","Field 164","Field 165","Field 166","Field 167","Field 168","Field 169","Field 170","Field 171","Field 172","Field 173","Field 174","Field 175","Field 176","Field 177","Field 178","Field 179","Field 180","Field 181","Field 182","Field 183","Field 184","Field 185","Field 186","Field 187","Field 188","Field 189","Field 190","Field 191","Field 192","Field 193","Field 194","Field 195","Field 196","Field 197","Field 198","Field 199","Field 200","Field 201","Field 202","Field 203","Field 204","Field 205","Field 206","Field 207","Field 208","Field 209","Field 210","Field 211","Field 212","Field 213","Field 214","Field 215","Field 216","Field 217","Field 218","Field 219","Field 220","Field 221","Field 222","Field 223","Field 224","Field 225","Field 226","Field 227","Field 228","Field 229","Field 230","Field 231","Field 232","Field 233","Field 234","Field 235","Field 236","Field 237","Field 238","Field 239","Field 240","Field 241","Field 242","Field 243","Field 244","Field 245","Field 246","Field 247","Field 248","Field 249","Field 250","Field 251","Field 252","Field 253","Field 254","Field 255","Field 256","Field 257","Field 258","Field 259","Field 260","Field 261","Field 262","Field 263","Field 264","Field 265","Field 266","Field 267","Field 268","Field 269","Field 270","Field 271","Field 272","Field 273","Field 274","Field 275","Field 276","Field 277","Field 278","Field 279","Field 280","Field 281","Field 282","Field 283","Field 284","Field 285","Field 286","Field 287","Field 288","Field 289","Field 290","Field 291","Field 292","Field 293","Field 294","Field 295","Field 296","Field 297","Field 298","Field 299","Field 300","Field 301","Field 302","Field 303","Field 304","Field 305","Field 306","Field 307","Field 308","Field 309","Field 310","Field 311","Field 312","Field 313","Field 314","Field 315","Field 316","Field 317","Field 318","Field 319","Field 320","Field 321","Field 322","Field 323","Field 324","Field 325","Field 326","Field 327","Field 328","Field 329","Field 330","Field 331","Field 332","Field 333","Field 334","Field 335","Field 336","Field 337","Field 338","Field 339","Field 340","Field 341","Field 342","Field 343","Field 344","Field 345","Field 346","Field 347","Field 348","Field 349","Field 350","Field 351","Field 352","Field 353","Field 354","Field 355","Field 356","Field 357","Field 358","Field 359","Field 360","Field 361","Field 362","Field 363","Field 364","Field 365","Field 366","Field 367","Field 368","Field 369","Field 370","Field 371","Field 372","Field 373","Field 374","Field 375","Field 376","Field 377","Field 378","Field 379","Field 380","Field 381","Field 382","Field 383","Field 384","Field 385","Field 386","Field 387","Field 388","Field 389","Field 390","Field 391","Field 392","Field 393","Field 394","Field 395","Field 396","Field 397","Field 398","Field 399","Field 400","Field 401","Field 402","Field 403","Field 404","Field 405","Field 406","Field 407","Field 408","Field 409","Field 410","Field 411","Field 412","Field 413","Field 414","Field 415","Field 416","Field 417","Field 418","Field 419","Field 420","Field 421","Field 422","Field 423","Field 424","Field 425","Field 426","Field 427","Field 428","Field 429","Field 430","Field 431","Field 432","Field 433","Field 434","Field 435","Field 436","Field 437","Field 438","Field 439","Field 440","Field 441","Field 442","Field 443","Field 444","Field 445","Field 446","Field 447","Field 448","Field 449","Field 450","Field 451","Field 452","Field 453","Field 454","Field 455","Field 456","Field 457","Field 458","Field 459","Field 460","Field 461","Field 462","Field 463","Field 464","Field 465","Field 466","Field 467","Field 468","Field 469","Field 470","Field 471","Field 472","Field 473","Field 474","Field 475","Field 476","Field 477","Field 478","Field 479","Field 480","Field 481","Field 482","Field 483","Field 484","Field 485","Field 486","Field 487","Field 488","Field 489","Field 490","Field 491","Field 492","Field 493","Field 494","Field 495","Field 496","Field 497","Field 498","Field 499","Field 500","Field 501","Field 502","Field 503","Field 504","Field 505"]
[]
["Field name",null,null,null,null,null,"Generic"]
[null,null,null,null,null,null,null,null,null,null,null,null,null,null,null,null,null,null,null,null,null,null,null,null,null,null,"","","","","","","","","","","","","","","","","","","","","","","","","","","","","","",""]
["2.1   Exploration (e)"]
[null,"2.1.1   Total energy consumption",null,null,"MJ/MJ",null,0]
[null,"2.1.2   Total GHG emissions",null,null,"gCO2eq/MJ",null,0]
[null,null,"2.1.2.1   Combustion/land use",null,"gCO2eq/MJ",null,0]
[null,null,"2.1.2.2   VFF",null,"gCO2eq/MJ",null,0]
[]
["2.2   Drilling & Development (d)"]
[null,"2.2.1   Total energy consumption",null,null,"MJ/MJ",null,8.8851366578979163E-4]
[null,"2.2.2   Total GHG emissions",null,null,"gCO2eq/MJ",null,1.3340067272215128]
[null,null,"2.2.2.1   Combustion/land use",null,"gCO2eq/MJ",null,1.3340067272215128]
[null,null,"2.2.2.2   VFF",null,"gCO2eq/MJ",null,0]
[]
["2.3   Crude production & extraction (p)"]
[null,"2.3.1   Total energy consumption",null,null,"MJ/MJ",null,1.1753408046013875E-2,null,null,null,null,null,null,null,null,null,null,null,null,null,"","","","","","","","","","","","","","","","","","","","","","","","","","","","","","","","","","","","","","","","","","","","","","","","","","","","","","","","","","","","","","","","","","","","","","","","","","","","","","","","","","","","","","","","","","","","","","","","","","","","","","","","","","","","","","","","","","","","","","","","","","","","","","","","","","","","","","","","","","","","","","","","","","","","","","","","","","","","","","","","","","","","","","","","","","","","","","","","","","","","","","","","","","","","","","","","","","","","","","","","","","","","","","","","","","","","","","","","","","","","","","","","","","","","","","","","","","","","","","","","","","","","","","","","","","","","","","","","","","","","","","","","","","","","","","","","","","","","","","","","","","","","","","","","","","","","","","","","","","","","","","","","","","","","","","","","","","","","","","","","","","","","","","","","","","","","","","","","","","","","","","","","","","","","","","","","","","","","","","","","","","","","","","","","","","","","","","","","","","","","","","","","","","","","","","","","","","","","","","","","","","","","","","","","","","","","","","","","","","","","","","","","","","","","","","","","","","","","","","","","","","","","","","","","","","","","","","","","","","","","","","","","","","","","","","","","","","","","","","","","","","","","","","","","","","","",""]
[null,"2.3.2   Total GHG emissions",null,null,"gCO2eq/MJ",null,0.89988621892298748,null,null,null,null,null,null,null,null,null,null,null,null,null,"","","","","","","","","","","","","","","","","","","","","","","","","","","","","","","","","","","","","","","","","","","","","","","","","","","","","","","","","","","","","","","","","","","","","","","","","","","","","","","","","","","","","","","","","","","","","","","","","","","","","","","","","","","","","","","","","","","","","","","","","","","","","","","","","","","","","","","","","","","","","","","","","","","","","","","","","","","","","","","","","","","","","","","","","","","","","","","","","","","","","","","","","","","","","","","","","","","","","","","","","","","","","","","","","","","","","","","","","","","","","","","","","","","","","","","","","","","","","","","","","","","","","","","","","","","","","","","","","","","","","","","","","","","","","","","","","","","","","","","","","","","","","","","","","","","","","","","","","","","","","","","","","","","","","","","","","","","","","","","","","","","","","","","","","","","","","","","","","","","","","","","","","","","","","","","","","","","","","","","","","","","","","","","","","","","","","","","","","","","","","","","","","","","","","","","","","","","","","","","","","","","","","","","","","","","","","","","","","","","","","","","","","","","","","","","","","","","","","","","","","","","","","","","","","","","","","","","","","","","","","","","","","","","","","","","","","","","","","","","","","","","","","","","","","","","",""]
[null,null,"2.3.2.1   Combustion/land use",null,"gCO2eq/MJ",null,0.8825673845507187,null,null,null,null,null,null,null,null,null,null,null,null,null,"","","","","","","","","","","","","","","","","","","","","","","","","","","","","","","","","","","","","","","","","","","","","","","","","","","","","","","","","","","","","","","","","","","","","","","","","","","","","","","","","","","","","","","","","","","","","","","","","","","","","","","","","","","","","","","","","","","","","","","","","","","","","","","","","","","","","","","","","","","","","","","","","","","","","","","","","","","","","","","","","","","","","","","","","","","","","","","","","","","","","","","","","","","","","","","","","","","","","","","","","","","","","","","","","","","","","","","","","","","","","","","","","","","","","","","","","","","","","","","","","","","","","","","","","","","","","","","","","","","","","","","","","","","","","","","","","","","","","","","","","","","","","","","","","","","","","","","","","","","","","","","","","","","","","","","","","","","","","","","","","","","","","","","","","","","","","","","","","","","","","","","","","","","","","","","","","","","","","","","","","","","","","","","","","","","","","","","","","","","","","","","","","","","","","","","","","","","","","","","","","","","","","","","","","","","","","","","","","","","","","","","","","","","","","","","","","","","","","","","","","","","","","","","","","","","","","","","","","","","","","","","","","","","","","","","","","","","","","","","","","","","","","","","","","","","",""]
[null,null,"2.3.2.2   VFF",null,"gCO2eq/MJ",null,1.7318834372268721E-2,null,null,null,null,null,null,null,null,null,null,null,null,null,"","","","","","","","","","","","","","","","","","","","","","","","","","","","","","","","","","","","","","","","","","","","","","","","","","","","","","","","","","","","","","","","","","","","","","","","","","","","","","","","","","","","","","","","","","","","","","","","","","","","","","","","","","","","","","","","","","","","","","","","","","","","","","","","","","","","","","","","","","","","","","","","","","","","","","","","","","","","","","","","","","","","","","","","","","","","","","","","","","","","","","","","","","","","","","","","","","","","","","","","","","","","","","","","","","","","","","","","","","","","","","","","","","","","","","","","","","","","","","","","","","","","","","","","","","","","","","","","","","","","","","","","","","","","","","","","","","","","","","","","","","","","","","","","","","","","","","","","","","","","","","","","","","","","","","","","","","","","","","","","","","","","","","","","","","","","","","","","","","","","","","","","","","","","","","","","","","","","","","","","","","","","","","","","","","","","","","","","","","","","","","","","","","","","","","","","","","","","","","","","","","","","","","","","","","","","","","","","","","","","","","","","","","","","","","","","","","","","","","","","","","","","","","","","","","","","","","","","","","","","","","","","","","","","","","","","","","","","","","","","","","","","","","","","","","","",""]
[]
["2.4   Surface processing (s)"]
[null,"2.4.1   Total energy consumption",null,null,"MJ/MJ",null,4.4039378761417509E-2,null,null,null,null,null,null,null,null,null,null,null,null,null,"","","","","","","","","","","","","","","","","","","","","","","","","","","","","","","","","","","","",""]
[null,"2.4.2   Total GHG emissions",null,null,"gCO2eq/MJ",null,4.2147222265122668,null,null,null,null,null,null,null,null,null,null,null,null,null,"","","","","","","","","","","","","","","","","","","","","","","","","","","","","","","","","","","","",""]
[null,null,"2.4.2.1   Combustion/land use",null,"gCO2eq/MJ",null,0.76366656239540331,null,null,null,null,null,null,null,null,null,null,null,null,null,"","","","","","","","","","","","","","","","","","","","","","","","","","","","","","","","","","","","",""]
[null,null,"2.4.2.2   VFF",null,"gCO2eq/MJ",null,3.4510556641168635,null,null,null,null,null,null,null,null,null,null,null,null,null,"","","","","","","","","","","","","","","","","","","","","","","","","","","","","","","","","","","","",""]
[]
["2.5   Maintenance (m)"]
[null,"2.5.1   Total energy consumption",null,null,"MJ/MJ",null,1.7877079324252215E-4,null,null,null,null,null,null,null,null,null,null,null,null,null,"","","","","","","","","","","","","","","","","","","","","","","","","","","","","","","","","","","","",""]
[null,"2.5.2   Total GHG emissions",null,null,"gCO2eq/MJ",null,8.607994956718551E-2,null,null,null,null,null,null,null,null,null,null,null,null,null,"","","","","","","","","","","","","","","","","","","","","","","","","","","","","","","","","","","","",""]
[null,null,"2.5.2.1   Combustion/land use",null,"gCO2eq/MJ",null,0,null,null,null,null,null,null,null,null,null,null,null,null,null,"","","","","","","","","","","","","","","","","","","","","","","","","","","","","","","","","","","","",""]
[null,null,"2.5.2.2   VFF",null,"gCO2eq/MJ",null,8.607994956718551E-2,null,null,null,null,null,null,null,null,null,null,null,null,null,"","","","","","","","","","","","","","","","","","","","","","","","","","","","","","","","","","","","",""]
[]
["2.6   Waste disposal (w)"]
[null,"2.6.1   Total energy consumption",null,null,"MJ/MJ",null,0,null,null,null,null,null,null,null,null,null,null,null,null,null,"","","","","","","","","","","","","","","","","","","","","","","","","","","","","","","","","","","","",""]
[null,"2.6.2   Total GHG emissions",null,null,"gCO2eq/MJ",null,0,null,null,null,null,null,null,null,null,null,null,null,null,null,"","","","","","","","","","","","","","","","","","","","","","","","","","","","","","","","","","","","",""]
[null,null,"2.6.2.1   Combustion\\land use",null,"gCO2eq/MJ",null,0,null,null,null,null,null,null,null,null,null,null,null,null,null,"","","","","","","","","","","","","","","","","","","","","","","","","","","","","","","","","","","","",""]
[null,null,"2.6.2.2   VFF",null,"gCO2eq/MJ",null,0,null,null,null,null,null,null,null,null,null,null,null,null,null,"","","","","","","","","","","","","","","","","","","","","","","","","","","","","","","","","","","","",""]
[]
["2.7   Diluent"]
[null,"2.7.1   Total energy consumption",null,null,"MJ/MJ",null,0]
[null,"2.7.2   Total GHG emissions",null,null,"gCO2eq/MJ",null,0]
[]
["2.8   Non-integrated upgrader"]
[null,"2.8.1   Total energy consumption",null,null,"MJ/MJ",null,0]
[null,"2.8.2   Total GHG emissions",null,null,"gCO2eq/MJ",null,0]
[]
["2.9   Crude transport (t)"]
[null,"2.9.1   Total energy consumption",null,null,"MJ/MJ",null,1.2654909091106279E-2,null,null,null,null,null,null,null,null,null,null,null,null,null,"","","","","","","","","","","","","","","","","","","","","","","","","","","","","","","","","","","","",""]
[null,"2.9.2   Total GHG emissions",null,null,"gCO2eq/MJ",null,0.89124677488936765,null,null,null,null,null,null,null,null,null,null,null,null,null,"","","","","","","","","","","","","","","","","","","","","","","","","","","","","","","","","","","","",""]
[null,"2.9.3   Loss factor",null,null,"NA",null,1.000062,null,null,null,null,null,null,null,null,null,null,null,null,null,"","","","","","","","","","","","","","","","","","","","","","","","","","","","","","","","","","","","",""]
[]
["2.10   Other small sources",null,null,null,"gCO2eq/MJ",null,0.5,null,null,null,null,null,null,null,null,null,null,null,null,null,"","","","","","","","","","","","","","","","","","","","","","","","","","","","","","","","","","","","",""]
[]
["2.11   Offsite emissions credit/debit",null,null,null,"gCO2eq/MJ",null,-0.5679684028001396]
[]
["2.12   Lifecycle energy consumption",null,null,null,"MJ/MJ",null,6.9518505681988502E-2,null,null,null,null,null,null,null,null,null,null,null,null,null,"","","","","","","","","","","","","","","","","","","","","","","","","","","","","","","","","","","","",""]
[]
["2.13   Lifecycle GHG emissions",null,null,null,"gCO2eq/MJ",null,7.3583744313697856,null,null,null,null,null,null,null,null,null,null,null,null,null,"","","","","","","","","","","","","","","","","","","","","","","","","","","","","","","","","","","","",""]
[]
[]
[]
["FIELD-BY-FIELD CHECK",null,null,null,null,null,"OK",null,null,null,null,null,null,null,null,null,null,null,null,null,"","","","","","","","","","","","","","","","","","","","","","","","","","","","","","","","","","","","",""]
[]
["OVERALL CHECK:",null,{"$f":"IF(LOOKUP(\"ERROR\",G161:BE161)=TRUE,\"ERROR\",\"OK\")","v":"OK"}]

{"sheet":"Energy Consumption","index":5,"n_rows":118,"n_cols":12,"rows_kept":118,"cut":false,"hidden":false,"merged":[[95,1,95,3],[93,1,93,3],[94,1,94,3],[64,1,64,5],[6,1,6,4],[66,1,66,3],[89,1,89,5],[91,1,91,3],[92,1,92,3],[15,1,15,10],[106,1,106,3],[100,1,100,5],[102,1,102,3],[103,1,103,3],[104,1,104,3],[105,1,105,3]]}
["Energy consumption compilation sheet"]
[]
["This sheet compiles results on energy consumption from all other sheets for use in the \"User inputs & Results\" sheet."]
[]
[]
[null,"Table 1: Fuel codes"]
[null,"Fuel codes:"]
[null,"Natural gas",null,null,"1A"]
[null,"NGL",null,null,{"$f":"\"1B\"","v":"1B"}]
[null,"Diesel",null,null,2]
[null,"Electricity",null,null,3]
[null,"Crude oil",null,null,4]
[]
[]
[null,"Table 2: Energy consumption by component"]
[null,"Energy consumption by component"]
[null,null,null,null,null,null,null,"Value","Unit","Fuel type","Fuel code","Notes:"]
[null,"Exploration",null,null,null,null,null,0,"MMBtu/d","NA","NA"]
[]
[null,"Drilling & Development",null,null,null,null,null,{"$f":"'Drilling & Development'!M28*('Production & Extraction'!M35*'Fuel Specs'!M14-'Energy Consumption'!E96+'Gas Balance'!AC35*'Surface Processing'!M122+IF('Fuel Cycle'!F10=2,ABS('Energy Consumption'!E84),0))","v":8.7311661852707925},"MMBtu/d",{"$f":"\"Diesel\"","v":"Diesel"},{"$f":"IF(J20=\"Natural gas\",\"1A\",IF(J20=\"NGL\",\"1B\",IF(J20=\"Diesel\",\"2\",\"3\")))","v":"2"}]
[]
[null,"Production & Extraction",null,null,null,null,null,{"$f":"H23*IF(K23=\"3\",'Input data'!E52/1000,1)+H24*IF(K24=\"3\",'Input data'!E52/1000,1)+H25*IF(K25=\"3\",'Input data'!E52/1000,1)+H26*IF(K26=\"3\",'Input data'!E52/1000,1)+H27*IF(K27=\"3\",'Input data'!E52/1000,1)+H28*IF(K28=\"3\",'Input data'!E52/1000,1)+H29*IF(K29=\"3\",'Input data'!E52/1000,1)+H30*IF(K30=\"3\",'Input data'!E52/1000,1)","v":115.1392425928688},"MMBtu/d","Various","NA"]
[null,null,"Downhole pump",null,null,null,null,{"$f":"'Production & Extraction'!M235","v":115.1392425928688},{"$f":"'Production & Extraction'!N235","v":"MMBtu/d"},{"$f":"IF(AND(OR('Production & Extraction'!M72=1,'Production & Extraction'!M72=4),'Production & Extraction'!M77=1),\"Natural gas\",IF('Production & Extraction'!M72=2,\"Electricity\",IF('Production & Extraction'!M72=3,\"Diesel\",\"NGL\")))","v":"Natural gas"},{"$f":"IF(J23=\"Natural gas\",\"1A\",IF(J23=\"NGL\",\"1B\",IF(J23=\"Diesel\",\"2\",\"3\")))","v":"1A"}]
[null,null,"Water re-injection pump",null,null,null,null,{"$f":"'Production & Extraction'!M245","v":0},{"$f":"'Production & Extraction'!N245","v":"MMBtu/d"},{"$f":"IF(AND(OR('Production & Extraction'!M89=1,'Production & Extraction'!M89=4),'Production & Extraction'!M94=1),\"Natural gas\",IF('Production & Extraction'!M89=2,\"Electricity\",IF('Production & Extraction'!M89=3,\"Diesel\",\"NGL\")))","v":"Natural gas"},{"$f":"IF(J24=\"Natural gas\",\"1A\",IF(J24=\"NGL\",\"1B\",IF(J24=\"Diesel\",\"2\",\"3\")))","v":"1A"}]
[null,null,"Gas re-injection compressor",null,null,null,null,{"$f":"'Production & Extraction'!M266","v":0},{"$f":"'Production & Extraction'!N266","v":"MMBtu/d"},{"$f":"IF('Production & Extraction'!M123=1,\"Electricity\",IF(AND('Production & Extraction'!M123=2,'Production & Extraction'!M126=1),\"Natural gas\",\"NGL\"))","v":"Natural gas"},"1A"]
[null,null,"Water flooding injection pump",null,null,null,null,{"$f":"'Production & Extraction'!M276","v":0},{"$f":"'Production & Extraction'!N276","v":"MMBtu/d"},{"$f":"IF(AND(OR('Production & Extraction'!M143=1,'Production & Extraction'!M143=4),'Production & Extraction'!M148=1),\"Natural gas\",IF('Production & Extraction'!M143=2,\"Electricity\",IF('Production & Extraction'!M143=3,\"Diesel\",\"NGL\")))","v":"Natural gas"},"1A"]
[null,null,"Gas lifting compressor",null,null,null,null,{"$f":"'Production & Extraction'!M297","v":0},{"$f":"'Production & Extraction'!N297","v":"MMBtu/d"},{"$f":"IF('Production & Extraction'!M174=1,\"Electricity\",IF(AND('Production & Extraction'!M174=2,'Production & Extraction'!M177=1),\"Natural gas\",\"NGL\"))","v":"Natural gas"},"1A"]
[null,null,"Air separation unit",null,null,null,null,{"$f":"IF('Production & Extraction'!M20=1,'Production & Extraction'!M191*'Production & Extraction'!M189*'Production & Extraction'!M35,0)","v":0},"kWh/d",{"$f":"\"Electricity\"","v":"Electricity"},"3"]
[null,null,"Gas flooding injection compressor",null,null,null,null,{"$f":"'Production & Extraction'!M318","v":0},{"$f":"'Production & Extraction'!N318","v":"MMBtu/d"},{"$f":"IF('Production & Extraction'!M206=1,\"Electricity\",IF(AND('Production & Extraction'!M206=2,'Production & Extraction'!M209=1),\"Natural gas\",\"NGL\"))","v":"Natural gas"},"1A"]
[null,null,"Steam injection",null,null,null,null,{"$f":"H31+H32","v":0},"MMBtu/d",{"$f":"IF(AND(J31=\"Crude oil\",J32=\"Natural gas\"),\"Various\",\"Natural gas\")","v":"Natural gas"},{"$f":"IF(J30=\"Natural gas\",\"1A\",\"NA\")","v":"1A"}]
[null,null,null,"OTSG",null,null,null,{"$f":"'Production & Extraction'!M322","v":0},"MMBtu/d",{"$f":"IF('Steam Injection'!M72=1,\"Natural gas\",\"Crude oil\")","v":"Natural gas"},{"$f":"IF(J31=\"Natural gas\",\"1A\",IF(J31=\"NGL\",\"1B\",IF(J31=\"Diesel\",\"2\",IF(J31=\"Electricity\",\"3\",\"4\"))))","v":"1A"}]
[null,null,null,"HRSG",null,null,null,{"$f":"'Production & Extraction'!M323*IF('Fuel Cycle'!F10=2,'Steam Injection'!M484/('Steam Injection'!M484+'Steam Injection'!M486),1)","v":0},"MMBtu/d",{"$f":"\"Natural gas\"","v":"Natural gas"},{"$f":"IF(J32=\"Natural gas\",\"1A\",IF(J32=\"NGL\",\"1B\",IF(J32=\"Diesel\",\"2\",\"3\")))","v":"1A"}]
[]
[null,"Surface Processing",null,null,null,null,null,{"$f":"H36*IF(K36=\"3\",'Input data'!E52/1000,1)+H37*IF(K37=\"3\",'Input data'!E52/1000,1)+H40*'Input data'!E52/1000+H41*'Input data'!E52/1000+H42+H44*IF(K44=\"3\",'Input data'!E52/1000,1)+H45*'Input data'!E52/1000+H47+H48+H50*'Input data'!E52/1000+H51*'Input data'!E52/1000+H52*'Input data'!E52/1000+H53*'Input data'!E52/1000","v":117.28956718475064},"MMBtu/d","Various","NA"]
[null,null,"Crude oil processing"]
[null,null,null,"Dehydration heater",null,null,null,{"$f":"'Surface Processing'!M180","v":0},{"$f":"'Surface Processing'!N180","v":"MMBtu/d"},{"$f":"IF(AND('Surface Processing'!M22=1,'Surface Processing'!M25=1),\"Natural gas\",IF('Surface Processing'!M22=2,\"Electricity\",\"NGL\"))","v":"Natural gas"},{"$f":"IF(J36=\"Natural gas\",\"1A\",IF(J36=\"NGL\",\"1B\",IF(J36=\"Diesel\",\"2\",\"3\")))","v":"1A"}]
[null,null,null,"Stabilizer column",null,null,null,{"$f":"'Surface Processing'!M186","v":64.260000000000005},{"$f":"'Surface Processing'!N186","v":"MMBtu/d"},{"$f":"IF(AND('Surface Processing'!M44=1,'Surface Processing'!M47=1),\"Natural gas\",IF('Surface Processing'!M44=2,\"Electricity\",\"NGL\"))","v":"Natural gas"},{"$f":"IF(J37=\"Natural gas\",\"1A\",IF(J37=\"NGL\",\"1B\",IF(J37=\"Diesel\",\"2\",\"3\")))","v":"1A"}]
[null,null,"Gas processing"]
[null,null,null,"Amine treater"]
[null,null,null,null,"Pumps",null,null,{"$f":"'Surface Processing'!M231","v":115.66555689005116},{"$f":"'Surface Processing'!N231","v":"kWh/d"},{"$f":"\"Electricity\"","v":"Electricity"},{"$f":"IF(J40=\"Natural gas\",\"1A\",IF(J40=\"NGL\",\"1B\",IF(J40=\"Diesel\",\"2\",\"3\")))","v":"3"}]
[null,null,null,null,"Air coolers",null,null,{"$f":"'Surface Processing'!M240","v":326.22973172906705},{"$f":"'Surface Processing'!N240","v":"kWh/d"},{"$f":"\"Electricity\"","v":"Electricity"},{"$f":"IF(J41=\"Natural gas\",\"1A\",IF(J41=\"NGL\",\"1B\",IF(J41=\"Diesel\",\"2\",\"3\")))","v":"3"}]
[null,null,null,null,"Reboiler",null,null,{"$f":"'Surface Processing'!M245","v":38.500188185682845},{"$f":"'Surface Processing'!N245","v":"MMBtu/d"},{"$f":"IF('Surface Processing'!M83=1,\"Natural gas\",\"NGL\")","v":"Natural gas"},{"$f":"IF(J42=\"Natural gas\",\"1A\",IF(J42=\"NGL\",\"1B\",IF(J42=\"Diesel\",\"2\",\"3\")))","v":"1A"}]
[null,null,null,"Glycol dehydrator"]
[null,null,null,null,"Reboiler",null,null,{"$f":"'Surface Processing'!M283","v":0.17359046246610069},{"$f":"'Surface Processing'!O283","v":"MMBtu/d"},{"$f":"IF(AND('Surface Processing'!M99=1,'Surface Processing'!M105=1),\"Natural gas\",IF('Surface Processing'!M99=2,\"Electricity\",\"NGL\"))","v":"Natural gas"},{"$f":"IF(J44=\"Natural gas\",\"1A\",IF(J44=\"NGL\",\"1B\",IF(J44=\"Diesel\",\"2\",\"3\")))","v":"1A"}]
[null,null,null,null,"Glycol pump",null,null,{"$f":"'Surface Processing'!M290","v":0.88950270971716139},{"$f":"'Surface Processing'!O290","v":"kWh/d"},{"$f":"\"Electricity\"","v":"Electricity"},{"$f":"IF(J45=\"Natural gas\",\"1A\",IF(J45=\"NGL\",\"1B\",IF(J45=\"Diesel\",\"2\",\"3\")))","v":"3"}]
[null,null,null,"Demethanizer"]
[null,null,null,null,"Refrigeration and compression",null,null,{"$f":"'Surface Processing'!M309","v":11.204262996189088},"MMBtu/d","Natural gas",{"$f":"IF(J47=\"Natural gas\",\"1A\",IF(J47=\"NGL\",\"1B\",IF(J47=\"Diesel\",\"2\",\"3\")))","v":"1A"}]
[null,null,null,null,"Fractionation reboiler",null,null,{"$f":"'Surface Processing'!M310","v":0},"MMBtu/d","Natural gas","1A"]
[null,null,"Water treatment"]
[null,null,null,"Stage 1:",{"$f":"'Surface Processing'!D326","v":"DAF"},"&",{"$f":"'Surface Processing'!D339","v":"DAF"},{"$f":"'Surface Processing'!E323+'Surface Processing'!E336","v":227.05910597750699},{"$f":"'Surface Processing'!F323","v":"kWh/d"},{"$f":"\"Electricity\"","v":"Electricity"},{"$f":"IF(J50=\"Natural gas\",\"1A\",IF(J50=\"NGL\",\"1B\",IF(J50=\"Diesel\",\"2\",\"3\")))","v":"3"}]
[null,null,null,"Stage 2:",{"$f":"'Surface Processing'!H326","v":"RBC"},"&",{"$f":"'Surface Processing'!H339","v":"RBC"},{"$f":"'Surface Processing'!I323+'Surface Processing'!I336","v":226.03168920837797},{"$f":"'Surface Processing'!J323","v":"kWh/d"},{"$f":"\"Electricity\"","v":"Electricity"},{"$f":"IF(J51=\"Natural gas\",\"1A\",IF(J51=\"NGL\",\"1B\",IF(J51=\"Diesel\",\"2\",\"3\")))","v":"3"}]
[null,null,null,"Stage 3:",{"$f":"'Surface Processing'!L326","v":"DMF"},"&",{"$f":"'Surface Processing'!L339","v":"DMF"},{"$f":"'Surface Processing'!M323+'Surface Processing'!M336","v":27.740252766482751},{"$f":"'Surface Processing'!N323","v":"kWh/d"},"Electricity",{"$f":"IF(J52=\"Natural gas\",\"1A\",IF(J52=\"NGL\",\"1B\",IF(J52=\"Diesel\",\"2\",\"3\")))","v":"3"}]
[null,null,null,"Stage 4:",{"$f":"'Surface Processing'!P326","v":"N/A"},"&",{"$f":"'Surface Processing'!P339","v":"N/A"},{"$f":"'Surface Processing'!Q323+'Surface Processing'!Q336","v":0},{"$f":"'Surface Processing'!R323","v":"kWh/d"},"Electricity",{"$f":"IF(J53=\"Natural gas\",\"1A\",IF(J53=\"NGL\",\"1B\",IF(J53=\"Diesel\",\"2\",\"3\")))","v":"3"}]
[]
[null,"Maintenance",null,null,null,null,null,0,"MMBtu/d","NA","NA"]
[]
[null,"Waste disposal",null,null,null,null,null,0,"MMBtu/d","NA","NA"]
[]
[null,"Other",null,null,null,null,null,{"$f":"H60","v":0},{"$f":"I60","v":"MMBtu/d"},{"$f":"J60","v":"Natural gas"},{"$f":"K60","v":"1A"}]
[null,null,"Electricity generation",null,null,null,null,{"$f":"Electricity!M37","v":0},"MMBtu/d",{"$f":"IF(OR(Electricity!M12=1,Electricity!M12=2),\"Natural gas\",\"Diesel\")","v":"Natural gas"},{"$f":"IF(J60=\"Natural gas\",\"1A\",IF(J60=\"NGL\",\"1B\",IF(J60=\"Diesel\",\"2\",\"3\")))","v":"1A"}]
[null,null,null,null,null,null,"Total =",{"$f":"H18+H20+H22+H34+H55+H57+H59","v":241.15997596289023},"MMBtu/d","Various","NA"]
[]
[]
[null,"Table 3: Gross energy consumption by fuel type"]
[null,"Gross energy consumption by fuel type"]
[null,null,null,null,"Total","Unit"]
[null,"Natural gas",null,null,{"$f":"IF(K23=\"1A\",H23,0)+IF(K24=\"1A\",H24,0)+IF(K25=\"1A\",H25,0)+IF(K26=\"1A\",H26,0)+IF(K27=\"1A\",H27,0)+IF(K28=\"1A\",H28,0)+IF(K29=\"1A\",H29,0)+(IF(K31=\"1A\",H31,0)+H32)+IF(K36=\"1A\",H36,0)+IF(K37=\"1A\",H37,0)+IF(K40=\"1A\",H40,0)+IF(K41=\"1A\",H41,0)+IF(K42=\"1A\",H42,0)+IF(K44=\"1A\",H44,0)+IF(K45=\"1A\",H45,0)+(H47+H48)+IF(K50=\"1A\",H50,0)+IF(K51=\"1A\",H51,0)+IF(K52=\"1A\",H52,0)+IF(K53=\"1A\",H53,0)+IF(K60=\"1A\",H60,0)","v":229.27728423720686},"MMBtu/d"]
[null,"NGL",null,null,{"$f":"IF(K23=\"1B\",H23,0)+IF(K24=\"1B\",H24,0)+IF(K25=\"1B\",H25,0)+IF(K26=\"1B\",H26,0)+IF(K27=\"1B\",H27,0)+IF(K28=\"1B\",H28,0)+IF(K29=\"1B\",H29,0)+IF(K36=\"1B\",H36,0)+IF(K37=\"1B\",H37,0)+IF(K40=\"1B\",H40,0)+IF(K41=\"1B\",H41,0)+IF(K42=\"1B\",H42,0)+IF(K44=\"1B\",H44,0)+IF(K45=\"1B\",H45,0)+IF(K50=\"1B\",H50,0)+IF(K51=\"1B\",H51,0)+IF(K52=\"1B\",H52,0)+IF(K53=\"1B\",H53,0)","v":0},"MMBtu/d"]
[null,"Diesel",null,null,{"$f":"H20+IF(K23=\"2\",H23,0)+IF(K24=\"2\",H24,0)+IF(K25=\"2\",H25,0)+IF(K26=\"2\",H26,0)+IF(K27=\"2\",H27,0)+IF(K28=\"2\",H28,0)+IF(K29=\"2\",H29,0)+IF(K36=\"2\",H36,0)+IF(K37=\"2\",H37,0)+IF(K40=\"2\",H40,0)+IF(K41=\"2\",H41,0)+IF(K42=\"2\",H42,0)+IF(K44=\"2\",H44,0)+IF(K45=\"2\",H45,0)+IF(K50=\"2\",H50,0)+IF(K51=\"2\",H51,0)+IF(K52=\"2\",H52,0)+IF(K53=\"2\",H53,0)+IF(K60=\"2\",H60,0)","v":8.7311661852707925},"MMBtu/d"]
[null,"Electricity",null,null,{"$f":"((IF(K23=\"3\",H23,0)+IF(K24=\"3\",H24,0)+IF(K25=\"3\",H25,0)+IF(K26=\"3\",H26,0)+IF(K27=\"3\",H27,0)+IF(K28=\"3\",H28,0)+IF(K29=\"3\",H29,0)+IF(K36=\"3\",H36,0)+IF(K37=\"3\",H37,0)+IF(K40=\"3\",H40,0)+IF(K41=\"3\",H41,0)+IF(K42=\"3\",H42,0)+IF(K44=\"3\",H44,0)+IF(K45=\"3\",H45,0)+IF(K50=\"3\",H50,0)+IF(K51=\"3\",H51,0)+IF(K52=\"3\",H52,0)+IF(K53=\"3\",H53,0))/1000)*'Input data'!E52","v":3.1515255404126168},"MMBtu/d"]
[null,"Crude oil",null,null,{"$f":"IF(K31=\"4\",H31,0)","v":0},"MMBtu/d"]
[null,null,null,"Total =",{"$f":"SUM(E67:E71)","v":241.15997596289026},"MMBtu/d"]
[]
[]
[null,"Table 4: Energy exports/imports by fuel type"]
[null,"Energy exports/imports by fuel type"]
[null,null,null,null,"Total","Unit"]
[null,"Natural gas",null,null,{"$f":"E67+(IF(AND('Production & Extraction'!M20=1,'Production & Extraction'!M186=1),'Production & Extraction'!M189/1000-'Gas Balance'!AL32,0)-'Gas Balance'!AL29)*'Gas Balance'!AC20/'Gas Balance'!AC23+(('Venting & Fugitives'!I238-'Venting & Fugitives'!I254)/365)","v":-609.7138802461443},"MMBtu/d","NG consumed minus NG remaining as process fuel (equal to zero when flooding --> 100% remaining reinjected) + flooding makeup NG + recovered gas"]
[null,"NGL",null,null,{"$f":"E68-'Gas Balance'!AC36*'Surface Processing'!M121","v":-150.39457485112098},"MMBtu/d"]
[null,"Diesel",null,null,{"$f":"E69","v":8.7311661852707925},"MMBtu/d"]
[null,"Electricity",null,null,{"$f":"E70-Electricity!M35-IF('Fuel Cycle'!F10=1,'Production & Extraction'!M324,0)","v":3.1515255404126168},"MMBtu/d","Electricity consumed minus electricity generated onsite minus electricity co-generated in steam generation "]
[null,"Crude oil",null,null,"NA","MMBtu/d","Crude oil is the main product"]
[null,null,"Total (imports) =",null,{"$f":"IF(E78>0,E78,0)+IF(E79>0,E79,0)+E80+IF(E81>0,E81,0)","v":11.88269172568341},"MMBtu/d"]
[null,null,"Total (exports) =",null,{"$f":"IF(E78<0,E78,0)+IF(E79<0,E79,0)+IF(E81<0,E81,0)","v":-760.10845509726528},"MMBtu/d"]
[null,"Note(s): "]
[null,"Positive value is import (subject to debit)"]
[null,"Negative value is export (subject to credit)"]
[]
[null,"Table 5: Net energy consumption by fuel type"]
[null,"Net energy consumption by fuel type",null,null,null,null,"Note(s):"]
[null,null,null,null,"Total","Unit"]
[null,{"$f":"B67","v":"Natural gas"},null,null,{"$f":"E67","v":229.27728423720686},"MMBtu/d"]
[null,{"$f":"B68","v":"NGL"},null,null,{"$f":"E68","v":0},"MMBtu/d"]
[null,{"$f":"B69","v":"Diesel"},null,null,{"$f":"E69","v":8.7311661852707925},"MMBtu/d"]
[null,{"$f":"B70","v":"Electricity"},null,null,{"$f":"IF(E81<0,0,E81)","v":3.1515255404126168},"MMBtu/d","Electricity from grid"]
[null,"Crude oil",null,null,{"$f":"E71","v":0},"MMBtu/d","The upstream energy consumption is accounted by subtracting this amount from the crude oil output"]
[null,null,null,"Total =",{"$f":"SUM(E92:E96)","v":241.15997596289026},"MMBtu/d"]
[]
[]
[null,"Table 6: Indirect energy consumption"]
[null,"Energy for fuel supply/export",null,null,null,null,"Note(s):"]
[null,null,null,null,"Total","Unit"]
[null,"Energy for natural gas supply/export",null,null,{"$f":"E78*IF(E78<0,IF('Fuel Cycle'!F10=1,'Fuel Cycle'!E39,0),'Fuel Cycle'!D59)","v":-38.441142547690092},"MMBtu/d"]
[null,"Energy for NGL supply/export",null,null,{"$f":"E79*IF(E79<0,IF('Fuel Cycle'!F10=1,'Fuel Cycle'!E39,0),'Fuel Cycle'!D59)","v":-9.4820529391872057},"MMBtu/d"]
[null,"Energy for Diesel supply/export",null,null,{"$f":"E80*'Fuel Cycle'!D60","v":1.4233285180242887},"MMBtu/d","No diesel export"]
[null,"Energy for electricity supply/export",null,null,{"$f":"'Energy Consumption'!E81*IF('Energy Consumption'!E81<0,IF('Fuel Cycle'!F10=1,0.92*'Fuel Cycle'!E41,0),'Fuel Cycle'!D61)","v":8.34284838851387},"MMBtu/d"]
[null,"Energy for crude oil supply/export",null,null,{"$f":"E82","v":"NA"},"MMBtu/d","The upstream energy consumption is accounted by subtracting this amount from the crude oil output"]
[null,null,null,"Total =",{"$f":"SUM(E103:E106)","v":-38.157018580339134},"MMBtu/d"]
[null,"Negative (-) value is an energy credit from exported fuel"]
[]
[]
[null,"Calculations approach:"]
[null,"First we collect the energy consumption of each component in Table 2. From the energy consumption by component we sum the energy consumption by fuel"]
[null,"type in Table 3. Second, we use the energy consumption by fuel type to calculate the exports or imports of each fuel in Table 4. This will be used to calculate "]
[null,"the indirect energy consumption. Third, the net energy consumption is calculated in Table 5. The net energy consumption is equal to energy consumption except for"]
[null,"electricity where the net energy consumption is the electricity from grid. The energy consumed and produced onsite in the form of electricity is already accounted"]
[null,"in the form of natural gas or diesel which fuel the electricity generator. Table 6 calculates the indirect energy consumption using exports/imports from Table 4."]
[null," "]

{"sheet":"GHG Emissions","index":6,"n_rows":63,"n_cols":14,"rows_kept":63,"cut":false,"hidden":false,"merged":[[50,1,50,6],[6,9,6,12],[5,1,5,12],[55,1,55,5],[62,1,62,5],[57,1,57,5],[58,1,58,5],[59,1,59,5],[60,1,60,5],[61,1,61,5],[56,1,56,5]]}
["GHG emissions compilation sheet"]
[]
["This sheet compiles emissions quantities from the various pages for use in the \"User Inputs & Results\" sheet."]
[]
[null,"Table 1: GHG emissions panel"]
[null,"GHG emissions panel"]
[null,null,null,null,null,null,null,"Combustion","Land use","VFF"]
[null,null,null,null,null,null,null,null,null,"Venting","Flaring","Fugitives"]
[null,null,null,null,null,null,null,"Value","Value","Value","Value","Value","Unit","Notes:"]
[null,"Exploration",null,null,null,null,null,0,0,0,0,0,"gCO2eq/d"]
[]
[null,"Drilling & Development",null,null,null,null,null,{"$f":"'Energy Consumption'!H20*'Emissions Factors'!K17","v":689512.88977067778},{"$f":"'Drilling & Development'!M65*(('Production & Extraction'!M35-'Energy Consumption'!E96/'Fuel Specs'!M14)*'Fuel Specs'!M15+('Gas Balance'!AC35*'Surface Processing'!M122+IF('Fuel Cycle'!F10=2,ABS('Energy Consumption'!E84),0))*'Input data'!E46)","v":10952721.459224997},0,0,0,"gCO2eq/d"]
[]
[null,"Production & Extraction",null,null,null,null,null,{"$f":"SUM(H15:H22)","v":7702402.1768770823},{"$f":"SUM(I15:I22)","v":0},{"$f":"'Venting & Fugitives'!F247*1000000/365","v":0},{"$f":"Flaring!F80*1000000/365","v":0},{"$f":"'Venting & Fugitives'!F251*1000000/365","v":151146.11065969014},"gCO2eq/d"]
[null,null,"Downhole pump",null,null,null,null,{"$f":"IF(AND('Energy Consumption'!K23=\"1A\",'Production & Extraction'!M72=1),'Energy Consumption'!H23*'Emissions Factors'!$H$17,IF(AND('Energy Consumption'!K23=\"1A\",'Production & Extraction'!M72=4),'Energy Consumption'!H23*'Emissions Factors'!$G$17,IF(AND('Energy Consumption'!K23=\"1B\",'Production & Extraction'!M72=1),'Energy Consumption'!H23*'Emissions Factors'!$H$17,IF(AND('Energy Consumption'!K23=\"1B\",'Production & Extraction'!M72=4),'Energy Consumption'!H23*'Emissions Factors'!$G$17,IF('Energy Consumption'!K23=\"2\",'Energy Consumption'!H23*'Emissions Factors'!$K$17,0)))))","v":7702402.1768770823},0,"NA","NA","NA","gCO2eq/d"]
[null,null,"Water re-injection pump",null,null,null,null,{"$f":"IF(AND('Energy Consumption'!K24=\"1A\",'Production & Extraction'!M89=1),'Energy Consumption'!H24*'Emissions Factors'!$H$17,IF(AND('Energy Consumption'!K24=\"1A\",'Production & Extraction'!M89=4),'Energy Consumption'!H24*'Emissions Factors'!$G$17,IF(AND('Energy Consumption'!K24=\"1B\",'Production & Extraction'!M89=1),'Energy Consumption'!H24*'Emissions Factors'!$H$17,IF(AND('Energy Consumption'!K24=\"1B\",'Production & Extraction'!M89=4),'Energy Consumption'!H24*'Emissions Factors'!$G$17,IF('Energy Consumption'!K24=\"2\",'Energy Consumption'!H24*'Emissions Factors'!$K$17,0)))))","v":0},0,"NA","NA","NA","gCO2eq/d"]
[null,null,"Gas re-injection compressor",null,null,null,null,{"$f":"IF('Energy Consumption'!K25=\"3\",0,'Energy Consumption'!H25*'Emissions Factors'!$H$17)","v":0},0,"NA","NA","NA","gCO2eq/d"]
[null,null,"Water flooding injection pump",null,null,null,null,{"$f":"IF(AND('Energy Consumption'!K26=\"1A\",'Production & Extraction'!M143=1),'Energy Consumption'!H26*'Emissions Factors'!$H$17,IF(AND('Energy Consumption'!K26=\"1A\",'Production & Extraction'!M143=4),'Energy Consumption'!H26*'Emissions Factors'!$G$17,IF(AND('Energy Consumption'!K26=\"1B\",'Production & Extraction'!M143=1),'Energy Consumption'!H26*'Emissions Factors'!$H$17,IF(AND('Energy Consumption'!K26=\"1B\",'Production & Extraction'!M143=4),'Energy Consumption'!H26*'Emissions Factors'!$G$17,IF('Energy Consumption'!K26=\"2\",'Energy Consumption'!H26*'Emissions Factors'!$K$17,0)))))","v":0},0,"NA","NA","NA","gCO2eq/d"]
[null,null,"Gas lifting compressor",null,null,null,null,{"$f":"IF('Energy Consumption'!K27=\"3\",0,'Energy Consumption'!H27*'Emissions Factors'!$H$17)","v":0},0,"NA","NA","NA","gCO2eq/d"]
[null,null,"Air separation unit",null,null,null,null,0,0,"NA","NA","NA","gCO2eq/d","All fuel used in a cryogenic air separator is electricity - Direct GHG emissions is 0"]
[null,null,"Gas flooding injection compressor",null,null,null,null,{"$f":"IF('Energy Consumption'!K29=\"3\",0,'Energy Consumption'!H29*'Emissions Factors'!$H$17)","v":0},0,"NA","NA","NA","gCO2eq/d"]
[null,null,"Steam injection",null,null,null,null,{"$f":"'Energy Consumption'!H31*IF('Energy Consumption'!K31=\"4\",'Emissions Factors'!M17,'Emissions Factors'!C17)+'Energy Consumption'!H32*'Emissions Factors'!C17","v":0},0,"NA","NA","NA","gCO2eq/d","Natural gas fired"]
[]
[null,"Oil Field Processing",null,null,null,null,null,{"$f":"H25+H28+H39","v":6664722.8252117289},{"$f":"I25+I28+I39","v":0},{"$f":"'Venting & Fugitives'!F248*1000000/365","v":6565957.3614007952},{"$f":"Flaring!F81*1000000/365","v":22399595.675156854},{"$f":"'Venting & Fugitives'!F252*1000000/365","v":1152734.9549584887},"gCO2eq/d"]
[null,null,"Crude oil processing",null,null,null,null,{"$f":"H26+H27","v":3749582.9532329896},{"$f":"SUM(I26:I27)","v":0},"NA","NA","NA","gCO2eq/d"]
[null,null,null,"Dehydration heater",null,null,null,{"$f":"IF('Energy Consumption'!K36=\"3\",0,'Energy Consumption'!H36*'Emissions Factors'!C17)","v":0},0,"NA","NA","NA","gCO2eq/d","Either natural gas fired or electric"]
[null,null,null,"Stabilizer column",null,null,null,{"$f":"IF('Energy Consumption'!K37=\"3\",0,'Energy Consumption'!H37*'Emissions Factors'!C17)","v":3749582.9532329896},0,"NA","NA","NA","gCO2eq/d","Either natural gas fired or electric"]
[null,null,"Gas processing",null,null,null,null,{"$f":"H29+H33+H36","v":2915139.8719787393},{"$f":"I29+I33","v":0},"NA","NA","NA","gCO2eq/d"]
[null,null,null,"Amine treater",null,null,null,{"$f":"SUM(H30:H32)","v":2246493.142192632},{"$f":"SUM(I30:I32)","v":0},"NA","NA","NA","gCO2eq/d"]
[null,null,null,null,"Pumps",null,null,0,0,"NA","NA","NA","gCO2eq/d","Pumps in amine treater are electric by default - Direct GHG emissions is 0"]
[null,null,null,null,"Air coolers",null,null,0,0,"NA","NA","NA","gCO2eq/d","Air coolers in amine treater use electricity driven fans - Direct GHG emissions is 0"]
[null,null,null,null,"Reboiler",null,null,{"$f":"'Energy Consumption'!H42*'Emissions Factors'!C17","v":2246493.142192632},0,"NA","NA","NA","gCO2eq/d","Glycol reboiler is natural gas fired by default"]
[null,null,null,"Glycol dehydrator",null,null,null,{"$f":"SUM(H34:H35)","v":10129.035775081267},{"$f":"SUM(I34:I35)","v":0},"NA","NA","NA","gCO2eq/d"]
[null,null,null,null,"Reboiler",null,null,{"$f":"IF('Energy Consumption'!K44=\"3\",0,'Energy Consumption'!H44*'Emissions Factors'!C17)","v":10129.035775081267},0,"NA","NA","NA","gCO2eq/d","Either natural gas fired or electric"]
[null,null,null,null,"Glycol pump",null,null,0,0,"NA","NA","NA","gCO2eq/d","Glycol pump is electric by default - Direct GHG emissions is 0"]
[null,null,null,"Demethanizer",null,null,null,{"$f":"H37+H38","v":658517.69401102629},{"$f":"I37+I38","v":0},"NA","NA","NA","gCO2eq/d"]
[null,null,null,null,"Refrigeration system",null,null,{"$f":"'Energy Consumption'!H47*'Emissions Factors'!G17","v":658517.69401102629},0,"NA","NA","NA","gCO2eq/d"]
[null,null,null,null,"Fractionation reboiler",null,null,{"$f":"'Energy Consumption'!H48*'Emissions Factors'!D17","v":0},0,"NA","NA","NA","gCO2eq/d"]
[null,null,"Water treatment",null,null,null,null,{"$f":"SUM(H40:H43)","v":0},{"$f":"SUM(I40:I43)","v":0},"NA","NA","NA","gCO2eq/d"]
[null,null,null,"Stage 1:",{"$f":"'Energy Consumption'!E50","v":"DAF"},"&",{"$f":"'Surface Processing'!D339","v":"DAF"},0,0,"NA","NA","NA","gCO2eq/d","All fuel used in water treatment is electricity - Direct GHG emissions is 0"]
[null,null,null,"Stage 2:",{"$f":"'Energy Consumption'!E51","v":"RBC"},"&",{"$f":"'Surface Processing'!H339","v":"RBC"},0,0,"NA","NA","NA","gCO2eq/d","All fuel used in water treatment is electricity - Direct GHG emissions is 0"]
[null,null,null,"Stage 3:",{"$f":"'Energy Consumption'!E52","v":"DMF"},"&",{"$f":"'Surface Processing'!L339","v":"DMF"},0,0,"NA","NA","NA","gCO2eq/d","All fuel used in water treatment is electricity - Direct GHG emissions is 0"]
[null,null,null,"Stage 4:",{"$f":"'Energy Consumption'!E53","v":"N/A"},"&",{"$f":"'Surface Processing'!P339","v":"N/A"},0,0,"NA","NA","NA","gCO2eq/d","All fuel used in water treatment is electricity - Direct GHG emissions is 0"]
[]
[null,"Maintenance",null,null,null,null,null,0,0,{"$f":"'Venting & Fugitives'!F249*1000000/365","v":751242.79747690703},{"$f":"Flaring!F82*1000000/365","v":0},{"$f":"'Venting & Fugitives'!F253*1000000/365","v":0},"gCO2eq/d"]
[]
[null,"Waste disposal",null,null,null,null,null,0,0,0,0,0,"gCO2eq/d"]
[]
[null,"Other",null,null,null,null,null,{"$f":"H50","v":0},{"$f":"I50","v":0},{"$f":"J50","v":0},{"$f":"K50","v":0},{"$f":"L50","v":0},"gCO2eq/d"]
[null,null,"Electricity generation",null,null,null,null,{"$f":"Electricity!M39*1000000","v":0},0,0,0,0,"gCO2eq/d"]
[null,"Total =",null,null,null,null,null,{"$f":"H10+H12+H14+H24+H45+H47+H49","v":15056637.89185949},{"$f":"I10+I12+I14+I24+I45+I47+I49","v":10952721.459224997},{"$f":"J10+J12+J14+J24+J45+J47+J49","v":7317200.1588777024},{"$f":"K10+K12+K14+K24+K45+K47+K49","v":22399595.675156854},{"$f":"L10+L12+L14+L24+L45+L47+L49","v":1303881.0656181788},"gCO2eq/d"]
[null,"Note:"]
[null,"NGL emissions factor is assumed the same as natural gas"]
[]
[null,"Table 2: Indirect GHG emissions"]
[null,"GHG emissions from fuel supply/export"]
[null,null,null,null,null,null,"Total","Unit"]
[null,"GHG emissions from natural gas supply/export",null,null,null,null,{"$f":"'Energy Consumption'!E78*IF('Energy Consumption'!E78>0,'Fuel Cycle'!D73,IF('Fuel Cycle'!F10=1,'Fuel Cycle'!D49,0))","v":-4663481.235506773},"gCO2eq/d"]
[null,"GHG emissions from NGL supply/export",null,null,null,null,{"$f":"'Energy Consumption'!E79*IF('Energy Consumption'!E79>0,'Fuel Cycle'!D73,IF('Fuel Cycle'!F10=1,'Fuel Cycle'!D49,0))","v":-1150313.7790746675},"gCO2eq/d"]
[null,"GHG emissions from diesel supply/export",null,null,null,null,{"$f":"'Energy Consumption'!E80*IF('Energy Consumption'!E80>0,'Fuel Cycle'!D74,IF('Fuel Cycle'!F10=1,'Fuel Cycle'!D50,0))","v":138008.7925712498},"gCO2eq/d"]
[null,"GHG emissions from electricity supply/export",null,null,null,null,{"$f":"'Energy Consumption'!E81*IF('Energy Consumption'!E81>0,'Fuel Cycle'!D75,IF('Fuel Cycle'!F10=1,0.92*'Fuel Cycle'!D51,0))","v":718973.70128442405},"gCO2eq/d"]
[null,"GHG emissions from crude oil supply/export",null,null,null,null,"NA","gCO2eq/d","Crude oil is the main product"]
[null,"Total =",null,null,null,null,{"$f":"SUM(G58:G61)","v":-4956812.5207257662},"gCO2eq/d"]

{"sheet":"Exploration","index":7,"n_rows":3,"n_cols":1,"rows_kept":3,"cut":false,"hidden":false,"merged":[]}
["Exploration"]
[]
["Exploration is not included in the current version of OPGEE. Exploration emissions are expected to be too small to meet significance cutoffs."]

{"sheet":"Drilling & Development","index":8,"n_rows":65,"n_cols":25,"rows_kept":65,"cut":false,"hidden":false,"merged":[]}
["Drilling & development"]
[]
["Estimation of GHG emissions from drilling and field development"]
[]
[]
["1 Drilling combustion emissions"]
[]
[]
["1.1   Field drilling and development properties",null,null,null,null,null,null,null,null,null,null,null,"User","Default","Units",null,"User reference",null,"Default reference",null,null,null,null,null,"Notes"]
[null,"1.1.1   Crude location",null,null,null,null,null,null,null,null,null,null,{"$f":"'User Inputs & Results'!J66","v":"Generic"},"USA"]
[null,"1.1.2   Crude name",null,null,null,null,null,null,null,null,null,null,{"$f":"'User Inputs & Results'!J67","v":"Generic"},"Generic"]
[null,"1.1.3   Field depth",null,null,null,null,null,null,null,null,null,null,{"$f":"'User Inputs & Results'!J69","v":7240},{"$f":"'User Inputs & Results'!K69","v":7240},"ft"]
[null,"1.1.4   API gravity",null,null,null,null,null,null,null,null,null,null,{"$f":"'User Inputs & Results'!J78","v":30},{"$f":"'User Inputs & Results'!K78","v":30}]
[null,"1.1.5   Crude oil heating value",null,null,null,null,null,null,null,null,null,null,{"$f":"VLOOKUP(M13,'Fuel Specs'!B21:O62,5)","v":5.5145999999999997},{"$f":"VLOOKUP(N13,'Fuel Specs'!B21:O62,5)","v":5.5145999999999997},"MMBtu LHV/bbl"]
[]
["1.2. Drilling energy consumption during field development"]
[null,"1.2.1   Energy intensity of drilling",null,null,null,null,null,null,null,null,null,null,1,1,"NA"]
[null,null,"1=","Low intensity drilling"]
[null,null,"2=","High intensity drilling"]
[null,"1.2.2   Energy intensity of drilling",null,null,null,null,null,null,null,null,null,null,{"$f":"IF(M17=1,37.169*EXP(0.1428*(M12/1000)),IF(M17=2,97.193*EXP(0.1215*(M12/1000))))","v":104.51672229145518},{"$f":"IF(N17=1,37.169*EXP(0.1428*(N12/1000)),IF(N17=2,97.193*EXP(0.1215*(N12/1000))))","v":104.51672229145518},"MMBtu/1000 ft",null,null,null,null,null,null,null,null,null,"Source: Brandt (2011) p. 1843, eq. 4 & 5. Original data from Canadian drilling operations, cited in Petroleum Services Association of Canada (2001, 2002, 2005) "]
[null,"1.2.3   Energy intensity per well",null,null,null,null,null,null,null,null,null,null,{"$f":"M20*M12/1000","v":756.70106939013544},{"$f":"N20*N12/1000","v":756.70106939013544},"MMBtu/well"]
[]
[]
["1.3. Per-well lifetime productivity"]
[null,"1.3.1   Expected lifetime well productivity",null,null,null,null,null,null,null,null,null,null,130000,130000,"bbl/well",null,null,null,null,null,null,null,null,null,"Source: Yeh et al. (2010) for California. Cumulative production to date in California is 25.99 Gbbl.  Known wells total approximately 200,000 (although early wells are missing from this dataset).  Therefore per-well lifetime productivity is ~130,000 bbl/well."]
[null,null,"1.3.1.1. Expected lifetime energy production",null,null,null,null,null,null,null,null,null,{"$f":"M25*M14","v":716898},{"$f":"N25*N14","v":716898},"MMBtu/well"]
[]
["1.4. Fractional energy consumption per well drilled",null,null,null,null,null,null,null,null,null,null,null,{"$f":"M21/M26","v":1.0555212448495259E-3},{"$f":"N21/N26","v":1.0555212448495259E-3},"MMBtu/MMBtu"]
[]
[]
[]
[]
[]
["2 Land use impacts"]
[]
[]
["2.1   Crude development properties",null,null,null,null,null,null,null,null,null,null,null,"User","Default","Units",null,"User reference",null,"Default reference",null,null,null,null,null,"Notes"]
[null,"2.1.1   Crude location",null,null,null,null,null,null,null,null,null,null,{"$f":"'User Inputs & Results'!J66","v":"Generic"},"Generic"]
[null,"2.1.2   Crude name",null,null,null,null,null,null,null,null,null,null,{"$f":"'User Inputs & Results'!J67","v":"Generic"},"Generic"]
[null,"2.1.3   Crude production method"]
[null,null,"2.1.3.1","Conventional, in situ production via wellbore",null,null,null,null,null,null,null,null,1,1,"NA"]
[null,null,"2.1.3.2","Mining-based production",null,null,null,null,null,null,null,null,0,0,"NA",null,null,null,null,null,null,null,null,null,"Mining-based production does not include land use change on this sheet, because this is counted in GHGenius"]
[null,null,null,null,null,null,null,null,null,null,null,"Check:",{"$f":"IF(SUM(M41:M42)=1,\"OK\",\"ERROR\")","v":"OK"},{"$f":"IF(SUM(N41:N42)=1,\"OK\",\"ERROR\")","v":"OK"}]
[null,"2.1.4   Crude ecosystem carbon richness"]
[null,null,"2.1.4.1","Low carbon richness (semi-arid grasslands)",null,null,null,null,null,null,null,null,{"$f":"'User Inputs & Results'!J113","v":0},{"$f":"'User Inputs & Results'!K113","v":0},"NA",null,null,null,"Yeh et al. (2010)",null,null,null,null,null,"Corresponds to Yeh et al. (2010) California Marginal case (Table 3)"]
[null,null,"2.1.4.2","Moderate carbon richness (mixed)",null,null,null,null,null,null,null,null,{"$f":"'User Inputs & Results'!J114","v":1},{"$f":"'User Inputs & Results'!K114","v":1},"NA",null,null,null,"Yeh et al. (2010)",null,null,null,null,null,"Corresponds to mixed ecosystem"]
[null,null,"2.1.4.3","High carbon richness (forested)",null,null,null,null,null,null,null,null,{"$f":"'User Inputs & Results'!J115","v":0},{"$f":"'User Inputs & Results'!K115","v":0},"NA",null,null,null,"Yeh et al. (2010)",null,null,null,null,null,"Corresponds to Yeh et al. (2010) Alberta Marginal case"]
[null,null,null,null,null,null,null,null,null,null,null,"Check:",{"$f":"IF(SUM(M45:M47)=1,\"OK\",\"ERROR\")","v":"OK"},{"$f":"IF(SUM(N45:N47)=1,\"OK\",\"ERROR\")","v":"OK"}]
[null,"2.1.5   Field development intensity"]
[null,null,"2.1.5.1","Low intensity development and low oxidation",null,null,null,null,null,null,null,null,{"$f":"'User Inputs & Results'!J117","v":0},{"$f":"'User Inputs & Results'!K117","v":0},"NA",null,null,null,"Yeh et al. (2010)",null,null,null,null,null,"Corresponds to Yeh et al. (2010) low end of range (Table 3)"]
[null,null,"2.1.5.2","Moderate intensity development and moderate oxidation",null,null,null,null,null,null,null,null,{"$f":"'User Inputs & Results'!J118","v":1},{"$f":"'User Inputs & Results'!K118","v":1},"NA",null,null,null,"Yeh et al. (2010)",null,null,null,null,null,"Corresponds to Yeh et al. (2010) representative value (Table 3)"]
[null,null,"2.1.5.3","High intensity development and high oxidation",null,null,null,null,null,null,null,null,{"$f":"'User Inputs & Results'!J119","v":0},{"$f":"'User Inputs & Results'!K119","v":0},"NA",null,null,null,"Yeh et al. (2010)",null,null,null,null,null,"Corresponds to Yeh et al. (2010) high end of range (Table 3)"]
[null,null,null,null,null,null,null,null,null,null,null,"Check:",{"$f":"IF(SUM(M50:M52)=1,\"OK\",\"ERROR\")","v":"OK"},{"$f":"IF(SUM(N50:N52)=1,\"OK\",\"ERROR\")","v":"OK"}]
[]
[null,"2.1.6   Timeframe of land use analysis (1 = 30 years, 2 = 150 years)",null,null,null,null,null,null,null,null,null,null,1,1,null,null,null,null,null,null,null,null,null,null,"If default timeframe of 30 years is chosen, modified versions of Yeh et al. (2010) calculations are used. See documenation for calculation differences."]
[]
[null,null,null,null,null,null,null,null,null,null,"Emissions code:",null,{"$f":"IF(M41=1,(M45*M50*1+M45*M51*2+M45*M52*3+M46*M50*4+M46*M51*5+M46*M52*6+M47*M50*7+M47*M51*8+M47*M52*9),IF(M42=1,\"bit\",\"ERROR\"))","v":5},{"$f":"IF(N41=1,(N45*N50*1+N45*N51*2+N45*N52*3+N46*N50*4+N46*N51*5+N46*N52*6+N47*N50*7+N47*N51*8+N47*N52*9),0)","v":5}]
[]
["2.2   Source-specific land use emissions"]
[null,"2.2.1   Soil carbon emissions",null,null,null,null,null,null,null,null,null,null,{"$f":"IF(M$57=0,0,HLOOKUP($M$57,IF($M$55=1,'Emissions Factors'!$D$130:$O$133,IF($M$55=2,'Emissions Factors'!$D$120:$O$123,\"ERROR\")),2,TRUE))","v":0.57000000000000006},{"$f":"IF(N$57=0,0,HLOOKUP($N$57,IF($N$55=1,'Emissions Factors'!$D$130:$O$133,IF($N$55=2,'Emissions Factors'!$D$120:$O$123,\"ERROR\")),2,TRUE))","v":0.57000000000000006},"gCO2eq/MJ",null,null,null,"Yeh et al. (2010)",null,null,null,null,null,"See above."]
[null,"2.2.2   Biomass carbon emissions",null,null,null,null,null,null,null,null,null,null,{"$f":"IF(M$57=0,0,HLOOKUP($M$57,IF($M$55=1,'Emissions Factors'!$D$130:$O$133,IF($M$55=2,'Emissions Factors'!$D$120:$O$123,\"ERROR\")),3,TRUE))","v":0.68},{"$f":"IF(N$57=0,0,HLOOKUP($N$57,IF($N$55=1,'Emissions Factors'!$D$130:$O$133,IF($N$55=2,'Emissions Factors'!$D$120:$O$123,\"ERROR\")),3,TRUE))","v":0.68},"gCO2eq/MJ",null,null,null,"Yeh et al. (2010)",null,null,null,null,null,"See above."]
[null,"2.2.3   Foregone sequestration emissions",null,null,null,null,null,null,null,null,null,null,{"$f":"IF(M$57=0,0,HLOOKUP($M$57,IF($M$55=1,'Emissions Factors'!$D$130:$O$133,IF($M$55=2,'Emissions Factors'!$D$120:$O$123,\"ERROR\")),4,TRUE))","v":5.0000000000000001E-3},{"$f":"IF(N$57=0,0,HLOOKUP($N$57,IF($N$55=1,'Emissions Factors'!$D$130:$O$133,IF($N$55=2,'Emissions Factors'!$D$120:$O$123,\"ERROR\")),4,TRUE))","v":5.0000000000000001E-3},"gCO2eq/MJ",null,null,null,"Yeh et al. (2010)",null,null,null,null,null,"See above."]
[]
[]
["2.3   Total land use emissions",null,null,null,null,null,null,null,null,null,null,null,{"$f":"SUM(M60:M62)","v":1.2549999999999999},{"$f":"SUM(N60:N62)","v":1.2549999999999999},"gCO2eq/MJ"]

{"sheet":"Production & Extraction","index":9,"n_rows":324,"n_cols":45,"rows_kept":324,"cut":false,"hidden":false,"merged":[]}
["Crude Extraction"]
[]
["Calculation of GHG emissions from crude oil extraction using different techniques."]
["1. Oil recovery stages: Primary, secondary and tertiary"]
["2. Artificial lifting methods:"]
["2.1   Downhole pump (e.g. Sucker-rod pump, submersible motor pump)"]
["2.2   Water flooding"]
["2.3   Gas flooding (e.g., N2 flooding)"]
["2.4   Gas lifting"]
["2.5   Steam flooding"]
[]
["1 Input assumptions"]
[]
["1.1   Production methods",null,null,null,null,null,null,null,null,null,null,null,"User","Default","Units",null,"User reference",null,"Default reference",null,null,null,null,null,"Notes"]
[null,"1.1.1   Downhole pump",null,null,null,null,null,null,null,null,null,null,{"$f":"'User Inputs & Results'!J57","v":1},1]
[null,"1.1.2   Water reinjection",null,null,null,null,null,null,null,null,null,null,{"$f":"'User Inputs & Results'!J58","v":1},1]
[null,"1.1.3   Gas reinjection",null,null,null,null,null,null,null,null,null,null,{"$f":"'User Inputs & Results'!J59","v":1},1]
[null,"1.1.4   Water flooding",null,null,null,null,null,null,null,null,null,null,{"$f":"'User Inputs & Results'!J60","v":0},0]
[null,"1.1.5   Gas lifting",null,null,null,null,null,null,null,null,null,null,{"$f":"'User Inputs & Results'!J61","v":0},0]
[null,"1.1.6   Gas flooding",null,null,null,null,null,null,null,null,null,null,{"$f":"'User Inputs & Results'!J62","v":0},0]
[null,"1.1.7   Steam flooding",null,null,null,null,null,null,null,null,null,null,{"$f":"'User Inputs & Results'!J63","v":0},0]
[]
[]
["2 Input data"]
[]
[]
["2.1   Field and production parameters"]
[]
[null,"2.1.1   Product crude",null,null,null,null,null,null,null,null,null,null,"User","Default","Units",null,"User reference",null,"Default reference",null,null,null,null,null,"Notes"]
[null,null,"2.1.1.1   Crude location",null,null,null,null,null,null,null,null,null,{"$f":"'User Inputs & Results'!J66","v":"Generic"},{"$f":"'User Inputs & Results'!K66","v":"Generic"},"NA"]
[null,null,"2.1.1.2   Crude name",null,null,null,null,null,null,null,null,null,{"$f":"'User Inputs & Results'!J67","v":"Generic"},{"$f":"'User Inputs & Results'!K67","v":"Generic"},"NA"]
[null,null,"2.1.1.3   API",null,null,null,null,null,null,null,null,null,{"$f":"'User Inputs & Results'!J78","v":30},{"$f":"'User Inputs & Results'!K78","v":30},"[-]"]
[null,null,"2.1.1.4   Specific gravity",null,null,null,null,null,null,null,null,null,{"$f":"141.5/(M32+131.5)","v":0.87616099071207432},{"$f":"141.5/(N32+131.5)","v":0.87616099071207432},"[-]",null,null,null,"Manning, F., and Thompson, R. (1995), p. 20"]
[null,null,"2.1.1.5   Sulfur",null,null,null,null,null,null,null,null,null,2,2,"wt%"]
[null,null,"2.1.1.6   Production volume",null,null,null,null,null,null,null,null,null,{"$f":"'User Inputs & Results'!J70","v":1500},{"$f":"'User Inputs & Results'!K70","v":1500},"bbl/d"]
[null,null,null,null,null,null,null,null,null,null,null,null,null,null,null,null,null,null,null,null,null,null,null,null,null,null,null,null,null,null,null,null,null,null,null,null,null,null,"Mr","Mr%"]
[null,"2.1.2   Associated gas",null,null,null,null,null,null,null,null,null,null,null,null,null,null,null,null,null,null,null,null,null,null,null,null,null,null,null,null,null,null,null,null,null,null,null,null,"lb/lbmol","lb/lbmol"]
[null,null,"2.1.2.1   Gas composition",null,null,null,null,null,null,null,null,"N2",{"$f":"'User Inputs & Results'!J80","v":2},2,"mol%",null,null,null,null,null,null,null,null,null,null,null,null,null,null,null,null,null,null,null,null,null,null,"N2",{"$f":"'Fuel Specs'!E148","v":28},{"$f":"M38*AM38/100","v":0.56000000000000005}]
[null,null,null,null,null,null,null,null,null,null,null,"CO2",{"$f":"'User Inputs & Results'!J81","v":6},6,"mol%",null,null,null,null,null,null,null,null,null,null,null,null,null,null,null,null,null,null,null,null,null,null,"CO2",{"$f":"'Fuel Specs'!E150","v":44},2.64]
[null,null,null,null,null,null,null,null,null,null,null,"C1",{"$f":"'User Inputs & Results'!J82","v":84},84,"mol%",null,null,null,null,null,null,null,null,null,null,null,null,null,null,null,null,null,null,null,null,null,null,"C1",{"$f":"'Fuel Specs'!E152","v":16},13.44]
[null,null,null,null,null,null,null,null,null,null,null,"C2",{"$f":"'User Inputs & Results'!J83","v":4},4,"mol%",null,null,null,null,null,null,null,null,null,null,null,null,null,null,null,null,null,null,null,null,null,null,"C2",{"$f":"'Fuel Specs'!E153","v":30},1.2]
[null,null,null,null,null,null,null,null,null,null,null,"C3",{"$f":"'User Inputs & Results'!J84","v":2},2,"mol%",null,null,null,null,null,null,null,null,null,null,null,null,null,null,null,null,null,null,null,null,null,null,"C3",{"$f":"'Fuel Specs'!E154","v":44},0.88]
[null,null,null,null,null,null,null,null,null,null,null,"C4+",{"$f":"'User Inputs & Results'!J85","v":1},1,"mol%",null,null,null,null,null,null,null,null,null,null,null,null,null,null,null,null,null,null,null,null,null,null,"C4",{"$f":"'Fuel Specs'!E155","v":58},0.57999999999999996]
[null,null,null,null,null,null,null,null,null,null,null,"H2S",{"$f":"'User Inputs & Results'!J86","v":1},1,"mol%",null,null,null,null,null,null,null,null,null,null,null,null,null,null,null,null,null,null,null,null,null,null,"H2S",{"$f":"'Fuel Specs'!E158","v":34},0.34]
[null,null,null,null,null,null,null,null,null,null,null,null,{"$f":"IF(SUM(M38:M44)=100, \"OK\", \"ERROR\")","v":"OK"},null,null,null,null,null,null,null,null,null,null,null,null,null,null,null,null,null,null,null,null,null,null,null,null,"Gas",{"$f":"SUM(AN38:AN44)","v":19.639999999999997}]
[]
[null,null,"2.1.2.2   Gas gravity",null,null,null,null,null,null,null,null,null,{"$f":"(14.7*AM45)/(10.73*(60+460))/0.0764","v":0.67727086593307928},{"$f":"(14.7*AM45)/(10.73*(60+460))/0.0764","v":0.67727086593307928},"[-]"]
[null,null,"2.1.2.3   Gas-oil ratio (GOR)",null,null,null,null,null,null,null,null,null,{"$f":"'User Inputs & Results'!J90","v":908},{"$f":"'User Inputs & Results'!K90","v":908},"scf/bbl"]
[null,null,"2.1.2.4   Fraction of remaining gas to reinjection",null,null,null,null,null,null,null,null,{"$f":"IF(AND(AND(M20=1,M186=1),NOT(M49=100)),\"ERROR\",\"OK\")","v":"OK"},{"$f":"IF('User Inputs & Results'!J97=-1,0,'User Inputs & Results'!J97*100)","v":0},{"$f":"'User Inputs & Results'!K97*100","v":0},"%"]
[]
[null,"2.1.3   Produced water"]
[null,null,"2.1.3.1   Water cut (WOR)",null,null,null,null,null,null,null,null,null,{"$f":"'User Inputs & Results'!J91","v":4.3083690574453417},{"$f":"'User Inputs & Results'!K91","v":4.3083690574453417},"bbl water/bbl oil"]
[null,null,"2.1.3.2   Concentration of dissolved solids (TDS)",null,null,null,null,null,null,null,null,null,5000,5000,"mg/L",null,null,null,"Vlasopoulos et al. (2006)"]
[null,null,"2.1.3.3   Water specific gravity",null,null,null,null,null,null,null,null,null,{"$f":"1+M53*0.695*10^-6","v":1.0034749999999999},{"$f":"1+N53*0.695*10^-6","v":1.0034749999999999},"[-]",null,null,null,"Fanchi, J.R. (2007), p.-490"]
[null,null,"2.1.3.4   Density of water at standard conditions",null,null,null,null,null,null,null,null,null,{"$f":"M54*62.4","v":62.616839999999989},{"$f":"N54*62.4","v":62.616839999999989},"lbm/ft3"]
[null,null,"2.1.3.5   Fraction of water to reinjection/flooding",null,null,null,null,null,null,null,null,{"$f":"IF(AND(M18=1,NOT(M56=100)),\"ERROR\",\"OK\")","v":"OK"},{"$f":"'User Inputs & Results'!J98*100","v":100},{"$f":"'User Inputs & Results'!K98*100","v":100},"%"]
[]
[null,"2.1.4   Well description"]
[null,null,"2.1.4.1   Average reservoir pressure",null,null,null,null,null,null,null,null,null,{"$f":"'User Inputs & Results'!J75","v":1556.6},{"$f":"'User Inputs & Results'!K75","v":1556.6},"psi"]
[null,null,"2.1.4.2   Well completion"]
[null,null,null,"2.1.4.2.1   Depth",null,null,null,null,null,null,null,null,{"$f":"'User Inputs & Results'!J69","v":7240},{"$f":"'User Inputs & Results'!K69","v":7240},"ft"]
[null,null,null,"2.1.4.2.2   Diameter",null,null,null,null,null,null,null,null,{"$f":"'User Inputs & Results'!J73","v":2.7749999999999999},{"$f":"'User Inputs & Results'!K73","v":2.7749999999999999},"in"]
[null,null,"2.1.4.3   Well head pressure",null,null,null,null,null,null,null,null,null,1000,1000,"psi",null,null,null,"Manning, F., and Thompson, R. (1991)"]
[null,null,"2.1.4.4   Number of producing wells",null,null,null,null,null,null,null,null,{"$f":"IF(M64>0,\"OK\",\"ERROR\")","v":"OK"},{"$f":"'User Inputs & Results'!J71","v":8},{"$f":"'User Inputs & Results'!K71","v":8},"[-]"]
[null,null,"2.1.4.5   Number of water injecting wells",null,null,null,null,null,null,null,null,null,{"$f":"'User Inputs & Results'!J72","v":5},{"$f":"'User Inputs & Results'!K72","v":5},"[-]"]
[null,null,"2.1.4.6   Productivity index",null,null,null,null,null,null,null,null,{"$f":"IF((M59-((M35+M35*M52)/M64)/M66)>=0,\"OK\",\"ERROR\")","v":"OK"},{"$f":"'User Inputs & Results'!J74","v":3},{"$f":"'User Inputs & Results'!K74","v":3},"bbl/psi-d"]
[null,null,"2.1.4.7   Injectivity index",null,null,null,null,null,null,null,null,null,{"$f":"N67","v":3},{"$f":"M66","v":3},"bbl/psi-d"]
[null,null,"2.1.4.8   Friction factor",null,null,null,null,null,null,null,null,null,0.02,0.02,"[-]"]
[]
["2.2   Downhole pump"]
[null,"2.2.1   Pump efficiency",null,null,null,null,null,null,null,null,null,null,65,65,"%"]
[null,"2.2.2   Prime mover type",null,null,null,null,null,null,null,null,null,null,1,1,"NA"]
[null,null,"1=","Natural gas engine"]
[null,null,"2=","Electric motor"]
[null,null,"3=","Diesel-fired engine"]
[null,null,"4=","NG-fired turbine"]
[null,"2.2.3   NG fuel type",null,null,null,null,null,null,null,null,null,null,1,1,"NA"]
[null,null,"1=","Natural gas"]
[null,null,"2=","NGL (butane or propane)"]
[null,null,"3=","Not applicable"]
[null,"2.2.4   Prime mover fuel use"]
[null,null,"2.2.4.1   Natural gas engine",null,null,null,null,null,null,null,null,null,{"$f":"N82","v":7704.5},{"$f":"IF(M15=0,\"NA\",IF(M229<=Drivers!D10,Drivers!E15,IF(M229<=Drivers!F10,Drivers!G15,IF(M229<=Drivers!H10,Drivers!I15,IF(M229<=Drivers!J10,Drivers!K15,IF(M229<=Drivers!L10,Drivers!M15,IF(M229<=Drivers!N10,Drivers!O15,IF(M229<=Drivers!P10,Drivers!Q15,IF(M229<=Drivers!R10,Drivers!S15,IF(M229<=Drivers!T10,Drivers!U15,IF(M229<=Drivers!V10,Drivers!W15,IF(M229<=Drivers!X10,Drivers!Y15,IF(M229<=Drivers!Z10,Drivers!AA15,Drivers!AC15)))))))))))))","v":7704.5},"Btu/bhp-hr"]
[null,null,"2.2.4.2   Electric motor",null,null,null,null,null,null,null,null,null,{"$f":"N83","v":0.78306874790997782},{"$f":"IF(M15=0,\"NA\",IF(M229<=Drivers!D48,Drivers!E53,IF(M229<=Drivers!F48,Drivers!G53,IF(M229<=Drivers!H48,Drivers!I53,IF(M229<=Drivers!J48,Drivers!K53,IF(M229<=Drivers!L48,Drivers!M53,IF(M229<=Drivers!N48,Drivers!O53,IF(M229<=Drivers!P48,Drivers!Q53,IF(M229<=Drivers!R48,Drivers!S53,IF(M229<=Drivers!T48,Drivers!U53,IF(M229<=Drivers!V48,Drivers!W53,IF(M229<=Drivers!X48,Drivers!Y53,IF(M229<=Drivers!Z48,Drivers!AA53,Drivers!AC53))))))))))))*'Input data'!E50)","v":0.78306874790997782},"kWh/bhp-hr"]
[null,null,"2.2.4.3   Diesel-fired engine",null,null,null,null,null,null,null,null,null,{"$f":"N84","v":7272.6751696065112},{"$f":"IF(M15=0,\"NA\",IF(M229<=Drivers!D36,Drivers!E41,IF(M229<=Drivers!F36,Drivers!G41,IF(M229<=Drivers!H36,Drivers!I41,IF(M229<=Drivers!J36,Drivers!K41,IF(M229<=Drivers!L36,Drivers!M41,IF(M229<=Drivers!N36,Drivers!O41,IF(M229<=Drivers!P36,Drivers!Q41,IF(M229<=Drivers!R36,Drivers!S41,Drivers!U41)))))))))","v":7272.6751696065112},"Btu/bhp-hr"]
[null,null,"2.2.4.4   NG-fired turbine",null,null,null,null,null,null,null,null,null,{"$f":"N85","v":10370},{"$f":"IF(M15=0,\"NA\",IF(M229<=Drivers!D24,Drivers!E29,IF(M229<=Drivers!F24,Drivers!G29,IF(M229<=Drivers!H24,Drivers!I29,IF(M229<=Drivers!J24,Drivers!K29,IF(M229<=Drivers!L24,Drivers!M29,IF(M229<=Drivers!N24,Drivers!O29,IF(M229<=Drivers!P24,Drivers!Q29,IF(M229<=Drivers!R24,Drivers!S29,Drivers!U29)))))))))","v":10370},"Btu/bhp-hr"]
[]
["2.3   Water reinjection pump"]
[null,"2.3.1   Pump efficiency ",null,null,null,null,null,null,null,null,null,null,65,65,"%"]
[null,"2.3.2   Prime mover type",null,null,null,null,null,null,null,null,null,null,1,1,"NA"]
[null,null,"1=","Natural gas engine"]
[null,null,"2=","Electric motor"]
[null,null,"3=","Diesel-fired engine"]
[null,null,"4=","NG-fired turbine"]
[null,"2.3.3   NG fuel type",null,null,null,null,null,null,null,null,null,null,1,1,"NA"]
[null,null,"1=","Natural gas"]
[null,null,"2=","NGL (butane or propane)"]
[null,null,"3=","Not applicable"]
[null,"2.3.4   Prime mover fuel use"]
[null,null,"2.3.4.1   Natural gas engine",null,null,null,null,null,null,null,null,null,{"$f":"N99","v":7704.5},{"$f":"IF(M16=0,\"NA\",IF(M239<=Drivers!D10,Drivers!E15,IF(M239<=Drivers!F10,Drivers!G15,IF(M239<=Drivers!H10,Drivers!I15,IF(M239<=Drivers!J10,Drivers!K15,IF(M239<=Drivers!L10,Drivers!M15,IF(M239<=Drivers!N10,Drivers!O15,IF(M239<=Drivers!P10,Drivers!Q15,IF(M239<=Drivers!R10,Drivers!S15,IF(M239<=Drivers!T10,Drivers!U15,IF(M239<=Drivers!V10,Drivers!W15,IF(M239<=Drivers!X10,Drivers!Y15,IF(M239<=Drivers!Z10,Drivers!AA15,Drivers!AC15)))))))))))))","v":7704.5},"Btu/bhp-hr"]
[null,null,"2.3.4.2   Electric motor",null,null,null,null,null,null,null,null,null,{"$f":"N100","v":0.89053044959213479},{"$f":"IF(M16=0,\"NA\",IF(M239<=Drivers!D48,Drivers!E53,IF(M239<=Drivers!F48,Drivers!G53,IF(M239<=Drivers!H48,Drivers!I53,IF(M239<=Drivers!J48,Drivers!K53,IF(M239<=Drivers!L48,Drivers!M53,IF(M239<=Drivers!N48,Drivers!O53,IF(M239<=Drivers!P48,Drivers!Q53,IF(M239<=Drivers!R48,Drivers!S53,IF(M239<=Drivers!T48,Drivers!U53,IF(M239<=Drivers!V48,Drivers!W53,IF(M239<=Drivers!X48,Drivers!Y53,IF(M239<=Drivers!Z48,Drivers!AA53,Drivers!AC53))))))))))))*'Input data'!E50)","v":0.89053044959213479},"kWh/bhp-hr"]
[null,null,"2.3.4.3   Diesel-fired engine",null,null,null,null,null,null,null,null,null,{"$f":"N101","v":7272.6751696065112},{"$f":"IF(M16=0,\"NA\",IF(M239<=Drivers!D36,Drivers!E41,IF(M239<=Drivers!F36,Drivers!G41,IF(M239<=Drivers!H36,Drivers!I41,IF(M239<=Drivers!J36,Drivers!K41,IF(M239<=Drivers!L36,Drivers!M41,IF(M239<=Drivers!N36,Drivers!O41,IF(M239<=Drivers!P36,Drivers!Q41,IF(M239<=Drivers!R36,Drivers!S41,Drivers!U41)))))))))","v":7272.6751696065112},"Btu/bhp-hr"]
[null,null,"2.3.4.4   NG-fired turbine",null,null,null,null,null,null,null,null,null,{"$f":"N102","v":10370},{"$f":"IF(M16=0,\"NA\",IF(M239<=Drivers!D24,Drivers!E29,IF(M239<=Drivers!F24,Drivers!G29,IF(M239<=Drivers!H24,Drivers!I29,IF(M239<=Drivers!J24,Drivers!K29,IF(M239<=Drivers!L24,Drivers!M29,IF(M239<=Drivers!N24,Drivers!O29,IF(M239<=Drivers!P24,Drivers!Q29,IF(M239<=Drivers!R24,Drivers!S29,Drivers!U29)))))))))","v":10370},"Btu/bhp-hr"]
[]
[null,"2.3.5   Operating pressures"]
[null,null,"2.3.5.1   Suction pressure",null,null,null,null,null,null,null,null,null,0,0,"psi",null,null,null,null,null,null,null,null,null,"Assumed 90% of maximum allowed pressure and 50 psi of friction loss"]
[null,null,"2.3.5.2   Discharge pressure",null,null,null,null,null,null,null,null,null,{"$f":"N106","v":0},{"$f":"IF(M59+M107+M108-0.43*M61>0,M59+M107+M108-0.43*M61,0)","v":0},"psi"]
[null,null,null,"2.3.5.2.1   Friction loss",null,null,null,null,null,null,null,null,{"$f":"((M68*M61*(((M56/100)*'Surface Processing'!R326/M65*('Input data'!E35/(24*60*60))/(3.142*(M62/24)^2))^2))/(2*(M62/12)*32.2))*0.43","v":16.715754206239307},{"$f":"((N68*N61*(((N56/100)*'Surface Processing'!R326/N65*('Input data'!E35/(24*60*60))/(3.142*(N62/24)^2))^2))/(2*(N62/12)*32.2))*0.43","v":16.715754206239307},"psi"]
[null,null,null,"2.3.5.2.2   Differential pressure",null,null,null,null,null,null,null,null,{"$f":"((M56/100)*'Surface Processing'!R326/M65)/M67","v":430.83690574453414},{"$f":"((N56/100)*'Surface Processing'!R326/N65)/N67","v":430.83690574453414},"psi"]
["2.4   Gas reinjection compressor (1-5 stages)"]
[null,"2.4.1   Compressor parameters"]
[null,null,"2.4.1.1   Suction pressure",null,null,null,null,null,null,null,null,null,125,125,"psia"]
[null,null,"2.4.1.2   Discharge pressure",null,null,null,null,null,null,null,null,null,{"$f":"N112","v":2071.2999999999997},{"$f":"M59+500+14.7","v":2071.2999999999997},"psia"]
[null,null,"2.4.1.3   Compression ratio",null,null,null,null,null,null,null,null,null,{"$f":"IF(M17=0,\"NA\",IF(M112/M111<5, M112/M111, IF((M112/M111)^(1/2)<5, (M112/M111)^(1/2), IF((M112/M111)^(1/3)<5, (M112/M111)^(1/3),IF((M112/M111)^(1/4)<5, (M112/M111)^(1/4), (M112/M111)^(1/5))))))","v":4.0706756195992817},{"$f":"IF(M17=0,\"NA\",IF(N112/N111<5, N112/N111, IF((N112/N111)^(1/2)<5, (N112/N111)^(1/2), IF((N112/N111)^(1/3)<5, (N112/N111)^(1/3),IF((N112/N111)^(1/4)<5, (N112/N111)^(1/4), (N112/N111)^(1/5))))))","v":4.0706756195992817},"[-]"]
[null,null,"2.4.1.4   Number of stages",null,null,null,null,null,null,null,null,null,{"$f":"IF(M17=0,\"NA\",IF(M112/M111=M113,1,IF((M112/M111)^(1/2)=M113, 2, IF((M112/M111)^(1/3)=M113,3,IF((M112/M111)^(1/4)=M113,4,5)))))","v":2},{"$f":"IF(M17=0,\"NA\",IF(N112/N111=N113,1,IF((N112/N111)^(1/2)=N113, 2, IF((N112/N111)^(1/3)=N113,3,IF((N112/N111)^(1/4)=N113,4,5)))))","v":2},"[-]"]
[null,null,"2.4.1.5   First stage inlet temperature",null,null,null,null,null,null,null,null,null,196.7,196.7,"◦F"]
[null,null,"2.4.1.6   Second stage inlet temperature",null,null,null,null,null,null,null,null,null,{"$f":"IF(M17=0,\"NA\",IF(M114>1,((((M115+460)*(M113^((M120-1)/M120)))-460)-M115)*0.2+M115,\"NA\"))","v":243.9107003312352},{"$f":"IF(M17=0,\"NA\",IF(N114>1,((((N115+460)*(N113^((N120-1)/N120)))-460)-N115)*0.2+N115,\"NA\"))","v":243.9107003312352},"◦F",null,null,null,"Jarrell, P. M. (2002)",null,null,null,null,null,"Assumed 80% cooling (imperfect cooling); discharge temperature calculated using eq. (5.7), SPE monopgraph volume 22"]
[null,null,"2.4.1.7   Third stage inlet temperature",null,null,null,null,null,null,null,null,null,{"$f":"IF(M17=0,\"NA\",IF(M114>2,((((M116+460)*(M113^((M120-1)/M120)))-460)-M116)*0.2+M116,\"NA\"))","v":"NA"},{"$f":"IF(M17=0,\"NA\",IF(N114>2,((((N116+460)*(N113^((N120-1)/N120)))-460)-N116)*0.2+N116,\"NA\"))","v":"NA"},"◦F"]
[null,null,"2.4.1.8   Fourth stage inlet temperature",null,null,null,null,null,null,null,null,null,{"$f":"IF(M17=0,\"NA\",IF(M114>3,((((M117+460)*(M113^((M120-1)/M120)))-460)-M117)*0.2+M117,\"NA\"))","v":"NA"},{"$f":"IF(M17=0,\"NA\",IF(N114>3,((((N117+460)*(N113^((N120-1)/N120)))-460)-N117)*0.2+N117,\"NA\"))","v":"NA"},"◦F"]
[null,null,"2.4.1.9   Fifth stage inlet temperature",null,null,null,null,null,null,null,null,null,{"$f":"IF(M17=0,\"NA\",IF(M114>4,((((M118+460)*(M113^((M120-1)/M120)))-460)-M118)*0.2+M118,\"NA\"))","v":"NA"},{"$f":"IF(M17=0,\"NA\",IF(N114>4,((((N118+460)*(N113^((N120-1)/N120)))-460)-N118)*0.2+N118,\"NA\"))","v":"NA"},"◦F"]
[null,null,"2.4.1.10   Ratio of specific heats ",null,null,null,null,null,null,null,null,null,1.28,1.28,"[-]",null,null,null,"McAllister, E. W. (2009)",null,null,null,null,null,"Typical Cp/Cv ratios in oil-producing operations: 1.16, 1.28, 1.40"]
[null,null,"2.4.1.11   Compressor efficiency ",null,null,null,null,null,null,null,null,null,75,75,"%"]
[null,"2.4.2   Prime mover"]
[null,null,"2.4.2.1   Prime mover type",null,null,null,null,null,null,null,null,null,2,2,"NA"]
[null,null,null,"1=","Electric motor"]
[null,null,null,"2=","Natural gas engine"]
[null,null,"2.4.2.2   NG fuel type",null,null,null,null,null,null,null,null,null,1,1,"NA"]
[null,null,null,"1=","Natural gas"]
[null,null,null,"2=","NGL (butane or propane)"]
[null,null,null,"3=","Not applicable"]
[null,null,"2.4.2.3   Prime mover fuel use"]
[null,null,null,"2.4.2.3.1   Electric motor",null,null,null,null,null,null,null,null,{"$f":"N131","v":0.89053044959213479},{"$f":"IF(M17=0,\"NA\",IF(M262<=Drivers!D48,Drivers!E53,IF(M262<=Drivers!F48,Drivers!G53,IF(M262<=Drivers!H48,Drivers!I53,IF(M262<=Drivers!J48,Drivers!K53,IF(M262<=Drivers!L48,Drivers!M53,IF(M262<=Drivers!N48,Drivers!O53,IF(M262<=Drivers!P48,Drivers!Q53,IF(M262<=Drivers!R48,Drivers!S53,IF(M262<=Drivers!T48,Drivers!U53,IF(M262<=Drivers!V48,Drivers!W53,IF(M262<=Drivers!X48,Drivers!Y53,IF(M262<=Drivers!Z48,Drivers!AA53,Drivers!AC53))))))))))))*'Input data'!E50)","v":0.89053044959213479},"kWh/bhp-hr"]
[null,null,null,"2.4.2.3.2   Natural gas engine",null,null,null,null,null,null,null,null,{"$f":"N132","v":7704.5},{"$f":"IF(M17=0,\"NA\",IF(M262<=Drivers!D10,Drivers!E15,IF(M262<=Drivers!F10,Drivers!G15,IF(M262<=Drivers!H10,Drivers!I15,IF(M262<=Drivers!J10,Drivers!K15,IF(M262<=Drivers!L10,Drivers!M15,IF(M262<=Drivers!N10,Drivers!O15,IF(M262<=Drivers!P10,Drivers!Q15,IF(M262<=Drivers!R10,Drivers!S15,IF(M262<=Drivers!T10,Drivers!U15,IF(M262<=Drivers!V10,Drivers!W15,IF(M262<=Drivers!X10,Drivers!Y15,IF(M262<=Drivers!Z10,Drivers!AA15,Drivers!AC15)))))))))))))","v":7704.5},"Btu/bhp-hr"]
[]
["2.5   Water flooding"]
[null,"2.5.1   Water injection volume",null,null,null,null,null,null,null,null,null,null,{"$f":"'User Inputs & Results'!J92*M35","v":7962.5535861680128},{"$f":"'User Inputs & Results'!K92*N35","v":7962.5535861680128},"bwpd"]
[null,"2.5.2   Operating pressures",null,null,null,null,null,null,null,null,null,null,null,null,null,null,null,null,null,null,null,null,null,null,"Assumed 90% of maximum allowed pressure and 50 psi of friction loss"]
[null,null,"2.5.2.1   Suction pressure",null,null,null,null,null,null,null,null,null,0,0,"psi"]
[null,null,"2.5.2.2   Discharge pressure",null,null,null,null,null,null,null,null,null,{"$f":"N138","v":0},{"$f":"IF(M59+M139+M140-0.43*M61>0,M59+M139+M140-0.43*M61,0)","v":0},"psi"]
[null,null,null,"2.5.2.2.1   Friction loss",null,null,null,null,null,null,null,null,{"$f":"((M68*M61*(((M135/M65)*('Input data'!E35/(24*60*60))/(3.142*(M62/24)^2))^2))/(2*(M62/12)*32.2))*0.43","v":25.375955160179434},{"$f":"((N68*N61*(((N135/N65)*('Input data'!E35/(24*60*60))/(3.142*(N62/24)^2))^2))/(2*(N62/12)*32.2))*0.43","v":25.375955160179434}]
[null,null,null,"2.5.2.2.2   Differential pressure",null,null,null,null,null,null,null,null,{"$f":"(M135/M65)/M67","v":530.83690574453419},{"$f":"(N135/N65)/N67","v":530.83690574453419}]
[null,"2.5.3   Water flooding injection pump"]
[null,null,"2.5.3.1   Pump efficiency",null,null,null,null,null,null,null,null,null,65,65,"%"]
[null,null,"2.5.3.2   Prime mover type",null,null,null,null,null,null,null,null,null,1,1,"NA"]
[null,null,null,"1=","Natural gas engine"]
[null,null,null,"2=","Electric motor"]
[null,null,null,"3=","Diesel-fired engine"]
[null,null,null,"4=","NG-fired turbine"]
[null,null,"2.5.3.3   NG fuel type",null,null,null,null,null,null,null,null,null,1,1,"NA"]
[null,null,null,"1=","Natural gas"]
[null,null,null,"2=","NGL (butane or propane)"]
[null,null,null,"3=","Not applicable"]
[null,null,"2.5.3.4   Prime mover fuel use"]
[null,null,null,"2.5.3.4.1   Natural gas engine",null,null,null,null,null,null,null,null,{"$f":"N153","v":"NA"},{"$f":"IF(M18=0,\"NA\",IF(M270<=Drivers!D10,Drivers!E15,IF(M270<=Drivers!F10,Drivers!G15,IF(M270<=Drivers!H10,Drivers!I15,IF(M270<=Drivers!J10,Drivers!K15,IF(M270<=Drivers!L10,Drivers!M15,IF(M270<=Drivers!N10,Drivers!O15,IF(M270<=Drivers!P10,Drivers!Q15,IF(M270<=Drivers!R10,Drivers!S15,IF(M270<=Drivers!T10,Drivers!U15,IF(M270<=Drivers!V10,Drivers!W15,IF(M270<=Drivers!X10,Drivers!Y15,IF(M270<=Drivers!Z10,Drivers!AA15,Drivers!AC15)))))))))))))","v":"NA"},"Btu/bhp-hr"]
[null,null,null,"2.5.3.4.2   Electric motor",null,null,null,null,null,null,null,null,{"$f":"N154","v":"NA"},{"$f":"IF(M18=0,\"NA\",IF(M270<=Drivers!D48,Drivers!E53,IF(M270<=Drivers!F48,Drivers!G53,IF(M270<=Drivers!H48,Drivers!I53,IF(M270<=Drivers!J48,Drivers!K53,IF(M270<=Drivers!L48,Drivers!M53,IF(M270<=Drivers!N48,Drivers!O53,IF(M270<=Drivers!P48,Drivers!Q53,IF(M270<=Drivers!R48,Drivers!S53,IF(M270<=Drivers!T48,Drivers!U53,IF(M270<=Drivers!V48,Drivers!W53,IF(M270<=Drivers!X48,Drivers!Y53,IF(M270<=Drivers!Z48,Drivers!AA53,Drivers!AC53))))))))))))*'Input data'!E50)","v":"NA"},"kWh/bhp-hr"]
[null,null,null,"2.5.3.4.3   Diesel-fired engine",null,null,null,null,null,null,null,null,{"$f":"N155","v":"NA"},{"$f":"IF(M18=0,\"NA\",IF(M270<=Drivers!D36,Drivers!E41,IF(M270<=Drivers!F36,Drivers!G41,IF(M270<=Drivers!H36,Drivers!I41,IF(M270<=Drivers!J36,Drivers!K41,IF(M270<=Drivers!L36,Drivers!M41,IF(M270<=Drivers!N36,Drivers!O41,IF(M270<=Drivers!P36,Drivers!Q41,IF(M270<=Drivers!R36,Drivers!S41,Drivers!U41)))))))))","v":"NA"},"Btu/bhp-hr"]
[null,null,null,"2.5.3.4.4   NG-fired turbine",null,null,null,null,null,null,null,null,{"$f":"N156","v":"NA"},{"$f":"IF(M18=0,\"NA\",IF(M270<=Drivers!D24,Drivers!E29,IF(M270<=Drivers!F24,Drivers!G29,IF(M270<=Drivers!H24,Drivers!I29,IF(M270<=Drivers!J24,Drivers!K29,IF(M270<=Drivers!L24,Drivers!M29,IF(M270<=Drivers!N24,Drivers!O29,IF(M270<=Drivers!P24,Drivers!Q29,IF(M270<=Drivers!R24,Drivers!S29,Drivers!U29)))))))))","v":"NA"},"Btu/bhp-hr"]
[]
["2.6   Gas lifting"]
[null,"2.6.1   Gas injection volume",null,null,null,null,null,null,null,null,null,null,{"$f":"IF(M19=1,'User Inputs & Results'!J93*(M35+M52*M35)/1000,\"NA\")","v":"NA"},{"$f":"IF(M19=1,'User Inputs & Results'!K93*(N35+N52*N35)/1000,\"NA\")","v":"NA"},"Mscf/d",null,null,null,"Takacs (2005), p. 269",null,null,null,null,null,"Default for gas lifting injection volume is 1500 scf/bbl liquod"]
[null,"2.6.2   Gas injection compressor (1-5 stages)"]
[null,null,"2.6.2.1   Compressor parameters"]
[null,null,null,"2.6.2.1.1   Suction pressure",null,null,null,null,null,null,null,null,125,125,"psia"]
[null,null,null,"2.6.2.1.2   Discharge pressure",null,null,null,null,null,null,null,null,{"$f":"N163","v":893},{"$f":"(M59/2)+100+14.7","v":893},"psia"]
[null,null,null,"2.6.2.1.3   Compression ratio",null,null,null,null,null,null,null,null,{"$f":"IF(M19=0,\"NA\",IF(M163/M162<5, M163/M162, IF((M163/M162)^(1/2)<5, (M163/M162)^(1/2), IF((M163/M162)^(1/3)<5, (M163/M162)^(1/3),IF((M163/M162)^(1/4)<5, (M163/M162)^(1/4), (M163/M162)^(1/5))))))","v":"NA"},{"$f":"IF(M19=0,\"NA\",IF(N163/N162<5, N163/N162, IF((N163/N162)^(1/2)<5, (N163/N162)^(1/2), IF((N163/N162)^(1/3)<5, (N163/N162)^(1/3),IF((N163/N162)^(1/4)<5, (N163/N162)^(1/4), (N163/N162)^(1/5))))))","v":"NA"},"[-]"]
[null,null,null,"2.6.2.1.4   Number of stages",null,null,null,null,null,null,null,null,{"$f":"IF(M19=0,\"NA\",IF(M163/M162=M164,1,IF((M163/M162)^(1/2)=M164, 2, IF((M163/M162)^(1/3)=M164,3,IF((M163/M162)^(1/4)=M164,4,5)))))","v":"NA"},{"$f":"IF(M19=0,\"NA\",IF(N163/N162=N164,1,IF((N163/N162)^(1/2)=N164, 2, IF((N163/N162)^(1/3)=N164,3,IF((N163/N162)^(1/4)=N164,4,5)))))","v":"NA"},"[-]"]
[null,null,null,"2.6.2.1.5   First stage inlet temperature",null,null,null,null,null,null,null,null,196.7,196.7,"◦F"]
[null,null,null,"2.6.2.1.6   Second stage inlet temperature",null,null,null,null,null,null,null,null,{"$f":"IF(M19=0,\"NA\",IF(M165>1,((((M166+460)*(M164^((M171-1)/M171)))-460)-M166)*0.2+M166,\"NA\"))","v":"NA"},{"$f":"IF(M19=0,\"NA\",IF(N165>1,((((N166+460)*(M164^((M171-1)/M171)))-460)-N166)*0.2+N166,\"NA\"))","v":"NA"},"◦F"]
[null,null,null,"2.6.2.1.7   Third stage inlet temperature",null,null,null,null,null,null,null,null,{"$f":"IF(M19=0,\"NA\",IF(M165>2,((((M167+460)*(M164^((M171-1)/M171)))-460)-M167)*0.2+M167,\"NA\"))","v":"NA"},{"$f":"IF(M19=0,\"NA\",IF(N165>2,((((N167+460)*(N164^((N171-1)/N171)))-460)-N167)*0.2+N167,\"NA\"))","v":"NA"},"◦F"]
[null,null,null,"2.6.2.1.8   Fourth stage inlet temperature",null,null,null,null,null,null,null,null,{"$f":"IF(M19=0,\"NA\",IF(M165>3,((((M168+460)*(M164^((M171-1)/M171)))-460)-M168)*0.2+M168,\"NA\"))","v":"NA"},{"$f":"IF(M19=0,\"NA\",IF(N165>3,((((N168+460)*(N164^((N171-1)/N171)))-460)-N168)*0.2+N168,\"NA\"))","v":"NA"},"◦F"]
[null,null,null,"2.6.2.1.9   Fifth stage inlet temperature",null,null,null,null,null,null,null,null,{"$f":"IF(M19=0,\"NA\",IF(M165>4,((((M169+460)*(M164^((M171-1)/M171)))-460)-M169)*0.2+M169,\"NA\"))","v":"NA"},{"$f":"IF(M19=0,\"NA\",IF(N165>4,((((N169+460)*(N164^((N171-1)/N171)))-460)-N169)*0.2+N169,\"NA\"))","v":"NA"},"◦F"]
[null,null,null,"2.6.2.1.10   Ratio of specific heats",null,null,null,null,null,null,null,null,1.28,1.28,"[-]",null,null,null,"McAllister, E. W. (2009)",null,null,null,null,null,"Typical Cp/Cv ratios in oil-producing operations: 1.16, 1.28, 1.40"]
[null,null,null,"2.6.2.1.11   Compressor efficiency",null,null,null,null,null,null,null,null,75,75,"%"]
[null,"2.6.3   Prime mover"]
[null,null,"2.6.3.1   Prime mover type",null,null,null,null,null,null,null,null,null,2,2,"NA"]
[null,null,null,"1=","Electric motor"]
[null,null,null,"2=","Natural gas engine"]
[null,null,"2.6.3.2   NG fuel type",null,null,null,null,null,null,null,null,null,1,1,"NA"]
[null,null,null,"1=","Natural gas"]
[null,null,null,"2=","NGL (butane or propane)"]
[null,null,null,"3=","Not applicable"]
[null,null,"2.6.3.3   Prime mover fuel use"]
[null,null,null,"2.6.3.3.1   Electric motor",null,null,null,null,null,null,null,null,{"$f":"N182","v":"NA"},{"$f":"IF(M19=0,\"NA\",IF(M293<=Drivers!D48,Drivers!E53,IF(M293<=Drivers!F48,Drivers!G53,IF(M293<=Drivers!H48,Drivers!I53,IF(M293<=Drivers!J48,Drivers!K53,IF(M293<=Drivers!L48,Drivers!M53,IF(M293<=Drivers!N48,Drivers!O53,IF(M293<=Drivers!P48,Drivers!Q53,IF(M293<=Drivers!R48,Drivers!S53,IF(M293<=Drivers!T48,Drivers!U53,IF(M293<=Drivers!V48,Drivers!W53,IF(M293<=Drivers!X48,Drivers!Y53,IF(M293<=Drivers!Z48,Drivers!AA53,Drivers!AC53))))))))))))*'Input data'!E50)","v":"NA"},"kWh/bhp-hr"]
[null,null,null,"2.6.3.3.2   Natural gas engine",null,null,null,null,null,null,null,null,{"$f":"N183","v":"NA"},{"$f":"IF(M19=0,\"NA\",IF(M293<=Drivers!D10,Drivers!E15,IF(M293<=Drivers!F10,Drivers!G15,IF(M293<=Drivers!H10,Drivers!I15,IF(M293<=Drivers!J10,Drivers!K15,IF(M293<=Drivers!L10,Drivers!M15,IF(M293<=Drivers!N10,Drivers!O15,IF(M293<=Drivers!P10,Drivers!Q15,IF(M293<=Drivers!R10,Drivers!S15,IF(M293<=Drivers!T10,Drivers!U15,IF(M293<=Drivers!V10,Drivers!W15,IF(M293<=Drivers!X10,Drivers!Y15,IF(M293<=Drivers!Z10,Drivers!AA15,Drivers!AC15)))))))))))))","v":"NA"},"Btu/bhp-hr"]
[]
["2.7   Gas flooding"]
[null,"2.7.1   Type of gas flooded",null,null,null,null,null,null,null,null,null,null,1,1,"NA"]
[null,null,"1= Natural gas"]
[null,null,"2= Nitrogen (N2)"]
[null,"2.7.2   Gas injection volume",null,null,null,null,null,null,null,null,null,null,{"$f":"IF(M20=1,'User Inputs & Results'!J94*M35/1000,\"NA\")","v":"NA"},{"$f":"IF(M20=1,IF(M186=1,'User Inputs & Results'!K94*N35/1000,1200*N35/1000),\"NA\")","v":"NA"},"Mscf/d",null,null,null,"Kuo, J. C. et al. (2001)",null,null,null,null,null,"Default of N2 injection volume is 1200 scf/bbl oil (Cantarell field in Mexico) <http://www.bechtel.com/assets/files/PDF/BHTSWebsite/cantarell2.pdf>"]
[null,"2.7.3   Air separation unit (cryogenic N2 gas production)"]
[null,null,"2.7.3.1   Electricity consumption",null,null,null,null,null,null,null,null,{"$f":"IF(AND(M186=1,M191>0),\"ERROR\",\"OK\")","v":"OK"},0,0,"kWh/scf"]
[null,"2.7.4   Gas injection compressor (1-5 stages)"]
[null,null,"2.7.4.1   Compressor parameters"]
[null,null,null,"2.7.4.1.1   Suction pressure",null,null,null,null,null,null,null,null,125,125,"psia"]
[null,null,null,"2.7.4.1.2   Discharge pressure",null,null,null,null,null,null,null,null,{"$f":"N195","v":2071.2999999999997},{"$f":"M59+500+14.7","v":2071.2999999999997},"psia"]
[null,null,null,"2.7.4.1.3   Compression ratio",null,null,null,null,null,null,null,null,{"$f":"IF(M20=0,\"NA\",IF(M195/M194<5, M195/M194, IF((M195/M194)^(1/2)<5, (M195/M194)^(1/2), IF((M195/M194)^(1/3)<5, (M195/M194)^(1/3),IF((M195/M194)^(1/4)<5, (M195/M194)^(1/4), (M195/M194)^(1/5))))))","v":"NA"},{"$f":"IF(M20=0,\"NA\",IF(N195/N194<5, N195/N194, IF((N195/N194)^(1/2)<5, (N195/N194)^(1/2), IF((N195/N194)^(1/3)<5, (N195/N194)^(1/3),IF((N195/N194)^(1/4)<5, (N195/N194)^(1/4), (N195/N194)^(1/5))))))","v":"NA"},"[-]"]
[null,null,null,"2.7.4.1.4   Number of stages",null,null,null,null,null,null,null,null,{"$f":"IF(M20=0,\"NA\",IF(M195/M194=M196,1,IF((M195/M194)^(1/2)=M196, 2, IF((M195/M194)^(1/3)=M196,3,IF((M195/M194)^(1/4)=M196,4,5)))))","v":"NA"},{"$f":"IF(M20=0,\"NA\",IF(N195/N194=N196,1,IF((N195/N194)^(1/2)=N196, 2, IF((N195/N194)^(1/3)=N196,3,IF((N195/N194)^(1/4)=N196,4,5)))))","v":"NA"},"[-]"]
[null,null,null,"2.7.4.1.5   First stage inlet temperature",null,null,null,null,null,null,null,null,196.7,196.7,"◦F"]
[null,null,null,"2.7.4.1.6   Second stage inlet temperature",null,null,null,null,null,null,null,null,{"$f":"IF(M20=0,\"NA\",IF(M197>1,((((M198+460)*(M196^((M203-1)/M203)))-460)-M198)*0.2+M198,\"NA\"))","v":"NA"},{"$f":"IF(M20=0,\"NA\",IF(N197>1,((((N198+460)*(N196^((N203-1)/N203)))-460)-N198)*0.2+N198,\"NA\"))","v":"NA"},"◦F"]
[null,null,null,"2.7.4.1.7   Third stage inlet temperature",null,null,null,null,null,null,null,null,{"$f":"IF(M20=0,\"NA\",IF(M197>2,((((M199+460)*(M196^((M203-1)/M203)))-460)-M199)*0.2+M199,\"NA\"))","v":"NA"},{"$f":"IF(M20=0,\"NA\",IF(N197>2,((((N199+460)*(N196^((N203-1)/N203)))-460)-N199)*0.2+N199,\"NA\"))","v":"NA"},"◦F"]
[null,null,null,"2.7.4.1.8   Fourth stage inlet temperature",null,null,null,null,null,null,null,null,{"$f":"IF(M20=0,\"NA\",IF(M197>3,((((M200+460)*(M196^((M203-1)/M203)))-460)-M200)*0.2+M200,\"NA\"))","v":"NA"},{"$f":"IF(M20=0,\"NA\",IF(N197>3,((((N200+460)*(N196^((N203-1)/N203)))-460)-N200)*0.2+N200,\"NA\"))","v":"NA"},"◦F"]
[null,null,null,"2.7.4.1.9   Fifth stage inlet temperature",null,null,null,null,null,null,null,null,{"$f":"IF(M20=0,\"NA\",IF(M197>4,((((M201+460)*(M196^((M203-1)/M203)))-460)-M201)*0.2+M201,\"NA\"))","v":"NA"},{"$f":"IF(M20=0,\"NA\",IF(N197>4,((((N201+460)*(N196^((N203-1)/N203)))-460)-N201)*0.2+N201,\"NA\"))","v":"NA"},"◦F"]
[null,null,null,"2.7.4.1.10   Ratio of specific heats",null,null,null,null,null,null,null,{"$f":"IF(AND(AND(M20=1,M186=2),NOT(M203=1.4)),\"ERROR\",\"OK\")","v":"OK"},{"$f":"N203","v":1.28},{"$f":"IF(M186=1,1.28,1.4)","v":1.28},"[-]",null,null,null,"McAllister, E. W. (2009)",null,null,null,null,null,"Typical Cp/Cv ratios in oil-producing operations: 1.16, 1.28, 1.40"]
[null,null,null,"2.7.4.1.11   Compressor efficiency",null,null,null,null,null,null,null,null,75,75,"%"]
[null,"2.7.5   Prime mover"]
[null,null,"2.7.5.1   Prime mover type",null,null,null,null,null,null,null,null,null,2,2,"NA"]
[null,null,null,"1=","Electric motor"]
[null,null,null,"2=","Natural gas engine"]
[null,null,"2.7.5.2   NG fuel type",null,null,null,null,null,null,null,null,null,1,1,"NA"]
[null,null,null,"1=","Natural gas"]
[null,null,null,"2=","NGL (butane or propane)"]
[null,null,null,"3=","Not applicable"]
[null,null,"2.7.5.3   Prime mover fuel use"]
[null,null,null,"2.7.5.3.1   Electric motor",null,null,null,null,null,null,null,null,{"$f":"N214","v":"NA"},{"$f":"IF(M20=0,\"NA\",IF(M314<=Drivers!D48,Drivers!E53,IF(M314<=Drivers!F48,Drivers!G53,IF(M314<=Drivers!H48,Drivers!I53,IF(M314<=Drivers!J48,Drivers!K53,IF(M314<=Drivers!L48,Drivers!M53,IF(M314<=Drivers!N48,Drivers!O53,IF(M314<=Drivers!P48,Drivers!Q53,IF(M314<=Drivers!R48,Drivers!S53,IF(M314<=Drivers!T48,Drivers!U53,IF(M314<=Drivers!V48,Drivers!W53,IF(M314<=Drivers!X48,Drivers!Y53,IF(M314<=Drivers!Z48,Drivers!AA53,Drivers!AC53))))))))))))*'Input data'!E50)","v":"NA"},"kWh/bhp-hr"]
[null,null,null,"2.7.5.3.2   Natural gas engine",null,null,null,null,null,null,null,null,{"$f":"N215","v":"NA"},{"$f":"IF(M20=0,\"NA\",IF(M314<=Drivers!D10,Drivers!E15,IF(M314<=Drivers!F10,Drivers!G15,IF(M314<=Drivers!H10,Drivers!I15,IF(M314<=Drivers!J10,Drivers!K15,IF(M314<=Drivers!L10,Drivers!M15,IF(M314<=Drivers!N10,Drivers!O15,IF(M314<=Drivers!P10,Drivers!Q15,IF(M314<=Drivers!R10,Drivers!S15,IF(M314<=Drivers!T10,Drivers!U15,IF(M314<=Drivers!V10,Drivers!W15,IF(M314<=Drivers!X10,Drivers!Y15,IF(M314<=Drivers!Z10,Drivers!AA15,Drivers!AC15)))))))))))))","v":"NA"},"Btu/bhp-hr"]
[]
["2.8   Steam injection"]
[null,"2.8.1   Steam oil ratio (SOR)",null,null,null,null,null,null,null,null,null,null,{"$f":"IF(M21=0,3,'User Inputs & Results'!J95)","v":3},{"$f":"IF(N21=0,3,'User Inputs & Results'!K95)","v":3},"bbl steam/bbl oil"]
[null,"2.8.2   Steam injection rate",null,null,null,null,null,null,null,null,null,null,{"$f":"M218*M35","v":4500},{"$f":"N218*N35","v":4500},"bbl CWE/d"]
[]
["3 Calculations"]
[]
[null,null,null,null,null,null,null,null,null,null,null,null,"Value","Unit",null,"Notes",null,null,null,null,null,null,null,null,null,null,null,null,null,null,null,null,null,null,null,null,null,null,null,null,null,null,null,null,"Reference"]
["3.1   Downhole pump"]
[null,"3.1.1   Pressure traverse",null,null,null,null,null,null,null,null,null,null,{"$f":"SUM(M226:M227)","v":3070.8278985606171},"psi"]
[null,null,"3.1.1.1   Elevation component",null,null,null,null,null,null,null,null,null,{"$f":"M61*((M33*1/(M52+1)+1*M52/(M52+1))/2.31)","v":3061.0813627160251},"psi"]
[null,null,"3.1.1.2   Friction component",null,null,null,null,null,null,null,null,null,{"$f":"((M68*M61*((((1+M52)*M35/M64)*('Input data'!E35/(24*60*60))/(3.142*(M62/24)^2))^2))/(2*(M62/12)*32.2))*((M33*1/(M52+1)+1*M52/(M52+1))/2.31)","v":9.7465358445920316},"psi"]
[null,"3.1.2   Pressure for lifting",null,null,null,null,null,null,null,null,null,null,{"$f":"IF(((M63+M225)-(M59-(1+M52)*(M35/M64)/M66))<0,0,((M63+M225)-(M59-(1+M52)*(M35/M64)/M66)))","v":2846.0009646509511},"psi"]
[null,"3.1.3   Brake horse power (BHP)",null,null,null,null,null,null,null,null,null,null,{"$f":"IF(M15=0,\"NA\",1.05*(M230*M228*1.701*10^-5)/(M231/100))","v":77.835492915983082},"bhp",null,null,null,null,null,null,null,null,null,null,null,null,null,null,null,null,null,null,null,null,null,null,null,null,null,null,null,null,null,null,"Rose et al., p.27, eq. (5.2)"]
[null,null,"3.1.3.1   Liquid flow rate",null,null,null,null,null,null,null,null,null,{"$f":"IF(M15=0,\"NA\",M35/M64+M52*M35/M64)","v":995.3191982710016},"bpd"]
[null,null,"3.1.3.2   Pump efficiency",null,null,null,null,null,null,null,null,null,{"$f":"IF(M15=0,\"NA\",M71)","v":65},"%"]
[null,"3.1.4   Energy consumption"]
[null,null,"3.1.4.1   Prime mover fuel use",null,null,null,null,null,null,null,null,null,{"$f":"IF(M15=0,0,IF(M72=1,M82,IF(M72=2,M83,IF(M72=3,M84,M85))))","v":7704.5},{"$f":"IF(M72=2,\"kWh/bhp-hr\",\"Btu/bhp-hr\")","v":"Btu/bhp-hr"}]
[null,null,"3.1.4.2   Prime mover fuel usage per day of operation",null,null,null,null,null,null,null,null,null,{"$f":"IF(M72=2,M233*24,M233*24/1000000)","v":0.18490799999999999},{"$f":"IF(M72=2,\"kWh/bhp-d\",\"MMBtu/bhp-d\")","v":"MMBtu/bhp-d"}]
[null,null,"3.1.4.3   Total fuel use (for N number of producing wells)",null,null,null,null,null,null,null,null,null,{"$f":"IF(M15=0,0,M234*M229)*M64","v":115.1392425928688},{"$f":"IF(M72=2,\"kWh/d\",\"MMBtu/d\")","v":"MMBtu/d"}]
[]
["3.2   Water reinjection pump"]
[null,"3.2.1   Pumping pressure",null,null,null,null,null,null,null,null,null,null,{"$f":"IF(M16=0,\"NA\",M106-M105)","v":0},"psia"]
[null,"3.2.2   Brake horse power (BHP)",null,null,null,null,null,null,null,null,null,null,{"$f":"IF(M16=0,\"NA\",(1.05*M240*M238*1.701*10^-5)/(M241/100))","v":0},"bhp"]
[null,null,"3.2.2.1   Water flow rate",null,null,null,null,null,null,null,null,null,{"$f":"IF(M16=0,\"NA\",(M56/100)*'Surface Processing'!R326/M65)","v":1292.5107172336025},"bwpd"]
[null,null,"3.2.2.2   Pump efficiency",null,null,null,null,null,null,null,null,null,{"$f":"IF(M16=0,\"NA\",M88)","v":65},"%"]
[null,"3.2.3   Energy consumption"]
[null,null,"3.2.3.1   Prime mover fuel use",null,null,null,null,null,null,null,null,null,{"$f":"IF(M16=0,0,IF(M89=1,M99,IF(M89=2,M100,IF(M89=3,M101,M102))))","v":7704.5},{"$f":"IF(M89=2,\"kWh/bhp-hr\",\"Btu/bhp-hr\")","v":"Btu/bhp-hr"}]
[null,null,"3.2.3.2   Prime mover fuel usage per day of operation",null,null,null,null,null,null,null,null,null,{"$f":"IF(M89=2,M243*24,M243*24/1000000)","v":0.18490799999999999},{"$f":"IF(M89=2,\"kWh/bhp-d\",\"MMBtu/bhp-d\")","v":"MMBtu/bhp-d"}]
[null,null,"3.2.3.3   Total fuel use (for N number of injecting wells)",null,null,null,null,null,null,null,null,null,{"$f":"IF(M16=0,0,M244*M239*M65)","v":0},{"$f":"IF(M89=2,\"kWh/d\",\"MMBtu/d\")","v":"MMBtu/d"}]
[]
["3.3   Gas reinjection compressor"]
[null,"3.3.1   Discharge pressure"]
[null,null,"3.3.1.1   Stage 1",null,null,null,null,null,null,null,null,null,{"$f":"IF(M17=0,\"NA\",M111*M113)","v":508.8344524499102},"psia"]
[null,null,"3.3.1.2   Stage 2",null,null,null,null,null,null,null,null,null,{"$f":"IF(M17=0,\"NA\",IF(M114>1,M249*M113,\"NA\"))","v":2071.2999999999993},"psia"]
[null,null,"3.3.1.3   Stage 3",null,null,null,null,null,null,null,null,null,{"$f":"IF(M17=0,\"NA\",IF(M114>2,M250*M113,\"NA\"))","v":"NA"},"psia"]
[null,null,"3.3.1.4   Stage 4",null,null,null,null,null,null,null,null,null,{"$f":"IF(M17=0,\"NA\",IF(M114>3,M251*M113,\"NA\"))","v":"NA"},"psia"]
[null,null,"3.3.1.5   Stage 5",null,null,null,null,null,null,null,null,null,{"$f":"IF(M17=0,\"NA\",IF(M114>4,M252*M113,\"NA\"))","v":"NA"},"psia"]
[null,"3.3.2   Adiabatic work of compression"]
[null,null,"3.3.2.1   Stage 1",null,null,null,null,null,null,null,null,null,{"$f":"IF(M17=0,\"NA\",(M120/(M120-1))*(3.027*14.7/(60+460))*(M115+460)*(M113^((M120-1)/M120)-1))","v":92.339771937096259},"hp/MMscf/d"]
[null,null,"3.3.2.2   Stage 2",null,null,null,null,null,null,null,null,null,{"$f":"IF(M17=0,\"NA\",IF(M114>1,(M120/(M120-1))*(3.027*14.7/(60+460))*(M116+460)*(M113^((M120-1)/M120)-1),\"NA\"))","v":98.978153696768615},"hp/MMscf/d"]
[null,null,"3.3.2.3   Stage 3",null,null,null,null,null,null,null,null,null,{"$f":"IF(M17=0,\"NA\",IF(M114>2,(M120/(M120-1))*(3.027*14.7/(60+460))*(M117+460)*(M113^((M120-1)/M120)-1),\"NA\"))","v":"NA"},"hp/MMscf/d"]
[null,null,"3.3.2.4   Stage 4",null,null,null,null,null,null,null,null,null,{"$f":"IF(M17=0,\"NA\",IF(M114>3,(M120/(M120-1))*(3.027*14.7/(60+460))*(M118+460)*(M113^((M120-1)/M120)-1),\"NA\"))","v":"NA"},"hp/MMscf/d"]
[null,null,"3.3.2.5   Stage 5",null,null,null,null,null,null,null,null,null,{"$f":"IF(M17=0,\"NA\",IF(M114>4,(M120/(M120-1))*(3.027*14.7/(60+460))*(M119+460)*(M113^((M120-1)/M120)-1),\"NA\"))","v":"NA"},"hp/MMscf/d"]
[null,"3.3.3   Total adabiatic work of compression",null,null,null,null,null,null,null,null,null,null,{"$f":"IF(M17=0,\"NA\",IF(M114=1,M255,IF(M114=2,M255+M256,IF(M114=3,SUM(M255:M257),IF(M114=4,SUM(M255:M258),SUM(M255:M259))))))","v":191.31792563386489},"hp/MMscf/d"]
[null,"3.3.4   Output horsepower from compressor",null,null,null,null,null,null,null,null,null,null,{"$f":"IF(M17=0,\"NA\",M260*'Gas Balance'!AL32)","v":0},"hp"]
[null,"3.3.5   Brake horse power (BHP)",null,null,null,null,null,null,null,null,null,null,{"$f":"IF(M17=0,\"NA\",M261/(M121/100))","v":0},"bhp"]
[null,"3.3.6   Energy consumption"]
[null,null,"3.3.6.1   Prime mover fuel use",null,null,null,null,null,null,null,null,null,{"$f":"IF(M17=0,0,IF(M123=1,M131,M132))","v":7704.5},{"$f":"IF(M123=1,\"kWh/bhp-hr\",\"Btu/bhp-hr\")","v":"Btu/bhp-hr"}]
[null,null,"3.3.6.2   Prime mover fuel usage per day of operation",null,null,null,null,null,null,null,null,null,{"$f":"IF(M17=0,0,IF(M123=1,M264*24,M264*24/1000000))","v":0.18490799999999999},{"$f":"IF(M123=1,\"kWh/bhp-d\",\"MMBtu/bhp-d\")","v":"MMBtu/bhp-d"}]
[null,null,"3.3.6.3   Total fuel use",null,null,null,null,null,null,null,null,null,{"$f":"IF(M17=0,0,M265*M262)","v":0},{"$f":"IF(M123=1,\"kWh/d\",\"MMBtu/d\")","v":"MMBtu/d"}]
[]
["3.4   Water flooding pump"]
[null,"3.4.1   Pumping pressure",null,null,null,null,null,null,null,null,null,null,{"$f":"IF(M18=0,\"NA\",M138-M137)","v":"NA"},"psia"]
[null,"3.4.2   Brake horse power (BHP)",null,null,null,null,null,null,null,null,null,null,{"$f":"IF(M18=0,\"NA\",(1.05*M271*M269*1.701*10^-5)/(M272/100))","v":"NA"},"bhp"]
[null,null,"3.4.2.1   Water flow rate",null,null,null,null,null,null,null,null,null,{"$f":"IF(M18=0,\"NA\",M135/M65)","v":"NA"},"bwpd"]
[null,null,"3.4.2.2   Pump efficiency",null,null,null,null,null,null,null,null,null,{"$f":"IF(M18=0,\"NA\",M142)","v":"NA"},"%"]
[null,"3.4.3   Energy consumption"]
[null,null,"3.4.3.1   Prime mover fuel use",null,null,null,null,null,null,null,null,null,{"$f":"IF(M18=0,0,IF(M143=1,M153,IF(M143=2,M154,IF(M143=3,M155,M156))))","v":0},{"$f":"IF(M143=2,\"kWh/bhp-hr\",\"Btu/bhp-hr\")","v":"Btu/bhp-hr"}]
[null,null,"3.4.3.2   Prime mover fuel usage per day of operation",null,null,null,null,null,null,null,null,null,{"$f":"IF(M143=2,M274*24,M274*24/1000000)","v":0},{"$f":"IF(M143=2,\"kWh/bhp-d\",\"MMBtu/bhp-d\")","v":"MMBtu/bhp-d"}]
[null,null,"3.4.3.3   Total fuel use (for N number of injecting wells)",null,null,null,null,null,null,null,null,null,{"$f":"IF(M18=0,0,M275*M270*M65)","v":0},{"$f":"IF(M143=2,\"kWh/d\",\"MMBtu/d\")","v":"MMBtu/d"}]
[]
["3.5   Gas lifting compressor"]
[null,"3.5.1   Discharge pressure"]
[null,null,"3.5.1.1   Stage 1",null,null,null,null,null,null,null,null,null,{"$f":"IF(M19=0,\"NA\",M162*M164)","v":"NA"},"psia"]
[null,null,"3.5.1.2   Stage 2",null,null,null,null,null,null,null,null,null,{"$f":"IF(M19=0,\"NA\",IF(M165>1,M280*M164,\"NA\"))","v":"NA"},"psia"]
[null,null,"3.5.1.3   Stage 3",null,null,null,null,null,null,null,null,null,{"$f":"IF(M19=0,\"NA\",IF(M165>2,M281*M164,\"NA\"))","v":"NA"},"psia"]
[null,null,"3.5.1.4   Stage 4",null,null,null,null,null,null,null,null,null,{"$f":"IF(M19=0,\"NA\",IF(M165>3,M282*M164,\"NA\"))","v":"NA"},"psia"]
[null,null,"3.5.1.5   Stage 5",null,null,null,null,null,null,null,null,null,{"$f":"IF(M19=0,\"NA\",IF(M165>4,M283*M164,\"NA\"))","v":"NA"},"psia"]
[null,"3.5.2   Adiabatic work of compression"]
[null,null,"3.5.2.1   Stage 1",null,null,null,null,null,null,null,null,null,{"$f":"IF(M19=0,\"NA\",(M171/(M171-1))*(3.027*14.7/(60+460))*(M166+460)*(M164^((M171-1)/M171)-1))","v":"NA"},"hp/MMscf/d"]
[null,null,"3.5.2.2   Stage 2",null,null,null,null,null,null,null,null,null,{"$f":"IF(M19=0,\"NA\",IF(M165>1,(M171/(M171-1))*(3.027*14.7/(60+460))*(M167+460)*(M164^((M171-1)/M171)-1),\"NA\"))","v":"NA"},"hp/MMscf/d"]
[null,null,"3.5.2.3   Stage 3",null,null,null,null,null,null,null,null,null,{"$f":"IF(M19=0,\"NA\",IF(M165>2,(M171/(M171-1))*(3.027*14.7/(60+460))*(M168+460)*(M164^((M171-1)/M171)-1),\"NA\"))","v":"NA"},"hp/MMscf/d"]
[null,null,"3.5.2.4   Stage 4",null,null,null,null,null,null,null,null,null,{"$f":"IF(M19=0,\"NA\",IF(M165>3,(M171/(M171-1))*(3.027*14.7/(60+460))*(M169+460)*(M164^((M171-1)/M171)-1),\"NA\"))","v":"NA"},"hp/MMscf/d"]
[null,null,"3.3.2.5   Stage 5",null,null,null,null,null,null,null,null,null,{"$f":"IF(M19=0,\"NA\",IF(M165>4,(M171/(M171-1))*(3.027*14.7/(60+460))*(M170+460)*(M164^((M171-1)/M171)-1),\"NA\"))","v":"NA"},"hp/MMscf/d"]
[null,"3.5.3   Total adabiatic work of compression",null,null,null,null,null,null,null,null,null,null,{"$f":"IF(M19=0,\"NA\",IF(M165=1,M286,IF(M165=2,M286+M287,IF(M165=3,SUM(M286:M288),IF(M165=4,SUM(M286:M289),SUM(M286:M290))))))","v":"NA"},"hp/MMscf/d"]
[null,"3.5.4   Output horsepower from compressor",null,null,null,null,null,null,null,null,null,null,{"$f":"IF(M19=0,\"NA\",M291*M159/1000)","v":"NA"},"hp"]
[null,"3.5.5   Brake horse power (BHP)",null,null,null,null,null,null,null,null,null,null,{"$f":"IF(M19=0,\"NA\",M292/(M172/100))","v":"NA"},"bhp"]
[null,"3.5.6   Energy consumption"]
[null,null,"3.5.6.1   Prime mover fuel use",null,null,null,null,null,null,null,null,null,{"$f":"IF(M19=0,0,IF(M174=1,M182,M183))","v":0},{"$f":"IF(M174=1,\"kWh/bhp-hr\",\"Btu/bhp-hr\")","v":"Btu/bhp-hr"}]
[null,null,"3.5.6.2   Prime mover fuel usage per day of operation",null,null,null,null,null,null,null,null,null,{"$f":"IF(M174=1,M295*24,M295*24/1000000)","v":0},{"$f":"IF(M174=1,\"kWh/bhp-d\",\"MMBtu/bhp-d\")","v":"MMBtu/bhp-d"}]
[null,null,"3.5.6.3   Total fuel use",null,null,null,null,null,null,null,null,null,{"$f":"IF(M19=0,0,M296*M293)","v":0},{"$f":"IF(M174=1,\"kWh/d\",\"MMBtu/d\")","v":"MMBtu/d"}]
[]
["3.6   Gas flooding compressor"]
[null,"3.6.1   Discharge pressure"]
[null,null,"3.6.1.1   Stage 1",null,null,null,null,null,null,null,null,null,{"$f":"IF(M20=0,\"NA\",M194*M196)","v":"NA"},"psia"]
[null,null,"3.6.1.2   Stage 2",null,null,null,null,null,null,null,null,null,{"$f":"IF(M20=0,\"NA\",IF(M197>1,M301*M196,\"NA\"))","v":"NA"},"psia"]
[null,null,"3.6.1.3   Stage 3",null,null,null,null,null,null,null,null,null,{"$f":"IF(M20=0,\"NA\",IF(M197>2,M302*M196,\"NA\"))","v":"NA"},"psia"]
[null,null,"3.6.1.4   Stage 4",null,null,null,null,null,null,null,null,null,{"$f":"IF(M20=0,\"NA\",IF(M197>3,M303*M196,\"NA\"))","v":"NA"},"psia"]
[null,null,"3.6.1.5   Stage 5",null,null,null,null,null,null,null,null,null,{"$f":"IF(M20=0,\"NA\",IF(M197>4,M304*M196,\"NA\"))","v":"NA"},"psia"]
[null,"3.6.2   Adiabatic work of compression"]
[null,null,"3.6.2.1   Stage 1",null,null,null,null,null,null,null,null,null,{"$f":"IF(M20=0,\"NA\",(M203/(M203-1))*(3.027*14.7/(60+460))*(M198+460)*(M196^((M203-1)/M203)-1))","v":"NA"},"hp/MMscf/d"]
[null,null,"3.6.2.2   Stage 2",null,null,null,null,null,null,null,null,null,{"$f":"IF(M20=0,\"NA\",IF(M197>1,(M203/(M203-1))*(3.027*14.7/(60+460))*(M199+460)*(M196^((M203-1)/M203)-1),\"NA\"))","v":"NA"},"hp/MMscf/d"]
[null,null,"3.6.2.3   Stage 3",null,null,null,null,null,null,null,null,null,{"$f":"IF(M20=0,\"NA\",IF(M197>2,(M203/(M203-1))*(3.027*14.7/(60+460))*(M200+460)*(M196^((M203-1)/M203)-1),\"NA\"))","v":"NA"},"hp/MMscf/d"]
[null,null,"3.6.2.4   Stage 4",null,null,null,null,null,null,null,null,null,{"$f":"IF(M20=0,\"NA\",IF(M197>3,(M203/(M203-1))*(3.027*14.7/(60+460))*(M201+460)*(M196^((M203-1)/M203)-1),\"NA\"))","v":"NA"},"hp/MMscf/d"]
[null,null,"3.6.2.5   Stage 5",null,null,null,null,null,null,null,null,null,{"$f":"IF(M20=0,\"NA\",IF(M197>4,(M203/(M203-1))*(3.027*14.7/(60+460))*(M202+460)*(M196^((M203-1)/M203)-1),\"NA\"))","v":"NA"},"hp/MMscf/d"]
[null,"3.6.3   Total adabiatic work of compression",null,null,null,null,null,null,null,null,null,null,{"$f":"IF(M20=0,\"NA\",IF(M197=1,M307,IF(M197=2,M307+M308,IF(M197=3,SUM(M307:M309),IF(M197=4,SUM(M307:M310),SUM(M307:M311))))))","v":"NA"},"hp/MMscf/d"]
[null,"3.6.4   Output horsepower from compressor",null,null,null,null,null,null,null,null,null,null,{"$f":"IF(M20=0,\"NA\",M312*M189/1000)","v":"NA"},"hp"]
[null,"3.6.5   Brake horse power (BHP)",null,null,null,null,null,null,null,null,null,null,{"$f":"IF(M20=0,\"NA\",M313/(M204/100))","v":"NA"},"bhp"]
[null,"3.6.6   Energy consumption"]
[null,null,"3.6.6.1   Prime mover fuel use",null,null,null,null,null,null,null,null,null,{"$f":"IF(M20=0,0,IF(M206=1,M214,M215))","v":0},{"$f":"IF(M206=1,\"kWh/bhp-hr\",\"Btu/bhp-hr\")","v":"Btu/bhp-hr"}]
[null,null,"3.6.6.2   Prime mover fuel usage per day of operation",null,null,null,null,null,null,null,null,null,{"$f":"IF(M206=1,M316*24,M316*24/1000000)","v":0},{"$f":"IF(M206=1,\"kWh/bhp-d\",\"MMBtu/bhp-d\")","v":"MMBtu/bhp-d"}]
[null,null,"3.6.6.3   Total fuel use",null,null,null,null,null,null,null,null,null,{"$f":"IF(M20=0,0,M317*M314)","v":0},{"$f":"IF(M206=1,\"kWh/d\",\"MMBtu/d\")","v":"MMBtu/d"}]
[]
["3.7   Steam injection"]
[null,"3.7.1   Energy consumption"]
[null,null,"3.7.1.1   Once-through steam generator (OTSG)",null,null,null,null,null,null,null,null,null,{"$f":"IF(M21=0,0,IF('Steam Injection'!M72=1,'Steam Injection'!M281,'Steam Injection'!M282)*'Steam Injection'!M18)","v":0},"MMBtu/d"]
[null,null,"3.7.1.2   Combined heat and power (GT + HRSG)",null,null,null,null,null,null,null,null,null,{"$f":"IF(M21=0,0,'Steam Injection'!M482*'Steam Injection'!M19)","v":0},"MMBtu/d"]
[null,"3.7.3   CHP electricity generation",null,null,null,null,null,null,null,null,null,null,{"$f":"IF(M21=0,0,'Steam Injection'!M19*'Steam Injection'!M486)","v":0},"MMBtu/d"]

{"sheet":"Surface Processing","index":10,"n_rows":349,"n_cols":30,"rows_kept":349,"cut":false,"hidden":false,"merged":[[338,3,338,4],[338,7,338,8],[338,11,338,12],[338,15,338,16],[193,4,193,5],[194,17,194,18],[199,4,199,5],[203,4,203,5],[209,6,209,7],[325,15,325,16],[210,6,210,7],[262,9,262,10],[255,10,255,11],[325,3,325,4],[325,7,325,8],[325,11,325,12]]}
["Surface processing"]
[]
["Calculation of GHG emissions from field oil, gas and water processing."]
[]
[]
["1 Input assumptions"]
[]
["1.1   Crude oil processing"]
[]
[null,null,null,null,null,null,null,null,null,null,null,null,"User","Default","Units",null,"User reference",null,"Default reference",null,null,null,null,null,"Notes"]
["1.1.1   Heater-treater"]
[null,"1.1.1.1   Application of heat treatment",null,null,null,null,null,null,null,null,null,null,{"$f":"'User Inputs & Results'!J102","v":0},0,"NA"]
[null,null,"0= No"]
[null,null,"1= Yes"]
[null,"1.1.1.2   Entrained water as a fraction of oil emulsion",null,null,null,null,null,null,null,null,null,null,14,14,"%"]
[null,"1.1.1.3   Feed temperature",null,null,null,null,null,null,null,null,null,null,90,90,"◦F"]
[null,"1.1.1.4   Treating temperature",null,null,null,null,null,null,null,null,null,null,165,165,"◦F"]
[null,"1.1.1.5   Specific heat of oil",null,null,null,null,null,null,null,null,null,null,150,150,"Btu/bbl-◦F",null,null,null,"Manning, F. and Thompson, R. (1991)"]
[null,"1.1.1.6   Specific heat of water",null,null,null,null,null,null,null,null,null,null,350,350,"Btu/bbl-◦F"]
[null,"1.1.1.7   Heat loss",null,null,null,null,null,null,null,null,null,null,2,2,"%"]
[null,"1.1.1.8   Prime mover"]
[null,null,"1.1.1.8.1   Type of heater",null,null,null,null,null,null,null,null,null,1,1,"NA"]
[null,null,null,"1= Gas fired"]
[null,null,null,"2= Electric"]
[null,null,"1.1.1.8.2  NG fuel type",null,null,null,null,null,null,null,null,null,1,1,"NA"]
[null,null,null,"1=","Natural gas"]
[null,null,null,"2=","NGL (butane or propane)"]
[null,null,null,"3=","Not applicable"]
[null,null,"1.1.1.8.3   Heater fuel use",null,null,null,null,null,null,null,null,null,{"$f":"N29","v":1.25},{"$f":"1/0.8","v":1.25},"Btu/Btu",null,null,null,"EPA (2008)",null,null,null,null,null,"Nominal heater efficiency (80%) <http://www.epa.gov/climateleadership/documents/resources/draft_reforestation_offset_protocol.pdf>"]
[null,null,null,null,null,null,null,null,null,null,null,null,366.33680555555554,{"$f":"(N29/'Input data'!$E$52)*1000","v":366.33680555555554},"kWh/MMBtu"]
[]
["1.1.2   Oil-gas separation"]
[null,"1.1.2.1   Application of stabilizer",null,null,null,null,null,null,null,null,null,null,{"$f":"'User Inputs & Results'!J103","v":1},{"$f":"'User Inputs & Results'!K103","v":1},"NA"]
[null,null,"0= No"]
[null,null,"1= Yes"]
[null,"1.1.2.2   Reboiled stabilizer column"]
[null,"Note: if not applicable enter \"NA\""]
[null,null,"1.1.2.2.1   Reboiler pressure",null,null,null,null,null,null,null,null,null,100,100,"psi",null,null,null,null,null,null,null,null,null,"The higher the operating pressure, the higher is the oil yield"]
[null,null,"1.1.2.2.2   Feed temperature",null,null,null,null,null,null,null,null,null,120,120,"◦F"]
[null,null,"1.1.2.2.3   Process temperature",null,null,null,null,null,null,null,null,null,344,344,"◦F"]
[null,null,"1.1.2.2.4   Specific heat of crude oil",null,null,null,null,null,null,null,null,null,150,150,"Btu/bbl-◦F"]
[null,null,"1.1.2.2.5   Heat loss",null,null,null,null,null,null,null,null,null,2,2,"%"]
[null,null,"1.1.2.2.6   Prime mover"]
[null,null,null,"1.1.2.2.6.1   Type of heater",null,null,null,null,null,null,null,null,1,1,"NA"]
[null,null,null,null,"1= Gas fired"]
[null,null,null,null,"2= Electric"]
[null,null,null,"1.1.2.2.6.2   NG fuel type",null,null,null,null,null,null,null,null,1,1,"NA"]
[null,null,null,null,"1=","Natural gas"]
[null,null,null,null,"2=","NGL (butane or propane)"]
[null,null,null,null,"3=","Not applicable"]
[null,null,null,"1.1.2.2.6.3   Heater fuel use",null,null,null,null,null,null,null,null,{"$f":"N51","v":1.25},{"$f":"1/0.8","v":1.25},"Btu/Btu"]
[null,null,null,null,null,null,null,null,null,null,null,null,366.33680555555554,{"$f":"(N51/'Input data'!$E$52)*1000","v":366.33680555555554},"kWh/MMBtu"]
[]
["1.2   Separator gas processing"]
[]
[null,null,null,null,null,null,null,null,null,null,null,null,"User","Default","Units",null,"User reference",null,"Default reference",null,null,null,null,null,null,null,"Notes"]
["1.2.1 Gas processing scheme"]
[null,"1.2.1.1   AGR unit",null,null,null,null,null,null,null,null,null,null,{"$f":"'User Inputs & Results'!J104","v":1},{"$f":"'User Inputs & Results'!K104","v":1},"NA"]
[null,null,"0= No"]
[null,null,"1= Yes"]
[null,"1.2.1.2   Gas dehydration unit",null,null,null,null,null,null,null,null,null,null,{"$f":"'User Inputs & Results'!J105","v":1},{"$f":"'User Inputs & Results'!K105","v":1},"NA"]
[null,null,"0= No"]
[null,null,"1= Yes"]
[null,"1.2.1.3   Demethanizer",null,null,null,null,null,null,null,null,null,null,{"$f":"'User Inputs & Results'!J106","v":1},{"$f":"'User Inputs & Results'!K106","v":1},"NA"]
[null,null,"0= No"]
[null,null,"1= Yes"]
[]
["1.2.2   Amine treater "]
[null,"1.2.2.1   Contactor "]
[null,null,"1.2.2.1.1   Amine solution",null,null,null,null,null,null,null,null,null,1,1,"NA"]
[null,null,null,"1= Monoethanolamine (MEA)"]
[null,null,null,"2= Diethanolamine (DEA) - conventional (30 wt%)"]
[null,null,null,"3= Diethanolamine (DEA) - high load (35 wt%)"]
[null,null,null,"4= Diglycolamine (DGA)"]
[null,null,null,"5= Methyldiethanolamine (MDEA)"]
[null,null,null,"6= Other"]
[null,null,"1.2.2.1.2   Amine solution K value",null,null,null,null,null,null,null,null,null,2.0499999999999998,{"$f":"IF(M70=1,2.05, IF(M70=2,1.45,IF(M70=3,0.95,IF(M70=4,1.28,IF(M70=5,1.25,\"User\")))))","v":2.0499999999999998},"gpm-d/100MMscf",null,null,null,"Manning, F. and Thompson, R. (1991), p.115"]
[null,null,"1.2.2.1.3   Operating pressure",null,null,null,null,null,null,null,null,null,350,350,"psi",null,null,null,"Manning, F. and Thompson, R. (1991), p.117, Figure 7-9",null,null,null,null,null,null,null,"Median of reported values"]
[null,"1.2.2.2   Pumps driver fuel use",null,null,null,null,null,null,null,null,null,null,{"$f":"N79","v":0.81827249644540445},{"$f":"IF(M226<=Drivers!D48,Drivers!E53*'Input data'!E50,IF(M226<=Drivers!F48,Drivers!G53*'Input data'!E50,IF(M226<=Drivers!H48,Drivers!I53*'Input data'!E50,IF(M226<=Drivers!J48,Drivers!K53*'Input data'!E50,IF(M226<=Drivers!L48,Drivers!M53*'Input data'!E50,IF(M226<=Drivers!N48,Drivers!O53*'Input data'!E50,IF(M226<=Drivers!P48,Drivers!Q53*'Input data'!E50,IF(M226<=Drivers!R48,Drivers!S53*'Input data'!E50,IF(M226<=Drivers!T48,Drivers!U53*'Input data'!E50,IF(M226<=Drivers!V48,Drivers!W53*'Input data'!E50,IF(M226<=Drivers!X48,Drivers!Y53*'Input data'!E50,IF(M226<=Drivers!Z48,Drivers!AA53*'Input data'!E50,Drivers!AC53*'Input data'!E50))))))))))))","v":0.81827249644540445},"kWh/bhp-hr",null,null,null,null,null,null,null,null,null,null,null,"Assumed electric by default"]
[null,"1.2.2.3   Air-cooling fan driver fuel use",null,null,null,null,null,null,null,null,null,null,{"$f":"N80","v":0.81203973531905216},{"$f":"IF(M235<=Drivers!D48,Drivers!E53*'Input data'!E50,IF(M235<=Drivers!F48,Drivers!G53*'Input data'!E50,IF(M235<=Drivers!H48,Drivers!I53*'Input data'!E50,IF(M235<=Drivers!J48,Drivers!K53*'Input data'!E50,IF(M235<=Drivers!L48,Drivers!M53*'Input data'!E50,IF(M235<=Drivers!N48,Drivers!O53*'Input data'!E50,IF(M235<=Drivers!P48,Drivers!Q53*'Input data'!E50,IF(M235<=Drivers!R48,Drivers!S53*'Input data'!E50,IF(M235<=Drivers!T48,Drivers!U53*'Input data'!E50,IF(M235<=Drivers!V48,Drivers!W53*'Input data'!E50,IF(M235<=Drivers!X48,Drivers!Y53*'Input data'!E50,IF(M235<=Drivers!Z48,Drivers!AA53*'Input data'!E50,Drivers!AC53*'Input data'!E50))))))))))))","v":0.81203973531905216},"kWh/bhp-hr",null,null,null,null,null,null,null,null,null,null,null,"Assumed electric by default"]
[null,"1.2.2.4   Reboiler "]
[null,null,"1.2.2.4.1   Gas-fired heater fuel use",null,null,null,null,null,null,null,null,null,{"$f":"N82","v":1.25},{"$f":"1/0.8","v":1.25},"Btu/Btu"]
[null,null,"1.2.2.4.2   NG fuel type",null,null,null,null,null,null,null,null,null,1,1,"NA"]
[null,null,null,"1=","Natural gas"]
[null,null,null,"2=","NGL (butane or propane)"]
[]
["1.2.3   Glycol dehydrator"]
[null,"1.2.3.1   Contactor"]
[null,null,"1.2.3.1.1   TEG concentration",null,null,null,null,null,null,null,null,null,99,99,"wt%",null,null,null,"Manning, F. and Thompson, R. (1991), p.155"]
[null,null,"1.2.3.1.2   TEG-to-water ratio",null,null,null,null,null,null,null,null,null,2,2,"gal TEG/lb H2O",null,null,null,"Manning, F. and Thompson, R. (1991), p.147"]
[null,null,"1.2.3.1.3   Operating pressure",null,null,null,null,null,null,null,null,null,786,786,"psi",null,null,null,"Manning, F. and Thompson, R. (1991), p.160"]
[null,"1.2.3.2   Glycol pump"]
[null,null,"1.2.3.2.1   Pump type",null,null,null,null,null,null,null,null,null,1,1,"NA"]
[null,null,null,"1= Reciprocating pump"]
[null,null,null,"2= Centrifugal pump"]
[null,null,"1.2.3.1.2.2   Pump efficiency ",null,null,null,null,null,null,null,null,null,75,75,"%"]
[null,null,"1.2.3.2.3   Prime mover fuel use",null,null,null,null,null,null,null,null,null,{"$f":"N97","v":0.89053044959213479},{"$f":"IF(M288<=Drivers!D48,Drivers!E53*'Input data'!E50,IF(M288<=Drivers!F48,Drivers!G53*'Input data'!E50,IF(M288<=Drivers!H48,Drivers!I53*'Input data'!E50,IF(M288<=Drivers!J48,Drivers!K53*'Input data'!E50,IF(M288<=Drivers!L48,Drivers!M53*'Input data'!E50,IF(M288<=Drivers!N48,Drivers!O53*'Input data'!E50,IF(M288<=Drivers!P48,Drivers!Q53*'Input data'!E50,IF(M288<=Drivers!R48,Drivers!S53*'Input data'!E50,IF(M288<=Drivers!T48,Drivers!U53*'Input data'!E50,IF(M288<=Drivers!V48,Drivers!W53*'Input data'!E50,IF(M288<=Drivers!X48,Drivers!Y53*'Input data'!E50,IF(M288<=Drivers!Z48,Drivers!AA53*'Input data'!E50,Drivers!AC53*'Input data'!E50))))))))))))","v":0.89053044959213479},"kWh/bhp-hr",null,null,null,null,null,null,null,null,null,null,null,"Prime mover is electric by default"]
[null,"1.2.3.3   Reboiler"]
[null,null,"1.2.3.3.1   Type of heater",null,null,null,null,null,null,null,null,null,1,1,"NA"]
[null,null,null,"1= Gas fired"]
[null,null,null,"2= Electric"]
[null,null,"1.2.3.3.2   Heater fuel use",null,null,null,null,null,null,null,null,null,{"$f":"N102","v":1.25},{"$f":"1/0.8","v":1.25},"Btu/Btu"]
[null,null,null,null,null,null,null,null,null,null,null,null,366.33680555555554,{"$f":"(N102/'Input data'!$E$52)*1000","v":366.33680555555554},"kWh/MMBtu"]
[]
[null,null,"1.2.3.3.3   NG fuel type",null,null,null,null,null,null,null,null,null,1,1,"NA"]
[null,null,null,"1=","Natural gas"]
[null,null,null,"2=","NGL (butane or propane)"]
[null,null,null,"3=","Not applicable"]
["1.2.4   Demethanizer"]
[null,"1.2.4.1   Fraction of gas condensed"]
[null,null,"1.2.4.1.1   C2H6",null,null,null,null,null,null,null,null,null,90.2,90.2,"%",null,null,null,"Nawaz, M. and Jobson, M. (2010)"]
[null,null,"1.2.4.1.2   C3H8",null,null,null,null,null,null,null,null,null,100,100,"%"]
[null,null,"1.2.4.1.3   C4H10",null,null,null,null,null,null,null,null,null,100,100,"%"]
[null,"1.2.4.2   Energy factors ",null,null,null,null,null,null,null,null,null,null,null,null,null,null,null,null,null,null,null,null,null,null,null,null,"Assume that reboiler duty is provided via heat exchanger from inlet stream."]
[null,null,"1.2.4.2.1   Refrigeration system power",null,null,null,null,null,null,null,null,null,{"$f":"N115","v":3.6345939131811611},3.6345939131811611,"bhp-hr/kmolCOND",null,null,null,"Nawaz, M. and Jobson, M. (2010)",null,null,null,null,null,null,null,"Compressor work happens up front to bring pressure up to assumed inlet pressure of Nawaz.  So all feed is compressed."]
[null,null,"1.2.4.2.2   Compressor system power",null,null,null,null,null,null,null,null,null,{"$f":"N116","v":0.58310991957104563},0.58310991957104563,"bhp-hr/kmolFEED",null,null,null,"Nawaz, M. and Jobson, M. (2010)",null,null,null,null,null,null,null,"Because heat recovery is used to recovery cold from outlet gas stream, assume the work of refrigeration is proportional to condensed stream, not full stream."]
[null,"1.2.4.3   Fuel usage"]
[null,null,"1.2.4.3.1   Refrigeration system driver",null,null,null,null,null,null,null,null,null,{"$f":"IF(M64=1,IF(M306<=Drivers!D24,Drivers!E29,IF(M306<=Drivers!F24,Drivers!G29,IF(M306<=Drivers!H24,Drivers!I29,IF(M306<=Drivers!J24,Drivers!K29,IF(M306<=Drivers!L24,Drivers!M29,IF(M306<=Drivers!N24,Drivers!O29,IF(M306<=Drivers!P24,Drivers!Q29,IF(M306<=Drivers!R24,Drivers!S29,Drivers!U29)))))))),\"NA\")","v":10370},{"$f":"IF(N306<=Drivers!D24,Drivers!E29,IF(N306<=Drivers!F24,Drivers!G29,IF(N306<=Drivers!H24,Drivers!I29,IF(N306<=Drivers!J24,Drivers!K29,IF(N306<=Drivers!L24,Drivers!M29,IF(N306<=Drivers!N24,Drivers!O29,IF(N306<=Drivers!P24,Drivers!Q29,IF(N306<=Drivers!R24,Drivers!S29,Drivers!U29))))))))","v":10370},"Btu/bhp-hr",null,null,null,null,null,null,null,null,null,null,null,"Driver is NG turbine by default"]
[null,null,"1.2.4.3.2   Compressor system driver",null,null,null,null,null,null,null,null,null,{"$f":"IF(M64=1,IF(M307<=Drivers!D24,Drivers!E29,IF(M307<=Drivers!F24,Drivers!G29,IF(M307<=Drivers!H24,Drivers!I29,IF(M307<=Drivers!J24,Drivers!K29,IF(M307<=Drivers!L24,Drivers!M29,IF(M307<=Drivers!N24,Drivers!O29,IF(M307<=Drivers!P24,Drivers!Q29,IF(M307<=Drivers!R24,Drivers!S29,Drivers!U29)))))))),\"NA\")","v":10370},{"$f":"IF(N307<=Drivers!D24,Drivers!E29,IF(N307<=Drivers!F24,Drivers!G29,IF(N307<=Drivers!H24,Drivers!I29,IF(N307<=Drivers!J24,Drivers!K29,IF(N307<=Drivers!L24,Drivers!M29,IF(N307<=Drivers!N24,Drivers!O29,IF(N307<=Drivers!P24,Drivers!Q29,IF(N307<=Drivers!R24,Drivers!S29,Drivers!U29))))))))","v":10370},"Btu/bhp-hr",null,null,null,null,null,null,null,null,null,null,null,"Heater is NG-fired by default"]
[null,"1.2.4.4   NGL use"]
[null,null,"1= Export/process fuel",null,null,null,null,null,null,null,null,null,1,1,"fraction"]
[null,null,"2= Crude oil blend",null,null,null,null,null,null,null,null,{"$f":"IF(SUM(M121:M122)=1,\"OK\",\"ERROR\")","v":"OK"},0,0,"fraction"]
[]
["1.3   Water treatment"]
[]
["1.3.1   Treatment technologies"]
[null,null,null,null,null,null,null,null,null,null,null,"Produced water",null,"Imported water",null,null,null,null,null,null,null,"Enter \"1\" where applicable and \"0\" where not applicable"]
[null,null,null,null,null,null,null,null,null,null,null,"Apply","Apply","Apply","Apply","Code","Volume loss","Volume loss","EC","EC",null,"No more than one option is allowed in each treatment stage"]
[null,null,null,null,null,null,null,null,null,null,null,{"$f":"\"--\"","v":"--"},{"$f":"\"--\"","v":"--"},{"$f":"\"--\"","v":"--"},{"$f":"\"--\"","v":"--"},{"$f":"\"--\"","v":"--"},"%","%","kWh/bbl input","kWh/bbl input",null,"Categorization of treatment technologies is based on Vlasopoulos et al. (2006), originally from Dillon (2003)"]
[null,null,null,null,null,null,null,null,null,null,null,"User","Default","User","Default",{"$f":"\"--\"","v":"--"},"User","Default","User","Default",null,"Values of energy consumption can be changed in the user columns"]
[null,"1.3.1.1   Stage 1 of treatment",null,null,null,null,null,null,null,null,null,{"$f":"IF(OR(SUM(L132:L133)=0,SUM(L132:L133)=1),\"OK\",\"ERROR\")","v":"OK"},null,{"$f":"IF(OR(SUM(N132:N133)=0,SUM(N132:N133)=1),\"OK\",\"ERROR\")","v":"OK"}]
[null,null,"1.3.1.1.1   Dissolved air flotation",null,null,null,null,null,null,null,null,1,1,1,1,"DAF",0,0,3.5134580000000006E-2,{"$f":"0.221*0.15898","v":3.5134580000000006E-2}]
[null,null,"1.3.1.1.2   Hydrocyclones",null,null,null,null,null,null,null,null,0,0,0,0,"HYDRO",0,0,4.8806860000000001E-2,{"$f":"0.307*0.15898","v":4.8806860000000001E-2}]
[null,"1.3.1.2   Stage 2 of treatment",null,null,null,null,null,null,null,null,null,{"$f":"IF(OR(SUM(L135:L142)=0,SUM(L135:L142)=1),\"OK\",\"ERROR\")","v":"OK"},null,{"$f":"IF(OR(SUM(N135:N142)=0,SUM(N135:N142)=1),\"OK\",\"ERROR\")","v":"OK"}]
[null,null,"1.3.1.2.1   Rotating biological contactors",null,null,null,null,null,null,null,null,1,1,1,1,"RBC",0,0,3.4975600000000003E-2,{"$f":"0.22*0.15898","v":3.4975600000000003E-2}]
[null,null,"1.3.1.2.2   Absorbents",null,null,null,null,null,null,null,null,0,0,0,0,"ABS",0,0,1.7487800000000001E-2,{"$f":"0.11*0.15898","v":1.7487800000000001E-2}]
[null,null,"1.3.1.2.3   Activated sludge",null,null,null,null,null,null,null,null,0,0,0,0,"AS",0,0,0.14626160000000002,{"$f":"0.92*0.15898","v":0.14626160000000002}]
[null,null,"1.3.1.2.4   Trickling filters",null,null,null,null,null,null,null,null,0,0,0,0,"TF",0,0,3.6565400000000005E-2,{"$f":"0.23*0.15898","v":3.6565400000000005E-2}]
[null,null,"1.3.1.2.5   Air stripping",null,null,null,null,null,null,null,null,0,0,0,0,"AIR",0,0,0.10524476000000001,{"$f":"0.662*0.15898","v":0.10524476000000001}]
[null,null,"1.3.1.2.6   Aerated lagoons",null,null,null,null,null,null,null,null,0,0,0,0,"AL",0,0,9.5388000000000001E-2,{"$f":"0.6*0.15898","v":9.5388000000000001E-2}]
[null,null,"1.3.1.2.7   Wetlands",null,null,null,null,null,null,null,null,0,0,0,0,"CWL",26,26,2.22572E-3,{"$f":"0.014*0.15898","v":2.22572E-3}]
[null,null,"1.3.1.2.8   Microfiltration - used as a combined stage 1 and stage 2 technology",null,null,null,null,null,null,null,null,0,0,0,0,"MF",0,0,3.1796000000000005E-2,{"$f":"0.2*0.15898","v":3.1796000000000005E-2}]
[null,"1.3.1.3   Stage 3 of treatment",null,null,null,null,null,null,null,null,null,{"$f":"IF(OR(SUM(L144:L150)=0,SUM(L144:L150)=1),\"OK\",\"ERROR\")","v":"OK"},null,{"$f":"IF(OR(SUM(N144:N150)=0,SUM(N144:N150)=1),\"OK\",\"ERROR\")","v":"OK"}]
[null,null,"1.3.1.1.3.1   Dual media filtration",null,null,null,null,null,null,null,null,1,1,1,1,"DMF",0,0,4.2924600000000005E-3,{"$f":"0.027*0.15898","v":4.2924600000000005E-3}]
[null,null,"1.3.1.3.2   Granular activated carbon",null,null,null,null,null,null,null,null,0,0,0,0,"GAC",0,0,2.6072720000000004E-2,{"$f":"0.164*0.15898","v":2.6072720000000004E-2}]
[null,null,"1.3.1.3.3   Slow sand filtration",null,null,null,null,null,null,null,null,0,0,0,0,"SSF",0,0,1.11286E-3,{"$f":"0.007*0.15898","v":1.11286E-3}]
[null,null,"1.3.1.3.4   Ozone",null,null,null,null,null,null,null,null,0,0,0,0,"OZO",0,0,0.24323940000000002,{"$f":"1.53*0.15898","v":0.24323940000000002}]
[null,null,"1.3.1.3.5   Organoclay",null,null,null,null,null,null,null,null,0,0,0,0,"ORG",0,0,1.43082E-2,{"$f":"0.09*0.15898","v":1.43082E-2}]
[null,null,"1.3.1.3.6   Ultrafiltration",null,null,null,null,null,null,null,null,0,0,0,0,"UF",0,0,3.1796000000000005E-2,{"$f":"0.2*0.15898","v":3.1796000000000005E-2}]
[null,null,"1.3.1.3.7   Nanofiltration",null,null,null,null,null,null,null,null,0,0,0,0,"NF",0,0,8.7915940000000012E-2,{"$f":"0.553*0.15898","v":8.7915940000000012E-2}]
[null,"1.3.1.4   Stage 4 of treatment",null,null,null,null,null,null,null,null,null,{"$f":"IF(OR(SUM(L152:L153)=0,SUM(L152:L153)=1),\"OK\",\"ERROR\")","v":"OK"},null,{"$f":"IF(OR(SUM(N152:N153)=0,SUM(N152:N153)=1),\"OK\",\"ERROR\")","v":"OK"}]
[null,null,"1.3.1.4.1   Reverse osmosis",null,null,null,null,null,null,null,null,0,0,0,0,"RO",0,0,0.20190460000000002,{"$f":"1.27*0.15898","v":0.20190460000000002}]
[null,null,"1.3.1.4.2   Electrodialysis reversal",null,null,null,null,null,null,null,null,0,0,0,1,"EDR",0,0,0.47694000000000003,{"$f":"3*0.15898","v":0.47694000000000003}]
[null,null,null,null,null,null,null,null,null,null,null,null,null,null,null,"Sources: Vlasopoulos, N. et al. (2006)"]
[]
["2 Calculations"]
[]
["2.1   Crude oil processing"]
[]
[]
[]
[]
[null,null,null,null,null,null,null,null,null,null,null,null,"Heat",null,null,"Heat"]
[null,null,null,null,null,null,null,null,null,null,null,null,{"$f":"M178","v":"NA"},"MMBtu",null,{"$f":"M184","v":51.408000000000001},"MMBtu"]
[]
[]
[]
[null,null,{"$f":"'Production & Extraction'!M35","v":1500},"bopd",null,null,null,null,{"$f":"C168","v":1500},"bopd",null,null,null,null,{"$f":"C168","v":1500},"bopd",null,{"$f":"O168","v":1500},"bopd"]
[null,null,{"$f":"'Production & Extraction'!M35*'Production & Extraction'!M48","v":1362000},"scf/d"]
[null,null,{"$f":"'Production & Extraction'!M35*'Production & Extraction'!M52","v":6462.5535861680128},"bwpd"]
[]
[]
[null,null,null,null,null,null,null,null,null,null,null,null,"User","Units","Equation",null,null,null,null,null,null,null,null,null,null,null,null,null,null,"Reference"]
[]
["2.1.1   Dehydration heater/treater"]
[null,"2.1.1.1   Volume of water heated",null,null,null,null,null,null,null,null,null,null,{"$f":"IF(M12=0,\"NA\",((M15/100)*C168)/(1-(M15/100)))","v":"NA"},"bwpd"]
[null,"2.1.1.2   Volume of oil heated",null,null,null,null,null,null,null,null,null,null,{"$f":"IF(M12=0,\"NA\",C168)","v":"NA"},"bopd"]
[null,"2.1.1.3   Heat duty",null,null,null,null,null,null,null,null,null,null,{"$f":"IF(M12=0,\"NA\",(((C168*M18)+(M176*M19))*(M17-M16)*(1-(M20/100)))/1000000)","v":"NA"},"MMBtu/d",null,null,null,null,null,null,null,null,null,null,null,null,null,null,null,"Manning, F. and Thompson, R. (1991), p.136"]
[]
[null,"2.1.1.4   Energy consumption",null,null,null,null,null,null,null,null,null,null,{"$f":"IF(M12=0,0,M178*IF(M22=1,M29,M30))","v":0},{"$f":"IF(M22=1,\"MMBtu/d\",\"kWh/d\")","v":"MMBtu/d"}]
[]
["2.1.2   Stabilizer column"]
[null,"2.1.2.1   Volume of oil heated",null,null,null,null,null,null,null,null,null,null,{"$f":"IF(M33=0,\"NA\",C168)","v":1500},"bopd"]
[null,"2.1.2.2   Heat duty",null,null,null,null,null,null,null,null,null,null,{"$f":"IF(M33=0,\"NA\",O168*M41*(M40-M39)*(1+(M42/100))/1000000)","v":51.408000000000001},"MMBtu/d",null,null,null,null,null,null,null,null,null,null,null,null,null,null,null,"Manning, F. and Thompson, R. (1991), p.136"]
[]
[null,"2.1.2.3   Energy consumption",null,null,null,null,null,null,null,null,null,null,{"$f":"IF(M33=0,0,M184*IF(M44=1,M51,M52))","v":64.260000000000005},{"$f":"IF(M44=1,\"MMBtu/d\",\"kWh/d\")","v":"MMBtu/d"}]
[]
["2.2   Separator gas processing"]
[]
[]
["2.2.1   Amine process (Ball et al., 1988)"]
[]
[]
[null,null,null,null,"        Sweet gas"]
[null,null,null,null,null,null,null,null,null,null,null,null,null,null,null,null,null,"          Acid gas"]
[null,null,null,null,null,null,null,null,null,null,null,null,null,null,null,"    Power",null,null,{"$f":"IF('Surface Processing'!M58=1,1*('Gas Balance'!N30-(('Venting & Fugitives'!M114/'Input data'!D81)+('Venting & Fugitives'!E124+'Venting & Fugitives'!E139+'Venting & Fugitives'!E144)+('Venting & Fugitives'!E218-'Venting & Fugitives'!E178-'Venting & Fugitives'!E183))/1000000)+'Gas Balance'!U15,0)","v":7.560619807879275E-2},"MMscf/d"]
[null,null,null,null,null,"Scrubber",null,null,null,null,null,null,null,null,null,{"$f":"M234","v":11.159474836429808},"hp"]
[null,null,null,null,null,null,null,null,null,null,null,null,null,null,null,null,null,"Reflux",{"$f":"1*('Gas Balance'!N30-(('Venting & Fugitives'!M114/'Input data'!D81)+('Venting & Fugitives'!E124+'Venting & Fugitives'!E139+'Venting & Fugitives'!E144)+('Venting & Fugitives'!E218-'Venting & Fugitives'!E178-'Venting & Fugitives'!E183))/1000000)","v":6.470911945568536E-2}]
[null,null,null,null,null,null,null,null,null,null,null,null,null,null,null,"Reflux",null,"accum."]
[null,null,null,null,"       Rich amine",null,"    Power",null,"   Power",null,null,null,null,null,null,"cond."]
[null,null,null,null,null,null,{"$f":"M223","v":4.0298103575996533},"hp",{"$f":"M233","v":5.5797374182149042},"hp",null,null,"    Power"]
[null,null,null,null,null,null,null,null,null,null,null,null,{"$f":"M224","v":0.9299562363691507},"hp"]
[null,null,null,{"$f":"M78","v":350},{"$f":"M221","v":15.499270606152512},"gpm","Charge",null,"Amine",null,"Charcoal",null,null,null,null,null,"Reflux"]
[null,null,null,"psi","    Lean amine",null,"pump",null,"cooler",null,"filter",null,"Booster",null,null,null,"pump"]
[null,null,null,null,null,null,null,null,null,null,null,null,"pump",null,null,null,null,"Power"]
[null,null,null,"Contactor",null,null,null,null,null,null,null,null,null,null,"Still",null,null,{"$f":"M225","v":0.9299562363691507},"hp"]
[null,"Sour gas"]
[null,null,null,null,null,null,null,"Flashed gas",null,null,null,null,null,null,null,null,"Reboiler"]
[null,null,null,null,null,null,null,null,null,null,null,null,null,null,null,null,null,"Heat"]
[null,null,null,null,null,null,"Flash tank",null,null,null,null,null,null,null,null,null,null,{"$f":"M242","v":30.800150548546274},"MMBtu/d"]
[null,null,null,null,null,null,"Low pressure"]
[]
[null,null,null,null,null,null,null,null,null,null,"Solids"]
[null,null,null,null,null,null,null,null,null,null,"filter",null,"Heat"]
[null,null,null,null,null,null,null,null,null,null,null,null,"exchanger"]
[]
[]
[]
[null,null,null,null,null,null,null,null,null,null,null,null,"User","Unit","Equation",null,null,"Reference"]
[null,"2.2.1.1   Contact tower"]
[null,null,"2.2.1.1.1   Amine circulation rate",null,null,null,null,null,null,null,null,null,{"$f":"IF('Surface Processing'!M58=1,M77*S196*100,0)","v":15.499270606152512},"gpm",null,null,null,"Manning, F. and Thompson, R. (1991), p.115; Khan and Manning (1985)"]
[null,"2.2.1.2   Pumps brake horse power"]
[null,null,"2.2.1.2.1   Circulation pumps",null,null,null,null,null,null,null,null,null,{"$f":"M221*(D203+50)*0.00065","v":4.0298103575996533},"hp",null,null,null,"Manning, F. and Thompson, R. (1991), p.118; Jones and Perry (1973)"]
[null,null,"2.2.1.2.2   Booster pumps",null,null,null,null,null,null,null,null,null,{"$f":"M221*0.06","v":0.9299562363691507},"hp",null,null,null,"Manning, F. and Thompson, R. (1991), p.118; Jones and Perry (1973)"]
[null,null,"2.2.1.2.3   Reflux pumps",null,null,null,null,null,null,null,null,null,{"$f":"M221*0.06","v":0.9299562363691507},"hp",null,null,null,"Manning, F. and Thompson, R. (1991), p.118; Jones and Perry, 1973"]
[null,null,"2.2.1.2.4   Total pumping horsepower",null,null,null,null,null,null,null,null,null,{"$f":"SUM(M223:M225)","v":5.8897228303379547},"hp"]
[]
[null,null,"2.2.1.2.5   Energy consumption"]
[null,null,null,"2.2.1.2.5.1   Prime mover fuel use",null,null,null,null,null,null,null,null,{"$f":"M79","v":0.81827249644540445},"kWh/hp-hr"]
[null,null,null,"2.2.1.2.5.2   Fuel usage per day",null,null,null,null,null,null,null,null,{"$f":"M229*24","v":19.638539914689709},"kWh/hp-d"]
[null,null,null,"2.2.1.2.5.3   Total fuel use",null,null,null,null,null,null,null,null,{"$f":"M230*M226","v":115.66555689005116},"kWh/d"]
[null,"2.2.1.3   Air coolers brake horse power"]
[null,null,"2.2.1.3.1   Amine cooler",null,null,null,null,null,null,null,null,null,{"$f":"M221*0.36","v":5.5797374182149042},"hp"]
[null,null,"2.2.1.3.2   Reflux condenser",null,null,null,null,null,null,null,null,null,{"$f":"M233*2","v":11.159474836429808},"hp"]
[null,null,"2.2.1.3.3   Total cooling horsepower",null,null,null,null,null,null,null,null,null,{"$f":"SUM(M233:M234)","v":16.739212254644713},"hp"]
[]
[null,null,"2.2.1.3.4   Energy consumption"]
[null,null,null,"2.2.1.3.4.1   Prime mover fuel use",null,null,null,null,null,null,null,null,{"$f":"M80","v":0.81203973531905216},"kWh/hp-hr"]
[null,null,null,"2.2.1.3.4.2   Fuel usage per day",null,null,null,null,null,null,null,null,{"$f":"M238*24","v":19.488953647657251},"kWh/hp-d"]
[null,null,null,"2.2.1.3.4.3   Total fuel use",null,null,null,null,null,null,null,null,{"$f":"M239*M235","v":326.22973172906705},"kWh/d"]
[]
[null,"2.2.1.4   Reboiler heat duty",null,null,null,null,null,null,null,null,null,null,{"$f":"(24/1000000)*(M221*72000)*1.15","v":30.800150548546274},"MMBtu/d",null,null,null,"Manning, F. and Thompson, R. (1991), p. 117; Jones and Perry (1973)"]
[null,null,"2.2.1.4.1   Energy consumption"]
[null,null,null,"2.2.1.4.1.1   Prime mover fuel use",null,null,null,null,null,null,null,null,{"$f":"M82","v":1.25},"MMBtu/MMBtu"]
[null,null,null,"2.2.1.4.1.2   Total fuel use",null,null,null,null,null,null,null,null,{"$f":"M244*M242","v":38.500188185682845},"MMBtu/d"]
[]
["2.2.2   Glycol dehydrator"]
[]
[null,null,null,null,null,null,null,null,null,null,null,null,"Water"]
[null,null,null,null,"Dry gas",null,null,null,null,null,null,null,{"$f":"IF(M61=1,M276,0)","v":49.036853803983249},"lb H2O/d"]
[]
[null,null,null,null,null,null,null,null,null,null,null,"Stripping"]
[null,null,null,"Glycol to ",null,null,null,null,null,null,null,"column"]
[null,null,null,"gas exch."]
[]
[null,null,null,null,null,null,null,null,null,null,"Reboiler"]
[null,null,null,null,null,null,null,null,null,"Heat"]
[null,null,null,null,null,null,null,null,{"$f":"M281","v":0.13887236997288055},"MMBtu/d"]
[]
[]
[null,null,null,"Absorber"]
[null,null,null,{"$f":"M91","v":786}]
[null,null,null,"psi",null,null,null,null,null,"Accumulator"]
[null,null,"Wet gas"]
[null,null,null,null,null,null,"Glycol"]
[null,null,null,null,null,null,"pump"]
[null,null,null,null,null,null,null,"Power"]
[null,null,null,null,null,null,null,{"$f":"M288","v":4.161858016405446E-2},"hp"]
[]
[]
[null,null,null,null,null,null,null,null,null,null,null,null,"User","Default","Unit",null,"Equation",null,null,"Reference"]
[null,"2.2.2.1   Materials balance"]
[null,null,"2.2.2.1.1   Amount of water in inlet gas",null,null,null,null,null,null,null,null,null,{"$f":"N273","v":52},52,"lb H2O/MMscf",null,null,null,null,"Manning, F. and Thompson, R. (1991), p. 160"]
[null,null,"2.2.2.1.2   Amount of water in outlet gas",null,null,null,null,null,null,null,null,null,{"$f":"N274","v":7},7,"lb H2O/MMscf",null,null,null,null,"Manning, F. and Thompson, R. (1991), p. 160"]
[null,null,"2.2.2.1.3   Amount of water removed",null,null,null,null,null,null,null,null,null,{"$f":"IF(M61=1,M273-M274,\"NA\")","v":45},{"$f":"N273-N274","v":45},"lb H2O/MMscf"]
[null,null,"2.2.2.1.4   Rate of water removal",null,null,null,null,null,null,null,null,null,{"$f":"IF(M61=1,M275*'Gas Balance'!M23,\"NA\")","v":49.036853803983249},{"$f":"N275*'Gas Balance'!M23","v":49.036853803983249},"lb H2O/d"]
[null,null,"2.2.2.1.5   Rate of TEG circulation",null,null,null,null,null,null,null,null,null,{"$f":"IF(M61=1,M90*M276,\"NA\")","v":98.073707607966497},{"$f":"N90*N276","v":98.073707607966497},"gal TEG/d"]
[]
[null,"2.2.2.2   Reboiler"]
[null,null,"2.2.2.2.1   Regenerator duty",null,null,null,null,null,null,null,null,null,{"$f":"900+966*M90","v":2832},{"$f":"900+966*N90","v":2832},"Btu/lb H2O",null,null,null,null,"Manning, F. and Thompson, R. (1991), p. 163"]
[null,null,"2.2.2.2.2   Reboiler heat duty",null,null,null,null,null,null,null,null,null,{"$f":"IF(M61=1,M280*M276/1000000,\"NA\")","v":0.13887236997288055},{"$f":"N280*N276/1000000","v":0.13887236997288055},"MMBtu/d"]
[]
[null,null,"2.2.2.2.3   Energy consumption",null,null,null,null,null,null,null,null,null,{"$f":"IF(M61=1,M281*IF(M99=1,M102,M103),0)","v":0.17359046246610069},{"$f":"N281*IF(N99=1,N102,N103)","v":0.17359046246610069},{"$f":"IF(M99=1,\"MMBtu/d\",\"kWh/d\")","v":"MMBtu/d"}]
[]
[null,"2.2.2.3   Glycol pump"]
[null,null,"2.2.2.3.1   Suction pressure",null,null,null,null,null,null,null,null,null,0,0,"psi"]
[null,null,"2.2.2.3.2   Discharge pressure",null,null,null,null,null,null,null,null,null,{"$f":"M91","v":786},{"$f":"N91","v":786},"psi"]
[null,null,"2.2.2.3.3   Pump brake horsepower",null,null,null,null,null,null,null,null,null,{"$f":"IF(M61=1,(M277*(1/1440)*(M287-M286))/(1715*(M96/100)),\"NA\")","v":4.161858016405446E-2},{"$f":"(N277*(1/1440)*(N287-N286))/(1715*(N96/100))","v":4.161858016405446E-2},"hp"]
[]
[null,null,"2.2.2.3.4   Energy consumption",null,null,null,null,null,null,null,null,null,{"$f":"IF(M61=1,M97*24*M288,0)","v":0.88950270971716139},{"$f":"N97*24*N288","v":0.88950270971716139},"kWh/d"]
[]
[]
["2.2.3   Demethanizer"]
[null,"2.2.3.1   Molar amount of gas feed"]
[null,null,"Component","Molar fraction","Volume","Weight","MW","Moles feed","Moles condensed"]
[null,null,null,"mol%","scf/d","lbm/d","lbm/lb mol","kmol/d","kmol/d"]
[null,null,"N2",{"$f":"'Gas Balance'!V29","v":2.1592820846645582},{"$f":"1000000*(D297/100)*'Gas Balance'!$V$23","v":21794.157246214778},{"$f":"E297*'Input data'!C79","v":1701.5134445264803},28,{"$f":"0.001*453.592*F297/G297","v":27.564031654630543},{"$f":"H297*0","v":0}]
[null,null,"CO2",{"$f":"'Gas Balance'!V30","v":0},{"$f":"1000000*(D298/100)*'Gas Balance'!$V$23","v":0},{"$f":"E298*'Input data'!C81","v":0},44,{"$f":"0.001*453.592*F298/G298","v":0},{"$f":"H298*0","v":0}]
[null,null,"C1",{"$f":"'Gas Balance'!V31","v":90.284338658282138},{"$f":"1000000*(D299/100)*'Gas Balance'!$V$23","v":911261.70478776679},{"$f":"E299*'Input data'!C82","v":40733.398204013174},16,1154.7714723846714,{"$f":"H299*0","v":0}]
[null,null,"C2",{"$f":"'Gas Balance'!V32","v":4.3182206771545948},{"$f":"1000000*(D300/100)*'Gas Balance'!$V$23","v":43584.847542688462},{"$f":"E300*'Input data'!C83","v":3690.7744690022309},30,55.803525764788667,{"$f":"H300*M111/100","v":50.334780239839382}]
[null,null,"C3",{"$f":"'Gas Balance'!V33","v":2.1588167081700447},{"$f":"1000000*(D301/100)*'Gas Balance'!$V$23","v":21789.460088501033},{"$f":"E301*'Input data'!C84","v":2747.8265098786419},44,28.327093687928933,{"$f":"H301*M112/100","v":28.327093687928933}]
[null,null,"C4",{"$f":"'Gas Balance'!V34","v":1.0793418717286631},{"$f":"1000000*(D302/100)*'Gas Balance'!$V$23","v":10894.059021719982},{"$f":"E302*'Input data'!C85","v":1699.4732073883172},58,13.290818122166923,{"$f":"H302*M113/100","v":13.290818122166922}]
[null,null,"H2S",{"$f":"'Gas Balance'!V35","v":0},{"$f":"1000000*(D303/100)*'Gas Balance'!$V$23","v":0},{"$f":"E303*'Input data'!C80","v":0},34,0,0]
[null,null,"Total",{"$f":"SUM(D297:D303)","v":100},{"$f":"SUM(E297:E303)","v":1009324.228686891},{"$f":"SUM(F297:F303)","v":50572.985834808846},{"$f":"\"--\"","v":"--"},{"$f":"SUM(H297:H303)","v":1279.7569416141864},{"$f":"SUM(I297:I303)","v":91.952692049935237}]
[]
[null,"2.2.3.2   Refrigeration system BHP",null,null,null,null,null,null,null,null,null,null,{"$f":"IF(M64=1,M115*I304/24,\"NA\")","v":13.925445617721515},{"$f":"N115*I304/24","v":13.925445617721515},"bhp"]
[null,"2.2.3.3   Compressor system BHP",null,null,null,null,null,null,null,null,null,null,{"$f":"IF(M64=1,M116*H304/24,\"NA\")","v":31.093290303963983},{"$f":"N116*H304/24","v":31.093290303963983},"bhp"]
[null,"2.2.3.3   Demethanizer energy consumption"]
[null,null,"2.2.3.3.1   Refrigeration and compression system energy consumption",null,null,null,null,null,null,null,null,null,{"$f":"IF(M64=1,(M306*M118+M307*M119)*24/1000000,0)","v":11.204262996189088},{"$f":"(N306*N118+N307*N119)*24/1000000","v":11.204262996189088},"MMBtu/d"]
[null,null,"2.2.3.3.2   Fractionation reboiler energy consumption",null,null,null,null,null,null,null,null,null,{"$f":"0","v":0},{"$f":"0","v":0},"MMBtu/d",null,null,null,null,"As noted above, assume reboiler duty comes from heat exchange with inlet stream."]
[]
["2.3   Water treatment"]
[]
[null,null,null,null,null,null,null,null,null,null,null,null,"User","Unit","Equation",null,null,"Reference"]
[]
["2.3.1   Total electricity use",null,null,null,null,null,null,null,null,null,null,null,{"$f":"M317+M318","v":480.83104795236773},"kWh/d"]
[null,"2.3.1.1   Total electricity use in imported water treatment",null,null,null,null,null,null,null,null,null,null,{"$f":"E336+I336+M336+Q336","v":0},"kWh/d"]
[null,"2.3.1.2   Total electricity use in produced water treatment",null,null,null,null,null,null,null,null,null,null,{"$f":"E323+I323+M323+Q323","v":480.83104795236773},"kWh/d"]
[]
[]
[]
[]
[null,null,null,null,{"$f":"IF(SUM(L132:L133)=0,0,VLOOKUP(1,L132:T133,8,FALSE)*B326)","v":227.05910597750699},"kWh/d",null,null,{"$f":"IF(SUM(L135:L142)=0,0,VLOOKUP(1,L135:T142,8,FALSE)*F326)","v":226.03168920837797},"kWh/d",null,null,{"$f":"IF(SUM(L144:L150)=0,0,VLOOKUP(1,L144:T150,8,FALSE)*J326)","v":27.740252766482751},"kWh/d",null,null,{"$f":"IF(SUM(L152:L153)=0,0,VLOOKUP(1,L152:T153,8,FALSE)*N326)","v":0},"kWh/d"]
[]
[]
[null,{"$f":"'Production & Extraction'!M35*'Production & Extraction'!M52","v":6462.5535861680128},"bwpd",{"$f":"IF(SUM(L132:L133)=0,\"N/A\",VLOOKUP(1,L132:T133,5,FALSE))","v":"DAF"},null,{"$f":"B326-E329","v":6462.5535861680128},"bwpd",{"$f":"VLOOKUP(1,L135:T142,5,FALSE)","v":"RBC"},null,{"$f":"F326-I329","v":6462.5535861680128},"bwpd",{"$f":"IF(SUM(L144:L150)=0,\"N/A\",VLOOKUP(1,L144:T150,5,FALSE))","v":"DMF"},null,{"$f":"J326-M329","v":6462.5535861680128},"bwpd",{"$f":"IF(SUM(L152:L153)=0,\"N/A\",VLOOKUP(1,L152:T153,5,FALSE))","v":"N/A"},null,{"$f":"N326-Q329","v":6462.5535861680128},"bwpd"]
["Produced water"]
[]
[null,null,null,null,{"$f":"IF(SUM(L132:L133)=0,0,VLOOKUP(1,L132:T133,6,FALSE)*B326/100)","v":0},"bwpd",null,null,{"$f":"VLOOKUP(1,L135:T142,6,FALSE)*F326/100","v":0},"bwpd",null,null,{"$f":"IF(SUM(L144:L150)=0,0,VLOOKUP(1,L144:T150,6,FALSE)*J326/100)","v":0},"bwpd",null,null,{"$f":"IF(SUM(L152:L153)=0,0,VLOOKUP(1,L152:T153,6,FALSE)*N326/100)","v":0},"bwpd"]
[]
[]
[]
[]
[]
[]
[null,null,null,null,{"$f":"IF('Production & Extraction'!M18=1,IF(SUM(N132:N133)=0,0,VLOOKUP(1,N132:T133,6,FALSE)*B339),0)","v":0},"kWh/d",null,null,{"$f":"IF('Production & Extraction'!M18=1,IF(SUM(N135:N142)=0,0,VLOOKUP(1,N135:T142,6,FALSE)*F339),0)","v":0},"kWh/d",null,null,{"$f":"IF('Production & Extraction'!M18=1,IF(SUM(N144:N150)=0,0,VLOOKUP(1,N144:T150,6,FALSE)*J339),0)","v":0},"kWh/d",null,null,{"$f":"IF('Production & Extraction'!M18=1,IF(SUM(N152:N153)=0,0,VLOOKUP(1,N152:T153,6,FALSE)*N339),0)","v":0},"kWh/d"]
[]
[]
[null,{"$f":"F339+E342","v":0},"bwpd",{"$f":"IF(SUM(N132:N133)=0,\"N/A\",VLOOKUP(1,N132:T133,3,FALSE))","v":"DAF"},null,{"$f":"J339+I342","v":0},"bwpd",{"$f":"VLOOKUP(1,N135:T142,3,FALSE)","v":"RBC"},null,{"$f":"N339+M342","v":0},"bwpd",{"$f":"IF(SUM(N144:N150)=0,\"N/A\",VLOOKUP(1,N144:T150,3,FALSE))","v":"DMF"},null,{"$f":"R339+Q342","v":0},"bwpd",{"$f":"IF(SUM(N152:N153)=0,\"N/A\",VLOOKUP(1,N152:T153,3,FALSE))","v":"N/A"},null,{"$f":"IF('Production & Extraction'!M18=1,'Production & Extraction'!M135-R326,0)","v":0},"bwpd"]
["Imported water"]
[]
[null,null,null,null,0,"bwpd",null,null,0,"bwpd",null,null,{"$f":"IF(SUM(L157:L163)=0,0,VLOOKUP(1,L157:T163,6,FALSE)*J339/100)","v":0},"bwpd",null,null,0,"bwpd"]
[]
[]
[]
["Note(s): "]
["1. No complete data is available on the volume losses in each treatment stage. To avoid the error of circular reference the volume losses are left as user input in imported water treatment and the default is zero."]
["2. Volume losses are small except in the case of wetlands"]
["3. It is seen that the electricity consumption in water treatment is significant in the cases of sea water desalination for injection"]

{"sheet":"Maintenance","index":11,"n_rows":3,"n_cols":1,"rows_kept":3,"cut":false,"hidden":false,"merged":[]}
["Maintenance"]
[]
["Maintenance is included in the current model version within the venting, flaring and fugitive (VFF) supplemental worksheet."]

{"sheet":"Waste Disposal","index":12,"n_rows":3,"n_cols":1,"rows_kept":3,"cut":false,"hidden":false,"merged":[]}
["Waste disposal"]
[]
["Waste disposal is not included in the current version of the model."]

{"sheet":"Crude Transport","index":13,"n_rows":95,"n_cols":14,"rows_kept":95,"cut":false,"hidden":false,"merged":[[54,0,54,2],[76,0,76,1],[27,0,27,3],[30,0,30,3],[31,0,31,3],[38,0,38,2],[53,0,53,2],[53,3,53,6],[33,0,33,3],[34,0,34,3]]}
["Crude Transport"]
[]
["Calculation of GHG emissions from crude oil transportation to refinery"]
["Based on CA-GREET model"]
[]
["1  Results"]
[]
[null,null,null,null,null,null,null,null,null,null,null,null,"Value","Units"]
["1.1   Total energy consumption",null,null,null,null,null,null,null,null,null,null,null,{"$f":"M94/1000000","v":1.2654909091106279E-2},"MJ/MJ"]
["1.2   Total GHG emissions",null,null,null,null,null,null,null,null,null,null,null,{"$f":"M95/('Input data'!E46)","v":0.89124677488936765},"gCO2eq/MJ"]
[]
["2  Input assumptions and data"]
[]
[]
["Table 2.1: Cargo Payload By Transportation Mode and by Product Fuel Type: Tons"]
["Fuel Transported",null,"Crude Oil"]
["Ocean Tanker",null,{"$f":"'User Inputs & Results'!J134","v":250000}]
["Barge",null,22500]
[]
[]
["Table 2.2: Horsepower Requirements for Ocean Tanker and Barges: Calculated with Cargo Capacity (unit is in HP)"]
[null,"Crude Oil"]
["Ocean Tanker",{"$f":"9070+0.101*C17","v":34320}]
["Barge",{"$f":"5600/22500*C18","v":5600}]
[]
[]
["Table 2.3: Energy Consumption for Ocean Tanker and Barge"]
[null,null,null,null,"Ocean Tanker","Barge"]
["Average Speed (Miles/Hour) ",null,null,null,18.52,5]
["Trip from Product Origin to Destination"]
["    Load Factor",null,null,null,0.8,0.8]
["    Energy Consumption: Btu/hp-hr",null,null,null,{"$f":"(14.42/E31+150)*0.735*'Fuel Specs'!E332/'Fuel Specs'!G332","v":4619.7517108205893},{"$f":"(14.42/F31+350)*0.735*'Fuel Specs'!E332/'Fuel Specs'!G332","v":10118.637841837508}]
["Trip from Product Destination Back to Origin"]
["    Load Factor",null,null,null,0.7,0.6]
["    Energy Consumption: Btu/hp-hr",null,null,null,{"$f":"(14.42/E34+150)*0.735*'Fuel Specs'!E332/'Fuel Specs'!G332","v":4690.5498697574321},{"$f":"(14.42/F34+350)*0.735*'Fuel Specs'!E332/'Fuel Specs'!G332","v":10283.833546023476}]
["Notes: The load factor is the percentage of installed horsepower that is used for the trip"]
[]
["Table 2.4: Energy Intensity of Rail Transportation: Btu/ton-mile"]
["Trip",null,null,"Intensity"]
["Trip from Product Origin to Destination",null,null,370]
["Trip from Product Destination Back to Origin",null,null,370]
[]
[]
["Table 2.5: Energy Intensity of Pipeline Transportation: Btu/ton-mile"]
[null,"Turbine","Reciprocating Engine: Current","Reciprocating Engine: Future"]
["Crude Pipeline",240,270,260]
[]
["Table 2.6: Share of Power Generation Technologies for Pipeline Compression Stations"]
[null,"Turbine","Reciprocating Engine: Current","Reciprocating Engine: Future"]
["Crude Pipeline",0.55000000000000004,0.36,0.09]
[]
[]
["Table 2.7: Energy Consumption and Emissions of Feedstock Transportation "]
["Feedstock",null,null,"Crude Oil"]
["Transportation Mode",null,null,"Ocean Tanker","Barge","Pipeline","Rail"]
["Distance (Miles, one-way) - Default",null,null,{"$f":"'User Inputs & Results'!K130","v":5082},{"$f":"'User Inputs & Results'!K131","v":500},{"$f":"'User Inputs & Results'!K132","v":750},{"$f":"'User Inputs & Results'!K133","v":800}]
["Distance (Miles, one-way)",null,null,{"$f":"'User Inputs & Results'!J130","v":5082},{"$f":"'User Inputs & Results'!J131","v":500},{"$f":"'User Inputs & Results'!J132","v":750},{"$f":"'User Inputs & Results'!J133","v":800}]
["Share of Fuel Type Used:"]
["                   Diesel",null,null,0,0,0.45,1]
["                   Residual Oil",null,null,{"$f":"1-D59","v":1},{"$f":"1-E59","v":1},"NA","NA"]
["                   Natural Gas",null,null,0,0,0.55000000000000004,"NA"]
["                   Electricity",null,null,"NA","NA","NA","NA"]
["Energy Intensity: Btu/ton-mile"]
["                  Origin to Destination",null,null,{"$f":"E32*E31*B23/E29/C17","v":27.39522742382076},{"$f":"F32*F31*B24/C18/F29","v":402.94664472384028},{"$f":"SUMPRODUCT(B46:D46,B50:D50)","v":252.6},{"$f":"D40","v":370}]
["                  Back-Haul",null,null,{"$f":"E35*E34*B23/C17/E29","v":24.338179281004866},{"$f":"F35*F34*B24/C18/F29","v":307.14382857456775}]
["Total Energy consumption: Btu/MMBtu-mile fuel transported",null,null,{"$f":"(D64+D65)*(1/'Fuel Specs'!M14)*('Input data'!E202*VLOOKUP('Production & Extraction'!M32,'Fuel Specs'!B21:O62,2,TRUE))*1/2000","v":1.4401699505022931},{"$f":"(E64+E65)*(1/'Fuel Specs'!M14)*('Input data'!E202*VLOOKUP('Production & Extraction'!M32,'Fuel Specs'!B21:O62,2,TRUE))*1/2000","v":19.767709627499297},{"$f":"(F64+F65)*(1/'Fuel Specs'!M14)*('Input data'!E202*VLOOKUP('Production & Extraction'!M32,'Fuel Specs'!B21:O62,2,TRUE))*1/2000","v":7.0319538702048341},{"$f":"(G64+G65)*(1/'Fuel Specs'!M14)*('Input data'!E202*VLOOKUP('Production & Extraction'!M32,'Fuel Specs'!B21:O62,2,TRUE))*1/2000","v":10.300169960315868}]
["Total Emissions: grams/MMBtu-mile fuel transported"]
["              VOC (incl. VOC from bulk terminal)",null,null,{"$f":"D$66/1000000*(D$59*'Emissions Factors'!C140+D$60*'Emissions Factors'!D140+D$61*'Emissions Factors'!E140)","v":1.1510558768894567E-4},{"$f":"E$66/1000000*(E$59*'Emissions Factors'!F140+E$60*'Emissions Factors'!G140+E$61*'Emissions Factors'!H140)","v":4.8919150502399272E-4},{"$f":"F$66/1000000*(F$59*'Emissions Factors'!L140+F$61*'Emissions Factors'!J140)","v":1.3280829357423658E-4},{"$f":"G$66/1000000*(G$59*'Emissions Factors'!I140)","v":7.2863400098920755E-4}]
["              CO",null,null,{"$f":"D$66/1000000*(D$59*'Emissions Factors'!C141+D$60*'Emissions Factors'!D141+D$61*'Emissions Factors'!E141)","v":2.6163424387950487E-4},{"$f":"E$66/1000000*(E$59*'Emissions Factors'!F141+E$60*'Emissions Factors'!G141+E$61*'Emissions Factors'!H141)","v":4.3487576692778874E-3},{"$f":"F$66/1000000*(F$59*'Emissions Factors'!L141+F$61*'Emissions Factors'!J141)","v":1.752848109272089E-3},{"$f":"G$66/1000000*(G$59*'Emissions Factors'!I141)","v":2.1059212680965551E-3}]
["              CH4 (incl. fugitive)",null,null,{"$f":"D$66/1000000*(D$59*'Emissions Factors'!C142+D$60*'Emissions Factors'!D142+D$61*'Emissions Factors'!E142)","v":6.5974183289923221E-6},{"$f":"E$66/1000000*(E$59*'Emissions Factors'!F142+E$60*'Emissions Factors'!G142+E$61*'Emissions Factors'!H142)","v":2.3970383746175647E-5},{"$f":"F$66/1000000*(F$59*'Emissions Factors'!L142+F$61*'Emissions Factors'!J142)","v":1.0391610470772597E-4},{"$f":"G$66/1000000*(G$59*'Emissions Factors'!I142)","v":4.0582670233024969E-5}]
["              N2O",null,null,{"$f":"D$66/1000000*(D$59*'Emissions Factors'!C143+D$60*'Emissions Factors'!D143+D$61*'Emissions Factors'!E143)","v":2.8803399010045862E-6},{"$f":"E$66/1000000*(E$59*'Emissions Factors'!F143+E$60*'Emissions Factors'!G143+E$61*'Emissions Factors'!H143)","v":3.9535419254998591E-5},{"$f":"F$66/1000000*(F$59*'Emissions Factors'!L143+F$61*'Emissions Factors'!J143)","v":1.4063907740409668E-5},{"$f":"G$66/1000000*(G$59*'Emissions Factors'!I143)","v":2.0600339920631735E-5}]
["              CO2",null,null,{"$f":"D$66/1000000*(D$59*'Emissions Factors'!C144+D$60*'Emissions Factors'!D144+D$61*'Emissions Factors'!E144)","v":0.1118318978386592},{"$f":"E$66/1000000*(E$59*'Emissions Factors'!F144+E$60*'Emissions Factors'!G144+E$61*'Emissions Factors'!H144)","v":1.5373918416121057},{"$f":"F$66/1000000*(F$59*'Emissions Factors'!L144+F$61*'Emissions Factors'!J144)","v":0.47378027789813976},{"$f":"G$66/1000000*(G$59*'Emissions Factors'!I144)","v":0.79977171817371207}]
["              GHG",null,null,{"$f":"D68*'Input data'!$C$72+D69*'Input data'!$C$70+D70*'Input data'!$C$71+D71*'Input data'!$C$73+D72","v":0.11363061669942631},{"$f":"E68*'Input data'!$C$72+E69*'Input data'!$C$70+E70*'Input data'!$C$71+E71*'Input data'!$C$73+E72","v":1.5582471620801688},{"$f":"F68*'Input data'!$C$72+F69*'Input data'!$C$70+F70*'Input data'!$C$71+F71*'Input data'!$C$73+F72","v":0.48378548770739044},{"$f":"G68*'Input data'!$C$72+G69*'Input data'!$C$70+G70*'Input data'!$C$71+G71*'Input data'!$C$73+G72","v":0.812553425657907}]
[]
[]
["Table 2.8: Percentage of Fuel Transported by a Given Mode"]
["Mode",null,"Percent"]
["           Ocean tanker",null,{"$f":"'User Inputs & Results'!J125","v":1}]
["           Barge",null,{"$f":"'User Inputs & Results'!J126","v":0}]
["           Pipeline",null,{"$f":"'User Inputs & Results'!J127","v":1}]
["           Rail",null,{"$f":"'User Inputs & Results'!J128","v":0}]
["Notes:"]
["The shares here are for each mode traveled by the distance assumed above."]
["The total percentage of all modes may exceed 100% for some feedstocks or fuels because more than one transportation legs may be involved for transporting the feedstocks."]
[]
[]
["Table 2.9: Feed losses: Btu/MMBtu fuel transported"]
["Feed loss",62]
[]
[]
["3  Calculations"]
[]
[null,null,null,null,null,null,null,null,null,null,null,null,"Value","Unit"]
["3.1   Crude transport energy consumption",null,null,null,null,null,null,null,null,null,null,null,{"$f":"D57*D66*C78+E57*E66*C79+F57*F66*C80+G57*G66*C81+B88","v":12654.909091106279},"Btu/MMBtu"]
["3.2   Crude transport GHG emissions",null,null,null,null,null,null,null,null,null,null,null,{"$f":"D57*D73*C78+E57*E73*C79+F57*F73*C80+G57*G73*C81","v":940.30990984702726},"gCO2eq/MMBtu"]

{"sheet":"Bitumen Extraction & Upgrading","index":14,"n_rows":290,"n_cols":29,"rows_kept":290,"cut":false,"hidden":false,"merged":[]}
["Bitumen extraction and upgrading"]
[]
["This worksheet contains a simple model of emissions from bitumen extraction and upgrading"]
[]
["1  Results"]
[]
[null,null,null,null,null,null,null,null,null,null,null,null,"User","Units",null,null,"User reference",null,"Default reference",null,null,"Notes"]
["1.1   Total energy consumption",null,null,null,null,null,null,null,null,null,null,null,{"$f":"M9+M12","v":0.23888923938760484},"MJ/MJ"]
[null,"1.1.1   Total energy consumption primary extraction",null,null,null,null,null,null,null,null,null,null,{"$f":"M10+M11","v":7.519055352960427E-2},"MJ/MJ"]
[null,null,"1.1.1.1   Direct energy consumption primary extraction",null,null,null,null,null,null,null,null,null,{"$f":"(M161)/(IF(M52=1,M38,M71))","v":8.8772426343331892E-2},"MJ/MJ"]
[null,null,"1.1.1.2   Indirect energy consumption primary extraction",null,null,null,null,null,null,null,null,null,{"$f":"(M164)/(IF(M52=1,M38,M71))","v":-1.3581872813727618E-2},"MJ/MJ"]
[null,"1.1.2   Total energy consumption upgrading",null,null,null,null,null,null,null,null,null,null,{"$f":"M13+M14","v":0.16369868585800057},"MJ/MJ"]
[null,null,"1.1.2.1   Direct energy consumption upgrading",null,null,null,null,null,null,null,null,null,{"$f":"(M162)/(IF(M52=1,M38,M71))","v":0.15063085065237033},"MJ/MJ"]
[null,null,"1.1.2.2   Indirect energy consumption upgrading",null,null,null,null,null,null,null,null,null,{"$f":"(M165)/(IF(M52=1,M38,M71))","v":1.3067835205630223E-2},"MJ/MJ"]
[]
["1.2   Total GHG emissions (excluding VFF)",null,null,null,null,null,null,null,null,null,null,null,{"$f":"M17+M21","v":15.514667387799907},"gCO2eq/MJ",null,null,null,null,null,null,null,"Excludes exploration, drilling, maintenance, waste, and transport"]
[null,"1.2.1   Primary extraction total GHG emissions - combustion emissions",null,null,null,null,null,null,null,null,null,null,{"$f":"M18+M19","v":4.9080549979963441},"gCO2eq/MJ"]
[null,null,"1.2.1.1   Direct emissions primary extraction",null,null,null,null,null,null,null,null,null,{"$f":"(M176)/(IF(M52=1,M38*'Input data'!E46,M71*'Input data'!E46))","v":5.4872814031470192},"gCO2eq/MJ"]
[null,null,"1.2.1.2   Indirect emissions primary extraction",null,null,null,null,null,null,null,null,null,{"$f":"(M179)/(IF(M52=1,M38*'Input data'!E46,M71*'Input data'!E46))","v":-0.57922640515067469},"gCO2eq/MJ"]
[null,"1.2.2   Primary extraction - VFF emissions",null,null,null,null,null,null,null,null,null,null,{"$f":"(M139+M142+M141)/(IF(M52=1,M38*'Input data'!E46,M71*'Input data'!E46))","v":3.617106710876334},"gCO2eq/MJ",null,null,null,null,null,null,null,"No VFF emissions associated with non-integrated upgrading, so we assume all VFFs (including from integrated mining & upgrading) come from primary extraction."]
[null,"1.2.2   Upgrading - combustion emissions",null,null,null,null,null,null,null,null,null,null,{"$f":"M22+M23","v":10.606612389803562},"gCO2eq/MJ"]
[null,null,"1.2.2.1   Direct emissions upgrading",null,null,null,null,null,null,null,null,null,{"$f":"(M177)/(IF(M52=1,M38*'Input data'!E46,M71*'Input data'!E46))","v":9.414127943433364},"gCO2eq/MJ"]
[null,null,"1.2.2.2   Indirect emissions upgrading",null,null,null,null,null,null,null,null,null,{"$f":"(M180)/(IF(M52=1,M38*'Input data'!E46,M71*'Input data'!E46))","v":1.1924844463701987},"gCO2eq/MJ"]
[]
[]
["2 Input assumptions and data"]
[null,null,null,null,null,null,null,null,null,null,null,null,"User","Default","Units",null,"User reference",null,"Default reference",null,null,"Notes"]
[null,"2.1   Crude or SCO name",null,null,null,null,null,null,null,null,null,null,"Generic","Generic"]
[]
[null,"2.2   Crude bitumen properties"]
[null,null,"2.2.1   Crude bitumen API gravity",null,null,null,null,null,null,null,null,null,8,8,"deg. API",null,null,null,"GHGenius 4.0c",null,null,"Default bitumen API gravity in GHGenius 4.0c"]
[null,null,"2.2.2   Crude bitumen specific gravity",null,null,null,null,null,null,null,null,null,{"$f":"141.5/(131.5+M31)","v":1.0143369175627239},{"$f":"141.5/(131.5+N31)","v":1.0143369175627239},"sg"]
[null,null,"2.2.3   Crude bitumen heating value",null,null,null,null,null,null,null,null,null,{"$f":"VLOOKUP(M31,'Fuel Specs'!B22:O63,5)","v":6.1009200000000003},{"$f":"VLOOKUP(N31,'Fuel Specs'!B22:O63,5)","v":6.1009200000000003},"MMBtu/bbl (LHV)"]
[]
[null,"2.3   Synthetic crude oil (SCO) properties"]
[null,null,"2.3.1   SCO API gravity",null,null,null,null,null,null,null,null,null,32,32,"deg. API",null,null,null,"www.crudemonitor.ca",null,null,"Typical value for Suncor Synthetic A"]
[null,null,"2.3.2   SCO specific gravity",null,null,null,null,null,null,null,null,null,{"$f":"141.5/(131.5+M36)","v":0.86544342507645255},{"$f":"141.5/(131.5+N36)","v":0.86544342507645255},"sg"]
[null,null,"2.3.3   SCO heating value",null,null,null,null,null,null,null,null,null,{"$f":"VLOOKUP(M36,'Fuel Specs'!B22:O63,5)","v":5.4650400000000001},{"$f":"VLOOKUP(N36,'Fuel Specs'!B22:O63,5)","v":5.4650400000000001},"MMBtu/bbl (LHV)"]
[]
[null,"2.4   Diluent properties"]
[null,null,"2.4.1   Diluent API gravity",null,null,null,null,null,null,null,null,null,{"$f":"141.5/M42-131.5","v":59.372302158273357},{"$f":"141.5/N42-131.5","v":59.372302158273357},"deg. API"]
[null,null,"2.4.2   Diluent specific gravity",null,null,null,null,null,null,null,null,null,{"$f":"AVERAGE(C249:C251)/1000","v":0.7413333333333334},{"$f":"AVERAGE(C249:C251)/1000","v":0.7413333333333334},"sg"]
[null,null,"2.4.3   Diluent heating value",null,null,null,null,null,null,null,null,null,{"$f":"AVERAGE(AB249:AB251)","v":5.3935573129302901},{"$f":"AVERAGE(AB249:AB251)","v":5.3935573129302901},"MMBtu/bbl (LHV)"]
[]
[]
[null,"2.5   Oil production rate (choose bitumen output or SCO below)",null,null,null,null,null,null,null,null,null,null,{"$f":"'Production & Extraction'!M35","v":1500},1500,"STB/d"]
[null,null,null,null,null,null,null,null,null,null,null,null,{"$f":"M46*M33*1000*M53+M46*M38*1000*M52","v":8197559.9999999991},{"$f":"N46*N33*1000*N53+N46*N38*1000*N52","v":8197559.9999999991},"Mbtu LHV/d"]
[null,null,null,null,null,null,null,null,null,null,null,null,{"$f":"M47*1055.05/1000","v":8648835.6779999975},{"$f":"N47*1055.05/1000","v":8648835.6779999975},"MJ/d"]
[]
[null,"2.6   Project pathway choices"]
[null,null,"2.6.1   Upgrading or blending"]
[null,null,null,"2.6.1.1   Hydrocarbon upgraded - Produce SCO",null,null,null,null,null,null,null,null,1,1,"NA"]
[null,null,null,"2.6.1.2   Hydrocarbon not upgraded - Produce bitumen for dilution",null,null,null,null,null,null,null,null,0,0,"NA"]
[null,null,null,null,null,null,null,null,null,null,null,"Check:",{"$f":"IF(SUM(M52:M53)=1,\"OK\",\"ERROR\")","v":"OK"},{"$f":"IF(SUM(N52:N53)=1,\"OK\",\"ERROR\")","v":"OK"},null,null,null,null,null,null,null,"Only choose one type of product."]
[]
[null,null,"2.6.2   Primary extraction methodology"]
[null,null,null,"2.6.2.1   Mining integrated",null,null,null,null,null,null,null,null,1,1,"NA"]
[null,null,null,"2.6.2.2   Mining non-integrated",null,null,null,null,null,null,null,null,0,0,"NA"]
[null,null,null,"2.6.2.3   In situ - Non-thermal production (primary)",null,null,null,null,null,null,null,null,0,0,"NA"]
[null,null,null,"2.6.2.4   In situ - Steam assisted gravity drainage (SAGD)",null,null,null,null,null,null,null,null,0,0,"NA"]
[null,null,null,"2.6.2.5   In situ - Cyclic steam stimulation (CSS)",null,null,null,null,null,null,null,null,0,0,"NA"]
[null,null,null,null,null,null,null,null,null,null,null,"Check:",{"$f":"IF(SUM(M57:M61)=1,IF(M53=1,IF(M57=1,\"ERROR\",\"OK\"),\"OK\"),\"ERROR\")","v":"OK"},{"$f":"IF(SUM(N57:N61)=1,\"OK\",\"ERROR\")","v":"OK"},null,null,null,null,null,null,null,"Only choose one extraction method.  You cannot choose \"Mining integrated\" if your choose \"non-upgraded\".  Otherwise, any extraction type can be chosen with \"non-upgraded\"."]
[null,"2.7   In situ steam oil ratio (SOR)"]
[null,null,"2.7.1   Steam assisted gravity drainage (SAGD) SOR",null,null,null,null,null,null,null,null,null,3,3,"bbl steam/bbl bitumen",null,null,null,"GHGenius 4.0c, (S&T)2 March 2011 Update of oil production and refining in GHGenius, p. 44",null,null,"Default SOR for SAGD operations used to compute energy intensity of SAGD"]
[null,null,"2.7.2   Cyclic steam stimulation (CSS) SOR",null,null,null,null,null,null,null,null,null,3.9,3.9,"bbl steam/bbl bitumen",null,null,null,"GHGenius 4.0c, (S&T)2 March 2011 Update of oil production and refining in GHGenius, p. 42",null,null,"Default SOR for CSS operations used to compute energy intensity of CSS"]
[]
[]
[null,"2.8   Diluent blending"]
[null,null,"2.8.1   Volume fraction of dilbit as diluent",null,null,null,null,null,null,null,null,null,0.25,0.25,"bbl diluent/bbl dilbit",null,null,null,null,null,null,"Moderate value from the literature.  Cited diluent blend percentages range from 20-40%"]
[null,null,"2.8.2   Volume fraction of dilbit as bitumen",null,null,null,null,null,null,null,null,null,{"$f":"1-M69","v":0.75},{"$f":"1-N69","v":0.75},"bbl bitumen/bbl dilbit"]
[null,null,"2.8.3   Dilbit heating value",null,null,null,null,null,null,null,null,null,{"$f":"M69*M43+M70*M33","v":5.9240793282325725},{"$f":"N69*N43+N70*N33","v":5.9240793282325725},"MMBtu/bbl dilbit"]
[]
[null,"2.9   Fuels imported for extraction (or recorded as net imports)"]
[null,null,"2.9.1   Diesel fuel ",null,null,null,null,null,null,null,null,null,0,0]
[null,null,"2.9.2   Natural gas ",null,null,null,null,null,null,null,null,null,1,1]
[null,null,"2.9.3   Electricity",null,null,null,null,null,null,null,null,null,1,1]
[null,null,"2.9.4   Coke",null,null,null,null,null,null,null,null,null,0,0]
[null,null,"2.9.5   Still Gas",null,null,null,null,null,null,null,null,null,0,0]
[null,null,"2.9.6   Diluent",null,null,null,null,null,null,null,null,null,1,1]
[]
[null,"2.10   Fuels imported for upgrading (or recorded as net imports)"]
[null,null,"2.9.1   Diesel fuel ",null,null,null,null,null,null,null,null,null,0,0]
[null,null,"2.9.2   Natural gas ",null,null,null,null,null,null,null,null,null,1,1]
[null,null,"2.9.3   Electricity",null,null,null,null,null,null,null,null,null,1,1]
[null,null,"2.9.4   Coke",null,null,null,null,null,null,null,null,null,0,0]
[null,null,"2.9.5   Still Gas",null,null,null,null,null,null,null,null,null,0,0]
[]
[]
[null,"2.11   Associated gas composition",null,null,null,null,null,null,null,null,null,"N2",{"$f":"N89","v":2},{"$f":"'User Inputs & Results'!K80","v":2},"mol%"]
[null,null,null,null,null,null,null,null,null,null,null,"CO2",{"$f":"N90","v":6},{"$f":"'User Inputs & Results'!K81","v":6},"mol%"]
[null,null,null,null,null,null,null,null,null,null,null,"C1",84,{"$f":"'User Inputs & Results'!K82","v":84},"mol%"]
[null,null,null,null,null,null,null,null,null,null,null,"C2",4,{"$f":"'User Inputs & Results'!K83","v":4},"mol%"]
[null,null,null,null,null,null,null,null,null,null,null,"C3",2,{"$f":"'User Inputs & Results'!K84","v":2},"mol%"]
[null,null,null,null,null,null,null,null,null,null,null,"C4+",1,{"$f":"'User Inputs & Results'!K85","v":1},"mol%"]
[null,null,null,null,null,null,null,null,null,null,null,"H2S",1,{"$f":"'User Inputs & Results'!K86","v":1},"mol%"]
[]
[null,"2.12   Land use impact inputs"]
[null,null,"2.12.1   Crude ecosystem carbon richness"]
[null,null,null,"1=","Low carbon richness (semi-arid grasslands)",null,null,null,null,null,null,null,0,0,"NA",null,null,null,"Yeh et al. (2010)",null,null,null,null,null,"Corresponds to Yeh et al. (2010) California Marginal case (Table 3)"]
[null,null,null,"2=","Moderate carbon richness (mixed)",null,null,null,null,null,null,null,1,1,"NA",null,null,null,"Yeh et al. (2010)",null,null,null,null,null,"Corresponds to mixed ecosystem"]
[null,null,null,"3=","High carbon richness (forested)",null,null,null,null,null,null,null,0,0,"NA",null,null,null,"Yeh et al. (2010)",null,null,null,null,null,"Corresponds to Yeh et al. (2010) Alberta Marginal case"]
[null,null,null,null,null,null,null,null,null,null,null,"Check:",{"$f":"IF(SUM(M99:M101)=1,\"OK\",\"ERROR\")","v":"OK"},{"$f":"IF(SUM(N99:N101)=1,\"OK\",\"ERROR\")","v":"OK"}]
[null,null,"2.12.2   Field development intensity"]
[null,null,null,"1=","Low intensity development and low oxidation",null,null,null,null,null,null,null,0,0,"NA",null,null,null,"Yeh et al. (2010)",null,null,null,null,null,"Corresponds to Yeh et al. (2010) low end of range (Table 3)"]
[null,null,null,"2=","Moderate intensity development and moderate oxidation",null,null,null,null,null,null,null,1,1,"NA",null,null,null,"Yeh et al. (2010)",null,null,null,null,null,"Corresponds to Yeh et al. (2010) representative value (Table 3)"]
[null,null,null,"3=","High intensity development and high oxidation",null,null,null,null,null,null,null,0,0,"NA",null,null,null,"Yeh et al. (2010)",null,null,null,null,null,"Corresponds to Yeh et al. (2010) high end of range (Table 3)"]
[null,null,null,null,null,null,null,null,null,null,null,"Check:",{"$f":"IF(SUM(M104:M106)=1,\"OK\",\"ERROR\")","v":"OK"},{"$f":"IF(SUM(N104:N106)=1,\"OK\",\"ERROR\")","v":"OK"}]
[]
[null,null,null,null,null,null,null,null,null,null,"Emissions code:",null,{"$f":"IF(SUM(M59:M61)=1,(M99*M104*1+M99*M105*2+M99*M106*3+M100*M104*4+M100*M105*5+M100*M106*6+M101*M104*7+M101*M105*8+M101*M106*9),IF(SUM(M57:M58)=1,M104*10+M105*11+M106*12,\"ERROR\"))","v":11},{"$f":"IF(SUM(N59:N61)=1,(N99*N104*1+N99*N105*2+N99*N106*3+N100*N104*4+N100*N105*5+N100*N106*6+N101*N104*7+N101*N105*8+N101*N106*9),IF(SUM(N57:N58)=1,N104*10+N105*11+N106*12,\"ERROR\"))","v":11}]
[]
[]
["3 Calculations"]
[]
[]
["3.1   Direct energy consumption",null,null,null,null,null,null,null,null,null,null,null,"User","Units",null,null,null,null,null,null,null,"Notes"]
[null,"3.1.1   Energy consumed primary extraction (in situ and mining, includes mining for integrated mining & upgrading)"]
[null,null,"3.1.1.1   Diesel fuel ",null,null,null,null,null,null,null,null,null,{"$f":"M$52*(M$58*$F198+M$59*$C198+M$60*$D198+M$61*$E198+M$57*$F198)/$C$241+M$53*(M$58*$F198+M$59*$C198+M$60*$D198+M$61*$E198)*M$70","v":0.16263429341651917},{"$f":"IF($M$52=1,\"MMBtu/bbl SCO\",\"MMBtu/bbl dilbit\")","v":"MMBtu/bbl SCO"}]
[null,null,"3.1.1.2   Natural gas ",null,null,null,null,null,null,null,null,null,{"$f":"M$52*(M$58*$F199+M$59*$C199+M$60*$D199*(M$64/$C$234)+M$61*$E199*(M$65/$C$233)+M$57*$F199)/$C$241+M$53*(M$58*$F199+M$59*$C199+M$60*$D199*(M$64/$C$234)+M$61*$E199*(M$65/$C$233))*M$70","v":0.32251056744684331},{"$f":"IF($M$52=1,\"MMBtu/bbl SCO\",\"MMBtu/bbl dilbit\")","v":"MMBtu/bbl SCO"}]
[null,null,"3.1.1.3   Electricity",null,null,null,null,null,null,null,null,null,{"$f":"M$52*(M$58*$F200+M$59*$C200+M$60*$D200+M$61*$E200+M$57*$F200)/$C$241+M$53*(M$58*$F200+M$59*$C200+M$60*$D200+M$61*$E200)*M$70","v":-3.2400081260505788E-2},{"$f":"IF($M$52=1,\"MMBtu/bbl SCO\",\"MMBtu/bbl dilbit\")","v":"MMBtu/bbl SCO"}]
[null,null,"3.1.1.4   Coke",null,null,null,null,null,null,null,null,null,{"$f":"M$52*(M$58*$F201+M$59*$C201+M$60*$D201+M$61*$E201+M$57*$F201)/$C$241+M$53*(M$58*$F201+M$59*$C201+M$60*$D201+M$61*$E201)*M$70","v":0},{"$f":"IF($M$52=1,\"MMBtu/bbl SCO\",\"MMBtu/bbl dilbit\")","v":"MMBtu/bbl SCO"}]
[null,null,"3.1.1.5   Still Gas",null,null,null,null,null,null,null,null,null,{"$f":"M$52*(M$58*$F202+M$59*$C202+M$60*$D202+M$61*$E202+M$57*$F202)/$C$241+M$53*(M$58*$F202+M$59*$C202+M$60*$D202+M$61*$E202)*M$70","v":0},{"$f":"IF($M$52=1,\"MMBtu/bbl SCO\",\"MMBtu/bbl dilbit\")","v":"MMBtu/bbl SCO"}]
[]
[null,"3.1.2   Energy consumed upgrading (includes upgrading for integrated mining & upgrading)"]
[null,null,"3.1.2.1   Diesel fuel ",null,null,null,null,null,null,null,null,null,{"$f":"$M$52*($M$58+$M$59+$M$60+$M$61)*C224 + $M$52*$M$57*(D224-F198/$C$241)","v":-8.8861870672929805E-2},{"$f":"IF($M$52=1,\"MMBtu/bbl SCO\",\"MMBtu/bbl dilbit\")","v":"MMBtu/bbl SCO"}]
[null,null,"3.1.2.2   Natural gas ",null,null,null,null,null,null,null,null,null,{"$f":"$M$52*($M$58+$M$59+$M$60+$M$61)*C225 + $M$52*$M$57*(D225-F199/$C$241)","v":0.28980759634658088},{"$f":"IF($M$52=1,\"MMBtu/bbl SCO\",\"MMBtu/bbl dilbit\")","v":"MMBtu/bbl SCO"}]
[null,null,"3.1.2.3   Electricity",null,null,null,null,null,null,null,null,null,{"$f":"$M$52*($M$58+$M$59+$M$60+$M$61)*C226 + $M$52*$M$57*(D226-F200/$C$241)","v":1.9358565364988277E-2},{"$f":"IF($M$52=1,\"MMBtu/bbl SCO\",\"MMBtu/bbl dilbit\")","v":"MMBtu/bbl SCO"}]
[null,null,"3.1.2.4   Coke",null,null,null,null,null,null,null,null,null,{"$f":"$M$52*($M$58+$M$59+$M$60+$M$61)*C227 + $M$52*$M$57*(D227-F201/$C$241)","v":0.19664978203226108},{"$f":"IF($M$52=1,\"MMBtu/bbl SCO\",\"MMBtu/bbl dilbit\")","v":"MMBtu/bbl SCO"}]
[null,null,"3.1.2.5   Still Gas",null,null,null,null,null,null,null,null,null,{"$f":"$M$52*($M$58+$M$59+$M$60+$M$61)*C228 + $M$52*$M$57*(D228-F202/$C$241)","v":0.40624955097832949},{"$f":"IF($M$52=1,\"MMBtu/bbl SCO\",\"MMBtu/bbl dilbit\")","v":"MMBtu/bbl SCO"}]
[]
[null,"3.1.3   Direct energy consumed (net, extraction + upgrading)"]
[null,null,"3.1.3.1   Diesel fuel ",null,null,null,null,null,null,null,null,null,{"$f":"M117+M124","v":7.3772422743589361E-2},{"$f":"IF($M$52=1,\"MMBtu/bbl SCO\",\"MMBtu/bbl dilbit\")","v":"MMBtu/bbl SCO"}]
[null,null,"3.1.3.2   Natural gas ",null,null,null,null,null,null,null,null,null,{"$f":"M118+M125","v":0.61231816379342419},{"$f":"IF($M$52=1,\"MMBtu/bbl SCO\",\"MMBtu/bbl dilbit\")","v":"MMBtu/bbl SCO"}]
[null,null,"3.1.3.3   Electricity",null,null,null,null,null,null,null,null,null,{"$f":"M119+M126","v":-1.3041515895517511E-2},{"$f":"IF($M$52=1,\"MMBtu/bbl SCO\",\"MMBtu/bbl dilbit\")","v":"MMBtu/bbl SCO"}]
[null,null,"3.1.3.4   Coke",null,null,null,null,null,null,null,null,null,{"$f":"M120+M127","v":0.19664978203226108},{"$f":"IF($M$52=1,\"MMBtu/bbl SCO\",\"MMBtu/bbl dilbit\")","v":"MMBtu/bbl SCO"}]
[null,null,"3.1.3.5   Still Gas",null,null,null,null,null,null,null,null,null,{"$f":"M121+M128","v":0.40624955097832949},{"$f":"IF($M$52=1,\"MMBtu/bbl SCO\",\"MMBtu/bbl dilbit\")","v":"MMBtu/bbl SCO"}]
[]
["3.2   Fugitive emissions, venting, and flaring"]
[null,"3.2.1   Gas released via fugitive emissions and direct venting",null,null,null,null,null,null,null,null,null,null,{"$f":"M52*M57*F288+M52*(M58*F288+M59*C288+M60*D288+M61*E288)/C241+M53*M70*(M58*F288+M59*C288+M60*D288+M61*E288)","v":31.209034738304435},{"$f":"IF($M$52=1,\"scf/bbl SCO\",\"scf/bbl dilbit\")","v":"scf/bbl SCO"},null,null,null,null,null,null,null,"Fraction of diluent in product reduces the fugitive emissions because diluent fugitive emissions are counted in the upstream GHG emissions from diluent production (see Fuel Cycle sheet)."]
[null,null,"3.2.1.1   Fugitive emissions GWP weighted",null,null,null,null,null,null,null,null,null,{"$f":"M138*((M90/100*'Input data'!D81*'Input data'!C69)+(M91/100*'Input data'!D82*'Input data'!C71)+((M92/100*'Input data'!D83+M93/100*'Input data'!D84+M94/100*'Input data'!D85)*'Input data'!C72))","v":13720.933874072989},{"$f":"IF($M$52=1,\"gCO2eq./bbl SCO\",\"gCO2eq./bbl dilbit\")","v":"gCO2eq./bbl SCO"}]
[null,"3.2.2   Gas consumed in flares",null,null,null,null,null,null,null,null,null,null,{"$f":"M52*M57*F281+M52*(M58*F281+M59*C281+M60*D281+M61*E281)/C241+M53*M70*(M58*F281+M59*C281+M60*D281+M61*E281)","v":90.031440436023814},{"$f":"IF($M$52=1,\"scf/bbl SCO\",\"scf/bbl dilbit\")","v":"scf/bbl SCO"},null,null,null,null,null,null,null,"Fraction of diluent in product reduces the flaring emissions because diluent fugitive emissions are counted in the upstream GHG emissions from diluent production (see Fuel Cycle sheet)."]
[null,null,"3.2.1.1   Gas flared - Combustion products GWP weighted",null,null,null,null,null,null,null,null,null,{"$f":"Flaring!M48/100*(M140*((M90/100*'Input data'!D81*44/44)+(M91/100*'Input data'!D82*44/16)+(M92/100*'Input data'!D83*2*44/30)+(M93/100*'Input data'!D84*3*44/44)+(M94/100*'Input data'!D85*4*44/58)))","v":5155.8080907578596},{"$f":"IF($M$52=1,\"gCO2eq./bbl SCO\",\"gCO2eq./bbl dilbit\")","v":"gCO2eq./bbl SCO"}]
[null,null,"3.2.1.2   Gas flared - Slippage products GWP weighted",null,null,null,null,null,null,null,null,null,{"$f":"(100-Flaring!M48)/100*(M140*((M90/100*'Input data'!D81*'Input data'!C69)+(M91/100*'Input data'!D82*'Input data'!C71)+((M92/100*'Input data'!D83+M93/100*'Input data'!D84+M94/100*'Input data'!D85)*'Input data'!C72)))","v":1979.0990832761295},{"$f":"IF($M$52=1,\"gCO2eq./bbl SCO\",\"gCO2eq./bbl dilbit\")","v":"gCO2eq./bbl SCO"}]
[]
["3.3   Energy imports (net imports for computing upstream fuel cycle emissions)",null,null,null,null,null,null,null,null,null,null,null,null,null,null,null,null,null,null,null,null,"Products generated onsite include crude oil, diesel fuel, residual fuel, gasoline, coke, still gas.  Electricity is net onsite consumption (negative = export)"]
[null,"3.3.1   Energy imports primary extraction (in situ and mining, includes mining for integrated mining & upgrading)"]
[null,null,"3.3.1.1   Diesel fuel ",null,null,null,null,null,null,null,null,null,{"$f":"M117*M74","v":0},{"$f":"IF($M$52=1,\"MMBtu/bbl SCO\",\"MMBtu/bbl dilbit\")","v":"MMBtu/bbl SCO"}]
[null,null,"3.3.1.2   Natural gas ",null,null,null,null,null,null,null,null,null,{"$f":"M118*M75","v":0.32251056744684331},"MMBtu/bbl SCO"]
[null,null,"3.3.1.3   Electricity",null,null,null,null,null,null,null,null,null,{"$f":"M119*M76","v":-3.2400081260505788E-2},"MMBtu/bbl SCO"]
[null,null,"3.3.1.4   Coke",null,null,null,null,null,null,null,null,null,{"$f":"M120*M77","v":0},"MMBtu/bbl SCO"]
[null,null,"3.3.1.5   Still Gas",null,null,null,null,null,null,null,null,null,{"$f":"M121*M78","v":0},"MMBtu/bbl SCO"]
[null,null,"3.3.1.6   Diluent",null,null,null,null,null,null,null,null,null,{"$f":"M53*M69*M43*M79","v":0},"MMBtu/bbl SCO"]
[null,"3.3.2   Energy imports upgrading (includes upgrading for integrated mining & upgrading)"]
[null,null,"3.3.2.1   Diesel fuel ",null,null,null,null,null,null,null,null,null,{"$f":"M124*M82","v":0},{"$f":"IF($M$52=1,\"MMBtu/bbl SCO\",\"MMBtu/bbl dilbit\")","v":"MMBtu/bbl SCO"}]
[null,null,"3.3.2.2   Natural gas ",null,null,null,null,null,null,null,null,null,{"$f":"M125*M83","v":0.28980759634658088},{"$f":"IF($M$52=1,\"MMBtu/bbl SCO\",\"MMBtu/bbl dilbit\")","v":"MMBtu/bbl SCO"}]
[null,null,"3.3.2.3   Electricity",null,null,null,null,null,null,null,null,null,{"$f":"M126*M84","v":1.9358565364988277E-2},{"$f":"IF($M$52=1,\"MMBtu/bbl SCO\",\"MMBtu/bbl dilbit\")","v":"MMBtu/bbl SCO"}]
[null,null,"3.3.2.4   Coke",null,null,null,null,null,null,null,null,null,{"$f":"M127*M85","v":0},{"$f":"IF($M$52=1,\"MMBtu/bbl SCO\",\"MMBtu/bbl dilbit\")","v":"MMBtu/bbl SCO"}]
[null,null,"3.3.2.5   Still Gas",null,null,null,null,null,null,null,null,null,{"$f":"M128*M86","v":0},{"$f":"IF($M$52=1,\"MMBtu/bbl SCO\",\"MMBtu/bbl dilbit\")","v":"MMBtu/bbl SCO"}]
[]
["3.4 Total energy consumption"]
[null,"3.4.1 Direct energy consumption"]
[null,null,"3.4.1.1   Primary extraction",null,null,null,null,null,null,null,null,null,{"$f":"M117+M118+IF(M119<0,0,M119)+M120+M121","v":0.4851448608633625},{"$f":"IF($M$52=1,\"MMBtu/bbl SCO\",\"MMBtu/bbl dilbit\")","v":"MMBtu/bbl SCO"}]
[null,null,"3.4.1.2   Upgrading",null,null,null,null,null,null,null,null,null,{"$f":"M124+M125+IF(M126<0,0,M126)+M127+M128","v":0.82320362404922998},{"$f":"IF($M$52=1,\"MMBtu/bbl SCO\",\"MMBtu/bbl dilbit\")","v":"MMBtu/bbl SCO"}]
[null,"3.4.2 Indirect energy consumption"]
[null,null,"3.4.2.1   Primary extraction",null,null,null,null,null,null,null,null,null,{"$f":"M147*IF(M147<0,'Fuel Cycle'!E39,'Fuel Cycle'!D59)+M148*(IF(M148<0,'Fuel Cycle'!E41,'Fuel Cycle'!D61))+M151*IF(M147<0,'Fuel Cycle'!E39,'Fuel Cycle'!D59)","v":-7.4225478201933981E-2},{"$f":"IF($M$52=1,\"MMBtu/bbl SCO\",\"MMBtu/bbl dilbit\")","v":"MMBtu/bbl SCO"},null,null,null,null,null,null,null,"Model diluent upstream consumption as identical to natural gas per unit of energy"]
[null,null,"3.4.2.2   Upgrading",null,null,null,null,null,null,null,null,null,{"$f":"M154*IF(M154<0,'Fuel Cycle'!E39,'Fuel Cycle'!D59)+M155*(IF(M155<0,'Fuel Cycle'!E41,'Fuel Cycle'!D61))","v":7.1416242112177397E-2},{"$f":"IF($M$52=1,\"MMBtu/bbl SCO\",\"MMBtu/bbl dilbit\")","v":"MMBtu/bbl SCO"}]
[]
[]
["3.5   Land use GHGs"]
[null,"3.5.1   Soil carbon emissions",null,null,null,null,null,null,null,null,null,null,{"$f":"IF(M$109=0,0,HLOOKUP($M$109,IF('Drilling & Development'!M55=1,'Emissions Factors'!$D$130:$O$133,IF('Drilling & Development'!M55,'Emissions Factors'!$D$120:$O$123,\"ERROR\")),2,TRUE))","v":1.4},{"$f":"IF($M$52=1,\"g/MJ SCO\",\"g/MJ dilbit\")","v":"g/MJ SCO"},null,null,null,"Yeh et al. (2010)",null,null,null,"See above."]
[null,"3.5.2   Biomass carbon emissions",null,null,null,null,null,null,null,null,null,null,{"$f":"IF(M$109=0,0,HLOOKUP($M$109,IF('Drilling & Development'!M55=1,'Emissions Factors'!$D$130:$O$133,IF('Drilling & Development'!M55,'Emissions Factors'!$D$120:$O$123,\"ERROR\")),3,TRUE))","v":0.31},{"$f":"IF($M$52=1,\"g/MJ SCO\",\"g/MJ dilbit\")","v":"g/MJ SCO"},null,null,null,"Yeh et al. (2010)",null,null,null,"See above."]
[null,"3.5.3   Foregone sequestration emissions",null,null,null,null,null,null,null,null,null,null,{"$f":"IF(M$109=0,0,HLOOKUP($M$109,IF('Drilling & Development'!M55=1,'Emissions Factors'!$D$130:$O$133,IF('Drilling & Development'!M55,'Emissions Factors'!$D$120:$O$123,\"ERROR\")),4,TRUE))","v":0.01},"g/MJ SCO",null,null,null,"Yeh et al. (2010)",null,null,null,"See above."]
[null,"3.5.4   Total land use emissions",null,null,null,null,null,null,null,null,null,null,{"$f":"SUM(M169:M171)","v":1.72},"g/MJ SCO"]
[]
["3.6 Total GHG emissions"]
[null,"3.5.1 Direct GHG emissions"]
[null,null,"3.5.1.1   Primary extraction",null,null,null,null,null,null,null,null,null,{"$f":"M117*'Emissions Factors'!M145+M118*'Emissions Factors'!C17+M120*'Emissions Factors'!O17+M121*'Emissions Factors'!C17","v":31639.063449842557},{"$f":"IF($M$52=1,\"g/bbl SCO\",\"g/bbl dilbit\")","v":"g/bbl SCO"}]
[null,null,"3.5.1.2   Upgrading",null,null,null,null,null,null,null,null,null,{"$f":"M124*'Emissions Factors'!M145+M125*'Emissions Factors'!C17+M127*'Emissions Factors'!O17+M128*'Emissions Factors'!C17","v":54280.830422948828},{"$f":"IF($M$52=1,\"g/bbl SCO\",\"g/bbl dilbit\")","v":"g/bbl SCO"}]
[null,"3.5.2 Indirect GHG emissions"]
[null,null,"3.5.2.1   Primary extraction",null,null,null,null,null,null,null,null,null,{"$f":"M146*(IF(M146<0,'Fuel Cycle'!D50,'Fuel Cycle'!D74))+M147*(IF(M147<0,'Fuel Cycle'!D49,'Fuel Cycle'!D73))+M148*(IF(M148<0,'Fuel Cycle'!D51,'Fuel Cycle'!D75))+M149*(IF(M149<0,'Fuel Cycle'!D52,'Fuel Cycle'!D76))+M150*(IF(M150<0,'Fuel Cycle'!D53,'Fuel Cycle'!D77))+M151*(IF(M151<0,'Fuel Cycle'!D49,'Fuel Cycle'!D73))","v":-3339.7559990045584},{"$f":"IF($M$52=1,\"g/bbl SCO\",\"g/bbl dilbit\")","v":"g/bbl SCO"}]
[null,null,"3.5.2.2   Upgrading",null,null,null,null,null,null,null,null,null,{"$f":"M153*(IF(M153<0,'Fuel Cycle'!D50,'Fuel Cycle'!D74))+M154*(IF(M154<0,'Fuel Cycle'!D49,'Fuel Cycle'!D73))+M155*(IF(M155<0,'Fuel Cycle'!D51,'Fuel Cycle'!D75))+M156*(IF(M156<0,'Fuel Cycle'!D52,'Fuel Cycle'!D76))+M157*(IF(M157<0,'Fuel Cycle'!D53,'Fuel Cycle'!D77))","v":6875.7346834844348},{"$f":"IF($M$52=1,\"g/bbl SCO\",\"g/bbl dilbit\")","v":"g/bbl SCO"}]
[]
["4 Data tables"]
[]
[null,"Table 4.1: Energy demand for primary bitumen extraction"]
[null,"Volumetric and mass units"]
[null,null,"Primary","SAGD","CSS","Mining"]
[null,"Diesel fuel ",213.4,0,0,1333.7470000000001,"MJ HHV /tonne bitumen"]
[null,"Natural gas ",4850.8459999999995,9515.1209999999992,10074.834000000001,2738.8620000000001,"MJ HHV /tonne bitumen"]
[null,"Electricity",408.14800000000002,230.63900000000001,195.20099999999999,-248.43799999999999,"MJ HHV /tonne bitumen"]
[null,"Coke",0,0,0,0,"MJ HHV /tonne bitumen"]
[null,"Still Gas",0,0,0,0,"MJ HHV /tonne bitumen"]
[null,"Source: GHGenius v 4.0c, 'Crude Production' I272-I281 for different selected production techniques."]
[null,"Data quality for primary production is poor.  O'Connor models primary production between heavy oil production and SAGD based on a consultancy study (GHGenius oil production update, March 2011, p. 41)"]
[]
[null,"Table 4.2: Energy demand for primary bitumen extraction"]
[null,"Volumetric and mass units"]
[null,null,"Primary","SAGD","CSS","Mining"]
[null,"Diesel fuel ",{"$f":"C187*$M$32*'Input data'!$E$34/'Input data'!$E$46*'Fuel Specs'!$E328/'Fuel Specs'!$F328","v":3.0498370505101482E-2},{"$f":"D187*$M$32*'Input data'!$E$34/'Input data'!$E$46*'Fuel Specs'!$E328/'Fuel Specs'!$F328","v":0},{"$f":"E187*$M$32*'Input data'!$E$34/'Input data'!$E$46*'Fuel Specs'!$E328/'Fuel Specs'!$F328","v":0},{"$f":"F187*$M$32*'Input data'!$E$34/'Input data'!$E$46*'Fuel Specs'!$E328/'Fuel Specs'!$F328","v":0.19061438690753318},"MMBtu LHV/bbl bitumen"]
[null,"Natural gas ",{"$f":"C188*$M$32*'Input data'!$E$34/'Input data'!$E$46*'Fuel Specs'!$E334/'Fuel Specs'!$F334","v":0.66947572704001168},{"$f":"D188*$M$32*'Input data'!$E$34/'Input data'!$E$46*'Fuel Specs'!$E334/'Fuel Specs'!$F334","v":1.3132023876554073},{"$f":"E188*$M$32*'Input data'!$E$34/'Input data'!$E$46*'Fuel Specs'!$E334/'Fuel Specs'!$F334","v":1.3904495869292552},{"$f":"F188*$M$32*'Input data'!$E$34/'Input data'!$E$46*'Fuel Specs'!$E334/'Fuel Specs'!$F334","v":0.3779962564699561},"MMBtu LHV/bbl bitumen"]
[null,"Electricity",{"$f":"C189*$M$32*'Input data'!$E$34/'Input data'!$E$46","v":6.2386309746223792E-2},{"$f":"D189*$M$32*'Input data'!$E$34/'Input data'!$E$46","v":3.5253672916587389E-2},{"$f":"E189*$M$32*'Input data'!$E$34/'Input data'!$E$46","v":2.9836897519460167E-2},{"$f":"F189*$M$32*'Input data'!$E$34/'Input data'!$E$46","v":-3.7974288789194954E-2},"MMBtu LHV/bbl bitumen"]
[null,"Coke",{"$f":"C190*$M$32*'Input data'!$E$34/'Input data'!$E$46*'Fuel Specs'!$E339/'Fuel Specs'!$F339","v":0},{"$f":"D190*$M$32*'Input data'!$E$34/'Input data'!$E$46*'Fuel Specs'!$E339/'Fuel Specs'!$F339","v":0},{"$f":"E190*$M$32*'Input data'!$E$34/'Input data'!$E$46*'Fuel Specs'!$E339/'Fuel Specs'!$F339","v":0},{"$f":"F190*$M$32*'Input data'!$E$34/'Input data'!$E$46*'Fuel Specs'!$E339/'Fuel Specs'!$F339","v":0},"MMBtu LHV/bbl bitumen"]
[null,"Still Gas",{"$f":"C191*$M$32*'Input data'!$E$34/'Input data'!$E$46*'Fuel Specs'!$E334/'Fuel Specs'!$F334","v":0},{"$f":"D191*$M$32*'Input data'!$E$34/'Input data'!$E$46*'Fuel Specs'!$E334/'Fuel Specs'!$F334","v":0},{"$f":"E191*$M$32*'Input data'!$E$34/'Input data'!$E$46*'Fuel Specs'!$E334/'Fuel Specs'!$F334","v":0},{"$f":"F191*$M$32*'Input data'!$E$34/'Input data'!$E$46*'Fuel Specs'!$E334/'Fuel Specs'!$F334","v":0},"MMBtu LHV/bbl bitumen"]
[]
[]
[]
[]
[null,"Table 4.3: Energy demand for upgrading"]
[null,"Energy units (kJ/tonne SCO)"]
[null,null,"Stand-alone upgrader","Integrated mining & upgrading","Units"]
[null,"Diesel fuel ",null,605,"MJ/tonne SCO"]
[null,"Natural gas ",5340,5200,"MJ/tonne SCO"]
[null,"Electricity",217,-100,"MJ/tonne SCO"]
[null,"Coke",1300,1600,"MJ/tonne SCO"]
[null,"Still Gas",4660,3450,"MJ/tonne SCO"]
[null,"Source: GHGenius v 4.0c, 'Crude Production' r270"]
[null,"Notes: GHGenius assumes a 1:1 mass ratio for bitumen to SCO production for stand-alone operations."]
[null,"The density of SCO assumed in GHGenius is not clear, so we assume 32 API as in Suncor Synthetic A synthetic crude oil"]
[null,"We assume that fugitives are same as above for mining operations, but that integrated upgrading adds the remainder as flare emissions."]
[]
[]
[null,"Table 4.4: Energy demand for upgrading"]
[null,"Energy units (MMBtu/bbl SCO)"]
[null,null,"Stand-alone upgrader","Integrated mining & upgrading","Units"]
[null,"Diesel fuel ",{"$f":"C210*$M$37/'Input data'!$E$36/1055.05*'Fuel Specs'!$E328/'Fuel Specs'!$F328","v":0},{"$f":"D210*$M$37/'Input data'!$E$36/1055.05*'Fuel Specs'!$E328/'Fuel Specs'!$F328","v":7.3772422743589361E-2},"MMBtu LHV/bbl SCO"]
[null,"Natural gas ",{"$f":"C211*$M$37/'Input data'!$E$36/1055.05*'Fuel Specs'!$E334/'Fuel Specs'!$F334","v":0.6288036528186316},{"$f":"D211*$M$37/'Input data'!$E$36/1055.05*'Fuel Specs'!$E334/'Fuel Specs'!$F334","v":0.61231816379342419},"MMBtu LHV/bbl SCO"]
[null,"Electricity",{"$f":"C212*$M$37/'Input data'!$E$36/1055.05","v":2.8300089493272999E-2},{"$f":"D212*$M$37/'Input data'!$E$36/1055.05","v":-1.3041515895517511E-2},"MMBtu LHV/bbl SCO"]
[null,"Coke",{"$f":"C213*$M$37/'Input data'!$E$36/1055.05*'Fuel Specs'!$E339/'Fuel Specs'!$F339","v":0.15977794790121214},{"$f":"D213*$M$37/'Input data'!$E$36/1055.05*'Fuel Specs'!$E339/'Fuel Specs'!$F339","v":0.19664978203226108},"MMBtu LHV/bbl SCO"]
[null,"Still Gas",{"$f":"C214*$M$37/'Input data'!$E$36/1055.05*'Fuel Specs'!$E334/'Fuel Specs'!$F334","v":0.54873127755333773},{"$f":"D214*$M$37/'Input data'!$E$36/1055.05*'Fuel Specs'!$E334/'Fuel Specs'!$F334","v":0.40624955097832949},"MMBtu LHV/bbl SCO"]
[]
[]
[null,"Table 4.5: Steam injection rates for in situ projects"]
[null,null,"SOR","Units"]
[null,"CSS",3.9,"bbl steam/bbl bitumen"]
[null,"SAGD",3,"bbl steam/bbl bitumen"]
[null,"GHGenius 4.0c, (S&T)2, March 2011 Update of oil production and refining in GHGenius, p. 40-44"]
[]
[]
[null,"Table 4.6: Volumetric gain upon conversion to SCO"]
[null,null,"Gain","Units"]
[null,"Integrated upgrading gain",{"$f":"(1/1.25)*(M32)*(1/M37)","v":0.93763440860215053},"m3 SCO/m3 bitumen"]
[null,"Stand alone upgrading gain",{"$f":"1*(M32)*(1/M37)","v":1.172043010752688},"m3 SCO/m3 bitumen"]
[null,"Notes:"]
[null,"GHGenius assumes a 1:1 mass ratio for bitumen to SCO production for stand-alone operations."]
[null,"GHGenius assumes a 1.25:1 mass ratio for bitumen to SCO production for integrated upgraders (coking based rather than via hydrogen addition as in stand-alone Scotford upgrader)"]
[]
[]
[null,"Table 4.7: Diluent composition"]
[null,"Diluent type","Density","API gravity","C1-C3","C4","C5","C6","C7","C8","C9","C10","C11","C12","C12+","C","H","Mass C","Mass H","Mass Frac C","Mass Frac H","HHV",null,"LHV",null,"HHV",null,"LHV"]
[null,"CRW-675",727.2,62.9,{"$f":"0.0003+0.0041","v":4.4000000000000003E-3},{"$f":"0.0061+0.0428","v":4.8899999999999999E-2},{"$f":"0.1392+0.1504+0.0151","v":0.30469999999999997},{"$f":"0.1382+0.0144+0.032+0.029","v":0.21359999999999998},{"$f":"0.0902+0.0277+0.0432","v":0.16110000000000002},{"$f":"0.0664+0.0225+0.0045","v":9.3400000000000011E-2},{"$f":"0.0394+0.0061","v":4.5499999999999999E-2},2.6800000000000001E-2,2.18E-2,1.3899999999999999E-2,{"$f":"1-SUM(E249:N249)","v":6.5899999999999848E-2},{"$f":"SUMPRODUCT(E249:O249,E254:O254)","v":6.8954999999999966},{"$f":"SUMPRODUCT(E249:O249,$E$255:$O$255)","v":15.790999999999995},{"$f":"P249*12","v":82.745999999999952},{"$f":"Q249*1","v":15.790999999999995},{"$f":"R249/(R249+S249)","v":0.83974547631854024},{"$f":"S249/(R249+S249)","v":0.16025452368145979},{"$f":"14600*T249+62000*U249","v":22196.064422501193},"Btu/lb",{"$f":"V249-(U249*(9)*970)","v":20797.042430762049},"Btu LHV/lb",{"$f":"V249*'Input data'!$E$202*C249/1000/1000000","v":5.6563023065493203},"MMBtu/bbl",{"$f":"X249*'Input data'!$E$202*C249/1000/1000000","v":5.2997845397885932},"MMBtu/bbl"]
[null,"CPC 475 PetroCanada condensate (2006)",757.2,55.2,0,0,2.0000000000000001E-4,{"$f":"0.0112+0.0058+0.0292+0.0262","v":7.2400000000000006E-2},{"$f":"0.2003+0.0503+0.1022","v":0.3528},{"$f":"0.2504+0.0648+0.023","v":0.33820000000000006},{"$f":"0.1653+0.0063","v":0.1716},4.9200000000000001E-2,9.4999999999999998E-3,4.4000000000000003E-3,{"$f":"1-SUM(E250:N250)","v":1.7000000000000348E-3},{"$f":"SUMPRODUCT(E250:O250,E254:O254)","v":7.8281000000000001},{"$f":"SUMPRODUCT(E250:O250,$E$255:$O$255)","v":17.656200000000002},{"$f":"P250*12","v":93.937200000000004},{"$f":"Q250*1","v":17.656200000000002},{"$f":"R250/(R250+S250)","v":0.84178096554097293},{"$f":"S250/(R250+S250)","v":0.15821903445902716},{"$f":"14600*T250+62000*U250","v":22099.582233357891},"Btu/lb",{"$f":"V250-(U250*(9)*970)","v":20718.330062530586},"Btu LHV/lb",{"$f":"V250*'Input data'!$E$202*C250/1000/1000000","v":5.8640468996257615},"MMBtu/bbl",{"$f":"X250*'Input data'!$E$202*C250/1000/1000000","v":5.4975364640703237},"MMBtu/bbl"]
[null,"CPR 0822 Peace condensate (2006)",739.6,59.6,{"$f":"0.0007+0.0007+0.0102","v":1.1600000000000001E-2},{"$f":"0.0092+0.0601","v":6.93E-2},{"$f":"0.0949+0.1157+0.0126","v":0.22320000000000001},{"$f":"0.1295+0.0131+0.0327+0.0299","v":0.20520000000000002},{"$f":"0.0936+0.0295+0.05","v":0.1731},{"$f":"0.0724+0.0273+0.005","v":0.10470000000000002},{"$f":"0.0447+0.0078","v":5.2499999999999998E-2},3.2899999999999999E-2,2.6700000000000002E-2,1.6799999999999999E-2,{"$f":"1-SUM(E251:N251)","v":8.3999999999999742E-2},{"$f":"SUMPRODUCT(E251:O251,E254:O254)","v":7.1812999999999976},{"$f":"SUMPRODUCT(E251:O251,$E$255:$O$255)","v":16.362599999999993},86.175599999999974,16.362599999999993,0.8404243491693828,0.15957565083061728,{"$f":"14600*T251+62000*U251","v":22163.885849371261},"Btu/lb",20770.790417619974,"Btu LHV/lb",{"$f":"V251*'Input data'!$E$202*C251/1000/1000000","v":5.7444118981491181},"MMBtu/bbl",{"$f":"X251*'Input data'!$E$202*C251/1000/1000000","v":5.3833509349319524},"MMBtu/bbl"]
[]
[null,null,null,"Assumed species","C3H8","C4H10","C5H12","C6H14","C7H16","C8H18","C9H20","C10H22","C11H24","C12H26","C14H30"]
[null,null,null,"C",3,4,5,6,7,8,9,10,11,12,14]
[null,null,null,"H",8,10,12,14,16,18,20,22,24,26,30]
[]
[null,"Notes:"]
[null,"Source: Analysis of Blending Data used in Condensate EQ model.  Prepared for Canadian Association of Petroleum Producers (CAPP) by Advantage Insight Group Inc. January 2007"]
[null,"C5 contains normal and iso-pentane, as well as cyclopentane"]
[null,"C6 contains Benzene and methylcyclopentane as well as cyclohexane"]
[null,"C7 contains heptanes as well as toluene and methylcyclohexane"]
[null,"C8 contains octanes plus xylenes"]
[null,"C9 contains nonanes as well as 1,2,4 trimethybenzene"]
[null,"For simplicity, assume parafinic HCs"]
[null,"Dulong formula is used to approximate the heating value of the condensate/diluent"]
[]
[]
[null,"Table 4.8: Other dilbit properties"]
[null,"Property","Value","Unit"]
[null,"Dilbit blending energy",0,"MMBtu/bbl"]
[null,"Diluent embodied energy",{"$f":"'Fuel Cycle'!D59","v":6.9596000000000005E-2},"MMBtu/MMBtu diluent"]
[null,"Diluent embodied emissions",{"$f":"'Fuel Cycle'!D49","v":7648.6387904177354},"g/MMBtu diluent"]
[null,"Notes:"]
[null,"Assume blending dilbit has negligible energy cost"]
[null,"Assume diluent has identical embodied energy and emissions as natural gas"]
[]
[]
[null,"Table 4.9: Flaring emissions from bitumen extraction operations"]
[null,null,"Primary","SAGD","CSS","Mining"]
[null,"Flaring emissions",{"$f":"Flaring!G102","v":9.0031440436023812E-5},{"$f":"Flaring!G102","v":9.0031440436023812E-5},{"$f":"Flaring!G102","v":9.0031440436023812E-5},{"$f":"Flaring!G102","v":9.0031440436023812E-5},"MMscf/bbl"]
[null,"Flaring emissions",{"$f":"C280*1000000","v":90.031440436023814},{"$f":"D280*1000000","v":90.031440436023814},90.031440436023814,90.031440436023814,"scf/bbl"]
[null,"Values for flaring emissions from NOAA satellite observations for average Canadian crude production, for consistency with other flaring datasets and due to its verifiable data source."]
[]
[]
[null,"Table 4.10: Fugitive emissions from bitumen extraction operations"]
[null,null,"Primary","SAGD","CSS","Mining"]
[null,"Fugitive emissions",7500,7500,7500,5480,"L/tonne bitumen"]
[null,"Fugitive emissions",{"$f":"C287*$M$32/'Input data'!$E$36/'Input data'!$E$32","v":42.713094988555348},{"$f":"D287*$M$32/'Input data'!$E$36/'Input data'!$E$32","v":42.713094988555348},{"$f":"E287*$M$32/'Input data'!$E$36/'Input data'!$E$32","v":42.713094988555348},{"$f":"F287*$M$32/'Input data'!$E$36/'Input data'!$E$32","v":31.209034738304435},"scf/bbl"]
[null,"All mining emissions are fugitives, as these are mine face fugitive methane and methane from tailings ponds.  See GHGenius 2011 report: Update of oil production and refining data in GHGenius, Tables 4-18 and 4-19."]
[null,"All in situ emissions are fugitives from gathering and processing systems (batteries).  See GHGenius 2011 report: Update of oil production and refining data in GHGenius, Figure 4-16 for 2009."]

{"sheet":"Gas Balance","index":15,"n_rows":40,"n_cols":42,"rows_kept":40,"cut":false,"hidden":false,"merged":[[23,25,23,26],[23,19,23,20],[23,1,23,2],[13,0,13,1],[23,9,23,10]]}
["Supplemental worksheet: Gas balance"]
[]
["This supplemental worksheet tracks the gas balance across process stages and ensures that gas is conserved in the system. "]
[]
["1  Gas balance flowsheet"]
[]
[null,null,null,null,null,null,null,null,null,null,null,null,null,null,null,null,null,null,"Table 1.4: Gas processing vents composition and volume",null,null,null,null,null,null,null,null,"Table 1.6: Pipeline quality gas composition"]
[null,null,null,null,null,null,null,null,null,null,null,null,null,null,null,null,null,null,"Comp.","mol%","Vol",null,null,null,null,null,null,"Comp.","mol%","Vol","Mixture MW","Component MW","HHV","LHV"]
[null,null,null,null,null,null,null,null,null,null,null,"Table 1.2: Flared gas composition and volume",null,null,null,null,null,null,{"$f":"\"--\"","v":"--"},{"$f":"\"--\"","v":"--"},"MMscf/d",null,null,null,null,null,null,{"$f":"\"--\"","v":"--"},{"$f":"\"--\"","v":"--"},"MMscf/d","lb/lbmol","lb/lbmol","Btu/scf","Btu/scf"]
[null,null,null,null,null,null,null,null,null,null,null,"Comp.","mol%","Vol",null,null,null,null,"CO2",{"$f":"100*U10/$P$13","v":81.338039587261051},{"$f":"IF('Surface Processing'!M58=1,(('Venting & Fugitives'!M114/'Input data'!D81)+('Venting & Fugitives'!E124+'Venting & Fugitives'!E139+'Venting & Fugitives'!E144)+('Venting & Fugitives'!E218-'Venting & Fugitives'!E178-'Venting & Fugitives'!E183))/1000000+1*(N30-(('Venting & Fugitives'!M114/'Input data'!D81)+('Venting & Fugitives'!E124+'Venting & Fugitives'!E139+'Venting & Fugitives'!E144)+('Venting & Fugitives'!E218-'Venting & Fugitives'!E178-'Venting & Fugitives'!E183))/1000000),(('Venting & Fugitives'!M114/'Input data'!D81)+('Venting & Fugitives'!E124+'Venting & Fugitives'!E139+'Venting & Fugitives'!E144)+('Venting & Fugitives'!E218-'Venting & Fugitives'!E178-'Venting & Fugitives'!E183))/1000000)","v":6.5382471738644324E-2},null,null,null,null,null,null,"N2",{"$f":"100*AD10/$AC$23","v":2.3251387326464514},{"$f":"W29","v":2.1794157246214776E-2},{"$f":"AF10*AC10/100","v":0.65103884514100641},{"$f":"'Fuel Specs'!$E$148","v":28},{"$f":"'Fuel Specs'!G128","v":0},{"$f":"'Fuel Specs'!H128","v":0}]
[null,null,null,null,null,null,null,null,null,null,null,{"$f":"\"--\"","v":"--"},{"$f":"\"--\"","v":"--"},"MMscf/d",null,null,null,null,"C1",5.0917075637642162,{"$f":"(('Venting & Fugitives'!M115/'Input data'!D82)+('Venting & Fugitives'!F149-'Venting & Fugitives'!F134)+('Venting & Fugitives'!F218-'Venting & Fugitives'!F178-'Venting & Fugitives'!F183))/1000000","v":4.0928995532539814E-3},null,null,null,null,null,null,"CO2",0,{"$f":"W30","v":0},{"$f":"AF11*AC11/100","v":0},{"$f":"'Fuel Specs'!$E$150","v":44},{"$f":"'Fuel Specs'!I130","v":0},{"$f":"'Fuel Specs'!J130","v":0}]
[null,null,null,null,null,null,null,null,null,null,null,"N2",{"$f":"100*N12/$I$14","v":2},{"$f":"F29-N29","v":5.4458427537852246E-3},null,null,null,null,"C2",4.3130045070085034E-3,{"$f":"0.31*(('Venting & Fugitives'!M116/'Input data'!D83)+('Venting & Fugitives'!G149-'Venting & Fugitives'!G134)+('Venting & Fugitives'!G218-'Venting & Fugitives'!G178-'Venting & Fugitives'!G183))/1000000","v":3.466949741093765E-6},null,null,null,null,null,null,"C1",97.219170323618229,{"$f":"W31","v":0.9112617047877668},{"$f":"AF12*AC12/100","v":15.555067251778917},{"$f":"'Fuel Specs'!$E$152","v":16},{"$f":"'Fuel Specs'!G132","v":1013},{"$f":"'Fuel Specs'!H132","v":913}]
[null,null,null,null,null,null,null,null,null,null,null,"CO2",{"$f":"100*N13/$I$14","v":6.0000000000000009},{"$f":"F30-N30","v":1.6337528261355677E-2},null,{"$f":"U16","v":8.0383633623847942E-2},"MMscf/d",null,"C3",5.8434254611082958E-3,{"$f":"0.42*(('Venting & Fugitives'!M116/'Input data'!D83)+('Venting & Fugitives'!G149-'Venting & Fugitives'!G134)+('Venting & Fugitives'!G218-'Venting & Fugitives'!G178-'Venting & Fugitives'!G183))/1000000","v":4.6971577137399399E-6},null,null,null,null,null,null,"C2",0.45569094373531893,{"$f":"W32-AD31","v":4.2713150591834684E-3},0.13670728312059569,{"$f":"'Fuel Specs'!$E$153","v":30},{"$f":"'Fuel Specs'!G133","v":1792},{"$f":"'Fuel Specs'!H133","v":1641}]
[null,null,null,null,null,null,null,null,{"$f":"Flaring!M15","v":0.27229213768926125},"MMscf/d",null,"C1",83.999999999999986,0.22872539565897942,null,null,null,null,"C4",3.756487796426762E-3,{"$f":"0.27*(('Venting & Fugitives'!M116/'Input data'!D83)+('Venting & Fugitives'!G149-'Venting & Fugitives'!G134)+('Venting & Fugitives'!G218-'Venting & Fugitives'!G178-'Venting & Fugitives'!G183))/1000000","v":3.0196013874042472E-6},null,null,null,null,null,null,"C3",0,{"$f":"W33-AD32","v":0},0,{"$f":"'Fuel Specs'!$E$154","v":44},{"$f":"'Fuel Specs'!G134","v":2590},{"$f":"'Fuel Specs'!H134","v":2385}]
[null,null,null,null,null,null,null,null,null,null,null,"C2",4,1.0891685507570449E-2,null,null,null,null,"H2S",13.556339931210177,{"$f":"IF('Surface Processing'!M58=1,N35,0)","v":1.0897078623107388E-2},null,null,null,null,null,null,"C4",0,{"$f":"W34-AD33","v":0},0,{"$f":"'Fuel Specs'!$E$155","v":58},{"$f":"'Fuel Specs'!G135","v":3370},{"$f":"'Fuel Specs'!H135","v":3113}]
[null,null,null,null,null,null,null,null,null,null,null,"C3",2,5.4458427537852246E-3,null,null,null,null,"Total",{"$f":"SUM(T10:T15)","v":99.999999999999986},{"$f":"SUM(U10:U15)","v":8.0383633623847942E-2},null,null,null,null,null,null,"H2S",0,{"$f":"W35","v":0},0,{"$f":"'Fuel Specs'!$E$158","v":34},{"$f":"'Fuel Specs'!G138","v":640},{"$f":"'Fuel Specs'!H138","v":594}]
[null,null,{"$f":"('Venting & Fugitives'!G235/365)+('Venting & Fugitives'!E134+'Venting & Fugitives'!F134+'Venting & Fugitives'!G134)/1000000","v":7.3827284627518577E-4},"MMscf/d",null,null,null,null,null,null,null,"C4",1,2.7229213768926123E-3,null,null,null,null,"Associated gas venting and fugitives",null,null,null,null,null,null,null,null,"Total",{"$f":"SUM(AC10:AC16)","v":100},{"$f":"SUM(AD10:AD16)","v":0.93732717709316504},{"$f":"SUM(AE10:AE16)","v":16.342813380040521},{"$f":"\"--\"","v":"--"},{"$f":"\"--\"","v":"--"},"--",null,null,null,"Lifting gas"]
[null,null,null,"Notes:",null,null,null,null,null,null,null,"H2S",1,2.7229213768926123E-3,null,null,null,null,"H2S to sulfur ",null,null,null,null,null,null,null,null,"Specific gravity",{"$f":"(14.7*AE17)/(10.73*(60+460))/0.0764","v":0.56356982534026268},"Dimensionless"]
[null,null,null,"Fugitives from active wells and well cellars ",null,null,null,null,null,null,null,"Total",{"$f":"SUM(M12:M18)","v":99.999999999999986},{"$f":"SUM(N12:N18)","v":0.27229213768926125},null,null,null,null,null,null,null,null,null,null,null,null,null,"HHV",{"$f":"SUMPRODUCT(AD10:AD16,AG10:AG16)","v":930.76230353606456},"MMBtu/d",null,null,null,null,null,null,null,{"$f":"IF('Production & Extraction'!M19=1,'Production & Extraction'!M159/1000,0)","v":0},"MMscf/d",null,null,{"$f":"IF('Production & Extraction'!M19=1,IF(AC23<AL19,\"ERROR\",\"OK\"),\"OK\")","v":"OK"}]
[null,null,null,"Vents from workovers and cleanups",null,null,null,null,null,null,null,null,null,null,null,null,null,null,null,null,null,null,null,null,null,null,null,"LHV",{"$f":"SUMPRODUCT(AD10:AD16,AH10:AH16)","v":838.9911644833511},"MMBtu/d"]
[null,null,null,"GOR is calculated at the separator"]
[]
[null,null,null,null,{"$f":"F36","v":1.3620000000000001},"MMscf/d",null,null,null,null,null,null,{"$f":"N36","v":1.0897078623107388},"MMscf/d",null,null,"Gas processing",null,null,null,null,{"$f":"W36","v":1.0093242286868911},"MMscf/d",null,null,null,null,null,{"$f":"AD17","v":0.93732717709316504},"MMscf/d"]
[null,"Production",null,null,null,null,null,null,null,"Flaring",null,null,null,null,null,null,null,null,null,null,null,null,null,null,null,"Demethanizer"]
[]
[null,null,null,"Table 1.1: Production gas composition and volume",null,null,null,null,null,null,null,"Table 1.3: Gas to processing comp. and volume",null,null,null,null,null,null,null,null,"Table 1.5: Processed gas composition and volumes"]
[null,null,null,"Comp.","mol%","Vol","HHV","LHV",null,null,null,"Comp.","mol%","Vol",null,null,null,null,null,null,"Comp.","mol%","Vol",null,null,null,{"$f":"AD34","v":7.1997051593726005E-2},"MMscf/d",null,null,null,null,null,null,null,null,"Remaining gas"]
[null,null,null,{"$f":"\"--\"","v":"--"},{"$f":"\"--\"","v":"--"},"MMscf/d","Btu/scf","Btu/scf",null,null,null,{"$f":"\"--\"","v":"--"},{"$f":"\"--\"","v":"--"},"MMscf/d",null,null,null,null,null,null,{"$f":"\"--\"","v":"--"},{"$f":"\"--\"","v":"--"},"MMscf/d",null,null,null,null,"Table 1.7: Demethanizer heavy product composition",null,null,null,null,null,null,null,null,{"$f":"AC23-AL19","v":0.93732717709316504},"MMscf/d",null,null,null,{"$f":"IF(AK28>=0,\"OK\",\"ERROR\")","v":"OK"}]
[null,null,null,"N2",{"$f":"100*F29/$E$23","v":2},{"$f":"'Production & Extraction'!M38*('Production & Extraction'!M48*'Production & Extraction'!M35/1000000)/100","v":2.724E-2},{"$f":"'Fuel Specs'!G128","v":0},{"$f":"'Fuel Specs'!H128","v":0},null,null,null,"N2",{"$f":"100*N29/$M$23","v":2},{"$f":"F29*(1-($I$14/$E$23))","v":2.1794157246214776E-2},null,null,null,null,null,null,"N2",{"$f":"100*W29/$V$23","v":2.1592820846645582},{"$f":"N29","v":2.1794157246214776E-2},null,null,null,null,"Comp.","mol%","Vol","HHV","LHV",null,null,null,null,null,{"$f":"AK28-AL32","v":0.93732717709316504},"MMscf/d"]
[null,null,null,"CO2",6,{"$f":"'Production & Extraction'!M39*('Production & Extraction'!M48*'Production & Extraction'!M35/1000000)/100","v":8.1720000000000001E-2},{"$f":"'Fuel Specs'!G130","v":0},{"$f":"'Fuel Specs'!H130","v":0},null,null,{"$f":"IF(N30-(('Venting & Fugitives'!M114/'Input data'!D81)+('Venting & Fugitives'!E124+'Venting & Fugitives'!E139+'Venting & Fugitives'!E144)+('Venting & Fugitives'!E218-'Venting & Fugitives'!E178-'Venting & Fugitives'!E183))/1000000<0,\"ERROR\",\"OK\")","v":"OK"},"CO2",{"$f":"100*N30/$M$23","v":6},6.5382471738644324E-2,null,null,null,null,null,null,"CO2",0,{"$f":"N30-U10","v":0},null,null,null,null,{"$f":"\"--\"","v":"--"},{"$f":"\"--\"","v":"--"},"MMscf/d","Btu/scf","Btu/scf",null,null,null,null,null,"Process fuel / export"]
[null,null,null,"C1",84,{"$f":"'Production & Extraction'!M40*('Production & Extraction'!M48*'Production & Extraction'!M35/1000000)/100","v":1.1440800000000002},{"$f":"'Fuel Specs'!G132","v":1013},{"$f":"'Fuel Specs'!H132","v":913},null,null,{"$f":"IF(N31-U11<0,\"ERROR\",\"OK\")","v":"OK"},"C1",84.000000000000014,0.91535460434102078,null,null,null,null,null,null,"C1",90.284338658282138,0.9112617047877668,null,null,null,null,"C2",{"$f":"IF('Surface Processing'!M64=1,100*AD31/$AA$27,0)","v":54.604364502797033},{"$f":"IF('Surface Processing'!M64=1,W32*('Surface Processing'!M111/100),0)","v":3.9313532483504991E-2},{"$f":"'Fuel Specs'!G133","v":1792},{"$f":"'Fuel Specs'!H133","v":1641}]
[null,null,null,"C2",4,{"$f":"'Production & Extraction'!M41*('Production & Extraction'!M48*'Production & Extraction'!M35/1000000)/100","v":5.4480000000000001E-2},{"$f":"'Fuel Specs'!G133","v":1792},{"$f":"'Fuel Specs'!H133","v":1641},null,null,{"$f":"IF(N32-U12<0,\"ERROR\",\"OK\")","v":"OK"},"C2",4,4.3588314492429552E-2,null,null,null,null,null,null,"C2",4.3182206771545948,4.358484754268846E-2,null,null,null,null,"C3",{"$f":"IF('Surface Processing'!M64=1,100*AD32/$AA$27,0)","v":30.264378340737249},{"$f":"IF('Surface Processing'!M64=1,W33*('Surface Processing'!M112/100),0)","v":2.1789460088501036E-2},{"$f":"'Fuel Specs'!G134","v":2590},{"$f":"'Fuel Specs'!H134","v":2385},null,null,null,null,null,{"$f":"IF(OR('Production & Extraction'!M17=1,'Production & Extraction'!M20=1),AK28*'Production & Extraction'!M49/100,0)","v":0},"MMscf/d"]
[null,null,null,"C3",2,{"$f":"'Production & Extraction'!M42*('Production & Extraction'!M48*'Production & Extraction'!M35/1000000)/100","v":2.724E-2},{"$f":"'Fuel Specs'!G134","v":2590},{"$f":"'Fuel Specs'!H134","v":2385},null,null,{"$f":"IF(N33-U13<0,\"ERROR\",\"OK\")","v":"OK"},"C3",2,2.1794157246214776E-2,null,null,null,null,null,null,"C3",2.1588167081700447,2.1789460088501036E-2,null,null,null,null,"C4",{"$f":"IF('Surface Processing'!M64=1,100*AD33/$AA$27,0)","v":15.131257156465718},{"$f":"IF('Surface Processing'!M64=1,W34*('Surface Processing'!M113/100),0)","v":1.0894059021719983E-2},{"$f":"'Fuel Specs'!G135","v":3370},{"$f":"'Fuel Specs'!H135","v":3113},null,null,null,null,null,"Reinjection"]
[null,null,null,"C4",1,{"$f":"'Production & Extraction'!M43*('Production & Extraction'!M48*'Production & Extraction'!M35/1000000)/100","v":1.362E-2},{"$f":"'Fuel Specs'!G135","v":3370},{"$f":"'Fuel Specs'!H135","v":3113},null,null,{"$f":"IF(N34-U14<0,\"ERROR\",\"OK\")","v":"OK"},"C4",1,1.0897078623107388E-2,null,null,null,null,null,null,"C4",1.0793418717286631,1.0894059021719983E-2,null,null,null,null,"Total",{"$f":"SUM(AC31:AC33)","v":100},{"$f":"SUM(AD31:AD33)","v":7.1997051593726005E-2},{"$f":"\"--\"","v":"--"},{"$f":"\"--\"","v":"--"}]
[null,null,null,"H2S",1,{"$f":"'Production & Extraction'!M44*('Production & Extraction'!M48*'Production & Extraction'!M35/1000000)/100","v":1.362E-2},{"$f":"'Fuel Specs'!G138","v":640},{"$f":"'Fuel Specs'!H138","v":594},null,null,null,"H2S",1,1.0897078623107388E-2,null,null,null,null,null,null,"H2S",0,0,null,null,null,null,"HHV",{"$f":"SUMPRODUCT(AD31:AD33,AE31:AE33)","v":163.59753074285499},"MMBtu/d"]
[null,null,null,"Total",{"$f":"SUM(E29:E35)","v":100},{"$f":"SUM(F29:F35)","v":1.3620000000000001},null,null,null,null,null,"Total",{"$f":"SUM(M29:M35)","v":100.00000000000001},{"$f":"SUM(N29:N35)","v":1.0897078623107388},null,null,null,null,null,null,"Total",{"$f":"SUM(V29:V35)","v":100},{"$f":"SUM(W29:W35)","v":1.0093242286868911},null,null,null,null,"LHV",{"$f":"SUMPRODUCT(AD31:AD33,AF31:AF33)","v":150.39457485112098},"MMBtu/d"]
[null,null,null,"HHV",{"$f":"SUMPRODUCT(F29:F35,G29:G35)","v":1381.749},"MMBtu/d"]
[null,null,null,"LHV",{"$f":"SUMPRODUCT(F29:F35,H29:H35)","v":1249.40346},"MMBtu/d"]
[]
[null,null,null,"Overall gas composition check:",null,null,null,null,null,{"$f":"IF(OR(K30=\"ERROR\",K31=\"ERROR\",K32=\"ERROR\",K33=\"ERROR\",K34=\"ERROR\"),\"ERROR\",\"OK\")","v":"OK"}]

{"sheet":"Steam Injection","index":16,"n_rows":488,"n_cols":22,"rows_kept":488,"cut":false,"hidden":false,"merged":[]}
["Supplemental worksheet: Steam injection for thermal oil recovery"]
[]
["This supplemental worksheet models the energy consumption and emissions from steam generation for thermal enhanced oil recovery"]
[]
[]
["1 Data inputs and calculations"]
[]
[null,null,null,null,null,null,null,null,null,null,null,null,"User","Default","Units",null,"User reference",null,"Default reference",null,null,"Notes"]
["1.1   Field properties"]
[null,"1.1.1   Crude name",null,null,null,null,null,null,null,null,null,null,{"$f":"'Production & Extraction'!M31","v":"Generic"},"Generic","NA"]
[null,"1.1.2   Crude API gravity",null,null,null,null,null,null,null,null,null,null,{"$f":"'User Inputs & Results'!J78","v":30},{"$f":"'User Inputs & Results'!K78","v":30},"[-]"]
[null,"1.1.3   Crude Production rate",null,null,null,null,null,null,null,null,null,null,{"$f":"'Production & Extraction'!M35","v":1500},{"$f":"'User Inputs & Results'!K70","v":1500},"STB/d"]
[]
[null,"1.1.4   Steam oil ratio (SOR)",null,null,null,null,null,null,null,null,null,null,{"$f":"'Production & Extraction'!M218","v":3},3,"bbl steam/STB oil"]
[null,"1.1.5   Steam injection rate",null,null,null,null,null,null,null,null,null,null,{"$f":"M14*M12","v":4500},{"$f":"N14*N12","v":4500},"bbl CWE/d",null,null,null,null,null,null,"Barrels of cold water equivalent (CWE) steam"]
[]
[null,"1.1.6   Share of steam production by steam generator type"]
[null,null,"1.1.6.1   Simple once-through steam generator (OTSG)",null,null,null,null,null,null,null,null,null,{"$f":"1-M19","v":1},{"$f":"1-N19","v":1},"[-]",null,null,null,null,null,null,"Change on sheet \"Production & Extraction (p)\""]
[null,null,"1.1.6.1   Gas-turbine plus heat recovery steam generator (HRSG)",null,null,null,null,null,null,null,null,null,{"$f":"'User Inputs & Results'!J99","v":0},{"$f":"'User Inputs & Results'!K99","v":0},"[-]",null,null,null,null,null,null,"Change on sheet \"Production & Extraction (p)\""]
[null,null,null,null,null,null,null,null,null,null,null,"Check:",{"$f":"IF(SUM(M18:M19)=1,\"OK\",\"ERROR\")","v":"OK"},null,null,null,null,null,null,null,null,"Shares of steam generation technologies must sum to 1."]
[]
[]
["1.2   OTSG water and steam properties"]
[null,null,null,null,null,null,null,null,null,null,null,null,"User","Default","Units",null,"User reference",null,"Default reference",null,null,"Notes"]
[null,"1.2.1   Inlet water temperature",null,null,null,null,null,null,null,null,null,null,40,40,"°F"]
[null,null,"1.2.1.1   Approximate inlet water temperature",null,null,null,null,null,null,null,null,null,{"$f":"CEILING(M25-10,20)","v":40},{"$f":"CEILING(N25-10,20)","v":40},"°F",null,null,null,null,null,null,"Round inlet water temperature to nearest 20 F."]
[]
[null,"1.2.2   Inlet water pressure",null,null,null,null,null,null,null,null,null,null,{"$f":"M38","v":1945},{"$f":"N38","v":625},"psia"]
[null,null,"1.2.2.1   Approximate water inlet pressure",null,null,null,null,null,null,null,null,null,{"$f":"MIN(MAX(CEILING(M28-50,100),100),1500)","v":1500},{"$f":"CEILING(N28-50,100)","v":600},"psia",null,null,null,null,null,null,"Round inlet water pressure to nearest 100 psi, with limits of 100 to 1500 psia."]
[]
[null,"1.2.3   Inlet water density",null,null,null,null,null,null,null,null,null,null,{"$f":"N31","v":350.43119999999999},{"$f":"'Input data'!E202","v":350.43119999999999},"lb/bbl",null,null,null,null,null,null,"Assume inlet water density is invariant with temperature and pressure."]
[null,"1.2.4   Required water mass",null,null,null,null,null,null,null,null,null,null,{"$f":"M15*M31","v":1576940.4},{"$f":"N15*N18*N31","v":1576940.4},"lbm/d"]
[null,"1.2.5   Inlet water enthalpy",null,null,null,null,null,null,null,null,null,null,{"$f":"INDEX('Input data'!F759:F1876,MATCH(1,(M29='Input data'!B759:B1876)*('Steam Injection'!M25='Input data'!C759:C1876),0))","v":12.44},{"$f":"INDEX('Input data'!F759:F1876,MATCH(1,('Steam Injection'!N29='Input data'!B759:B1876)*('Steam Injection'!N25='Input data'!C759:C1876),0))","v":9.8019999999999996},"Btu/lbm"]
[]
[null,"1.2.6   Reservoir pressure",null,null,null,null,null,null,null,null,null,null,{"$f":"'User Inputs & Results'!J75","v":1556.6},500,"psia",null,null,null,"Green & Willhite (1998), Fox (SPE 8001)",null,null,"Steam injection projects are given a non-standard default pressure of 500 psia, due to the fact that steam injection projects generally occur in shallow reservoirs that are pressure depleted.  Steam injection is more efficient at transfering heat to the formation and driving production in shallow reservoirs for a variety of reasons.  See Green & Willhite (1998) or Fox (SPE 8001) for details."]
[null,"1.2.7   Excess pressure required for steam distribution losses",null,null,null,null,null,null,null,null,null,null,1.25,1.25,"psia/psia",null,null,null,"Chilingarian et al. 1987, p. 228",null,null,"Chilingarian, Robertson et al. note that \"piping friction losses can represent 10-50% of the steam pressure developed at the outlet of the steam generator.\" (p. 228)  We assume 25% loss of reservoir pressure for moderate approach."]
[null,"1.2.8   Steam pressure at outlet of steam generator",null,null,null,null,null,null,null,null,null,null,{"$f":"M35*M36","v":1945.75},{"$f":"N35*N36","v":625},"psia",null,null,null,null,null,null,"Steam pressure at wellbore must be higher than reservoir pressure."]
[null,null,"1.2.8.1   Approximate steam pressure",null,null,null,null,null,null,null,null,null,{"$f":"CEILING(M37-2.5,5)","v":1945},{"$f":"CEILING(N37-2.5,5)","v":625},"psia",null,null,null,null,null,null,"Round steam pressure to nearest 5 psia"]
[]
[null,"1.2.9   Steam quality at steam generator outlet",null,null,null,null,null,null,null,null,null,null,0.8,0.8,"kg steam / kg H2O"]
[null,"1.2.10   Saturated steam temperature (Tsteam)",null,null,null,null,null,null,null,null,null,null,{"$f":"VLOOKUP(M37,'Input data'!B255:K752,2)","v":631.9},{"$f":"VLOOKUP(N37,'Input data'!B256:K751,2)","v":490.7},"°F"]
[null,"1.2.11   Steam mixture fluid enthalpy",null,null,null,null,null,null,null,null,null,null,{"$f":"VLOOKUP(M41,'Input data'!C255:K752,4)","v":665.4},{"$f":"VLOOKUP(N41,'Input data'!B256:K752,4)","v":445.4},"Btu/lbm"]
[null,"1.2.12   Steam mixture vapor enthalpy",null,null,null,null,null,null,null,null,null,null,{"$f":"VLOOKUP(M41,'Input data'!C255:K752,8)","v":1141},{"$f":"VLOOKUP(N37,'Input data'!C255:K752,8)","v":1147},"Btu/lbm",null,null,null,null,null,null,"Lookup table. 10-1000 psia by increments of 10 psia, 1025-3000 psia by increments of 25 psia"]
[null,"1.2.13   Weighted enthalpy of saturated steam",null,null,null,null,null,null,null,null,null,null,{"$f":"M40*M43+((1-M40)*M42)","v":1045.8800000000001},{"$f":"N40*N43+((1-N40)*N42)","v":1006.68},"Btu/lbm"]
[null,"1.2.14   Enthalpy increase of water",null,null,null,null,null,null,null,null,null,null,{"$f":"M44-M33","v":1033.44},{"$f":"N44-N33","v":996.87799999999993},"Btu/lbm"]
[]
["1.3   OTSG and GT + HRSG inlet air properties"]
[null,"1.3.1   OTSG inlet air composition",null,null,null,null,null,null,null,null,null,"N2, Ar",{"$f":"'Input data'!E102","v":0.77439599999999997},{"$f":"'Input data'!E92","v":0.79020000000000001},"lbmol/lbmol air"]
[null,null,null,null,null,null,null,null,null,null,null,"O2",{"$f":"'Input data'!E103","v":0.20530999999999999},{"$f":"'Input data'!E93","v":0.20949999999999999},"lbmol/lbmol air"]
[null,null,null,null,null,null,null,null,null,null,null,"CO2",{"$f":"'Input data'!E104","v":2.9399999999999999E-4},{"$f":"'Input data'!E94","v":2.9999999999999997E-4},"lbmol/lbmol air"]
[null,null,null,null,null,null,null,null,null,null,null,"H2O",{"$f":"'Input data'!E105","v":0.02},{"$f":"'Input data'!E95","v":0},"lbmol/lbmol air"]
[null,null,null,null,null,null,null,null,null,null,null,"CH4",0,0,"lbmol/lbmol air"]
[null,null,null,null,null,null,null,null,null,null,null,"C2H6",0,0,"lbmol/lbmol air"]
[null,null,null,null,null,null,null,null,null,null,null,"C3H8",0,0,"lbmol/lbmol air"]
[null,null,null,null,null,null,null,null,null,null,null,"n-C4H10",0,0,"lbmol/lbmol air"]
[null,null,null,null,null,null,null,null,null,null,null,"CO",0,0,"lbmol/lbmol air"]
[null,null,null,null,null,null,null,null,null,null,null,"H2",0,0,"lbmol/lbmol air"]
[null,null,null,null,null,null,null,null,null,null,null,"H2S",0,0,"lbmol/lbmol air"]
[null,null,null,null,null,null,null,null,null,null,null,"SO2",0,0,"lbmol/lbmol air"]
[null,null,null,null,null,null,null,null,null,null,null,null,{"$f":"IF(SUM(M48:M59)=1,\"OK\",\"ERROR\")","v":"OK"}]
[null,null,null,null,null,null,null,null,null,null,null,null,null,null,null,null,null,null,null,null,null,"Composition fractions must sum to 1."]
[null,"1.3.2   OTSG inlet air weighted molar mass",null,null,null,null,null,null,null,null,null,null,{"$f":"SUMPRODUCT(M48:M59,'Fuel Specs'!E148:E159)","v":28.625943999999997},{"$f":"SUMPRODUCT(N48:N59,'Fuel Specs'!E148:E159)","v":28.8428},"lb/lbmol air"]
[]
[]
["1.4   Overall sheet check",null,null,null,null,null,null,null,null,null,"Overall check:",null,{"$f":"IF(M20=\"OK\",IF(M74=\"OK\",IF(M78=\"OK\",IF(G111=\"OK\",IF(G132=\"OK\",IF(G328=\"OK\",IF(O328=\"OK\",IF(G357=\"OK\",IF(M153=\"OK\",IF(O357=\"OK\",IF(M60=\"OK\",IF(M302=\"OK\",IF(M382=\"OK\",\"OK\",\"ERROR\"),\"ERROR\"),\"ERROR\"),\"ERROR\"),\"ERROR\"),\"ERROR\"),\"ERROR\"),\"ERROR\"),\"ERROR\"),\"ERROR\"),\"ERROR\"),\"ERROR\"),\"ERROR\")","v":"OK"},null,null,null,null,null,null,null,null,"If \"ERROR\" is reported, check below for consistency."]
[]
[]
["2 Calculations - Once-through steam generator (OTSG)"]
[]
["2.1   OTSG inputs"]
[null,"2.1.1   OTSG fuel input type (binary)"]
[null,null,"2.1.1.1   Gaseous fuels",null,null,null,null,null,null,null,null,null,1,1,"Btu/Btu",null,null,null,null,null,null,"Only choose 1 from gaseous or liquid fuels"]
[null,null,"2.1.1.2   Produced heavy crude",null,null,null,null,null,null,null,null,null,0,0]
[null,null,null,null,null,null,null,null,null,null,null,"Check:",{"$f":"IF(SUM(M72:M73)=1,\"OK\",\"ERROR\")","v":"OK"}]
[null,"2.1.2   OTSG gaseous fuels share"]
[null,null,"2.1.2.1   Fraction natural gas",null,null,null,null,null,null,null,null,null,1,1,null,null,null,null,null,null,null,"Shares for OTSG gaseous fuel must sum to 1."]
[null,null,"2.1.2.2   Fraction produced gas",null,null,null,null,null,null,null,null,null,0,0,null,null,null,null,null,null,null,"Shares for OTSG gaseous fuel must sum to 1."]
[null,null,null,null,null,null,null,null,null,null,null,"Check:",{"$f":"IF(SUM(M76:M77)=1,\"OK\",\"ERROR\")","v":"OK"}]
[]
[null,"2.1.3   OTSG excess air in combustion",null,null,null,null,null,null,null,null,null,null,1.2,1.2,"lbmol O2 real/lbmol O2 stoichiometric",null,null,null,null,null,null,"Moles of O2 at combustion conditions compared to mols of O2 at stoichiometric conditions"]
[]
[null,"2.1.4   OTSG inlet air temperature",null,null,null,null,null,null,null,null,null,null,80.33,80.33,"°F"]
[]
[null,"2.1.5   OTSG outlet exhaust temperature",null,null,null,null,null,null,null,null,null,null,350,350,"°F"]
[]
[null,"2.1.6   Other OTSG loss"]
[null,null,"2.1.6.1   OTSG shell loss inefficiency",null,null,null,null,null,null,null,null,null,0.04,0.04,"Btu/Btu fuel"]
[null,null,"2.1.6.2   OTSG other loss - Gaseous fuels",null,null,null,null,null,null,null,null,null,5000,5000,"Btu/lbmol fuel",null,null,null,null,null,null,"Ganapathy (2003) pg. 262 cites as \"unaccounted loss\""]
[null,null,"2.1.6.3   OTSG other loss - Liquid fuels",null,null,null,null,null,null,null,null,null,250,250,"Btu/lbm fuel"]
[]
[]
["2.2   Summary results - OTSG mass and energy balance"]
[]
[]
[null,null,null,{"$f":"D97/'Input data'!E18","v":715490.1996370235},null,null,null,null,null,{"$f":"J97/'Input data'!E18","v":715490.1996370235}]
[null,null,"Water in","kg/d",null,null,null,null,null,"kg/d","Steam out"]
[null,null,null,{"$f":"M32","v":1576940.4},null,null,null,null,null,{"$f":"M32","v":1576940.4}]
[null,null,null,{"$f":"O32","v":"lbm/d"},null,null,"Once-through steam generator",null,null,{"$f":"D98","v":"lbm/d"}]
[]
[null,null,null,{"$f":"D102/'Input data'!E18","v":819497.02773987863},null,null,"(OTSG)",null,null,{"$f":"J102/'Input data'!E18","v":858871.76908047067}]
[null,null,"Air in","kg/d",null,null,null,null,null,"kg/d","Exhaust out"]
[null,null,null,{"$f":"SUM(M72:M72)*SUM(M174:M185)*M62*M277+M73*SUM(M194:M205)*M62*M278","v":1806171.4491386926},null,null,null,null,null,{"$f":"SUM(M72:M72)*SUM(M213:M224)*M227*M277+M73*SUM(M235:M246)*M249*M278","v":1892953.3790533575}]
[null,null,null,"lbm/d",null,null,"Mass balance",null,null,"lbs/d"]
[]
[null,null,null,{"$f":"D107/'Input data'!E18","v":39642.077120789829}]
[null,null,"Fuel in","kg/d"]
[null,null,null,{"$f":"SUM(M72:M72)*M155*M277+M73*M278","v":87371.137974220794}]
[null,null,null,"lbm/d"]
[]
[null,null,null,null,"Mass in",null,"Check",null,"Mass out"]
[null,null,null,null,{"$f":"SUM(D95,D100,D105)/1000","v":1574.6293044976917},"t/d",{"$f":"IF(ABS((E111-I111)/E111)<=0.02,\"OK\",\"ERROR\")","v":"OK"},null,{"$f":"SUM(J95,J100)/1000","v":1574.3619687174939},"t/d"]
[]
[]
[]
[]
[null,null,null,{"$f":"D118*1055.05/1000","v":20697.062054608796},null,null,null,null,null,{"$f":"J118*1055.05/1000","v":1740083.8634786378}]
[null,null,"Water H","MJ/d",null,null,null,null,null,"MJ/d","Steam out"]
[null,null,null,{"$f":"M33*M32/1000","v":19617.138575999998},null,null,null,null,null,{"$f":"M32*M44/1000","v":1649290.4255520001}]
[null,null,null,"MBtu/d",null,null,"Once-through steam generator",null,null,"MBtu/d"]
[]
[null,null,null,{"$f":"D123*1055.05/1000","v":0},null,null,"(OTSG)",null,null,{"$f":"J123*1055.05/1000","v":144474.96649951272}]
[null,null,"Air H","MJ/d",null,null,null,null,null,"MJ/d","Exhaust out"]
[null,null,null,{"$f":"((M187*M277)+(M207*M278))/1000","v":0},null,null,null,null,null,{"$f":"(M231*M277+M253*M278)/1000","v":136936.60632151342}]
[null,null,null,"MBtu/d",null,null,"Energy balance",null,null,"MBtu/d"]
[null,null,null,null,null,null,null,null,null,{"$f":"J128*1055.05/1000","v":106569.20141808387}]
[null,null,null,{"$f":"D128*1055.05/1000","v":1970430.9693416255},null,null,null,null,null,"MJ/d","Other waste heat out"]
[null,null,"Fuel LHV","MJ/d"]
[null,null,null,{"$f":"(M281+M282)*1000","v":1867618.5672163647},null,null,null,null,null,{"$f":"(((M262+M88)*M277)+((M263+M89)*M278))/1000","v":101008.67391885113}]
[null,null,null,"MBtu/d",null,null,null,null,null,"MBtu/d"]
[]
[null,null,null,null,"Energy in",null,"Check:",null,"Energy out"]
[null,null,null,null,{"$f":"(D116+D121+D126)/1000","v":1991.1280313962341},"GJ/d",{"$f":"IF(ABS((E132-I132)/E132)<=0.02,\"OK\",\"ERROR\")","v":"OK"},null,{"$f":"SUM(J116,J121,J125)/1000","v":1991.1280313962345},"GJ/d"]
[]
[null,null,null,null,null,"Eff:",{"$f":"J118/D128","v":0.88309810927304233},"LHV basis"]
[]
[]
[]
[]
["2.3   OTSG fuel properties"]
[null,"2.3.1   OTSG gaseous fuels"]
[null,null,"2.3.1.1   OTSG fuel gas composition",null,null,null,null,null,null,null,null,"N2, Ar",{"$f":"M$76*'Fuel Specs'!C227+M$77*'Fuel Specs'!C273","v":4.0000000000000001E-3},"lbmol/lbmol fuel",null,null,null,null,null,null,null,"Computes weighted average from fraction natural gas vs. produced gas. Change composition of natural gas and associated gas in \"Fuel Specs\" sheet."]
[null,null,null,null,null,null,null,null,null,null,null,"O2",{"$f":"M$76*'Fuel Specs'!C228+M$77*'Fuel Specs'!C274","v":0},"lbmol/lbmol fuel"]
[null,null,null,null,null,null,null,null,null,null,null,"CO2",{"$f":"M$76*'Fuel Specs'!C229+M$77*'Fuel Specs'!C275","v":0},"lbmol/lbmol fuel"]
[null,null,null,null,null,null,null,null,null,null,null,"H2O",{"$f":"M$76*'Fuel Specs'!C230+M$77*'Fuel Specs'!C276","v":0},"lbmol/lbmol fuel"]
[null,null,null,null,null,null,null,null,null,null,null,"CH4",{"$f":"M$76*'Fuel Specs'!C231+M$77*'Fuel Specs'!C277","v":0.96599999999999997},"lbmol/lbmol fuel"]
[null,null,null,null,null,null,null,null,null,null,null,"C2H6",{"$f":"M$76*'Fuel Specs'!C232+M$77*'Fuel Specs'!C278","v":0.02},"lbmol/lbmol fuel"]
[null,null,null,null,null,null,null,null,null,null,null,"C3H8",{"$f":"M$76*'Fuel Specs'!C233+M$77*'Fuel Specs'!C279","v":0.01},"lbmol/lbmol fuel"]
[null,null,null,null,null,null,null,null,null,null,null,"n-C4H10",{"$f":"M$76*'Fuel Specs'!C234+M$77*'Fuel Specs'!C280","v":0},"lbmol/lbmol fuel"]
[null,null,null,null,null,null,null,null,null,null,null,"CO",{"$f":"M$76*'Fuel Specs'!C235+M$77*'Fuel Specs'!C281","v":0},"lbmol/lbmol fuel"]
[null,null,null,null,null,null,null,null,null,null,null,"H2",{"$f":"M$76*'Fuel Specs'!C236+M$77*'Fuel Specs'!C282","v":0},"lbmol/lbmol fuel"]
[null,null,null,null,null,null,null,null,null,null,null,"H2S",{"$f":"M$76*'Fuel Specs'!C237+M$77*'Fuel Specs'!C283","v":0},"lbmol/lbmol fuel"]
[null,null,null,null,null,null,null,null,null,null,null,"SO2",{"$f":"M$76*'Fuel Specs'!C238+M$77*'Fuel Specs'!C284","v":0},"lbmol/lbmol fuel"]
[null,null,null,null,null,null,null,null,null,null,null,"Check",{"$f":"IF(M76+M77=1,IF(SUM(M141:M152)=1,\"OK\",\"ERROR\"),\"OK\")","v":"OK"},null,null,null,null,null,null,null,null,"Check: Composition fractions must sum to 1."]
[]
[null,null,"2.3.1.2   OTSG fuel gas input weighted molar mass",null,null,null,null,null,null,null,null,null,{"$f":"SUMPRODUCT(M141:M152,'Fuel Specs'!E148:E159)","v":16.608000000000001},"lb/lbmol"]
[]
[null,null,"2.3.1.3   OTSG fuel gas heating value (LHV)",null,null,null,null,null,null,null,null,"Btu",{"$f":"SUMPRODUCT(M141:M152,'Fuel Specs'!N128:N139)","v":355007.49885484145},"Btu LHV/lbmol"]
[null,null,null,null,null,null,null,null,null,null,null,"MJ",{"$f":"M157*1055.05/1000000","v":374.55066166680047},"MJ LHV/lbmol"]
[]
[null,"2.3.2   OTSG liquid fuels"]
[null,null,"2.3.2.1   OTSG crude liquid fuel heating value (LHV)",null,null,null,null,null,null,null,null,null,{"$f":"VLOOKUP(M11,'Fuel Specs'!B21:O62,3)","v":17980},"Btu LHV/lbm",null,null,null,null,null,null,null,"Assume that produced crude is burned directly without upgrading.  Because molar mass is uncertain, liquid fuels are tracked on mass basis (lbm)"]
[null,null,"2.3.2.2   OTSG crude liquid fuel mass fraction C",null,null,null,null,null,null,null,null,null,{"$f":"VLOOKUP(M11,'Fuel Specs'!B70:L111,3)/100","v":0.86242414860681105},"lbm C/lbm crude",null,null,null,null,null,null,null,"Mass fraction carbon"]
[]
[null,null,"2.3.2.3   OTSG crude liquid fuel composition",null,null,null,null,null,null,null,null,"C",{"$f":"VLOOKUP(M11,'Fuel Specs'!B70:Q111,12)","v":7.1868679050567583E-2},"lbmol /lbm fuel consumed"]
[null,null,null,null,null,null,null,null,null,null,null,"H",{"$f":"VLOOKUP(M11,'Fuel Specs'!B70:Q111,13)","v":0.12057585139318885},"lbmol /lbm fuel consumed"]
[null,null,null,null,null,null,null,null,null,null,null,"S",{"$f":"VLOOKUP(M11,'Fuel Specs'!B70:Q111,14)","v":4.6874999999999998E-4},"lbmol /lbm fuel consumed"]
[null,null,null,null,null,null,null,null,null,null,null,"N",{"$f":"VLOOKUP(M11,'Fuel Specs'!B70:Q111,15)","v":1.4285714285714287E-4},"lbmol /lbm fuel consumed",null,null,null,null,null,null,null,"Assume no O, but small amounts of N."]
[]
[null,null,"2.3.2.4   OTSG crude liquid fuel stoichiometric O2 requirements per C",null,null,null,null,null,null,null,null,null,{"$f":"VLOOKUP(M11,'Fuel Specs'!B70:L111,11)","v":1.4259534647458565},"lbmol O2/lbmol C"]
[]
[]
["2.4   OTSG air composition and requirements"]
[null,"2.4.1   OTSG inlet air properties - Gaseous fuels"]
[null,null,"2.4.1.1   Air requirements - gaseous fuels combustion",null,null,null,null,null,null,null,null,"N2, Ar",{"$f":"(M$76*'Fuel Specs'!D256+M$77*'Fuel Specs'!D302)*(M$80)*$M$72","v":9.2877731742243448},"lbmol/lbmol fuel"]
[null,null,null,null,null,null,null,null,null,null,null,"O2",{"$f":"(M$76*'Fuel Specs'!D257+M$77*'Fuel Specs'!D303)*(M$80)*$M$72","v":2.4623999999999993},"lbmol/lbmol fuel"]
[null,null,null,null,null,null,null,null,null,null,null,"CO2",{"$f":"(M$76*'Fuel Specs'!D258+M$77*'Fuel Specs'!D304)*(M$80)*$M$72","v":3.5261097852028632E-3},"lbmol/lbmol fuel"]
[null,null,null,null,null,null,null,null,null,null,null,"H2O",{"$f":"(M$76*'Fuel Specs'!D259+M$77*'Fuel Specs'!D305)*(M$80)*$M$72","v":0.2398714139593785},"lbmol/lbmol fuel"]
[null,null,null,null,null,null,null,null,null,null,null,"CH4",{"$f":"(M$76*'Fuel Specs'!D260+M$77*'Fuel Specs'!D306)*(M$80)*$M$72","v":0},"lbmol/lbmol fuel"]
[null,null,null,null,null,null,null,null,null,null,null,"C2H6",{"$f":"(M$76*'Fuel Specs'!D261+M$77*'Fuel Specs'!D307)*(M$80)*$M$72","v":0},"lbmol/lbmol fuel"]
[null,null,null,null,null,null,null,null,null,null,null,"C3H8",{"$f":"(M$76*'Fuel Specs'!D262+M$77*'Fuel Specs'!D308)*(M$80)*$M$72","v":0},"lbmol/lbmol fuel"]
[null,null,null,null,null,null,null,null,null,null,null,"n-C4H10",{"$f":"(M$76*'Fuel Specs'!D263+M$77*'Fuel Specs'!D309)*(M$80)*$M$72","v":0},"lbmol/lbmol fuel"]
[null,null,null,null,null,null,null,null,null,null,null,"CO",{"$f":"(M$76*'Fuel Specs'!D264+M$77*'Fuel Specs'!D310)*(M$80)*$M$72","v":0},"lbmol/lbmol fuel"]
[null,null,null,null,null,null,null,null,null,null,null,"H2",{"$f":"(M$76*'Fuel Specs'!D265+M$77*'Fuel Specs'!D311)*(M$80)*$M$72","v":0},"lbmol/lbmol fuel"]
[null,null,null,null,null,null,null,null,null,null,null,"H2S",{"$f":"(M$76*'Fuel Specs'!D266+M$77*'Fuel Specs'!D312)*(M$80)*$M$72","v":0},"lbmol/lbmol fuel"]
[null,null,null,null,null,null,null,null,null,null,null,"SO2",{"$f":"(M$76*'Fuel Specs'!D267+M$77*'Fuel Specs'!D313)*(M$80)*$M$72","v":0},"lbmol/lbmol fuel"]
[]
[null,null,"2.4.1.2   Inlet air enthalpy - gaseous fuels combustion",null,null,null,null,null,null,null,null,null,{"$f":"M174*'Input data'!$C$165+M175*'Input data'!$D$165+M176*'Input data'!$E$165+M177*('Input data'!$I$165)+1*'Input data'!$J$165","v":0},"Btu/lbmol fuel",null,null,null,null,null,null,null,"Neglect latent heat of vaporization of air and exhaust H2O because working with LHV balance"]
[]
[]
[null,"2.4.1   OTSG inlet air properties - Crude liquid fuels"]
[null,null,"2.4.2.1   Stoichiometric O2 requirement",null,null,null,null,null,null,null,null,null,{"$f":"(M164+1/4*M165+M166)*M73","v":0},"lbmol O2 stoich./lbm crude liquid fuel consumed"]
[null,null,"2.4.2.2   Real O2 requirements",null,null,null,null,null,null,null,null,null,{"$f":"(M191*M80)","v":0},"lbmol O2 real/lbm crude liquid fuel consumed"]
[]
[null,null,"2.4.2.3   Air requirements - liquid fuel combustion",null,null,null,null,null,null,null,null,"N2, Ar",{"$f":"$M$192*M48/$M$49","v":0},"lbmol air/lbm crude liquid fuel"]
[null,null,null,null,null,null,null,null,null,null,null,"O2",0,"lbmol air/lbm crude liquid fuel"]
[null,null,null,null,null,null,null,null,null,null,null,"CO2",0,"lbmol air/lbm crude liquid fuel"]
[null,null,null,null,null,null,null,null,null,null,null,"H2O",0,"lbmol air/lbm crude liquid fuel"]
[null,null,null,null,null,null,null,null,null,null,null,"CH4",0,"lbmol air/lbm crude liquid fuel"]
[null,null,null,null,null,null,null,null,null,null,null,"C2H6",0,"lbmol air/lbm crude liquid fuel"]
[null,null,null,null,null,null,null,null,null,null,null,"C3H8",0,"lbmol air/lbm crude liquid fuel"]
[null,null,null,null,null,null,null,null,null,null,null,"n-C4H10",0,"lbmol air/lbm crude liquid fuel"]
[null,null,null,null,null,null,null,null,null,null,null,"CO",0,"lbmol air/lbm crude liquid fuel"]
[null,null,null,null,null,null,null,null,null,null,null,"H2",0,"lbmol air/lbm crude liquid fuel"]
[null,null,null,null,null,null,null,null,null,null,null,"H2S",0,"lbmol air/lbm crude liquid fuel"]
[null,null,null,null,null,null,null,null,null,null,null,"SO2",0,"lbmol air/lbm crude liquid fuel"]
[]
[null,null,"2.4.2.4   Inlet air enthalpy - liquid fuel combustion",null,null,null,null,null,null,null,null,"hai",{"$f":"M194*'Input data'!$C$165+M195*'Input data'!$D$165+M196*'Input data'!$E$165+M197*('Input data'!$I$165)+1*'Input data'!$J$165","v":0},"Btu/lbm crude liquid fuel",null,null,null,null,null,null,null,"Neglect latent heat of vaporization of air and exhaust H2O because working with LHV balance"]
[]
["2.5   OTSG exhaust properties"]
[null,"2.5.1   OTSG exhaust properties - Gaseous fuels"]
[]
[]
[null,null,"2.5.1.1   OTSG outlet exhaust moles per mole of fuel consumed",null,null,null,null,null,null,null,null,"N2, Ar",{"$f":"M174*M72","v":9.2877731742243448},"lbmol/lbmol fuel"]
[null,null,null,null,null,null,null,null,null,null,null,"O2",{"$f":"((M$76*'Fuel Specs'!$E257+M$77*'Fuel Specs'!$E303)+(($M$80-1)/$M$80)*M175)*M$72","v":0.41039999999999976},"lbmol/lbmol fuel"]
[null,null,null,null,null,null,null,null,null,null,null,"CO2",{"$f":"((M$76*'Fuel Specs'!$E258+M$77*'Fuel Specs'!$E304)+(($M$80-1)/$M$80)*M176)*M$72","v":1.0395261097852029},"lbmol/lbmol fuel"]
[null,null,null,null,null,null,null,null,null,null,null,"H2O",{"$f":"((M$76*'Fuel Specs'!$E259+M$77*'Fuel Specs'!$E305)+(($M$80-1)/$M$80)*M177)*M$72","v":2.2718714139593787},"lbmol/lbmol fuel"]
[null,null,null,null,null,null,null,null,null,null,null,"CH4",{"$f":"((M$76*'Fuel Specs'!$E260+M$77*'Fuel Specs'!$E306)+(($M$80-1)/$M$80)*M178)*M$72","v":0},"lbmol/lbmol fuel"]
[null,null,null,null,null,null,null,null,null,null,null,"C2H6",{"$f":"((M$76*'Fuel Specs'!$E261+M$77*'Fuel Specs'!$E307)+(($M$80-1)/$M$80)*M179)*M$72","v":0},"lbmol/lbmol fuel"]
[null,null,null,null,null,null,null,null,null,null,null,"C3H8",{"$f":"((M$76*'Fuel Specs'!$E262+M$77*'Fuel Specs'!$E308)+(($M$80-1)/$M$80)*M180)*M$72","v":0},"lbmol/lbmol fuel"]
[null,null,null,null,null,null,null,null,null,null,null,"n-C4H10",{"$f":"((M$76*'Fuel Specs'!$E263+M$77*'Fuel Specs'!$E309)+(($M$80-1)/$M$80)*M181)*M$72","v":0},"lbmol/lbmol fuel"]
[null,null,null,null,null,null,null,null,null,null,null,"CO",{"$f":"((M$76*'Fuel Specs'!$E264+M$77*'Fuel Specs'!$E310)+(($M$80-1)/$M$80)*M182)*M$72","v":0},"lbmol/lbmol fuel"]
[null,null,null,null,null,null,null,null,null,null,null,"H2",{"$f":"((M$76*'Fuel Specs'!$E265+M$77*'Fuel Specs'!$E311)+(($M$80-1)/$M$80)*M183)*M$72","v":0},"lbmol/lbmol fuel"]
[null,null,null,null,null,null,null,null,null,null,null,"H2S",{"$f":"((M$76*'Fuel Specs'!$E266+M$77*'Fuel Specs'!$E312)+(($M$80-1)/$M$80)*M184)*M$72","v":0},"lbmol/lbmol fuel"]
[null,null,null,null,null,null,null,null,null,null,null,"SO2",{"$f":"((M$76*'Fuel Specs'!$E267+M$77*'Fuel Specs'!$E313)+(($M$80-1)/$M$80)*M185)*M$72","v":0},"lbmol/lbmol fuel"]
[]
[]
[null,null,"2.5.1.2   Average molar mass of OTSG exhaust",null,null,null,null,null,null,null,null,null,{"$f":"IFERROR(SUMPRODUCT(M213:M224,'Fuel Specs'!E148:E159)/SUM(M213:M224),0)","v":27.658351802206322},"lb/lbmol exhaust"]
[]
[null,null,"2.5.1.3   OTSG exhaust mole fraction CO2",null,null,null,null,null,null,null,null,null,{"$f":"IFERROR(M215/SUM(M213:M224),0)","v":7.990472044919171E-2},"lbmol CO2/lbmol exhaust"]
[]
[null,null,"2.5.1.4   OTSG exhaust enthalpy",null,null,null,null,null,null,null,null,null,{"$f":"M213*'Input data'!$C$174+M214*'Input data'!$D$174+M215*'Input data'!$E$174+M216*('Input data'!$I$174)+M224*'Input data'!F174","v":26029.684521892334},"Btu/lbmol fuel",null,null,null,null,null,null,null,"Neglect latent heat of vaporization of air and exhaust H2O because working with LHV balance"]
[]
[]
[null,"2.5.2   OTSG exhaust properties - Crude liquid fuels"]
[null,null,"2.5.2.1   OTSG outlet exhaust moles per lbm of crude liquid fuel consumed",null,null,null,null,null,null,null,null,"N2, Ar",{"$f":"(M194+M167/2)*M73","v":0},"lbmol exhaust/lbm crude liquid fuel"]
[null,null,null,null,null,null,null,null,null,null,null,"O2",{"$f":"(M195-M164-1/4*M165-M166)*M73","v":0},"lbmol exhaust/lbm crude liquid fuel"]
[null,null,null,null,null,null,null,null,null,null,null,"CO2",{"$f":"(M196+M164)*M73","v":0},"lbmol exhaust/lbm crude liquid fuel"]
[null,null,null,null,null,null,null,null,null,null,null,"H2O",{"$f":"(M197+M165/2)*M73","v":0},"lbmol exhaust/lbm crude liquid fuel"]
[null,null,null,null,null,null,null,null,null,null,null,"CH4",{"$f":"M198*M73","v":0},"lbmol exhaust/lbm crude liquid fuel"]
[null,null,null,null,null,null,null,null,null,null,null,"C2H6",{"$f":"M199*M73","v":0},"lbmol exhaust/lbm crude liquid fuel"]
[null,null,null,null,null,null,null,null,null,null,null,"C3H8",{"$f":"M200*M73","v":0},"lbmol exhaust/lbm crude liquid fuel"]
[null,null,null,null,null,null,null,null,null,null,null,"n-C4H10",{"$f":"M201*M73","v":0},"lbmol exhaust/lbm crude liquid fuel"]
[null,null,null,null,null,null,null,null,null,null,null,"CO",{"$f":"M202*M73","v":0},"lbmol exhaust/lbm crude liquid fuel"]
[null,null,null,null,null,null,null,null,null,null,null,"H2",{"$f":"M203*M73","v":0},"lbmol exhaust/lbm crude liquid fuel"]
[null,null,null,null,null,null,null,null,null,null,null,"H2S",{"$f":"M204*M73","v":0},"lbmol exhaust/lbm crude liquid fuel"]
[null,null,null,null,null,null,null,null,null,null,null,"SO2",{"$f":"(M205+M166)*M73","v":0},"lbmol exhaust/lbm crude liquid fuel"]
[]
[]
[null,null,"2.5.2.2   Average molar mass of OTSG exhaust",null,null,null,null,null,null,null,null,null,{"$f":"IFERROR(SUMPRODUCT(M235:M246,'Fuel Specs'!E148:E159)/SUM(M235:M246),0)","v":0},"lb/lbmol exhaust"]
[]
[null,null,"2.5.2.3   OTSG exhaust mole fraction CO2",null,null,null,null,null,null,null,null,null,{"$f":"IFERROR(M237/SUM(M235:M246),0)","v":0},"lbmol CO2/lbmol exhaust"]
[]
[null,null,"2.5.2.4   OTSG exhaust enthalpy",null,null,null,null,null,null,null,null,null,{"$f":"M235*'Input data'!$C$174+M236*'Input data'!$D$174+M237*'Input data'!$E$174+M238*('Input data'!$I$174)+M246*'Input data'!F174","v":0},"Btu/lbm fuel",null,null,null,null,null,null,null,"Neglect latent heat of vaporization of air and exhaust H2O because working with LHV balance"]
[]
[]
["2.6   OTSG efficiency"]
[null,"2.6.1   OTSG maximum available energy"]
[null,null,"2.6.1.1   OTSG available enthalpy - Gaseous fuel combustion",null,null,null,null,null,null,null,null,null,{"$f":"(M187+M157-M231)*M$72","v":328977.81433294911},"Btu/lbmol fuel"]
[null,null,"2.6.1.2   OTSG available enthalpy - Liquid fuel combustion",null,null,null,null,null,null,null,null,null,{"$f":"(M207+M161-M253)*M73","v":0},"Btu/lbm fuel"]
[]
[null,"2.6.2   OTSG shell losses"]
[null,null,"2.6.2.1   OTSG shell loss - Gaseous fuels",null,null,null,null,null,null,null,null,null,{"$f":"(M87*M157)*M$72","v":14200.299954193659},"Btu/lbmol fuel"]
[null,null,"2.6.2.2   OTSG shell loss - Liquid fuels",null,null,null,null,null,null,null,null,null,{"$f":"(M87*M161)*M73","v":0},"Btu/lbm fuel"]
[]
[]
[null,"2.6.3   Enthalpy available for raising steam"]
[null,null,"2.6.3.1   Enthalpy available after exhaust and other loss - Gaseous fuels",null,null,null,null,null,null,null,null,null,{"$f":"MAX(M258-M262-M88,0)","v":309777.51437875547},"Btu/lbmol fuel"]
[null,null,"2.6.3.2   Enthalpy available after exhaust and other loss - Liquid fuels",null,null,null,null,null,null,null,null,null,{"$f":"MAX((M259-M263-M89),0)","v":0},"Btu/lbm fuel"]
[]
[null,"2.6.4   OTSG efficiency",null,null,null,null,null,null,null,null,null,null,{"$f":"IF(M72=1,(M267/M157),(M268/M161))","v":0.87259428428417507},"Btu in steam per Btu fuel combusted (LHV)"]
[]
[]
["2.7   OTSG energy consumption and emissions"]
[null,"2.7.1   Energy demand for steam enthalpy change",null,null,null,null,null,null,null,null,null,null,{"$f":"M45*M32/1000000","v":1629.6732869760001},"MMBtu/d "]
[]
[null,"2.7.2   Fuels combusted for steam generation"]
[null,null,"2.7.2.1   Gaseous fuels combusted for steam generation",null,null,null,null,null,null,null,null,null,{"$f":"IFERROR((M274*1000000)/M267,0)","v":5260.7862460393062},"lbmol/d"]
[null,null,"2.7.2.2   Liquid fuels combusted for steam generation",null,null,null,null,null,null,null,null,null,{"$f":"IFERROR((M274*1000000)/M268,0)","v":0},"lbm/d"]
[]
[null,"2.7.3   Energy consumed for steam generation"]
[null,null,"2.7.3.1   Gaseous fuel energy for steam generation",null,null,null,null,null,null,null,null,null,{"$f":"M277*M157/1000000","v":1867.6185672163647},"MMBtu/d"]
[null,null,"2.7.3.2   Liquid fuel energy for steam generation",null,null,null,null,null,null,null,null,null,{"$f":"M278*M161/1000000","v":0},"MMBtu/d"]
[]
[]
[]
[]
["3 Calculations - System for SAGD with heat recovery from produced fluids, significant water recycle, and blowdown"]
[]
["This system is not included in OPGEE v.1.0"]
[]
[]
[]
["4 Combined heat and power - Gas turbine (GT) + heat recovery steam generator (HRSG)"]
[]
[]
["4.1   GT + HRSG inputs"]
[null,"4.1.1   Gas turbine properties",null,null,null,null,null,null,null,null,null,null,null,null,null,null,null,null,null,null,null,"Choose \"A\", \"B\", \"C\", \"D\""]
[null,null,"4.1.1.1   Turbine type",null,null,null,null,null,null,null,null,null,"C","C","NA"]
[null,null,"4.1.1.2   Gas turbine fuel input type"]
[null,null,null,"4.1.1.2.1   Fraction natural gas",null,null,null,null,null,null,null,null,1,1,"Btu/Btu"]
[null,null,null,"4.1.1.2.1   Fraction product gas",null,null,null,null,null,null,null,null,0,0,"Btu/Btu"]
[null,null,null,null,null,null,null,null,null,null,null,"Check",{"$f":"IF(SUM(M300:M301)=1,\"OK\",\"ERROR\")","v":"OK"},null,null,null,null,null,null,null,null,"Fuel shares for gas turbine must sum to 1."]
[null,"4.1.2   HRSG properties"]
[null,null,"4.1.2.1   HRSG outlet exhaust temperature",null,null,null,null,null,null,null,null,null,500,350,"°F"]
[null,null,"4.2.2.2   HRSG shell losses",null,null,null,null,null,null,null,null,null,0.05,0.05,"Btu/Btu fuel",null,null,null,"Ganapathy (2003)"]
[]
[]
[]
[]
["4.2   GT + HRSG resulting mass and energy balances"]
[]
[null,null,null,{"$f":"D314/'Input data'!E18","v":6627178.8553225501},null,null,null,null,null,null,null,{"$f":"L314*'Input data'!E19","v":715284.39603599999},null,null,null,null,null,{"$f":"R314*'Input data'!E19","v":715284.39603599999},"Steam out"]
[null,null,"Air in","kg/d",null,null,null,null,null,null,"Water in","kg/d",null,null,null,null,null,"kg/d"]
[null,null,null,{"$f":"M406*M479","v":14606302.197130902},null,null,null,null,null,null,null,{"$f":"M32","v":1576940.4},null,null,null,null,null,{"$f":"M32","v":1576940.4}]
[null,null,null,"lbm/d",null,null,null,null,null,null,null,"lbm/d",null,null,null,null,null,"lbm/d"]
[]
[null,null,null,{"$f":"D319/'Input data'!E18","v":109913.46840447077},null,null,"Gas turbine",null,null,{"$f":"J319/'Input data'!E18","v":6737092.323727021},null,null,null,null,"HRSG"]
[null,null,"Fuel in","kg/d",null,null,null,null,null,"kg/d","GT exhaust out",null,null,null,null,null,null,{"$f":"R320/'Input data'!E18","v":6737092.323727021},"HRSG exhaust out"]
[null,null,null,{"$f":"M479*M384","v":242249.2843634536},null,null,null,null,null,{"$f":"M430*M479","v":14848551.481494356},null,null,null,null,null,null,null,"kg/d"]
[null,null,null,"lbm/d",null,null,"Mass balance",null,null,"lbm/d",null,null,null,null,"Mass balance",null,null,{"$f":"M462*M479","v":14848551.481494356}]
[null,null,null,null,null,null,null,null,null,null,null,0,null,null,null,null,null,"lbm/d"]
[null,null,null,null,null,null,null,null,null,null,"Fuel in","kg/d"]
[null,null,null,null,null,null,null,null,null,null,null,0]
[null,null,null,null,null,null,null,null,null,null,null,"lbm/d"]
[]
[]
[null,null,null,null,"Mass in",null,"Check",null,"Mass out",null,null,null,"Mass in",null,"Check",null,"Mass out"]
[null,null,null,null,{"$f":"D312+D317","v":6737092.323727021},"kg",{"$f":"IFERROR(IF((ABS(E328-I328))/E328<=0.02,\"OK\",\"ERROR\"),\"OK\")","v":"OK"},null,{"$f":"SUM(J317)","v":6737092.323727021},"kg",null,null,{"$f":"L312+J317+L321","v":7452376.719763021},"kg",{"$f":"IFERROR(IF((ABS(M328-Q328))/M328<=0.02,\"OK\",\"ERROR\"),\"OK\")","v":"OK"},null,{"$f":"SUM(R312,R318)","v":7452376.719763021},"kg"]
[]
[]
[]
[null,null,null,null,null,null,null,null,"Power out"]
[null,null,null,null,null,null,null,{"$f":"I333*1055.05/1000","v":1689759.7465579775},{"$f":"M486*1000","v":1601592.1013771647}]
[null,null,null,null,null,null,null,"MJ/d","MBtu/d"]
[]
[null,null,null,{"$f":"D338*1055.05/1000","v":0},null,null,null,null,null,null,null,{"$f":"L338*1055.05/1000","v":20697.062054608796},null,null,null,null,null,{"$f":"R338*1055.05/1000","v":1740083.8634786378}]
[null,null,"Air H","MJ/d",null,null,null,null,null,null,"Water in","MJ/d",null,null,null,null,null,"MJ/d","Steam out"]
[null,null,null,{"$f":"M479*M408/1000","v":0},null,null,null,null,null,null,null,{"$f":"M32*M33/1000","v":19617.138575999998},null,null,null,null,null,{"$f":"M32*M44/1000","v":1649290.4255520001}]
[null,null,null,"MBtu/d",null,null,null,null,null,null,null,"MBtu/d",null,null,null,null,null,"MBtu/d"]
[null,null,null,null,null,null,"Gas turbine",null,null,{"$f":"J342*1055.05/1000","v":3585379.2678025854},null,null,null,null,"HRSG"]
[null,null,null,{"$f":"D343*1055.05/1000","v":5463308.6311801802},null,null,null,null,null,"MJ/d","Exhaust in/out",null,null,null,null,null,null,{"$f":"R343*1055.05/1000","v":1686723.5029884274}]
[null,null,"Fuel LHV","MJ/d",null,null,"Energy balance",null,null,{"$f":"M436*M479/1000","v":3398302.7039501308},null,null,null,null,"Energy balance",null,null,"MJ/d","Exhaust out"]
[null,null,null,{"$f":"M479*M386/1000","v":5178246.1790248621},null,null,null,null,null,"MBtu/d",null,null,null,null,null,null,null,{"$f":"M468*M479/1000","v":1598714.2817766243}]
[null,null,null,"MBtu/d",null,null,null,null,null,null,null,null,null,null,null,null,null,"MBtu/d"]
[]
[null,null,null,null,null,"Efficiency:",{"$f":"H333/D341","v":0.30929238317494739},null,null,null,null,0,null,"Efficiency:",{"$f":"R336/J340","v":0.48532769715743462},null,null,"Overall cogen. effic.:",null,{"$f":"(R336+H333)/D341","v":0.6277960557567297}]
[null,null,null,null,null,null,null,null,null,null,"Fuel in","MJ/d"]
[null,null,null,null,null,null,null,null,null,null,null,0]
[null,null,null,null,null,null,null,null,null,null,null,"MBtu/d"]
[]
[null,null,null,null,null,null,null,{"$f":"I351*1055.05/1000","v":172611.47883000548},{"$f":"M440*M479/1000","v":163605.02234965685},null,null,null,null,null,{"$f":"P351*1055.05/1000","v":179268.9633901293},{"$f":"M471*M479/1000","v":169915.13519750658}]
[null,null,null,null,null,null,null,"MJ/d","MBtu/d",null,null,null,null,null,"MJ/d","MBtu/d"]
[]
[null,null,null,null,null,null,null,null,"Other waste heat out",null,null,null,null,null,null,"Other waste heat out"]
[]
[null,null,null,null,"Energy in",null,"Check:",null,"Energy out",null,null,null,"Energy in",null,"Check",null,"Energy out"]
[null,null,null,null,{"$f":"(D336+D341+D346)/1000","v":5463.3086311801799},"GJ",{"$f":"IFERROR(IF((ABS(E357-I357))/E357<=0.02,\"OK\",\"ERROR\"),\"OK\")","v":"OK"},null,{"$f":"SUM(H333,J340,H351)/1000","v":5447.7504931905678},"MJ",null,null,{"$f":"(L336+J340)/1000","v":3606.0763298571942},"MJ",{"$f":"IFERROR(IF((ABS(M357-Q357))/M357<=0.02,\"OK\",\"ERROR\"),\"OK\")","v":"OK"},null,{"$f":"(R336+R341+O351)/1000","v":3606.0763298571942},"MJ"]
[null,null,null,null,null,null,null,null,null,null,null,null,null,null,null,null,null,null,null,null,null,"Energy check will report \"ERROR\" due to approximate gas turbine model."]
[]
[]
[]
["4.3   Gas turbine properties"]
[null,"4.3.1   Gas turbine efficiencies"]
[null,null,"4.3.1.1   Input - Energy",null,null,null,null,null,null,null,null,null,1,"Btu/Btu"]
[null,null,"4.3.1.2   Output - Electricity",null,null,null,null,null,null,null,null,null,{"$f":"IF(M298=\"A\",'Input data'!G125,IF(M298=\"B\",'Input data'!H125,IF(M298=\"C\",'Input data'!I125,IF(M298=\"D\",'Input data'!J125,\"ERROR\"))))","v":0.30929238317494734},"Btu e-/Btu LHV",null,null,null,null,"Based on Kim (2004), Table 2",null,null,"See documentation for calculation notes"]
[null,null,"4.3.1.3   Output - Other loss",null,null,null,null,null,null,null,null,null,{"$f":"IF(M298=\"A\",'Input data'!G128,IF(M298=\"B\",'Input data'!H128,IF(M298=\"C\",'Input data'!I128,IF(M298=\"D\",'Input data'!J128,\"ERROR\"))))","v":3.159467833189538E-2},"Btu loss / Btu LHV",null,null,null,null,"Based on Kim (2004), Table 2",null,null,"See documentation for calculation notes"]
[null,null,"4.3.1.4   Output - Exhaust thermal energy",null,null,null,null,null,null,null,null,null,{"$f":"M364-M365-M366","v":0.65911293849315733},"Btu exhaust / Btu LHV"]
[]
[null,"4.3.2   Gas turbine fuel properties"]
[null,null,"4.3.2.1   Gas turbine fuel composition",null,null,null,null,null,null,null,null,"N2, Ar",{"$f":"M$300*'Fuel Specs'!C227+M$301*'Fuel Specs'!C273","v":4.0000000000000001E-3},"lbmol/lbmol fuel",null,null,null,null,null,null,null,"Change composition of natural gas, associated gas in \"Fuel Specs\" sheet."]
[null,null,null,null,null,null,null,null,null,null,null,"O2",{"$f":"M$300*'Fuel Specs'!C228+M$301*'Fuel Specs'!C274","v":0},"lbmol/lbmol fuel"]
[null,null,null,null,null,null,null,null,null,null,null,"CO2",{"$f":"M$300*'Fuel Specs'!C229+M$301*'Fuel Specs'!C275","v":0},"lbmol/lbmol fuel"]
[null,null,null,null,null,null,null,null,null,null,null,"H2O",{"$f":"M$300*'Fuel Specs'!C230+M$301*'Fuel Specs'!C276","v":0},"lbmol/lbmol fuel"]
[null,null,null,null,null,null,null,null,null,null,null,"CH4",{"$f":"M$300*'Fuel Specs'!C231+M$301*'Fuel Specs'!C277","v":0.96599999999999997},"lbmol/lbmol fuel"]
[null,null,null,null,null,null,null,null,null,null,null,"C2H6",{"$f":"M$300*'Fuel Specs'!C232+M$301*'Fuel Specs'!C278","v":0.02},"lbmol/lbmol fuel"]
[null,null,null,null,null,null,null,null,null,null,null,"C3H8",{"$f":"M$300*'Fuel Specs'!C233+M$301*'Fuel Specs'!C279","v":0.01},"lbmol/lbmol fuel"]
[null,null,null,null,null,null,null,null,null,null,null,"n-C4H10",{"$f":"M$300*'Fuel Specs'!C234+M$301*'Fuel Specs'!C280","v":0},"lbmol/lbmol fuel"]
[null,null,null,null,null,null,null,null,null,null,null,"CO",{"$f":"M$300*'Fuel Specs'!C235+M$301*'Fuel Specs'!C281","v":0},"lbmol/lbmol fuel"]
[null,null,null,null,null,null,null,null,null,null,null,"H2",{"$f":"M$300*'Fuel Specs'!C236+M$301*'Fuel Specs'!C282","v":0},"lbmol/lbmol fuel"]
[null,null,null,null,null,null,null,null,null,null,null,"H2S",{"$f":"M$300*'Fuel Specs'!C237+M$301*'Fuel Specs'!C283","v":0},"lbmol/lbmol fuel"]
[null,null,null,null,null,null,null,null,null,null,null,"SO2",{"$f":"M$300*'Fuel Specs'!C238+M$301*'Fuel Specs'!C284","v":0},"lbmol/lbmol fuel"]
[null,null,null,null,null,null,null,null,null,null,null,"Check",{"$f":"IF(SUM(M370:M378)=1,\"OK\",\"ERROR\")","v":"OK"},null,null,null,null,null,null,null,null,"Composition fractions must sum to 1."]
[]
[null,null,"4.3.2.2. Gas turbine fuel input weighted molar mass",null,null,null,null,null,null,null,null,null,{"$f":"SUMPRODUCT(M370:M381,'Fuel Specs'!E148:E159)","v":16.608000000000001},"lb/lbmol"]
[]
[null,null,"4.3.2.3   Gas turbine fuel heating value (LHV)",null,null,null,null,null,null,null,null,"Btu",{"$f":"SUMPRODUCT(M370:M381,'Fuel Specs'!N128:N139)","v":355007.49885484145},"Btu LHV/lbmol"]
[null,null,null,null,null,null,null,null,null,null,null,"MJ",{"$f":"M386*1055.05/1000000","v":374.55066166680047},"MJ LHV/mol"]
[]
[null,"4.3.3   Gas turbine combustion parameters"]
[null,null,"4.3.3.1   Gas turbine excess air in combustion",null,null,null,null,null,null,null,null,null,{"$f":"IF(M298=\"A\",'Input data'!G127,IF(M298=\"B\",'Input data'!H127,IF(M298=\"C\",'Input data'!I127,IF(M298=\"D\",'Input data'!J127,\"ERROR\"))))","v":3.5},"mol O2 real/mol O2 stoichiometric",null,null,null,null,"Based on Kim (2004)",null,null,"Moles of O2 at combustion conditions compared to mols of O2 at stoichiometic conditions. See documentation for calculation notes."]
[]
[null,"4.3.4   Gas turbine inlet air properties"]
[null,null,"4.3.4.1   Gas turbine air demand per mol of fuel consumed (stoichiometric + excess air)",null,null,null,null,null,null,null,null,"N2, Ar",{"$f":"(M$300*'Fuel Specs'!D256+M$301*'Fuel Specs'!D302)*(M$390)","v":27.089338424821005},"lbmol/lbmol fuel"]
[null,null,null,null,null,null,null,null,null,null,null,"O2",{"$f":"(M$300*'Fuel Specs'!D257+M$301*'Fuel Specs'!D303)*(M$390)","v":7.1819999999999986},"lbmol/lbmol fuel"]
[null,null,null,null,null,null,null,null,null,null,null,"CO2",{"$f":"(M$300*'Fuel Specs'!D258+M$301*'Fuel Specs'!D304)*(M$390)","v":1.0284486873508351E-2},"lbmol/lbmol fuel"]
[null,null,null,null,null,null,null,null,null,null,null,"H2O",{"$f":"(M$300*'Fuel Specs'!D259+M$301*'Fuel Specs'!D305)*(M$390)","v":0.69962495738152064},"lbmol/lbmol fuel"]
[null,null,null,null,null,null,null,null,null,null,null,"CH4",{"$f":"(M$300*'Fuel Specs'!D260+M$301*'Fuel Specs'!D306)*(M$390)","v":0},"lbmol/lbmol fuel"]
[null,null,null,null,null,null,null,null,null,null,null,"C2H6",{"$f":"(M$300*'Fuel Specs'!D261+M$301*'Fuel Specs'!D307)*(M$390)","v":0},"lbmol/lbmol fuel"]
[null,null,null,null,null,null,null,null,null,null,null,"C3H8",{"$f":"(M$300*'Fuel Specs'!D262+M$301*'Fuel Specs'!D308)*(M$390)","v":0},"lbmol/lbmol fuel"]
[null,null,null,null,null,null,null,null,null,null,null,"n-C4H10",{"$f":"(M$300*'Fuel Specs'!D263+M$301*'Fuel Specs'!D309)*(M$390)","v":0},"lbmol/lbmol fuel"]
[null,null,null,null,null,null,null,null,null,null,null,"CO",{"$f":"(M$300*'Fuel Specs'!D264+M$301*'Fuel Specs'!D310)*(M$390)","v":0},"lbmol/lbmol fuel"]
[null,null,null,null,null,null,null,null,null,null,null,"H2",{"$f":"(M$300*'Fuel Specs'!D265+M$301*'Fuel Specs'!D311)*(M$390)","v":0},"lbmol/lbmol fuel"]
[null,null,null,null,null,null,null,null,null,null,null,"H2S",{"$f":"(M$300*'Fuel Specs'!D266+M$301*'Fuel Specs'!D312)*(M$390)","v":0},"lbmol/lbmol fuel"]
[null,null,null,null,null,null,null,null,null,null,null,"SO2",{"$f":"(M$300*'Fuel Specs'!D267+M$301*'Fuel Specs'!D313)*(M$390)","v":0},"lbmol/lbmol fuel"]
[]
[null,null,"4.2.4.2   Gas turbine inlet air mass",null,null,null,null,null,null,null,null,null,{"$f":"SUM(M393:M404)*M62","v":1001.3712425502898},"lb air/lbmol fuel"]
[]
[null,null,"4.3.4.3   Gas turbine inlet air enthalpy",null,null,null,null,null,null,null,null,null,{"$f":"M393*'Input data'!$C$165+M394*'Input data'!$D$165+M395*'Input data'!$E$165+M396*('Input data'!$I$165)+1*'Input data'!$J$165","v":0},"Btu/lbmol fuel"]
[]
[]
[null,"4.3.5   Gas turbine exhaust properties"]
[null,null,"4.3.5.1   Gas turbine outlet exhaust temperature",null,null,null,null,null,null,null,null,null,{"$f":"IF(M298=\"A\",'Input data'!G124,IF(M298=\"B\",'Input data'!H124,IF(M298=\"C\",'Input data'!I124,IF(M298=\"D\",'Input data'!J124,\"ERROR\"))))","v":949.99},"°F",null,null,null,null,null,null,null,"This temperature is calculated externally to satisfy the energy balance on the gas turbine.  See documentation for calculation notes."]
[]
[null,null,"4.3.5.2   Gas turbine outlet exhaust moles per mole of fuel consumed",null,null,null,null,null,null,null,null,"N2, Ar",{"$f":"(M$300*'Fuel Specs'!$E256+M$301*'Fuel Specs'!$E302)+(($M$390-1)/$M$390)*M393","v":27.093338424821006},"lbmol/lbmol fuel"]
[null,null,null,null,null,null,null,null,null,null,null,"O2",{"$f":"(M$300*'Fuel Specs'!$E257+M$301*'Fuel Specs'!$E303)+(($M$390-1)/$M$390)*M394","v":5.129999999999999},"lbmol/lbmol fuel"]
[null,null,null,null,null,null,null,null,null,null,null,"CO2",{"$f":"(M$300*'Fuel Specs'!$E258+M$301*'Fuel Specs'!$E304)+(($M$390-1)/$M$390)*M395","v":1.0462844868735082},"lbmol/lbmol fuel"]
[null,null,null,null,null,null,null,null,null,null,null,"H2O",{"$f":"(M$300*'Fuel Specs'!$E259+M$301*'Fuel Specs'!$E305)+(($M$390-1)/$M$390)*M396","v":2.7316249573815208},"lbmol/lbmol fuel"]
[null,null,null,null,null,null,null,null,null,null,null,"CH4",{"$f":"(M$300*'Fuel Specs'!$E260+M$301*'Fuel Specs'!$E306)+(($M$390-1)/$M$390)*M397","v":0},"lbmol/lbmol fuel"]
[null,null,null,null,null,null,null,null,null,null,null,"C2H6",{"$f":"(M$300*'Fuel Specs'!$E261+M$301*'Fuel Specs'!$E307)+(($M$390-1)/$M$390)*M398","v":0},"lbmol/lbmol fuel"]
[null,null,null,null,null,null,null,null,null,null,null,"C3H8",{"$f":"(M$300*'Fuel Specs'!$E262+M$301*'Fuel Specs'!$E308)+(($M$390-1)/$M$390)*M399","v":0},"lbmol/lbmol fuel"]
[null,null,null,null,null,null,null,null,null,null,null,"n-C4H10",{"$f":"(M$300*'Fuel Specs'!$E263+M$301*'Fuel Specs'!$E309)+(($M$390-1)/$M$390)*M400","v":0},"lbmol/lbmol fuel"]
[null,null,null,null,null,null,null,null,null,null,null,"CO",{"$f":"(M$300*'Fuel Specs'!$E264+M$301*'Fuel Specs'!$E310)+(($M$390-1)/$M$390)*M401","v":0},"lbmol/lbmol fuel"]
[null,null,null,null,null,null,null,null,null,null,null,"H2",{"$f":"(M$300*'Fuel Specs'!$E265+M$301*'Fuel Specs'!$E311)+(($M$390-1)/$M$390)*M402","v":0},"lbmol/lbmol fuel"]
[null,null,null,null,null,null,null,null,null,null,null,"H2S",{"$f":"(M$300*'Fuel Specs'!$E266+M$301*'Fuel Specs'!$E312)+(($M$390-1)/$M$390)*M403","v":0},"lbmol/lbmol fuel"]
[null,null,null,null,null,null,null,null,null,null,null,"SO2",{"$f":"(M$300*'Fuel Specs'!$E267+M$301*'Fuel Specs'!$E313)+(($M$390-1)/$M$390)*M404","v":0},"lbmol/lbmol fuel"]
[]
[]
[null,null,"4.3.5.3   Average molar mass of gas turbine exhaust",null,null,null,null,null,null,null,null,null,{"$f":"SUMPRODUCT(M414:M425,'Fuel Specs'!E148:E159)/SUM(M414:M425)","v":28.276221042457326},"lb/lbmol of exhaust"]
[]
[null,null,"4.3.5.4   Mass of gas turbine exhaust",null,null,null,null,null,null,null,null,null,{"$f":"M428*(SUM(M414:M425))","v":1017.9792425502899},"lb/lbmol of fuel burned"]
[]
[null,null,"4.3.5.5   Gas turbine specific power",null,null,null,null,null,null,null,null,null,{"$f":"M386*M365/M430","v":107.86184116162559},"Btu e-/lb of working fluid"]
[]
[null,null,"4.3.5.6   Gas turbine exhaust mole fraction CO2",null,null,null,null,null,null,null,null,null,{"$f":"M416/SUM(M414:M425)","v":2.9062450576115565E-2},"mol CO2/mol exhaust"]
[]
[null,null,"4.3.5.7   Gas turbine exhaust enthalpy",null,null,null,null,null,null,null,null,null,{"$f":"M414*'Input data'!$C$183+M415*'Input data'!$D$183+M416*'Input data'!$E$183+M417*('Input data'!$I$183)","v":232979.0630981873},"Btu/lbmol fuel"]
[]
[null,null,"4.3.5.8   Gas turbine other inefficiencies"]
[null,null,null,"4.3.5.8.1   Gas turbine other inefficiencies",null,null,null,null,null,null,null,null,{"$f":"M366","v":3.159467833189538E-2},"Btu/Btu fuel"]
[null,null,null,"4.3.5.8.2   Gas turbine other loss",null,null,null,null,null,null,null,null,{"$f":"M439*M386","v":11216.347731729433},"Btu/lbmol fuel"]
[]
[]
["4.4   HRSG properties"]
[null,"4.4.1   HRSG inlet gas properties"]
[null,null,"4.4.1.1   HRSG inlet gas temperature",null,null,null,null,null,null,null,null,null,{"$f":"M412","v":949.99},"°F",null,null,null,null,null,null,null,"Assume 50 deg. F temperature loss between turbine and HRSG"]
[]
[null,null,"4.4.1.2   HRSG inlet moles per mole of fuel consumed in gas turbine",null,null,null,null,null,null,null,null,"N2, Ar",{"$f":"M414","v":27.093338424821006},"lbmol/lb mol fuel"]
[null,null,null,null,null,null,null,null,null,null,null,"O2",5.129999999999999,"lbmol/lb mol fuel"]
[null,null,null,null,null,null,null,null,null,null,null,"CO2",1.0462844868735082,"lbmol/lb mol fuel"]
[null,null,null,null,null,null,null,null,null,null,null,"H2O",2.7316249573815208,"lbmol/lb mol fuel"]
[null,null,null,null,null,null,null,null,null,null,null,"CH4",0,"lbmol/lb mol fuel"]
[null,null,null,null,null,null,null,null,null,null,null,"C2H6",0,"lbmol/lb mol fuel"]
[null,null,null,null,null,null,null,null,null,null,null,"C3H8",0,"lbmol/lb mol fuel"]
[null,null,null,null,null,null,null,null,null,null,null,"n-C4H10",0,"lbmol/lb mol fuel"]
[null,null,null,null,null,null,null,null,null,null,null,"CO",0,"lbmol/lb mol fuel"]
[null,null,null,null,null,null,null,null,null,null,null,"H2",0,"lbmol/lb mol fuel"]
[null,null,null,null,null,null,null,null,null,null,null,"H2S",0,"lbmol/lb mol fuel"]
[null,null,null,null,null,null,null,null,null,null,null,"SO2",0,"lbmol/lb mol fuel"]
[]
[]
[null,null,"4.4.1.3   Average molar mass HRSG inlet exhaust",null,null,null,null,null,null,null,null,null,{"$f":"SUMPRODUCT(M447:M458,'Fuel Specs'!E148:E159)/SUM(M447:M458)","v":28.276221042457326},"lb/lbmol of exhaust"]
[null,null,"4.4.1.4   Mass of HRSG inlet exhaust",null,null,null,null,null,null,null,null,null,{"$f":"M461*(SUM(M447:M458))","v":1017.9792425502899},"lb/lbmol of fuel"]
[null,null,"4.4.1.5   Enthalpy of HRSG inlet exhaust",null,null,null,null,null,null,null,null,null,{"$f":"M447*'Input data'!$C$183+M448*'Input data'!$D$183+M449*'Input data'!$E$183+M450*('Input data'!$I$183)","v":232979.0630981873},"Btu/lbmol fuel"]
[]
[null,"4.4.2   HRSG exhaust properties"]
[null,null,"4.4.2.1   HRSG exhaust composition",null,null,null,null,null,null,null,null,null,"Assume same as inlet composition due to no duct firing"]
[]
[null,null,"4.4.2.2   Enthalpy of HRSG outlet exhaust",null,null,null,null,null,null,null,null,null,{"$f":"M447*'Input data'!$C$192+M448*'Input data'!$D$192+M449*'Input data'!$E$192+M450*('Input data'!$I$192)","v":109603.81931164046},"Btu/lbmol fuel"]
[]
[null,"4.4.3   HRSG other inefficiencies"]
[null,null,"4.4.3.1   HRSG shell loss",null,null,null,null,null,null,null,null,null,{"$f":"M305*M463","v":11648.953154909366},"Btu/lbmol fuel"]
[]
[null,"4.4.4   Overall HRSG efficiency parameters"]
[null,null,"4.4.4.1   HRSG enthalpy available after exhaust loss and other inefficiencies",null,null,null,null,null,null,null,null,null,{"$f":"M463-M468-M471","v":111726.29063163747},"Btu/lbmol fuel combusted"]
[null,null,"4.4.4.2   HRSG efficiency",null,null,null,null,null,null,null,null,null,{"$f":"M474/M463","v":0.47955506879410559},"Btu steam/Btu inlet enthalpy"]
[]
[]
["4.5   HRSG overall energy consumption and emissions"]
[null,"4.5.1   Moles of fuel consumed per day",null,null,null,null,null,null,null,null,null,null,{"$f":"M45*M32/M474","v":14586.300840766715},"lbmol fuel combusted per day"]
[]
[null,"4.5.2   Overall energy balance"]
[null,null,"4.5.2.1   Heat content of fuel consumed per day (MMBtu LHV)",null,null,null,null,null,null,null,null,null,{"$f":"M479*M386/1000000","v":5178.2461790248626},"MMBtu/d"]
[]
[null,null,"4.5.2.2   Heat content provided to steam per day (MMBtu enthalpy of steam)",null,null,null,null,null,null,null,null,null,{"$f":"M474*M479/1000000","v":1629.6732869760001},"MMBtu/d "]
[]
[null,null,"4.5.2.3   Power generated per day (MMBtu electricity)",null,null,null,null,null,null,null,null,null,{"$f":"M479*M386*M365/1000000","v":1601.5921013771647},"MMBtu/d"]
[]
[null,"4.5.3   Overall cogeneration efficiency [(Btu elec + Btu steam) / Btu energy input]",null,null,null,null,null,null,null,null,null,null,{"$f":"IFERROR((M484+M486)/M482,\"NA\")","v":0.62400768071665103},"Efficiency, LHV basis"]

{"sheet":"Venting & Fugitives","index":17,"n_rows":254,"n_cols":42,"rows_kept":254,"cut":false,"hidden":false,"merged":[]}
["Supplemental Worksheet: Venting and Fugitives"]
[]
["This supplemental worksheet calculates venting and fugitives emissions"]
[]
["1   Input assumptions"]
[]
[null,null,null,null,null,null,null,null,null,null,null,null,"Value","Default","Unit",null,"Default reference",null,null,null,"User Reference",null,null,"Notes"]
["1.1   Venting"]
[null,"1.1.1   Vented emissions of associated gas (substitute for flaring)",null,null,null,null,null,null,null,null,null,null,{"$f":"('User Inputs & Results'!J108/1000000)*'Production & Extraction'!M35","v":0},{"$f":"('User Inputs & Results'!K108/1000000)*'Production & Extraction'!N35","v":0},"MMscf/d",null,null,null,null,null,null,null,null,"Assumed zero unless reported otherwise by the operator"]
[null,"1.1.2   Vented emissions of gas dehydrator"]
[null,null,"1.1.2.1   Volume of gas dehydrator",null,null,null,null,null,null,null,null,null,{"$f":"'Gas Balance'!M23*365","v":397.74336974341963},{"$f":"'Gas Balance'!M23*365","v":397.74336974341963},"MMscf/yr",null,"From gas balance"]
[null,null,"1.1.2.2   Emission factors"]
[null,null,null,"1.1.2.2.1   CO2",null,null,null,null,null,null,null,null,{"$f":"N13","v":4.3929508075571454E-4},{"$f":"'Emissions Factors'!G39/1000000","v":4.3929508075571454E-4},"t/MMscf"]
[null,null,null,"1.1.2.2.2   CH4",null,null,null,null,null,null,null,null,{"$f":"N14","v":1.5445215680206599E-2},{"$f":"'Emissions Factors'!H39/1000000","v":1.5445215680206599E-2},"t/MMscf"]
[]
[null,"1.1.3   Vented CO2 emissions of gas AGR unit",null,null,null,null,null,null,null,null,null,null,{"$f":"IF('Surface Processing'!M58=1,1*('Gas Balance'!N30-(('Venting & Fugitives'!M114/'Input data'!D81)+('Venting & Fugitives'!E124+'Venting & Fugitives'!E139+'Venting & Fugitives'!E144)+('Venting & Fugitives'!E218-'Venting & Fugitives'!E178-'Venting & Fugitives'!E183))/1000000),0)","v":6.470911945568536E-2},{"$f":"M16","v":6.470911945568536E-2},"MMscf/d",null,"From gas balance",null,null,null,null,null,null,"Only amine treater is assumed. No replacement of solid materials."]
[null,"1.1.4   Vented emissions of well workovers and cleanups"]
[null,null,"1.1.4.1   Workovers"]
[null,null,null,"1.1.4.1.1   Number of associated workovers per year",null,null,null,null,null,null,null,null,{"$f":"N19","v":21},{"$f":"ROUND((IF('User Inputs & Results'!J78<10,0,IF(AND('User Inputs & Results'!J78>=10,'User Inputs & Results'!J78<20),12889/156304520,IF(AND('User Inputs & Results'!J78>=20,'User Inputs & Results'!J78<30),5424/61524698,599/15649398)))*'Production & Extraction'!M35*365),0)","v":21},"Event/yr",null,"ARB (2007), Tables 2-3 and 4-8"]
[null,null,null,"1.1.4.1.2   Emission factors"]
[null,null,null,null,"1.1.4.1.2.1   CO2",null,null,null,null,null,null,null,{"$f":"N21","v":1.5025041736227046E-2},{"$f":"IF('User Inputs & Results'!J78<10,'Emissions Factors'!G24,IF(AND('User Inputs & Results'!J78>=10,'User Inputs & Results'!J78<20),'Emissions Factors'!G25,IF(AND('User Inputs & Results'!J78>=20,'User Inputs & Results'!J78<30),'Emissions Factors'!G26,'Emissions Factors'!G27)))/1000000","v":1.5025041736227046E-2},"t/Event"]
[null,null,null,null,"1.1.4.1.2.2   CH4",null,null,null,null,null,null,null,{"$f":"N22","v":0.10851419031719534},{"$f":"IF('User Inputs & Results'!J78<10,'Emissions Factors'!H24,IF(AND('User Inputs & Results'!J78>=10,'User Inputs & Results'!J78<20),'Emissions Factors'!H25,IF(AND('User Inputs & Results'!J78>=20,'User Inputs & Results'!J78<30),'Emissions Factors'!H26,'Emissions Factors'!H27)))/1000000","v":0.10851419031719534},"t/Event"]
[null,null,"1.1.4.2   Cleanups"]
[null,null,null,"1.1.4.2.1   Number of associated cleanups per year",null,null,null,null,null,null,null,null,{"$f":"N24","v":7},{"$f":"ROUND((IF('User Inputs & Results'!J78<10,0,IF(AND('User Inputs & Results'!J78>=10,'User Inputs & Results'!J78<20),956/156304520,IF(AND('User Inputs & Results'!J78>=20,'User Inputs & Results'!J78<30),1977/61524698,187/15649398)))*'Production & Extraction'!M35*365),0)","v":7},"Event/yr",null,"ARB (2007), Tables 2-3 and 4-10"]
[null,null,null,"1.1.4.2.2   Emission factors"]
[null,null,null,null,"1.1.4.2.2.1   CO2",null,null,null,null,null,null,null,{"$f":"N26","v":1.60427807486631E-2},{"$f":"IF('User Inputs & Results'!J78<10,'Emissions Factors'!G29,IF(AND('User Inputs & Results'!J78>=10,'User Inputs & Results'!J78<20),'Emissions Factors'!G30,IF(AND('User Inputs & Results'!J78>=20,'User Inputs & Results'!J78<30),'Emissions Factors'!G31,'Emissions Factors'!G32)))/1000000","v":1.60427807486631E-2},"t/Event"]
[null,null,null,null,"1.1.4.2.2.2   CH4",null,null,null,null,null,null,null,{"$f":"N27","v":0.11229946524064172},{"$f":"IF('User Inputs & Results'!J78<10,'Emissions Factors'!H29,IF(AND('User Inputs & Results'!J78>=10,'User Inputs & Results'!J78<20),'Emissions Factors'!H30,IF(AND('User Inputs & Results'!J78>=20,'User Inputs & Results'!J78<30),'Emissions Factors'!H31,'Emissions Factors'!H32)))/1000000","v":0.11229946524064172},"t/Event"]
[null,"1.1.5   Vented emissions of compressors"]
[null,null,"1.1.5.1   Startups"]
[null,null,null,"1.1.5.1.1   Number of associated compressors",null,null,null,null,null,null,null,null,{"$f":"N30","v":1.5029199960140678},{"$f":"(0.6*1071/234093299)*'Production & Extraction'!M35*365","v":1.5029199960140678},"unit",null,"ARB (2007), Tables 2-3 and 15-1"]
[null,null,null,"1.1.5.1.2   Emission factors"]
[null,null,null,null,"1.1.5.1.2.1   CO2",null,null,null,null,null,null,null,{"$f":"N32","v":3.7348272642390287E-3},{"$f":"'Emissions Factors'!G34/1000000","v":3.7348272642390287E-3},"t/unit-yr"]
[null,null,null,null,"1.1.5.1.2.2   CH4",null,null,null,null,null,null,null,{"$f":"N33","v":6.4425770308123242E-2},{"$f":"'Emissions Factors'!H34/1000000","v":6.4425770308123242E-2},"t/unit-yr"]
[null,null,"1.1.5.2   Blowdowns"]
[null,null,null,"1.1.5.2.1   Number of associated compressors",null,null,null,null,null,null,null,null,{"$f":"N35","v":1.5029199960140678},{"$f":"N30","v":1.5029199960140678},"unit",null,"ARB (2007), Tables 2-3 and 15-1"]
[null,null,null,"1.1.5.2.2   Emission factors"]
[null,null,null,null,"1.1.5.2.2.1   CO2",null,null,null,null,null,null,null,{"$f":"N37","v":0.16059757236227823},{"$f":"'Emissions Factors'!G35/1000000","v":0.16059757236227823},"t/unit-yr"]
[null,null,null,null,"1.1.5.2.2.2   CH4",null,null,null,null,null,null,null,{"$f":"N38","v":3.0233426704014938},{"$f":"'Emissions Factors'!H35/1000000","v":3.0233426704014938},"t/unit-yr"]
[null,"1.1.6   Vented emissions of gathering pipelines"]
[null,null,"1.1.6.1   Maintenance"]
[null,null,null,"1.1.6.1.1   Pipeline miles",null,null,null,null,null,null,null,null,{"$f":"N41","v":2.8486718878698021},{"$f":"((0.75*1124+321+54)/234093299)*'Production & Extraction'!M35*365","v":2.8486718878698021},"mile",null,"ARB (2007), Tables 2-3 and 16-1"]
[null,null,null,"1.1.6.1.2   Emission factors"]
[null,null,null,null,"1.1.6.1.2.1   CO2",null,null,null,null,null,null,null,{"$f":"N43","v":1.1586056644880174},{"$f":"'Emissions Factors'!G37/1000000","v":1.1586056644880174},"t/mile-yr"]
[null,null,null,null,"1.1.6.1.2.2   CH4",null,null,null,null,null,null,null,{"$f":"N44","v":1.0849673202614378},{"$f":"'Emissions Factors'!H37/1000000","v":1.0849673202614378},"t/mile-yr"]
[null,null,"1.1.7.1   Pigging"]
[null,null,null,"1.1.7.1.1   Number of associated openings",null,null,null,null,null,null,null,null,{"$f":"N46","v":1.9884571749317779},{"$f":"(0.6*1417/234093299)*'Production & Extraction'!M35*365","v":1.9884571749317779},"Event",null,"ARB (2007), Tables 2-3 and 16-3",null,null,null,null,null,null,"Low number events and units are not rounded"]
[null,null,null,"1.1.7.1.2   Emission factors"]
[null,null,null,null,"1.1.7.1.2.1   CO2",null,null,null,null,null,null,null,{"$f":"N48","v":7.3394495412844027E-2},{"$f":"'Emissions Factors'!G38/1000000","v":7.3394495412844027E-2},"t/Event"]
[null,null,null,null,"1.1.7.1.2.2   CH4",null,null,null,null,null,null,null,{"$f":"N49","v":3.5285815102328866E-3},{"$f":"'Emissions Factors'!H38/1000000","v":3.5285815102328866E-3},"t/Event"]
[]
["1.2   Fugitives"]
[null,"1.2.1   Fugitive emissions of active wells"]
[null,null,"1.2.1.1   Number of associated active wells",null,null,null,null,null,null,null,null,null,{"$f":"'User Inputs & Results'!J71","v":8},{"$f":"'User Inputs & Results'!K71","v":8},"unit",null,"ARB (2007), Tables 2-3 and 4-5"]
[null,null,"1.2.1.2   Emission factors"]
[null,null,null,"1.2.1.2.2.1   CO2",null,null,null,null,null,null,null,null,{"$f":"N55","v":1.436130007558579E-2},{"$f":"IF('User Inputs & Results'!$J$78<10,'Emissions Factors'!G50,IF(AND('User Inputs & Results'!$J$78>=10,'User Inputs & Results'!$J$78<20),'Emissions Factors'!G51,IF(AND('User Inputs & Results'!$J$78>=20,'User Inputs & Results'!$J$78<30),'Emissions Factors'!G52,'Emissions Factors'!G53)))/1000000","v":1.436130007558579E-2},"t/unit-yr"]
[null,null,null,"1.2.1.2.2.2   CH4",null,null,null,null,null,null,null,null,{"$f":"N56","v":0.10506424792139078},{"$f":"IF('User Inputs & Results'!$J$78<10,'Emissions Factors'!H50,IF(AND('User Inputs & Results'!$J$78>=10,'User Inputs & Results'!$J$78<20),'Emissions Factors'!H51,IF(AND('User Inputs & Results'!$J$78>=20,'User Inputs & Results'!$J$78<30),'Emissions Factors'!H52,'Emissions Factors'!H53)))/1000000","v":0.10506424792139078},"t/unit-yr"]
[null,"1.2.2   Fugitive emissions of well cellars"]
[null,null,"1.2.2.1   Number of associated well cellars",null,null,null,null,null,null,null,null,null,{"$f":"M53","v":8},{"$f":"N53","v":8},"unit",null,"ARB (2007), Tables 2-3 and 4-7"]
[null,null,"1.2.2.2   Emission factors"]
[null,null,null,"1.2.2.2.1   CO2",null,null,null,null,null,null,null,null,{"$f":"N60","v":0},0,"t/unit-yr"]
[null,null,null,"1.2.2.2.2   CH4",null,null,null,null,null,null,null,null,{"$f":"N61","v":0.17020295202952029},{"$f":"IF('User Inputs & Results'!$J$78<10,'Emissions Factors'!H55,IF(AND('User Inputs & Results'!$J$78>=10,'User Inputs & Results'!$J$78<20),'Emissions Factors'!H56,IF(AND('User Inputs & Results'!$J$78>=20,'User Inputs & Results'!$J$78<30),'Emissions Factors'!H57,'Emissions Factors'!H58)))/1000000","v":0.17020295202952029},"t/unit-yr"]
[null,"1.2.3   Fugitive emissions of gas dehydrator"]
[null,null,"1.2.2.3.1   Volume of gas dehydrator",null,null,null,null,null,null,null,null,null,{"$f":"'Gas Balance'!M23*365","v":397.74336974341963},{"$f":"M63","v":397.74336974341963},"MMscf/yr"]
[null,null,"1.2.2.3.2   Emission factors"]
[null,null,null,"1.2.2.3.2.1   CO2",null,null,null,null,null,null,null,null,{"$f":"N65","v":2.3793248497294903E-2},{"$f":"'Emissions Factors'!G59/1000000","v":2.3793248497294903E-2},"t/MMscf"]
[null,null,null,"1.2.2.3.2.2   CH4",null,null,null,null,null,null,null,null,{"$f":"N66","v":1.5406706046503989E-2},{"$f":"'Emissions Factors'!H59/1000000","v":1.5406706046503989E-2},"t/MMscf"]
[null,"1.2.4   Fugitive emissions of AGR unit"]
[null,null,"1.2.4.1   Volume of AGR unit",null,null,null,null,null,null,null,null,null,{"$f":"'Gas Balance'!M23*365","v":397.74336974341963},{"$f":"'Gas Balance'!M23*365","v":397.74336974341963},"MMscf/yr",null,"From gas balance"]
[null,null,"1.2.4.2   Emission factors"]
[null,null,null,"1.2.4.2.1   CO2",null,null,null,null,null,null,null,null,{"$f":"N70","v":0},{"$f":"'Emissions Factors'!G60/1000000","v":0},"t/MMscf"]
[null,null,null,"1.2.4.2.2   CH4",null,null,null,null,null,null,null,null,{"$f":"N71","v":1.9565831445000001E-2},{"$f":"'Emissions Factors'!H60/1000000","v":1.9565831445000001E-2},"t/MMscf"]
[null,"1.2.5   Fugitive emissions of gathering pipelines"]
[null,null,"1.2.5.1   Pipeline miles",null,null,null,null,null,null,null,null,null,{"$f":"N73","v":2.8486718878698021},{"$f":"N41","v":2.8486718878698021},"mile"]
[null,null,"1.2.5.2   Emission factors"]
[null,null,null,"1.2.5.2.1   CO2",null,null,null,null,null,null,null,null,{"$f":"N75","v":0.14248366013071895},{"$f":"'Emissions Factors'!G61/1000000","v":0.14248366013071895},"t/mile-yr"]
[null,null,null,"1.2.5.2.2   CH4",null,null,null,null,null,null,null,null,{"$f":"N76","v":0.37777777777777777},{"$f":"'Emissions Factors'!H61/1000000","v":0.37777777777777777},"t/mile-yr"]
[null,"1.2.6   Fugitive emissions of separators"]
[null,null,"1.2.6.1   Number of associated separators",null,null,null,null,null,null,null,null,null,{"$f":"N78","v":8},{"$f":"ROUND(((0.75*379+3228+40+5)/234093299)*'Production & Extraction'!M35*365,0)","v":8},"unit",null,"ARB (2007), Tables 2-3 and 17-1"]
[null,null,"1.2.6.2   Emission factors"]
[null,null,null,"1.2.6.2.1   CO2",null,null,null,null,null,null,null,null,{"$f":"N80","v":2.3819835426591601E-3},{"$f":"'Emissions Factors'!G62/1000000","v":2.3819835426591601E-3},"t/unit-yr"]
[null,null,null,"1.2.6.2.2   CH4",null,null,null,null,null,null,null,null,{"$f":"N81","v":3.6812472932005201E-2},{"$f":"'Emissions Factors'!H62/1000000","v":3.6812472932005201E-2},"t/unit-yr"]
[null,"1.2.7   Fugitive emissions of sumps and pits"]
[null,null,"1.2.6.1   Number of associated sumps and pits",null,null,null,null,null,null,null,null,null,{"$f":"N83","v":0.58470276844618263},{"$f":"(250/234093299)*'Production & Extraction'!M35*365","v":0.58470276844618263},"unit",null,"ARB (2007), Tables 2-3 and 18-1"]
[null,null,"1.2.6.2   Emission factors"]
[null,null,null,"1.2.6.2.1   CO2",null,null,null,null,null,null,null,null,{"$f":"N85","v":0},0,"t/unit-yr"]
[null,null,null,"1.2.6.2.2   CH4",null,null,null,null,null,null,null,null,{"$f":"N86","v":1.056},{"$f":"'Emissions Factors'!H63/1000000","v":1.056},"t/unit-yr"]
[null,"1.2.8   Fugitive emissions of components",null,null,null,null,null,null,null,null,null,null,null,null,null,null,null,null,null,null,null,null,null,"The percentage of components by type is similar in different facilities such as petroleum production and gas processing [API (1993), Publ. 4589, p. W-4, Table 4]"]
[null,null,"1.2.8.1   Valves (not including open-ends)"]
[null,null,null,"1.2.8.1.1   Number of valves",null,null,null,null,null,null,null,null,{"$f":"N89","v":6193},{"$f":"ROUND(((0.6*471916+963565+1401237)/234093299)*'Production & Extraction'!M35*365,0)","v":6193},"unit",null,"ARB (2007), Tables 2-3 and 8-1"]
[null,null,null,"1.2.8.1.2   Percentage leaking",null,null,null,null,null,null,null,null,15,15,"%"]
[null,null,"1.2.8.2   Connectors (other than flanges)"]
[null,null,null,"1.2.8.2.1   Number of connectors",null,null,null,null,null,null,null,null,{"$f":"N92","v":20643},{"$f":"ROUND((N89+N98)*3,0)","v":20643},"unit",null,"API (1996), Publ. 4638, p.14",null,null,null,null,null,null,"The number of connectors is about three times the number of valves"]
[null,null,null,"1.2.8.2.2   Percentage leaking",null,null,null,null,null,null,null,null,15,15,"%"]
[null,null,"1.2.8.3   Flanges"]
[null,null,null,"1.2.8.2.3.1   Number of flanges",null,null,null,null,null,null,null,null,{"$f":"N95","v":6881},{"$f":"ROUND(N89+N98,0)","v":6881},"unit",null,"API (1996), Publ. 4638, p.14",null,null,null,null,null,null,"The number of flanges is usually about the same as the number of valves"]
[null,null,null,"1.2.8.2.3.2   Percentage leaking",null,null,null,null,null,null,null,null,15,15,"%"]
[null,null,"1.2.8.4   Open-ended lines (also called open-ended valves)"]
[null,null,null,"1.2.8.4.1   Number of open-ends",null,null,null,null,null,null,null,null,{"$f":"N98","v":688},{"$f":"ROUND(N89/9,0)","v":688},"unit",null,"API (1996), Publ. 4638, p.14",null,null,null,null,null,null,"About 10% of all valves have one side that can be opened to the atmosphere (open-ends)"]
[null,null,null,"1.2.8.4.2   Percentage leaking",null,null,null,null,null,null,null,null,15,15,"%"]
[null,null,"1.2.8.5   Pump seals"]
[null,null,null,"1.2.8.5.1   Number of pump seals",null,null,null,null,null,null,null,null,{"$f":"N101","v":113},{"$f":"ROUND(((0.6*8049+8441+35174)/234093299)*'Production & Extraction'!M35*365,0)","v":113},"unit",null,"ARB (2007), Tables 2-3 and 8-1"]
[null,null,null,"1.2.8.5.2   Percentage leaking",null,null,null,null,null,null,null,null,15,15,"%"]
[null,null,"1.2.8.6   Others (compressor seals, diaphragms, drains, dump arms, pressure relief valves, etc)"]
[null,null,null,"1.2.8.6.1   Number of other components",null,null,null,null,null,null,null,null,{"$f":"N104","v":344},{"$f":"ROUND(0.05*(N89+N98),0)","v":344},"unit",null,"API (1996), Publ. 4638, p.14",null,null,null,null,null,null,"The number of other components is approximately 5% of the number of valves"]
[null,null,null,"1.2.8.6.2   Percentage leaking",null,null,null,null,null,null,null,null,15,15,"%"]
["1.3   Vapor recovery"]
[null,"1.3.1   Percentage of total vents and fugitives recovered",null,null,null,null,null,null,null,null,null,null,0,0,"%",null,null,null,null,null,null,null,null,"Adjusted based on the users knowledge of production and processing facilities or judgment based on the environmental regulations in the field location"]
[]
["2 Calculations"]
[]
[null,null,null,null,null,null,null,null,null,null,null,null,"Value","Unit","Equation",null,null,null,null,null,null,null,null,null,null,null,null,null,"Notes",null,null,null,null,null,null,null,null,null,null,null,null,"Reference"]
["2.1   Venting emissions"]
[null,"2.1.1   GHG emissions from associated gas venting as a flaring substitute",null,null,null,null,null,null,null,null,null,null,{"$f":"(M114+M115*'Input data'!C71+M116*'Input data'!C72)/1000000","v":0},"tCO2eq/d"]
[null,null,"3.1.1.1   CO2 emissions",null,null,null,null,null,null,null,null,null,{"$f":"M9*1000000*'Gas Balance'!E30/100*'Input data'!D81","v":0},"g/d"]
[null,null,"3.1.1.2   CH4 emissions",null,null,null,null,null,null,null,null,null,{"$f":"M9*1000000*'Gas Balance'!E31/100*'Input data'!D82","v":0},"g/d"]
[null,null,"3.1.1.3   VOC emissions",null,null,null,null,null,null,null,null,null,{"$f":"M9*1000000*('Gas Balance'!E32/100*'Input data'!D83+'Gas Balance'!E33/100*'Input data'!D84+'Gas Balance'!E34/100*'Input data'!D85)","v":0},"g/d"]
[]
[null,"2.1.2   GHG emissions from other venting:"]
[]
[]
[null,"Source",null,null,"CO2","CH4","VOC"]
[null,"Gas dehydrator"]
[null,null,"Weight (g/d)",null,{"$f":"M11*M13*1000000/365","v":478.70330337393307},{"$f":"M11*M14*1000000/365","v":16830.772961806237},0]
[null,null,"Volume (scf/d)",null,{"$f":"E123/'Input data'!D81","v":8.5523958347695874},{"$f":"F123/'Input data'!D82","v":830.10507137398167},0]
[null,null,"HHV (Btu/d)",null,0,{"$f":"F124*'Fuel Specs'!G132","v":840896.43730184343},0]
[null,null,"LHV (Btu/d)",null,0,{"$f":"F124*'Fuel Specs'!H132","v":757885.93016444531},0]
[null,"AGR unit"]
[null,null,"Weight (g/d)",null,{"$f":"E129*'Input data'!D81","v":3621963.9315477931},0,0]
[null,null,"Volume (scf/d)",null,{"$f":"M16*1000000","v":64709.119455685359},0,0]
[null,null,"HHV (Btu/d)",null,0,0,0]
[null,null,"LHV (Btu/d)",null,0,0,0]
[null,"Workovers & Cleanups"]
[null,null,"Weight (g/d)",null,{"$f":"(M19*M21+M24*M26)*1000000/365","v":1172.1242238394784},{"$f":"(M19*M22+M24*M27)*1000000/365","v":8396.9705571112172},0]
[null,null,"Volume (scf/d)",null,{"$f":"E133/'Input data'!D81","v":20.940883965379285},{"$f":"F133/'Input data'!D82","v":414.14424990781811},0]
[null,null,"HHV (Btu/d)",null,0,{"$f":"F134*'Fuel Specs'!G132","v":419528.12515661976},0]
[null,null,"LHV (Btu/d)",null,0,{"$f":"F134*'Fuel Specs'!H132","v":378113.70016583794},0]
[null,"Compressors"]
[null,null,"Weight (g/d)",null,{"$f":"(M30*M32+M35*M37)*1000000/365","v":676.6532860045686},{"$f":"(M30*M33+M35*M38)*1000000/365","v":12714.161459188115},0]
[null,null,"Volume (scf/d)",null,{"$f":"E138/'Input data'!D81","v":12.088921684938068},{"$f":"F138/'Input data'!D82","v":627.07101625634664},0]
[null,null,"HHV (Btu/d)",null,0,{"$f":"F139*'Fuel Specs'!G132","v":635222.93946767913},0]
[null,null,"LHV (Btu/d)",null,0,{"$f":"F139*'Fuel Specs'!H132","v":572515.83784204454},0]
[null,"Gathering pipelines"]
[null,null,"Weight (g/d)",null,{"$f":"(M41*M43+M46*M48)*1000000/365","v":9442.2717713914917},{"$f":"(M41*M44+M46*M49)*1000000/365","v":8486.9379115275187},0]
[null,null,"Volume (scf/d)",null,{"$f":"E143/'Input data'!D81","v":168.69331211890767},{"$f":"F143/'Input data'!D82","v":418.58150049212264},0]
[null,null,"HHV (Btu/d)",null,0,{"$f":"F144*'Fuel Specs'!G132","v":424023.05999852024},0]
[null,null,"LHV (Btu/d)",null,0,{"$f":"F144*'Fuel Specs'!H132","v":382164.90994930797},0]
[null,"Total"]
[null,null,"Weight (g/d)",null,{"$f":"E123+E128+E133+E138+E143","v":3633733.6841324023},{"$f":"F123+F133+F138+F143","v":46428.842889633088},0]
[null,null,"Volume (scf/d)",null,{"$f":"E124+E129+E134+E139+E144","v":64919.394969289351},{"$f":"F124+F134+F139+F144","v":2289.9018380302691},0]
[null,null,"HHV (Btu/d)",null,0,{"$f":"F125+F135+F140+F145","v":2319670.5619246624},0]
[null,null,"LHV (Btu/d)",null,0,{"$f":"F126+F136+F141+F146","v":2090680.3781216356},0]
[]
[]
[null,"2.1.3   GHG emissions from storage tanks"]
[]
[]
[null,"Source",null,null,"CO2","CH4","VOC"]
[null,"Storage tanks"]
[null,null,"Weight (g/d)",null,0,{"$f":"'Emissions Factors'!H40*'Production & Extraction'!M35","v":73800},{"$f":"'Emissions Factors'!I40*'Production & Extraction'!M35","v":218627.54919499106}]
[null,null,"Volume (scf/d)",null,0,{"$f":"F159/'Input data'!D82","v":3639.8657629343593},{"$f":"(0.2049*(F159+G159)/'Input data'!D83)+(0.28*(F159+G159)/'Input data'!D84)+((0.0683+0.1092)*(F159+G159)/'Input data'!D85)","v":3724.9424812558177}]
[null,null,"HHV (Btu/d)",null,0,{"$f":"F160*'Fuel Specs'!G132","v":3687184.0178525061},{"$f":"(0.2049*(F159+G159)/'Input data'!D83)*'Fuel Specs'!G133+(0.28*(F159+G159)/'Input data'!D84)*'Fuel Specs'!G134+((0.0683+0.1092)*(F159+G159)/'Input data'!D85)*'Fuel Specs'!G135","v":8974916.6127761006}]
[null,null,"LHV (Btu/d)",null,0,{"$f":"F160*'Fuel Specs'!H132","v":3323197.4415590703},{"$f":"(0.2049*(F159+G159)/'Input data'!D83)*'Fuel Specs'!H133+(0.28*(F159+G159)/'Input data'!D84)*'Fuel Specs'!H134+((0.0683+0.1092)*(F159+G159)/'Input data'!D85)*'Fuel Specs'!H135","v":8257397.0035261968}]
[null,"Total"]
[null,null,"Weight (g/d)",null,0,{"$f":"F159","v":73800},218627.54919499106]
[null,null,"Volume (scf/d)",null,0,3639.8657629343593,3724.9424812558177]
[null,null,"HHV (Btu/d)",null,0,3687184.0178525061,8974916.6127761006]
[null,null,"LHV (Btu/d)",null,0,3323197.4415590703,8257397.0035261968]
[]
[]
["2.2   Fugitive emissions"]
[]
[null,"2.2.1   GHG emissions from various fugitive sources:"]
[]
[]
[null,"Source",null,null,"CO2","CH4","VOC","Note(s):"]
[null,"Active wells"]
[null,null,"Weight (g/d)",null,{"$f":"M53*M55*1000000/365","v":314.76822083475702},{"$f":"M53*M56*1000000/365","v":2302.7780366332227},0]
[null,null,"Volume (scf/d)",null,{"$f":"E177/'Input data'!D81","v":5.6235718488079245},{"$f":"F177/'Input data'!D82","v":113.57456551732346},0]
[null,null,"HHV (Btu/d)",null,0,{"$f":"F178*'Fuel Specs'!G132","v":115051.03486904867},0]
[null,null,"LHV (Btu/d)",null,0,{"$f":"F178*'Fuel Specs'!H132","v":103693.57831731632},0]
[null,"Well cellars"]
[null,null,"Weight (g/d)",null,{"$f":"M58*M60*1000000/365","v":0},{"$f":"M58*M61*1000000/365","v":3730.4756609209926},0]
[null,null,"Volume (scf/d)",null,{"$f":"E182/'Input data'!D81","v":0},{"$f":"F182/'Input data'!D82","v":183.989575035857},0]
[null,null,"HHV (Btu/d)",null,0,{"$f":"F183*'Fuel Specs'!G132","v":186381.43951132314},0]
[null,null,"LHV (Btu/d)",null,0,{"$f":"F183*'Fuel Specs'!H132","v":167982.48200773745},0]
[null,"Gas dehydrator"]
[null,null,"Weight (g/d)",null,{"$f":"M63*M65*1000000/365","v":25927.689957415423},{"$f":"M63*M66*1000000/365","v":16788.808711185793},0]
[null,null,"Volume (scf/d)",null,{"$f":"E187/'Input data'!D81","v":463.21775102476045},{"$f":"F187/'Input data'!D82","v":828.03536623711784},0]
[null,null,"HHV (Btu/d)",null,0,{"$f":"F188*'Fuel Specs'!G132","v":838799.82599820034},0]
[null,null,"LHV (Btu/d)",null,0,{"$f":"F188*'Fuel Specs'!H132","v":755996.28937448864},0]
[null,"AGR unit"]
[null,null,"Weight (g/d)",null,{"$f":"M68*M70*1000000/365","v":0},{"$f":"M68*M71*1000000/365","v":21321.040358263184},0]
[null,null,"Volume (scf/d)",null,{"$f":"E192/'Input data'!D81","v":0},{"$f":"F192/'Input data'!D82","v":1051.568087129863},0]
[null,null,"HHV (Btu/d)",null,0,{"$f":"F193*'Fuel Specs'!G132","v":1065238.4722625513},0]
[null,null,"LHV (Btu/d)",null,0,{"$f":"F193*'Fuel Specs'!H132","v":960081.6635495649},0]
[null,"Gathering pipelines"]
[null,null,"Weight (g/d)",null,{"$f":"M73*M75*1000000/365","v":1112.0251975210258},{"$f":"M73*M76*1000000/365","v":2948.3970833355638},0]
[null,null,"Volume (scf/d)",null,{"$f":"E197/'Input data'!D81","v":19.86716949811532},{"$f":"F197/'Input data'!D82","v":145.41693223805748},0]
[null,null,"HHV (Btu/d)",null,0,{"$f":"F198*'Fuel Specs'!G132","v":147307.35235715224},0]
[null,null,"LHV (Btu/d)",null,0,{"$f":"F198*'Fuel Specs'!H132","v":132765.65913334649},0]
[null,"Separators"]
[null,null,"Weight (g/d)",null,{"$f":"M78*M80*1000000/365","v":52.207858469241863},{"$f":"M78*M81*1000000/365","v":806.8487217973742},0]
[null,null,"Volume (scf/d)",null,{"$f":"E202/'Input data'!D81","v":0.93273279747101423},{"$f":"F202/'Input data'!D82","v":39.794323012704773},0]
[null,null,"HHV (Btu/d)",null,0,{"$f":"F203*'Fuel Specs'!G132","v":40311.649211869932},0]
[null,null,"LHV (Btu/d)",null,0,{"$f":"F203*'Fuel Specs'!H132","v":36332.216910599454},0]
[null,"Sumps and pits"]
[null,null,"Weight (g/d)",null,{"$f":"M83*M85*1000000/365","v":0},{"$f":"M83*M86*1000000/365","v":1691.633215011422},0]
[null,null,"Volume (scf/d)",null,{"$f":"E207/'Input data'!D81","v":0},{"$f":"F207/'Input data'!D82","v":83.432490823342178},0]
[null,null,"HHV (Btu/d)",null,0,{"$f":"F208*'Fuel Specs'!G132","v":84517.113204045629},0]
[null,null,"LHV (Btu/d)",null,0,{"$f":"F208*'Fuel Specs'!H132","v":76173.864121711405},0]
[null,"Components"]
[null,null,"Weight (g/d)",null,0,{"$f":"((0.75*M89*((100-M90)/100*IF('Production & Extraction'!M32<=20,'Emissions Factors'!H67,'Emissions Factors'!H68)+M90/100*'Emissions Factors'!H93)+0.25*M89*((100-M90)/100*'Emissions Factors'!H66+M90/100*'Emissions Factors'!H91))+(0.75*M92*((100-M93)/100*IF('Production & Extraction'!M32<=20,'Emissions Factors'!H71,'Emissions Factors'!H72)+M93/100*'Emissions Factors'!H97)+0.25*M92*((100-M93)/100*'Emissions Factors'!H70+M93/100*'Emissions Factors'!H95))+(0.75*M95*((100-M96)/100*IF('Production & Extraction'!M32<=20,'Emissions Factors'!H75,'Emissions Factors'!H76)+M96/100*'Emissions Factors'!H101)+0.25*M95*((100-M96)/100*'Emissions Factors'!H74+M96/100*'Emissions Factors'!H99))+(0.75*M98*((100-M99)/100*IF('Production & Extraction'!M32<=20,'Emissions Factors'!H79,'Emissions Factors'!H80)+M99/100*IF('Production & Extraction'!M32<=20,'Emissions Factors'!H104,'Emissions Factors'!H105))+0.25*M98*((100-M99)/100*'Emissions Factors'!H78+M99/100*'Emissions Factors'!H103))+(0.75*M101*((100-M102)/100*'Emissions Factors'!H84+M90/100*'Emissions Factors'!H109)+0.25*M101*((100-M102)/100*'Emissions Factors'!H82+M102/100*'Emissions Factors'!H107))+(0.75*M104*((100-M105)/100*IF('Production & Extraction'!M32<=20,'Emissions Factors'!H86,'Emissions Factors'!H87)+M105/100*'Emissions Factors'!H113)+0.25*M104*((100-M105)/100*'Emissions Factors'!H86+M105/100*'Emissions Factors'!H111)))/1000000","v":1396.8739615979491},{"$f":"((0.75*M89*((100-M90)/100*IF('Production & Extraction'!M32<=20,'Emissions Factors'!I67,'Emissions Factors'!I68)+M90/100*'Emissions Factors'!I93)+0.25*M89*((100-M90)/100*'Emissions Factors'!I66+M90/100*'Emissions Factors'!I91))+(0.75*M92*((100-M93)/100*IF('Production & Extraction'!M32<=20,'Emissions Factors'!I71,'Emissions Factors'!I72)+M93/100*'Emissions Factors'!I97)+0.25*M92*((100-M93)/100*'Emissions Factors'!I70+M93/100*'Emissions Factors'!I95))+(0.75*M95*((100-M96)/100*IF('Production & Extraction'!M32<=20,'Emissions Factors'!I75,'Emissions Factors'!I76)+M96/100*'Emissions Factors'!I101)+0.25*M95*((100-M96)/100*'Emissions Factors'!I74+M96/100*'Emissions Factors'!I99))+(0.75*M98*((100-M99)/100*IF('Production & Extraction'!M32<=20,'Emissions Factors'!I79,'Emissions Factors'!I80)+M99/100*IF('Production & Extraction'!M32<=20,'Emissions Factors'!I104,'Emissions Factors'!I105))+0.25*M98*((100-M99)/100*'Emissions Factors'!I78+M99/100*'Emissions Factors'!I103))+(0.75*M101*((100-M102)/100*'Emissions Factors'!I84+M90/100*'Emissions Factors'!I109)+0.25*M101*((100-M102)/100*'Emissions Factors'!I82+M102/100*'Emissions Factors'!I107))+(0.75*M104*((100-M105)/100*IF('Production & Extraction'!M32<=20,'Emissions Factors'!I86,'Emissions Factors'!I87)+M105/100*'Emissions Factors'!I113)+0.25*M104*((100-M105)/100*'Emissions Factors'!I86+M105/100*'Emissions Factors'!I111)))/1000000","v":581.60666622603094},"Assume 75% of valves are in crude service and 25% are in gas service"]
[null,null,"Volume (scf/d)",null,0,{"$f":"F212/'Input data'!D82","v":68.894765690445254},{"$f":"G212*(0.31/'Input data'!D83+0.42/'Input data'!D84+0.27/'Input data'!D85)","v":11.183708842237952},"VOC speciation (31% C2, 42% C3 and 27% C4) is assumed based on a ratio generated from fugitives gas composition in Table ES-1, API (1998), Publ. 4683"]
[null,null,"HHV (Btu/d)",null,0,{"$f":"F213*'Fuel Specs'!G132","v":69790.397644421042},{"$f":"G212*('Fuel Specs'!G133*0.31/'Input data'!D83+'Fuel Specs'!G134*0.42/'Input data'!D84+'Fuel Specs'!G135*0.27/'Input data'!D85)","v":26950.98240800944}]
[null,null,"LHV (Btu/d)",null,0,{"$f":"F213*'Fuel Specs'!H132","v":62900.921075376515},{"$f":"G212*('Fuel Specs'!H133*0.31/'Input data'!D83+'Fuel Specs'!H134*0.42/'Input data'!D84+'Fuel Specs'!H135*0.27/'Input data'!D85)","v":24796.39888350718}]
[null,"Total"]
[null,null,"Weight (g/d)",null,{"$f":"E177+E182+E187+E192+E197+E202+E207+E212","v":27406.69123424045},50986.855748745504,581.60666622603094]
[null,null,"Volume (scf/d)",null,489.64122516915472,2514.706105684711,11.183708842237952]
[null,null,"HHV (Btu/d)",null,0,{"$f":"F179+F184+F189+F194+F199+F204+F209+F214","v":2547397.2850586125},{"$f":"G179+G184+G189+G194+G199+G204+G209+G214","v":26950.98240800944}]
[null,null,"LHV (Btu/d)",null,0,{"$f":"F180+F185+F190+F195+F200+F205+F210+F215","v":2295926.6744901408},{"$f":"G180+G185+G190+G195+G200+G205+G210+G215","v":24796.39888350718}]
[]
[]
["2.3   Summation of VFF emissions"]
[]
[null,"2.3.1   Speciation of total VFF emissions:"]
[]
[]
[null,"Category",null,null,null,"GHG","Volume","HHV","LHV","Note(s):"]
[null,null,null,null,null,"tCO2eq/yr","MMscf/yr","MMBtu/yr","MMBtu/yr"]
[null,"Venting",null,null,null,{"$f":"M113*365+((E148+F148*'Input data'!C71+G148*'Input data'!C72)+(E164+F164*'Input data'!C71+G164*'Input data'!C72))*365/1000000","v":2670.778057990361},{"$f":"M9*365+((E149+F149+G149)+(E165+F165+G165))*365/1000000","v":27.219548343801076},{"$f":"M9*365*'Gas Balance'!AC19/'Gas Balance'!AC23+((E150+F150+G150)+(E166+F166+G166))*365/1000000","v":5468.3464852819434},{"$f":"M9*365*'Gas Balance'!AC20/'Gas Balance'!AC23+((E151+F151+G151)+(E167+F167+G167))*365/1000000","v":4990.0153104705187}]
[null,null,"Crude production and extraction (p)",null,null,0,0,0,0]
[null,null,"Surface processing (s)",null,null,{"$f":"M113*365+((E123+F123*'Input data'!C71+G123*'Input data'!C72)+(E128+F128*'Input data'!C71+G128*'Input data'!C72)+(E164+F164*'Input data'!C71+G164*'Input data'!C72))*365/1000000","v":2396.5744369112904},{"$f":"M9*365+((E124+F124+G124)+(E129+F129+G129)+(E165+F165+G165))*365/1000000","v":26.613093585985762},{"$f":"M9*365*'Gas Balance'!AC19/'Gas Balance'!AC23+((E125+F125+G125)+(E130+F130+G130)+(E166+F166+G166))*365/1000000","v":4928.5939297946143},{"$f":"M9*365*'Gas Balance'!AC20/'Gas Balance'!AC23+((E126+F126+G126)+(E131+F131+G131)+(E167+F167+G167))*365/1000000","v":4503.5453369661445}]
[null,null,"Maintenance (m)",null,null,{"$f":"((E133+F133*'Input data'!C71+G133*'Input data'!C72)+(E138+F138*'Input data'!C71+G138*'Input data'!C72)+(E143+F143*'Input data'!C71+G143*'Input data'!C72))*365/1000000","v":274.20362107907107},{"$f":"((E134+F134+G134)+(E139+F139+G139)+(E144+F144+G144))*365/1000000","v":0.606454757815312},{"$f":"((E135+F135+G135)+(E140+F140+G140)+(E145+F145+G145))*365/1000000","v":539.75255548732889},{"$f":"((E136+F136+G136)+(E141+F141+G141)+(E146+F146+G146))*365/1000000","v":486.46997350437448},"Vents of compressor blowdowns, well workovers and cleanups, separators cleaning and repair, pipeline gathering maintenance and pigging"]
[null,"Fugitives",null,null,null,{"$f":"(E217+F217*'Input data'!C71+G217*'Input data'!C72)*365/1000000","v":475.91658895063523},{"$f":"(E218+F218+G218)*365/1000000","v":1.1006688294890778},{"$f":"(E219+F219+G219)*365/1000000","v":939.63711762531693},{"$f":"(E220+F220+G220)*365/1000000","v":847.06392178138151}]
[null,null,"Crude production and extraction (p)",null,null,{"$f":"((E177+F177*'Input data'!C71+G177*'Input data'!C72)+(E182+F182*'Input data'!C71+G182*'Input data'!C72))*365/1000000","v":55.168330390786899},{"$f":"((E178+F178+G178)+(E183+F183+G183))*365/1000000","v":0.11066351502672576},{"$f":"((E179+F179+G179)+(E184+F184+G184))*365/1000000","v":110.02285314883571},{"$f":"((E180+F180+G180)+(E185+F185+G185))*365/1000000","v":99.161762018644609},"Fugitives of active wells and well cellars"]
[null,null,"Surface processing (s)",null,null,{"$f":"((E187+F187*'Input data'!C71+G187*'Input data'!C72)+(E192+F192*'Input data'!C71+G192*'Input data'!C72)+(E197+F197*'Input data'!C71+G197*'Input data'!C72)+(E202+F202*'Input data'!C71+G202*'Input data'!C72)+(E207+F207*'Input data'!C71+G207*'Input data'!C72)+(E212+F212*'Input data'!C71+G212*'Input data'!C72))*365/1000000","v":420.74825855984835},{"$f":"((E188+F188+G188)+(E193+F193+G193)+(E198+F198+G198)+(E203+F203+G203)+(E208+F208+G208)+(E213+F213+G213))*365/1000000","v":0.99000531446235207},{"$f":"((E189+F189+G189)+(E194+F194+G194)+(E199+F199+G199)+(E204+F204+G204)+(E209+F209+G209)+(E214+F214+G214))*365/1000000","v":829.61426447648125},{"$f":"((E190+F190+G190)+(E195+F195+G195)+(E200+F200+G200)+(E205+F205+G205)+(E210+F210+G210)+(E215+F215+G215))*365/1000000","v":747.90215976273714},"Fugitives of gas processing units, separators, pipeline gatherings, sumps and pits, and components (valves, seals, flanges, etc)"]
[null,null,"Maintenance (m)",null,null,0,0,0,0]
[null,"Total vents and fugitives",null,null,null,{"$f":"F230+F234","v":3146.6946469409963},{"$f":"G230+G234","v":28.320217173290153},{"$f":"H230+H234","v":6407.9836029072603},{"$f":"I230+I234","v":5837.0792322519001}]
[]
[]
[null,"2.3.2   Net VFF emissions:"]
[]
[]
[null,"Category",null,null,null,"GHG","Volume","HHV","LHV"]
[null,null,null,null,null,"tCO2eq/yr","MMscf/yr","MMBtu/yr","MMBtu/yr"]
[null,"Venting",null,null,null,{"$f":"F230*(1-$M$107/100)","v":2670.778057990361},{"$f":"G230*(1-$M$107/100)","v":27.219548343801076},{"$f":"H230*(1-$M$107/100)","v":5468.3464852819434},{"$f":"I230*(1-$M$107/100)","v":4990.0153104705187},"Adjusted to account for recovered gas"]
[null,null,"Crude production and extraction (p)",null,null,{"$f":"F231*(1-$M$107/100)","v":0},{"$f":"G231*(1-$M$107/100)","v":0},0,0,"Adjusted to account for recovered gas"]
[null,null,"Surface processing (s)",null,null,{"$f":"F232*(1-$M$107/100)","v":2396.5744369112904},{"$f":"G232*(1-$M$107/100)","v":26.613093585985762},4928.5939297946143,4503.5453369661445,"Adjusted to account for recovered gas"]
[null,null,"Maintenance (m)",null,null,274.20362107907107,0.606454757815312,539.75255548732889,486.46997350437448,"Adjusted to account for recovered gas"]
[null,"Fugitives",null,null,null,475.91658895063523,1.1006688294890778,939.63711762531693,847.06392178138151,"Adjusted to account for recovered gas"]
[null,null,"Crude production and extraction (p)",null,null,55.168330390786899,0.11066351502672576,110.02285314883571,99.161762018644609,"Adjusted to account for recovered gas"]
[null,null,"Surface processing (s)",null,null,420.74825855984835,0.99000531446235207,829.61426447648125,747.90215976273714,"Adjusted to account for recovered gas"]
[null,null,"Maintenance (m)",null,null,0,0,0,0,"Adjusted to account for recovered gas"]
[null,"Total vents and fugitives",null,null,null,{"$f":"F246+F250","v":3146.6946469409963},{"$f":"G246+G250","v":28.320217173290153},{"$f":"H246+H250","v":6407.9836029072603},{"$f":"I246+I250","v":5837.0792322519001}]

{"sheet":"Flaring","index":18,"n_rows":439,"n_cols":25,"rows_kept":439,"cut":false,"hidden":false,"merged":[[90,4,90,6],[90,8,90,10]]}
["Supplemental Worksheet: Flaring"]
[]
["This supplemental worksheet calculates associated gas flaring emissions"]
[]
[]
["1   General inputs"]
[]
[null,null,null,null,null,null,null,null,null,null,null,null,"Value","Default","Unit","User reference","Default reference","Notes"]
["1.1   Data availability for detailed analysis"]
[null,"1.1.1   Do you have sufficient data to perform detailed flaring efficiency calculations?",null,null,null,null,null,null,null,null,null,null,0,0,null,null,null,{"$f":"IF(M10=1, \"Fill out the boxes below with your data to obtain a calculated efficiency\", \"The default flaring efficiency is 95%\")","v":"The default flaring efficiency is 95%"}]
[null,null,"0 = No, I do not have data"]
[null,null,"1 = Yes, I have detailed field-specific data (see requirements to right)",null,null,null,null,null,null,null,null,null,null,null,null,null,null,"Data required: Oil production [bbl/d], volume of gas flared [scf/bbl], number of flares [#], number of flare tips [#] flare tip diameter [in], and average wind speed [mph]"]
["1.2   Reference year for default flaring intensity",null,null,null,null,null,null,null,null,null,null,null,2011,2011,"Year"]
[null,"Choose 2010 or 2011"]
["1.3   Volume of gas flared",null,null,null,null,null,null,null,null,null,null,null,{"$f":"'User Inputs & Results'!J107*'User Inputs & Results'!J70/1000000","v":0.27229213768926125},{"$f":"IF(M13=2011,VLOOKUP('User Inputs & Results'!J66,B93:K151,10,FALSE)*'Production & Extraction'!M35,VLOOKUP('User Inputs & Results'!J66,B93:K151,6,FALSE)*'Production & Extraction'!M35)","v":0.27229213768926125},"MMscf/d"]
["1.4   LHV of gas",null,null,null,null,null,null,null,null,null,null,null,{"$f":"N16","v":45.544645277041944},{"$f":"'Fuel Specs'!P132*'Gas Balance'!E31/100+('Gas Balance'!E32/100)*'Fuel Specs'!P133+('Fuel Specs'!P134)*('Gas Balance'!E33/100)+'Fuel Specs'!P135*('Gas Balance'!E34/100)+'Gas Balance'!E35/100*'Fuel Specs'!P138","v":45.544645277041944},"MJ/kg",null,null,"Calculated from Gas Balance and Fuel Specs"]
[null,null,null,null,null,null,null,null,null,null,null,null,{"$f":"N17","v":870.55900296688742},{"$f":"'Fuel Specs'!H132*'Gas Balance'!E31/100+('Gas Balance'!E32/100)*'Fuel Specs'!H133+('Fuel Specs'!P134)*('Gas Balance'!E33/100)+'Fuel Specs'!H135*('Gas Balance'!E34/100)+'Gas Balance'!E35/100*'Fuel Specs'!H138","v":870.55900296688742},"btu/scf",null,null,"Calculated from Gas Balance and Fuel Specs"]
[]
["2   Input data for detailed flaring analysis"]
["Input data must be entered in order to compute gas exit velocity"]
[]
["2.1   Number of flare tips",null,null,null,null,null,null,null,null,null,null,null,{"$f":"IF(M23<>\"\",IF(M25=\"\",\"\",M24*M25),\"\")","v":""},null,"Flare tips"]
[null,"2.1.2   Number of wells per flare",null,null,null,null,null,null,null,null,null,null,null,null,"Wells/flare"]
[null,"2.1.3   Number of flares",null,null,null,null,null,null,null,null,null,null,{"$f":"IF(M23=\"\",\"\",'User Inputs & Results'!$J$71/M23)","v":""},null,"Flares",null,null,"The number of flares is found by dividing the number of wells by the number of flares per well."]
[null,"2.1.4   Flare tips per flare",null,null,null,null,null,null,null,null,null,null,null,null,"Tips per flare"]
[]
["2.2   Flare tip diameter and gas exit velocity"]
[null,"2.2.1   Is the flare tip diameter fixed or variable?"]
[null,null,"0 = Fixed, 1 = Variable"]
[]
[null,"2.2.2   Flares with variable tip diameter",null,null,null,null,null,null,null,null,null,null,null,null,null,null,null,"Engineered flare tips can have variable orifice diameter depending on the gas flow rate.  For example see: http://www.steffes.com/oil-field-products/engineered-flare-system.html"]
[null,null,"2.2.2.1  Fixed design exit velocity",null,null,null,null,null,null,null,null,null,null,null,"ft/sec",null,"EPA 60.18 40 CFR Ch.1 (2010)",{"$f":"IF(N17>1000, \"The EPA regulates the max velocity of onshore U.S. flares. The max velocity is regulated to 400 feet/sec for gas with a heating value of above 1,000 btu/scf\", \"The EPA regulates the max velocity of onshore U.S. flares. The max velocity is regulated to 122 feet/sec for gas with a heating value of between 200 and 1,000 btu/scf\")","v":"The EPA regulates the max velocity of onshore U.S. flares. The max velocity is regulated to 122 feet/sec for gas with a heating value of between 200 and 1,000 btu/scf"}]
[null,null,"2.2.2.2  Calculated flare tip diameter",null,null,null,null,null,null,null,null,null,{"$f":"IF(ISERROR(SQRT(((M15/M22)*('Input data'!E61/'Input data'!E62))/(M32*'Input data'!E11*PI()))/('Input data'!E12*0.5))=TRUE,\"NA\",SQRT(((M15/M22)*('Input data'!E61/'Input data'!E62))/(M32*'Input data'!E11*PI()))/('Input data'!E12*0.5))","v":"NA"},null,"in"]
[]
[null,"2.2.3   Flares with fixed tip diameter"]
[null,null,"2.2.3.2   Fixed flare tip diameter",null,null,null,null,null,null,null,null,null,null,null,"in"]
[null,null,"2.2.3.3   Calculated flare tip exit velocity",null,null,null,null,null,null,null,null,null,{"$f":"IF(ISERROR(((M15/M22)*'Input data'!E61/'Input data'!E62)/(PI()*(0.5*M36*'Input data'!E12)^2))=TRUE,\"NA\",(((M15/(M22))*'Input data'!E61/'Input data'!E62))/((PI()*((0.5*(M36*'Input data'!E12))^2))))","v":"NA"},null,"m/sec"]
[]
[null,"2.2.4   Resulting flare tip diameter",null,null,null,null,null,null,null,null,null,null,{"$f":"IF(M28=0,M36,M33)","v":0},null,"in"]
[null,"2.2.5   Resulting flare tip exit velocity",null,null,null,null,null,null,null,null,null,null,{"$f":"IF(M28=0,M37,M32/'Input data'!E10)","v":"NA"},null,"m/sec",null,"Johnson and Kostiuk (2002) experimental jet velocity conditions.",{"$f":"IF(M10=1,IF(M40>4,\"Warning: gas exit velocity is outside of model limits. Efficiency result could be erroneous. Proceed with caution. Model exit velocity limits: 0.5 to 4 m/s\",IF(M40<0.5,\"Warning: gas exit velocity is outside of model limits. Efficiency result could be erroneous. Proceed with caution. Model exit velocity limits: 0.5 to 4 m/s\",IF(M40*'Input data'!E10>100,\"Warning: EPA regulates flare exit velocity. If you have a low BTU flare gas, you may be near flaring exit velocity limits.\",\"\"))),\"\")","v":""}]
[]
["2.3   Average yearly windspeed",null,null,null,null,null,null,null,null,null,null,null,20,{"$f":"IF(M43=\"none selected\",\"Enter windspeed\",VLOOKUP(M43,B163:P437,15,FALSE))","v":"Enter windspeed"},"mph",null,"Johnson and Kostiuk (2002) experimental wind speed conditions.",{"$f":"IF(M10=1,IF(M42=\"\",\"\",IF(M42>38,\"Warning: wind speed is outside of model limits. Efficiency result could be erroneous. Proceed with caution. Model wind speed limits: 4.5 to 38 mph\",IF(M42<4.5,\"Warning: wind speed is outside of model limits. Efficiency result could be erroneous. Proceed with caution. Model wind speed limits: 4.5 to 38 mph\",\"\"))),\"\")","v":""}]
[null,"2.3.1  For default wind speed pick nearest city (US Only)",null,null,null,null,null,null,null,null,null,null,"None selected",null,null,null,null,"If the field is in the U.S., you may use the lookup table to find the nearest location for windspeed."]
[]
[]
["3   Calculations"]
[]
["3.1   Flaring efficiency",null,null,null,null,null,null,null,null,null,null,null,{"$f":"IF(M10=0,95,T164)","v":95},"%",null,null,"Johnson and Kostiuk (2002) and personal communication, M. Johnson (2012).",{"$f":"IF(M48>100,\"Note: Calculated efficiency is higher than experimental bounds for low velocity flares. Assumed value of 99.8% efficient combustion used. Experimental efficiency limits: 64% to 99.9%\",IF(M48<64,\"Warning: Calculated efficiency is outside of experimental bounds. Efficiency result could be erroneous. Proceed with caution. Experimental efficiency limits: 64% to 99.9%\",\"\"))","v":""}]
[]
["3.2   Flaring emissions",null,null,null,null,null,null,null,null,null,null,null,{"$f":"M53+M59","v":22.399595675156853},"tCO2/d"]
[]
[null,"3.2.1   Combusted gas volume",null,null,null,null,null,null,null,null,null,null,{"$f":"M15*M48/100","v":0.25867753080479816},"MMscf/d"]
[null,null,"3.2.1.1   GHG emissions from combusted gas",null,null,null,null,null,null,null,null,null,{"$f":"SUM(M54:M56)/1000000","v":16.413985343096783},"tCO2/d"]
[null,null,null,"3.2.1.1.1   CO2 emissions",null,null,null,null,null,null,null,null,{"$f":"'Gas Balance'!N13*1000000*'Input data'!D81","v":914460.56739803089},"g/d"]
[null,null,null,"3.2.1.1.2   CO2 emissions from CH4 combustion",null,null,null,null,null,null,null,null,{"$f":"'Gas Balance'!N14*1000000*'Input data'!D82*44/16","v":12753167.856269374},"g/d"]
[null,null,null,"3.2.1.1.3   CO2 emissions from VOC combustion",null,null,null,null,null,null,null,null,{"$f":"1000000*('Gas Balance'!N15*'Input data'!D83*44*2/30+'Gas Balance'!N16*'Input data'!D84*44*3/44+'Gas Balance'!N17*'Input data'!D85*44*4/58)","v":2746356.9194293758},"g/d"]
[]
[null,"3.2.2   Non-combusted gas volume",null,null,null,null,null,null,null,null,null,null,{"$f":"M15*(100-M48)/100","v":1.3614606884463063E-2},"MMscf/d"]
[null,null,"3.2.2.1   GHG emissions from non-combusted gas",null,null,null,null,null,null,null,null,null,{"$f":"(M60+M61*'Input data'!C71+M62*'Input data'!C72)/1000000","v":5.9856103320600678},"tCO2/d"]
[null,null,null,"3.2.2.1.1   CO2 emissions",null,null,null,null,null,null,null,null,{"$f":"M58*1000000*'Gas Balance'!E30/100*'Input data'!D81","v":45723.028369901534},"g/d"]
[null,null,null,"3.2.2.1.2   CH4 emissions",null,null,null,null,null,null,null,null,{"$f":"M58*1000000*'Gas Balance'!E31/100*'Input data'!D82","v":231875.77920489776},"g/d"]
[null,null,null,"3.2.2.1.3   VOC emissions",null,null,null,null,null,null,null,null,{"$f":"M58*1000000*('Gas Balance'!E32/100*'Input data'!D83+'Gas Balance'!E33/100*'Input data'!D84+'Gas Balance'!E34/100*'Input data'!D85)","v":46126.717279910219},"g/d"]
[]
["3.3   Summation of flaring emissions"]
[]
[null,"3.3.1 Speciation of total flaring emissions"]
[]
[null,"Category",null,null,null,"GHG","Volume","HHV","LHV","Note(s):"]
[null,null,null,null,null,"tCO2eq/yr","MMscf/yr","MMBtu/yr","MMBtu/yr"]
[null,"Flaring",null,null,null,{"$f":"SUM(F71:F73)","v":8175.8524214322515},{"$f":"SUM(G71:G73)","v":99.386630256580361},{"$f":"SUM(H71:H73)","v":100827.73639530076},{"$f":"SUM(I71:I73)","v":91170.337533268845}]
[null,null,"Crude production and extraction (p)",null,null,0,0,0,0,"No direct flaring in extraction"]
[null,null,"Surface processing (s)",null,null,{"$f":"$M$50*365","v":8175.8524214322515},{"$f":"$M$15*365","v":99.386630256580361},{"$f":"'Gas Balance'!$I$14*('Gas Balance'!$E$37/'Gas Balance'!$E$23)*365","v":100827.73639530076},{"$f":"'Gas Balance'!$I$14*('Gas Balance'!$E$38/'Gas Balance'!$E$23)*365","v":91170.337533268845},"Surface flaring unit - includes flaring of recovered gas from maintenance"]
[null,null,"Maintenance (m)",null,null,0,0,0,0,"No direct flaring in maintenance"]
[]
[null,"3.3.2 Net flaring emissions"]
[]
[null,"Category",null,null,null,"GHG","Volume","HHV","LHV","Note(s):"]
[null,null,null,null,null,"tCO2eq/yr","MMscf/yr","MMBtu/yr","MMBtu/yr"]
[null,"Flaring",null,null,null,{"$f":"SUM(F80:F82)","v":8175.8524214322515},{"$f":"SUM(G80:G82)","v":99.386630256580361},{"$f":"SUM(H80:H82)","v":100827.73639530076},{"$f":"SUM(I80:I82)","v":91170.337533268845},"Recovery doesn't apply in flaring"]
[null,null,"Crude production and extraction (p)",null,null,0,0,0,0]
[null,null,"Surface processing (s)",null,null,{"$f":"$M$50*365","v":8175.8524214322515},{"$f":"$M$15*365","v":99.386630256580361},{"$f":"'Gas Balance'!$I$14*('Gas Balance'!$E$37/'Gas Balance'!$E$23)*365","v":100827.73639530076},{"$f":"'Gas Balance'!$I$14*('Gas Balance'!$E$38/'Gas Balance'!$E$23)*365","v":91170.337533268845}]
[null,null,"Maintenance (m)",null,null,0,0,0,0]
[]
[]
[]
[]
["4   Reference data"]
[]
[]
[null,"Table 4.1: World Bank/NOAA flaring data and EIA crude oil and lease condensate production by country (2010, 2011)"]
[null,"Country / location",null,"2010 Oil Production","2010 Flaring Volume",null,null,"2011 Oil Production","2011 Flaring Volume"]
[null,null,null,"1000 BPD","BCM/yr","MMscf/yr","MMscf/bbl","1000 BPD","BCM/yr","MMscf/yr","MMscf/bbl"]
[null,"Algeria",null,1540,5.2768795379999993,{"$f":"E93*'Input data'!$E$38*1000","v":186351.24210051994},{"$f":"F93/(D93*1000*365)","v":3.3152684949389776E-4},1540,4.9853217259999996,{"$f":"I93*'Input data'!$E$38*1000","v":176054.97514595868},{"$f":"J93/(H93*1000*365)","v":3.1320934912997455E-4}]
[null,"Angola",null,1938.52055,4.0912459839999995,{"$f":"E94*'Input data'!$E$38*1000","v":144480.98831267349},{"$f":"F94/(D94*1000*365)","v":2.0419609384296231E-4},1785.61644,4.1157233040000003,{"$f":"I94*'Input data'!$E$38*1000","v":145345.39671018277},{"$f":"J94/(H94*1000*365)","v":2.230078965498704E-4}]
[null,"Argentina",null,626.05613000000005,0.3143882462,{"$f":"E95*'Input data'!$E$38*1000","v":11102.516128950541},4.8586462060652095E-5,581.43262000000004,0.31077115160000002,{"$f":"I95*'Input data'!$E$38*1000","v":10974.779638729171},5.1713454641013792E-5]
[null,"Australia",null,484.16986000000003,0.33447770999999998,{"$f":"E96*'Input data'!$E$38*1000","v":11811.968847229256},6.6839266875388747E-5,409.67397,0.31161620699999998,{"$f":"I96*'Input data'!$E$38*1000","v":11004.622488523206},7.3594255093845082E-5]
[null,"Azerbaijan",null,1034.6274000000001,0.12625733624000002,{"$f":"E97*'Input data'!$E$38*1000","v":4458.7357477454316},1.1806873061147176E-5,982.99451999999997,0.25263044099999998,{"$f":"I97*'Input data'!$E$38*1000","v":8921.5598221890141},2.4865479056620697E-5]
[null,"Bolivia",null,34.541670000000003,7.7654739259999994E-2,{"$f":"E98*'Input data'!$E$38*1000","v":2742.351234642304},2.1751383340222201E-4,35.515070000000001,8.9109760600000004E-2,{"$f":"I98*'Input data'!$E$38*1000","v":3146.8814953057918},2.4275872574161015E-4]
[null,"Brazil",null,2054.6679899999999,1.1199478332000001,{"$f":"E99*'Input data'!$E$38*1000","v":39550.584450845192},5.273736007283296E-5,2105.40798,0.97375609520000006,{"$f":"I99*'Input data'!$E$38*1000","v":34387.871949081469},4.4748261952394921E-5]
[null,"Brunei",null,136.16164000000001,0.15861495678000001,{"$f":"E100*'Input data'!$E$38*1000","v":5601.4343323206049},1.1270718706836488E-4,125.93425000000001,0.16774364053999999,{"$f":"I100*'Input data'!$E$38*1000","v":5923.8107567147072},1.2887374571688912E-4]
[null,"Cameroon",null,65,0.99544065459999997,{"$f":"E101*'Input data'!$E$38*1000","v":35153.654936828818},1.481713590593417E-3,61.660269999999997,0.83239289559999996,{"$f":"I101*'Input data'!$E$38*1000","v":29395.677671561891},1.306126346993917E-3]
[null,"Canada",null,2731.5313999999998,2.5417811146,{"$f":"E102*'Input data'!$E$38*1000","v":89762.152886453492},9.0031440436023812E-5,2904.1616399999998,2.4489203017999999,{"$f":"I102*'Input data'!$E$38*1000","v":86482.804232930386},8.1586088878737948E-5]
[null,"Chad",null,126.16986,5.1912238139999997E-2,{"$f":"E103*'Input data'!$E$38*1000","v":1833.2633875651277},3.9808551883838592E-5,123.65752999999999,5.4549367459999991E-2,{"$f":"I103*'Input data'!$E$38*1000","v":1926.392730545725},4.2680686755307175E-5]
[null,"Chile",null,4.1643800000000004,4.3333158259999997E-2,{"$f":"E104*'Input data'!$E$38*1000","v":1530.2960410102517},1.0067745722481551E-3,4.5862999999999996,2.1384133946E-2,{"$f":"I104*'Input data'!$E$38*1000","v":755.17356297114566},4.5111934798734753E-4]
[null,"China",null,4078.3602700000001,2.4975493046000001,{"$f":"E105*'Input data'!$E$38*1000","v":88200.121258765779},5.9250324109359526E-5,4058.6852100000001,2.6047115010000002,{"$f":"I105*'Input data'!$E$38*1000","v":91984.518507471716},6.2092122555256079E-5]
[null,"Colombia",null,785.52621999999997,0.73444480619999997,{"$f":"E106*'Input data'!$E$38*1000","v":25936.67354049909},9.0460862736079271E-5,914.25441999999998,0.73696728420000002,{"$f":"I106*'Input data'!$E$38*1000","v":26025.754010327171},7.799080221535269E-5]
[null,"Congo",null,326,1.7747215696,{"$f":"E107*'Input data'!$E$38*1000","v":62673.700715724852},5.2671401559563704E-4,310.16163999999998,1.4120110452000001,{"$f":"I107*'Input data'!$E$38*1000","v":49864.699437956631},4.4046586450378374E-4]
[null,"Denmark",null,245.35943,8.0580603599999995E-2,{"$f":"E108*'Input data'!$E$38*1000","v":2845.6771586188197},3.1775325599011464E-5,221.14635000000001,0.10005869566,{"$f":"I108*'Input data'!$E$38*1000","v":3533.5394876696364},4.37761242869461E-5]
[null,"Ecuador",null,486.08701000000002,1.4149592562,{"$f":"E109*'Input data'!$E$38*1000","v":49968.814526782902},2.8163859329878701E-4,499.51301999999998,1.3135262209999998,{"$f":"I109*'Input data'!$E$38*1000","v":46386.740696325534},2.5442171820036003E-4]
[null,"Egypt",null,575.15067999999997,1.6019373062,{"$f":"E110*'Input data'!$E$38*1000","v":56571.882042748839},2.6947974338023333E-4,566.47397000000001,1.6148853616000001,{"$f":"I110*'Input data'!$E$38*1000","v":57029.138303612977},2.75818877486015E-4]
[null,"Equatorial Guinea",null,297.78073999999998,1.1241975023999999,{"$f":"E111*'Input data'!$E$38*1000","v":39700.660102228445},3.6526516720633865E-4,276.87022000000002,1.0401631814000001,{"$f":"I111*'Input data'!$E$38*1000","v":36733.016064752643},3.6348582443212742E-4]
[null,"Gabon",null,245.87671,1.6627296111999998,{"$f":"E112*'Input data'!$E$38*1000","v":58718.742031748574},6.5428427865496931E-4,244.72328999999999,1.4217138474,{"$f":"I112*'Input data'!$E$38*1000","v":50207.350663705656},5.6208130162035453E-4]
[null,"Ghana",null,7.1890400000000003,2.7380034359999996E-2,{"$f":"E113*'Input data'!$E$38*1000","v":966.91678765794757},3.6848968561502352E-4,76.512330000000006,0.18406691141999998,{"$f":"I113*'Input data'!$E$38*1000","v":6500.2616272957221},2.3275903328514187E-4]
[null,"India",null,751.30002999999999,0.89603437979999989,{"$f":"E114*'Input data'!$E$38*1000","v":31643.155474378204},1.1539141911405496E-4,782.34082999999998,0.89969110839999999,{"$f":"I114*'Input data'!$E$38*1000","v":31772.291626099566},1.1126528359523433E-4]
[null,"Indonesia",null,953.14795000000004,2.209435102,{"$f":"E115*'Input data'!$E$38*1000","v":78025.46422241049},2.2427619461374464E-4,917.91781000000003,2.1904436595999996,{"$f":"I115*'Input data'!$E$38*1000","v":77354.787763902234},2.3088224574328069E-4]
[null,"Iran",null,4080.4189500000002,11.3321054,{"$f":"E116*'Input data'!$E$38*1000","v":400189.52521027013},2.6870026620926489E-4,4054,11.354927667999998,{"$f":"I116*'Input data'!$E$38*1000","v":400995.48599802819},2.7099599651149767E-4]
[null,"Iraq",null,2399.3025299999999,9.0498948259999992,{"$f":"E117*'Input data'!$E$38*1000","v":319594.01945024444},3.6493941149153084E-4,2625.6849299999999,9.3534143919999995,{"$f":"I117*'Input data'!$E$38*1000","v":330312.71176046313},3.4465914902832991E-4]
[null,"Kazakhstan",null,1525.19866,3.8228764559999999,{"$f":"E118*'Input data'!$E$38*1000","v":135003.60787891719},2.4250801420085385E-4,1552.9369899999999,4.681958302,{"$f":"I118*'Input data'!$E$38*1000","v":165341.79693842793},2.9169968093093309E-4]
[null,"Kuwait",null,2300.4109600000002,1.4604294557999999,{"$f":"E119*'Input data'!$E$38*1000","v":51574.579470439377},6.1423902156696025E-5,2530.13699,1.3844662131999999,{"$f":"I119*'Input data'!$E$38*1000","v":48891.96287656913},5.2942027942715106E-5]
[null,"Libya",null,1650,3.8317845299999997,{"$f":"E120*'Input data'!$E$38*1000","v":135318.19354316613},2.2468774353369219E-4,465.39726000000002,2.2258811638,{"$f":"I120*'Input data'!$E$38*1000","v":78606.251413405102},4.6274357720421178E-4]
[null,"Malaysia",null,553.95964000000004,1.4661674482,{"$f":"E121*'Input data'!$E$38*1000","v":51777.214759572511},2.5607530343354687E-4,511.94520999999997,1.6211937910000001,{"$f":"I121*'Input data'!$E$38*1000","v":57251.918385274461},3.0638937107851873E-4]
[null,"Mauritania",null,8.2322299999999995,2.5009128213999997E-2,{"$f":"E122*'Input data'!$E$38*1000","v":883.18902733497612},2.9392958715940937E-4,7.7376399999999999,2.507141903E-2,{"$f":"I122*'Input data'!$E$38*1000","v":885.38880674048721},3.1349646121984429E-4]
[null,"Mexico",null,2621.1388999999999,2.8101828019999999,{"$f":"E123*'Input data'!$E$38*1000","v":99240.669018702072},1.0373057447922924E-4,2596.2309100000002,2.0897115344000001,{"$f":"I123*'Input data'!$E$38*1000","v":73797.466336481579},7.7876293090598677E-5]
[null,"Myanmar",null,20.328769999999999,2.7820328199999998E-2,{"$f":"E124*'Input data'!$E$38*1000","v":982.46561786761072},1.3240774647432305E-4,20,3.056824386E-2,{"$f":"I124*'Input data'!$E$38*1000","v":1079.5073435202214},1.4787771829044129E-4]
[null,"New Zealand",null,53.038359999999997,5.528083022E-2,{"$f":"E125*'Input data'!$E$38*1000","v":1952.2240941185876},1.0084322294220133E-4,46.32329,5.3967465860000001E-2,{"$f":"I125*'Input data'!$E$38*1000","v":1905.8430694895287},1.1271841576052018E-4]
[null,"Nigeria",null,2455.2602700000002,16.468299999999999,{"$f":"E126*'Input data'!$E$38*1000","v":581572.52561560995},6.4895335322159007E-4,2550.34521,17.5291,{"$f":"I126*'Input data'!$E$38*1000","v":619034.32405096991},6.6500191535039761E-4,"Source: Reported flaring volumes from Nigerian National Petroleum Corporation"]
[null,"Norway",null,1869.2821899999999,0.31979381839999999,{"$f":"E127*'Input data'!$E$38*1000","v":11293.412109516325},1.6552265495326455E-5,1752.2411,0.32660046579999996,{"$f":"I127*'Input data'!$E$38*1000","v":11533.786593791745},1.8033714267663758E-5]
[null,"Oman",null,864.58789999999999,1.6200825228,{"$f":"E128*'Input data'!$E$38*1000","v":57212.674319177146},1.8129683856233988E-4,885.68191999999999,1.6208241308,{"$f":"I128*'Input data'!$E$38*1000","v":57238.8639585192},1.7705996004277249E-4]
[null,"Peru",null,72.688410000000005,9.5857353340000007E-2,{"$f":"E129*'Input data'!$E$38*1000","v":3385.1704839462313},1.2759172586172224E-4,69.544060000000002,6.4149158499999998E-2,{"$f":"I129*'Input data'!$E$38*1000","v":2265.4061515129715},8.9246906147353921E-5]
[null,"Philippines",null,32.945210000000003,5.6762750800000004E-2,{"$f":"E130*'Input data'!$E$38*1000","v":2004.5576254771581},1.6669915596037843E-4,26.643840000000001,7.229109132E-2,{"$f":"I130*'Input data'!$E$38*1000","v":2552.9357953450631},2.625126349948429E-4]
[null,"Qatar",null,1126.74296,1.8472201355999998,{"$f":"E131*'Input data'!$E$38*1000","v":65233.963410242795},1.5861930694940641E-4,1295.9178099999999,1.6989639184000001,{"$f":"I131*'Input data'!$E$38*1000","v":59998.344513621996},1.2684371246099151E-4]
[null,"Romania",null,88.138949999999994,1.9917820916000001E-2,{"$f":"E132*'Input data'!$E$38*1000","v":703.39120703882861},2.186433123342919E-5,86.864000000000004,1.8931118654E-2,{"$f":"I132*'Input data'!$E$38*1000","v":668.54614552416263},2.1086218403581056E-5]
[null,"Russia",null,9694.1144700000004,35.61,{"$f":"E133*'Input data'!$E$38*1000","v":1257555.2811869998},3.5540708183518112E-4,9773.5178099999994,37.369999999999997,{"$f":"I133*'Input data'!$E$38*1000","v":1319709.0945789998},3.6994267829660389E-4]
[null,"Saudi Arabia",null,8900,3.1683116360000003,{"$f":"E134*'Input data'!$E$38*1000","v":111887.86942707172},3.4442933485322989E-5,9458.3561599999994,3.2540410419999999,{"$f":"I134*'Input data'!$E$38*1000","v":114915.37482635069},3.3286613237438598E-5]
[null,"South Africa",null,3.49315,0.10128998305999999,{"$f":"E135*'Input data'!$E$38*1000","v":3577.0219918125458},2.8055079946584663E-3,4,8.6462480719999998E-2,{"$f":"I135*'Input data'!$E$38*1000","v":3053.3936886819756},2.0913655401931341E-3]
[null,"Sudan",null,511.32877000000002,0.369047868,{"$f":"E136*'Input data'!$E$38*1000","v":13032.802454765595},6.9830430420037191E-5,452.01369999999997,0.3013981362,{"$f":"I136*'Input data'!$E$38*1000","v":10643.774723904204},6.4513590275766956E-5]
[null,"Syria",null,367.12828000000002,1.0218614770000001,{"$f":"E137*'Input data'!$E$38*1000","v":36086.697473824715},2.6930005041248396E-4,300.20548000000002,0.86100593039999995,{"$f":"I137*'Input data'!$E$38*1000","v":30406.137458799392},2.7749155741091559E-4]
[null,"Thailand",null,241.80126000000001,0.20684149626000001,{"$f":"E138*'Input data'!$E$38*1000","v":7304.5385001511959},8.2763978347298839E-5,224.12791000000001,0.2258243442,{"$f":"I138*'Input data'!$E$38*1000","v":7974.9114481690776},9.7484835604531346E-5]
[null,"Trinidad",null,98.245739999999998,6.2408286919999993E-2,{"$f":"E139*'Input data'!$E$38*1000","v":2203.927851897769},6.145974877231372E-5,91.918689999999998,8.5021138439999991E-2,{"$f":"I139*'Input data'!$E$38*1000","v":3002.4931664631572},8.9492231397570243E-5]
[null,"Tunisia",null,80.13973,0.38671641259999995,{"$f":"E140*'Input data'!$E$38*1000","v":13656.761218388678},4.6688183451540181E-4,67.482190000000003,0.42008704359999999,{"$f":"I140*'Input data'!$E$38*1000","v":14835.233929722366},6.0229931067422825E-4]
[null,"Turkmenistan",null,178.18767,1.2136178445999999,{"$f":"E141*'Input data'!$E$38*1000","v":42858.509683221382},6.5897137817997806E-4,196.73698999999999,1.2905821515999998,{"$f":"I141*'Input data'!$E$38*1000","v":45576.47853272286},6.3469032678203181E-4]
[null,"UAE",null,2414.6558,0.88870012139999999,{"$f":"E142*'Input data'!$E$38*1000","v":31384.148583490536},3.5609203068152358E-5,2679.1780800000001,0.92892631719999996,{"$f":"I142*'Input data'!$E$38*1000","v":32804.723280776474},3.3546091939475761E-5]
[null,"UK",null,1233.18694,0.99414260119999998,{"$f":"E143*'Input data'!$E$38*1000","v":35107.814613649018},7.7997739306298613E-5,1026.4301399999999,0.94811071600000008,{"$f":"I143*'Input data'!$E$38*1000","v":33482.213930238358},8.9370030540565729E-5]
[null,"US Continental",null,4567.7,0.58444357579999995,{"$f":"E144*'Input data'!$E$38*1000","v":20639.43008433318},1.2379618581056909E-5,4672,0.78454172999999994,{"$f":"I144*'Input data'!$E$38*1000","v":27705.829707191388},1.6247085350905063E-5]
[null,"US North Dakota",null,310,0.96289999999999998,{"$f":"E145*'Input data'!$E$38*1000","v":34004.492565430002},{"$f":"F145/(D145*1000*365)","v":3.0052578493530713E-4},419,1.6445000000000001,{"$f":"I145*'Input data'!$E$38*1000","v":58074.969388149992},{"$f":"J145/(H145*1000*365)","v":3.7973628919573668E-4},"Source: Reported flaring volumes from North Dakota Industrial Commission, Oil and Gas Division"]
[null,"US Alaska",null,589,0.2601,{"$f":"E146*'Input data'!$E$38*1000","v":9185.3448086699991},{"$f":"F146/(D146*1000*365)","v":4.2725514843686762E-5},545,0.28489999999999999,{"$f":"I146*'Input data'!$E$38*1000","v":10061.148542829998},{"$f":"J146/(H146*1000*365)","v":5.0577597299635534E-5},"Source: Reported flaring and production volumnes from Alaska Oil and Gas Conservation Commission"]
[null,"Uzbekistan",null,60,1.8196377976,{"$f":"E147*'Input data'!$E$38*1000","v":64259.90233696605},2.9342421158431984E-3,60,1.6605462566,{"$f":"I147*'Input data'!$E$38*1000","v":58641.637591761675},2.6777003466557842E-3]
[null,"Venezuela",null,2145.75342,2.8198210459999999,{"$f":"E148*'Input data'!$E$38*1000","v":99581.04039313535},1.2714637462881025E-4,2240,3.5023044279999995,{"$f":"I148*'Input data'!$E$38*1000","v":123682.71355675413},1.5127533458507111E-4]
[null,"Vietnam",null,318.17808000000002,0.51770337779999998,{"$f":"E149*'Input data'!$E$38*1000","v":18282.522236471177},1.5742474157154148E-4,309.12329,0.51989322279999994,{"$f":"I149*'Input data'!$E$38*1000","v":18359.855882770837},1.6272140161710223E-4]
[null,"Yemen",null,257.40649999999999,1.3104082222,{"$f":"E150*'Input data'!$E$38*1000","v":46276.629607932533},4.9254889288761333E-4,162.07670999999999,1.1014740001999999,{"$f":"I150*'Input data'!$E$38*1000","v":38898.187195778723},6.575304735569091E-4]
[null,"Generic",null,{"$f":"AVERAGE(D93:D150)","v":1262.4031665517241},{"$f":"AVERAGE(E93:E150)","v":2.3407472472132751},{"$f":"E151*'Input data'!$E$38*1000","v":82662.70886427931},{"$f":"F151/(D151*1000*365)","v":1.7939845286450256E-4},{"$f":"AVERAGE(H93:H150)","v":1263.5868618965517},{"$f":"AVERAGE(I93:I150)","v":2.3707551182105169},{"$f":"I151*'Input data'!$E$38*1000","v":83722.426826923489},{"$f":"J151/(H151*1000*365)","v":1.8152809179284083E-4}]
[]
[]
[]
[]
[]
[]
[null,null,null,null,null,null,null,null,null,null,null,null,null,null,null,null,null,"4.1   Wind speed probability distribution"]
[]
[null,null,null,null,null,null,null,null,null,null,null,null,null,null,null,null,null,null,null,"Value","Units","Source",null,null,"Notes"]
[null,"Table 4.2: NOAA wind speed data - U.S. Onshore",null,null,null,null,null,null,null,null,null,null,null,null,null,null,null,"4.1.1   Exit velocity",null,{"$f":"M37","v":"NA"},"m/s"]
[null,"Location","Years Collected","Jan","Feb","Mar","Apr","May","Jun","Jul","Aug","Sep","Oct","Nov","Dec","Annual Average",null,"4.1.2   Average windspeed",null,30,"mph"]
[null,"None selected",null,null,null,null,null,null,null,null,null,null,null,null,null,null,null,"4.1.3   Efficiency at average",null,{"$f":"100*(1-(156.4*EXP(0.318*(T162/2.23694)/((9.8*T161*($M$39*0.0254))^(1/3))))/($M$16^3))","v":{"$error":"#VALUE!"}},"%","Johnson and Kostiuk (2002)",null,null,"Computed by assuming the wind is always blowing at average speed."]
[null,"BIRMINGHAM AP,AL",59,8.1,8.6999999999999993,9,8.1999999999999993,6.8,6,5.7,5.4,6.3,6.2,7.2,7.7,7.1,null,"4.1.4   Efficiency using distribution",null,{"$f":"SUMPRODUCT(T170:T249,U170:U249)","v":{"$error":"#VALUE!"}},"%","da Rosa (2012)",null,null,"Computed by summing over time the efficiency at each wind speed."]
[null,"HUNTSVILLE, AL",35,9,9.4,9.8000000000000007,9.1999999999999993,7.9,6.9,6,5.8,6.7,7.3,8.1,9,7.9]
[null,"MOBILE, AL",54,10.1,10.3,10.7,10.1,8.6999999999999993,7.5,6.9,6.7,7.7,8,8.9,9.6,8.8000000000000007,null,"4.1.5    Windspeed mode:",null,{"$f":"T162/(SQRT(3.1415/2))","v":23.936889806691649},"mph","da Rosa (2012)",null,null,"Computed from the formula for the mean of a Rayliegh distribution."]
[null,"MONTGOMERY, AL",58,7.7,8.1999999999999993,8.3000000000000007,7.3,6.1,5.8,5.7,5.2,5.9,5.7,6.5,7.1,6.6]
[null,"ANCHORAGE, AK",49,6.4,6.8,7.1,7.3,8.5,8.4,7.3,6.9,6.7,6.7,6.4,6.3,7.1,null,"4.1.6    Rayleigh wind distribution",null,null,null,null,null,null,"Computing assuming wind speed follows Raleigh distribution"]
[null,"ANNETTE, AK",38,11.6,11.8,10.5,10.6,9,8.5,7.7,8.1,8.8000000000000007,11.2,11.7,12,10.1,null,null,"Windspeed (mph):","% of time at that speed","Efficiency at that speed"]
[null,"BARROW, AK",69,11.9,11.3,11.3,11.5,12,11.5,11.7,12.4,13.2,13.3,12.5,11.7,12,null,null,1,{"$f":"(S170/($T$166^2))*EXP(((-(S170^2))/(2*($T$166^2))))","v":1.7437554448370427E-3},{"$f":"IF(100*(1-(156.4*EXP(0.318*($S170/2.23694)/((9.8*$T$161*($M$39*0.0254))^(1/3))))/($M$16^3))>=0,100*(1-(156.4*EXP(0.318*($S170/2.23694)/((9.8*$T$161*($M$39*0.0254))^(1/3))))/($M$16^3)),0)","v":{"$error":"#VALUE!"}}]
[null,"BARTER IS.,AK",33,15.1,14.4,13.7,12,12.7,11.6,10.9,11.8,13.2,14.8,14.9,13.9,13.2,null,null,2,3.4783928171753563E-3,{"$error":"#VALUE!"}]
[null,"BETHEL, AK",44,14.5,14.7,13.7,12.9,11.5,11,10.6,11,11.6,12.3,13.2,13.6,12.6,null,null,3,5.1948734621241844E-3,{"$error":"#VALUE!"}]
[null,"BETTLES,AK",27,5.8,6.3,7,7.4,7.2,6.8,6.5,6.2,6.4,6.4,5.8,5.6,6.5,null,null,4,6.8843165921627656E-3,{"$error":"#VALUE!"}]
[null,"BIG DELTA,AK",26,11.2,10.199999999999999,8.8000000000000007,8,8.1999999999999993,6.9,6.1,6.6,7.6,8.6999999999999993,10.199999999999999,10,8.5,null,null,5,8.5380758163665985E-3,{"$error":"#VALUE!"}]
[null,"COLD BAY,AK",47,17.5,17.899999999999999,17.399999999999999,17.5,16.2,15.8,15.6,16.2,16.2,16.600000000000001,17.5,17.5,16.8,null,null,6,1.014781282643039E-2,{"$error":"#VALUE!"}]
[null,"FAIRBANKS, AK",51,3,3.9,5.3,6.6,7.7,7.1,6.6,6.1,6,5.3,3.8,3,5.4,null,null,7,1.1705567361135472E-2,{"$error":"#VALUE!"}]
[null,"GULKANA,AK",14,5,4.9000000000000004,6.3,8.5,8.6999999999999993,8.1,7.7,7.7,7.3,6,4.0999999999999996,3.3,6.5,null,null,8,1.3203822628673822E-2,{"$error":"#VALUE!"}]
[null,"HOMER, AK",28,7.8,7.7,7.8,8.1,8.1999999999999993,7.8,7.1,6.6,7,7.3,7.7,7.8,7.6,null,null,9,1.4635565436359368E-2,{"$error":"#VALUE!"}]
[null,"JUNEAU, AK",57,8.1,8.1999999999999993,8.4,8.5,8.3000000000000007,7.7,7.5,7.4,8,9.5,8.4,8.8000000000000007,8.1999999999999993,null,null,10,1.5994340358407771E-2,{"$error":"#VALUE!"}]
[null,"KING SALMON, AK",47,10.5,11,11.3,10.9,11,10.5,9.9,10,10.4,10.3,10.4,10.1,10.5,null,null,11,1.7274297363128494E-2,{"$error":"#VALUE!"}]
[null,"KODIAK, AK",49,12.7,12.5,12.5,11.6,10.6,9.3000000000000007,7.7,8.4,9.6999999999999993,11.4,12.5,12.6,11,null,null,12,1.847023241936481E-2,{"$error":"#VALUE!"}]
[null,"KOTZEBUE, AK",56,13.9,13,11.9,12,10.7,11.9,12.7,13.2,13.2,13.5,14.4,12.9,12.8,null,null,13,1.9577620706527167E-2,{"$error":"#VALUE!"}]
[null,"MCGRATH, AK",52,3.2,4.2,5.3,6.5,6.7,6.4,5.9,5.8,5.9,5.4,3.7,3.2,5.2,null,null,14,2.0592642161195728E-2,{"$error":"#VALUE!"}]
[null,"NOME, AK",55,10.8,11,10.1,10.1,9.9,9.6999999999999993,9.6999999999999993,10.4,11,10.5,11.5,10.3,10.4,null,null,15,2.151219920407289E-2,{"$error":"#VALUE!"}]
[null,"ST. PAUL ISLAND, AK",28,19.899999999999999,20,18.8,17.399999999999999,14.9,13.6,12.1,13.7,15.4,17.399999999999999,20,20.100000000000001,16.899999999999999,null,null,16,2.2333926602095638E-2,{"$error":"#VALUE!"}]
[null,"TALKEETNA, AK",19,6,5.5,5.5,4.7,4.9000000000000004,5.0999999999999996,4.2,3.7,3.7,3.8,5,4.9000000000000004,4.8,null,null,17,2.305619352985374E-2,{"$error":"#VALUE!"}]
[null,"VALDEZ, AK",22,7.5,7.8,6.7,5.2,5.8,5.9,4.9000000000000004,4.2,4.3,6.3,7.5,7,6.1,null,null,18,2.3678098000259305E-2,{"$error":"#VALUE!"}]
[null,"YAKUTAT, AK",54,7.2,7.3,7,7.1,7.5,6.9,6.6,6.3,6.9,7.8,7.2,7.8,7.1,null,null,19,2.4199453934943469E-2,{"$error":"#VALUE!"}]
[null,"FLAGSTAFF, AZ",35,6.5,6.6,7.1,7.6,7.3,7,5.5,5,5.6,5.8,6.6,6.6,6.4,null,null,20,2.4620771238525047E-2,{"$error":"#VALUE!"}]
[null,"PHOENIX, AZ",57,5.3,5.8,6.6,6.9,7,6.7,7.1,6.6,6.3,5.8,5.3,5.0999999999999996,6.2,null,null,21,2.4943229326285836E-2,{"$error":"#VALUE!"}]
[null,"TUCSON, AZ",57,7.9,8.1,8.6,8.9,8.8000000000000007,8.6999999999999993,8.4,7.9,8.3000000000000007,8.1999999999999993,8.1,7.8,8.3000000000000007,null,null,22,2.5168644630675144E-2,{"$error":"#VALUE!"}]
[null,"WINSLOW, AZ",42,7.1,8.5,10.3,11.3,10.7,10.6,9,8.4,8.1,7.6,7.3,6.7,8.8000000000000007,null,null,23,2.5299432677445489E-2,{"$error":"#VALUE!"}]
[null,"YUMA, AZ",28,7.3,7.4,7.9,8.3000000000000007,8.3000000000000007,8.5,9.5,8.9,7.3,6.6,6.9,7.2,7.8,null,null,24,2.5338565376315247E-2,{"$error":"#VALUE!"}]
[null,"FORT SMITH, AR",57,8.1999999999999993,8.5,9.4,8.9,7.7,6.7,6.3,6.3,6.6,6.8,7.8,8.1,7.6,null,null,25,2.5289524213324487E-2,{"$error":"#VALUE!"}]
[null,"LITTLE ROCK, AR",60,8.4,8.9,9.6,9,7.6,7.1,6.7,6.3,6.6,6.8,8,8.1,7.8,null,null,26,2.515625006219888E-2,{"$error":"#VALUE!"}]
[null,"BAKERSFIELD, CA",50,5.2,5.8,6.5,7.1,7.9,7.9,7.2,6.8,6.2,5.5,5.0999999999999996,5,6.4,null,null,27,2.49430903500059E-2,{"$error":"#VALUE!"}]
[null,"BLUE CANYON, CA",50,7.8,7.7,7.4,6.5,6.5,6.3,5.8,5.9,6.4,6.8,6.6,6.7,6.7,null,null,28,2.4654744318348753E-2,{"$error":"#VALUE!"}]
[null,"EUREKA, CA.",54,6.9,7.2,7.6,8,7.9,7.4,6.8,5.8,5.5,5.6,6,6.4,6.8,null,null,29,2.4296207115687269E-2,{"$error":"#VALUE!"}]
[null,"FRESNO, CA",53,5.2,5.7,6.7,7.4,8.1,8.3000000000000007,7.4,6.8,6.1,5.2,4.7,4.9000000000000004,6.4,null,null,30,2.3872713439693209E-2,{"$error":"#VALUE!"}]
[null,"LONG BEACH, CA",33,5.2,6,6.7,7.4,7.1,7,6.8,6.6,6.2,5.6,5.2,5,6.2,null,null,31,2.3389681421611946E-2,{"$error":"#VALUE!"}]
[null,"LOS ANGELES AP, CA",54,6.7,7.4,8.1,8.5,8.4,8,7.9,7.7,7.3,6.9,6.7,6.6,7.5,null,null,32,2.2852657408343031E-2,{"$error":"#VALUE!"}]
[null,"LOS ANGELES C.O., CA",28,6.2,6.4,6.5,6.3,6,5.4,5,4.9000000000000004,5.0999999999999996,5.2,5.8,5.8,5.7,null,null,33,{"$f":"(S202/($T$166^2))*EXP(((-(S202^2))/(2*($T$166^2))))","v":2.2267262253428254E-2},{"$f":"IF(100*(1-(156.4*EXP(0.318*($S202/2.23694)/((9.8*$T$161*($M$39*0.0254))^(1/3))))/($M$16^3))>=0,100*(1-(156.4*EXP(0.318*($S202/2.23694)/((9.8*$T$161*($M$39*0.0254))^(1/3))))/($M$16^3)),0)","v":{"$error":"#VALUE!"}}]
[null,"MOUNT SHASTA, CA",3,5,5.2,5.8,6.2,5.4,5.4,4.4000000000000004,4.2,4.5999999999999996,4.2,5.2,5.4,5.0999999999999996,null,null,34,2.1639139676510807E-2,{"$error":"#VALUE!"}]
[null,"REDDING, CA",16,6.2,7.1,7.3,7,7.3,7.5,6.6,6.1,6,6,5.7,6.4,6.6,null,null,35,2.0973907193339705E-2,{"$error":"#VALUE!"}]
[null,"SACRAMENTO, CA",52,7.1,7.3,8.4,8.6,9,9.6,8.9,8.4,7.4,6.4,6,6.4,7.8,null,null,36,2.0277110056322351E-2,{"$error":"#VALUE!"}]
[null,"SAN DIEGO, CA",62,6,6.6,7.5,7.8,7.9,7.8,7.5,7.4,7.1,6.5,5.9,5.6,7,null,null,37,1.9554178580274237E-2,{"$error":"#VALUE!"}]
[null,"SAN FRANCISCO AP, CA",75,7.2,8.6,10.5,12.2,13.4,14,13.6,12.8,11.1,9.4,7.5,7.1,10.6,null,null,38,1.881038916066656E-2,{"$error":"#VALUE!"}]
[null,"SAN FRANCISCO C.O., CA",28,6.7,7.5,8.5,9.5,10.4,10.9,11.2,10.5,9.1,7.6,6.3,6.5,8.6999999999999993,null,null,39,1.8050829223583347E-2,{"$error":"#VALUE!"}]
[null,"SANTA BARBARA, CA",31,5.0999999999999996,5.9,6.7,7.6,7,6.7,6.5,6.1,5.5,5.5,5.2,4.4000000000000004,6,null,null,40,1.7280366278962126E-2,{"$error":"#VALUE!"}]
[null,"SANTA MARIA, CA",22,6.4,7.2,8.1,8,8.1999999999999993,7.8,6.5,6.3,5.9,6,6.4,6.2,6.9,null,null,41,1.6503621182620293E-2,{"$error":"#VALUE!"}]
[null,"STOCKTON, CA",42,6.7,7,7.7,8.4,9.1999999999999993,9.1999999999999993,8.1999999999999993,7.7,7.1,6.4,5.8,6.4,7.5,null,null,42,1.5724945649078392E-2,{"$error":"#VALUE!"}]
[null,"ALAMOSA, CO",11,5.6,6.6,8.4,10.3,9.6999999999999993,9,7,6.2,6.5,6.4,5.6,4.9000000000000004,7.2,null,null,43,1.4948403997185387E-2,{"$error":"#VALUE!"}]
[null,"COLORADO SPRINGS, CO",54,9.4,10,11.1,11.6,11.2,10.4,9.3000000000000007,8.9,9.4,9.6,9.5,9.4,10,null,null,44,1.4177759054810304E-2,{"$error":"#VALUE!"}]
[null,"DENVER, CO",47,8.6,8.6999999999999993,9.6,10,9.3000000000000007,8.8000000000000007,8.3000000000000007,8,7.9,7.8,8.1999999999999993,8.4,8.6,null,null,45,1.3416462098038668E-2,{"$error":"#VALUE!"}]
[null,"GRAND JUNCTION, CO",56,5.7,6.7,8.4,9.4,9.6,9.8000000000000007,9.4,9.1,9,7.9,6.8,6,8.1999999999999993,null,null,46,1.266764665491622E-2,{"$error":"#VALUE!"}]
[null,"PUEBLO, CO",47,7.8,8.5,9.6,10.3,9.6999999999999993,9.3000000000000007,8.6999999999999993,7.9,7.9,7.4,7.5,7.7,8.5,null,null,47,1.1934125964194195E-2,{"$error":"#VALUE!"}]
[null,"BRIDGEPORT, CT",30,12.5,12.9,13,12.4,11.1,9.9,9.4,9.5,10.5,11.3,12,12.1,11.4,null,null,48,1.1218393845995043E-2,{"$error":"#VALUE!"}]
[null,"HARTFORD, CT",48,8.9,9.4,9.9,9.8000000000000007,8.6999999999999993,8,7.3,7,7.3,7.8,8.4,8.6999999999999993,8.4,null,null,49,1.0522628713949272E-2,{"$error":"#VALUE!"}]
[null,"WILMINGTON, DE",54,9.8000000000000007,10.3,11,10.4,9,8.3000000000000007,7.8,7.4,7.8,8.1,9.1999999999999993,9.3000000000000007,9,null,null,50,9.8487004371462794E-3,{"$error":"#VALUE!"}]
[null,"WASHINGTON DULLES AP, D.C.",40,8.1,8.6,9,8.8000000000000007,7.4,6.8,6.2,5.8,6.2,6.6,7.6,7.7,7.4,null,null,51,9.1981797450742375E-3,{"$error":"#VALUE!"}]
[null,"WASHINGTON NAT'L AP, D.C.",54,10,10.3,10.9,10.5,9.3000000000000007,8.9,8.3000000000000007,8.1,8.3000000000000007,8.6999999999999993,9.4,9.6,9.4,null,null,52,8.5723498593752376E-3,{"$error":"#VALUE!"}]
[null,"APALACHICOLA, FL",54,8.3000000000000007,8.6999999999999993,8.9,8.5,7.7,7.1,6.4,6.4,7.8,8,8,8,7.8,null,null,53,7.9722200324003033E-3,{"$error":"#VALUE!"}]
[null,"DAYTONA BEACH, FL",57,8.8000000000000007,9.3000000000000007,9.8000000000000007,9.4,8.9,8,7.3,7,8,8.9,8.3000000000000007,8.3000000000000007,8.5,null,null,54,7.3985406738284647E-3,{"$error":"#VALUE!"}]
[null,"FORT MYERS, FL",57,8.3000000000000007,8.9,9.3000000000000007,8.8000000000000007,8,7.2,6.6,6.7,7.4,8.4,8.1,7.9,8,null,null,55,6.8518197525656108E-3,{"$error":"#VALUE!"}]
[null,"GAINESVILLE, FL",19,6.9,7.4,7.8,7.2,6.9,6.1,5.6,5.4,5.8,6.3,6.2,6,6.5,null,null,56,6.3323401712662474E-3,{"$error":"#VALUE!"}]
[null,"JACKSONVILLE, FL",53,8.1,8.6999999999999993,9.1,8.5,7.9,7.7,7,6.7,7.4,7.8,7.6,7.6,7.8,null,null,57,5.8401778245937286E-3,{"$error":"#VALUE!"}]
[null,"KEY WEST, FL",49,11.8,12,12.1,12.2,10.5,9.6,9.4,9.1999999999999993,9.6,10.8,12,11.8,10.9,null,null,58,5.3752200692020738E-3,{"$error":"#VALUE!"}]
[null,"MIAMI, FL",53,9.5,10,10.5,10.5,9.5,8.3000000000000007,7.9,7.9,8.1999999999999993,9.1999999999999993,9.6999999999999993,9.1,9.1999999999999993,null,null,59,4.9371843528264372E-3,{"$error":"#VALUE!"}]
[null,"ORLANDO, FL",54,9,9.6,9.9,9.4,8.8000000000000007,8,7.3,7.2,7.6,8.6,8.6,8.5,8.5,null,null,60,4.5256367712559866E-3,{"$error":"#VALUE!"}]
[null,"PENSACOLA, FL",38,9,9.3000000000000007,9.8000000000000007,9.5,8.6,7.6,6.9,6.7,7.6,7.9,8.1999999999999993,8.8000000000000007,8.3000000000000007,null,null,61,4.140010344793537E-3,{"$error":"#VALUE!"}]
[null,"TALLAHASSEE, FL",41,6.7,7.1,7.5,6.8,6.2,5.7,5,5,5.9,6.3,5.9,6.3,6.2,null,null,62,3.7796228295658347E-3,{"$error":"#VALUE!"}]
[null,"TAMPA, FL",56,8.6,9.1,9.4,9.1999999999999993,8.6,7.9,7.1,6.9,7.6,8.3000000000000007,8.1999999999999993,8.3000000000000007,8.3000000000000007,null,null,63,3.4436939032543102E-3,{"$error":"#VALUE!"}]
[null,"VERO BEACH, FL",19,8.6999999999999993,9,9.9,9.5,9.1,7.7,6.9,6.5,7.3,8.6,8.6,8,8.3000000000000007,null,null,64,3.1313615890247132E-3,{"$error":"#VALUE!"}]
[null,"WEST PALM BEACH, FL",60,10.1,10.5,11,10.9,9.9,8.3000000000000007,7.7,7.7,8.6999999999999993,10,10.4,10,9.6,null,null,65,{"$f":"(S234/($T$166^2))*EXP(((-(S234^2))/(2*($T$166^2))))","v":2.8416978052447591E-3},{"$f":"IF(100*(1-(156.4*EXP(0.318*($S234/2.23694)/((9.8*$T$161*($M$39*0.0254))^(1/3))))/($M$16^3))>=0,100*(1-(156.4*EXP(0.318*($S234/2.23694)/((9.8*$T$161*($M$39*0.0254))^(1/3))))/($M$16^3)),0)","v":{"$error":"#VALUE!"}}]
[null,"ATHENS, GA",47,8.3000000000000007,8.6,8.6999999999999993,8.3000000000000007,7.1,6.6,6.3,5.8,6.4,6.6,7.3,8,7.3,null,null,66,2.5737229516390203E-3,{"$error":"#VALUE!"}]
[null,"ATLANTA, GA",64,10.4,10.6,10.9,10.1,8.6999999999999993,8.1,7.7,7.3,8,8.5,9.1,9.8000000000000007,9.1,null,null,67,2.3264194645361471E-3,{"$error":"#VALUE!"}]
[null,"AUGUSTA,GA",51,6.9,7.5,7.9,7.4,6.4,6,5.8,5.3,5.4,5.6,5.9,6.5,6.4,null,null,68,2.0987442945622115E-3,{"$error":"#VALUE!"}]
[null,"COLUMBUS, GA",44,7.2,7.7,8,7.2,6.6,6.1,5.8,5.5,6.4,6.3,6.4,6.9,6.7,null,null,69,1.8896402793224924E-3,{"$error":"#VALUE!"}]
[null,"MACON, GA",54,8,8.4,8.8000000000000007,8.3000000000000007,7.4,7,6.7,6.2,6.7,6.5,6.9,7.5,7.4,null,null,70,1.6980464011386318E-3,{"$error":"#VALUE!"}]
[null,"SAVANNAH, GA",52,8.1999999999999993,8.6,9.1,8.6,7.6,7.4,6.9,6.7,7.2,7.3,7.2,7.6,7.7,null,null,71,1.5229069356612859E-3,{"$error":"#VALUE!"}]
[null,"HILO, HI",53,7.4,7.7,7.7,7.5,7.4,7.1,6.9,6.8,6.8,6.7,6.8,7.2,7.2,null,null,72,1.3631795110969633E-3,{"$error":"#VALUE!"}]
[null,"HONOLULU,HI",53,9.4,10.1,11.3,11.6,11.6,12.6,13.1,12.8,11.2,10.5,10.7,10.4,11.3,null,null,73,1.2178421098479884E-3,{"$error":"#VALUE!"}]
[null,"KAHULUI, HI",30,10.8,11.2,12.2,13.4,13,14.9,15.5,14.7,13,12.2,11.8,11.3,12.8,null,null,74,1.0858990545796483E-3,{"$error":"#VALUE!"}]
[null,"LIHUE, HI",52,11.1,11.7,12.7,13.5,12.8,13.2,13.7,13.1,11.7,11.8,12.4,12,12.5,null,null,75,9.6638602914286213E-4,{"$error":"#VALUE!"}]
[null,"BOISE, ID",63,7.9,8.9,9.9,9.9,9.4,9,8.4,8.1999999999999993,8.1999999999999993,8.3000000000000007,8.4,8.1,8.6999999999999993,null,null,76,8.5837419146619659E-4,{"$error":"#VALUE!"}]
[null,"POCATELLO, ID",50,10.5,10.5,11.1,11.6,10.5,10.1,9.1,8.9,9,9.5,10.1,9.9,10.1,null,null,77,7.609734405822924E-4,{"$error":"#VALUE!"}]
[null,"CAIRO,IL",22,9.8000000000000007,9.8000000000000007,10.6,10.199999999999999,8.1999999999999993,7.4,6.5,6.2,7,7.3,9.1,9.3000000000000007,8.5,null,null,78,6.7333490348340901E-4,{"$error":"#VALUE!"}]
[null,"CHICAGO,IL",44,11.6,11.4,11.8,11.9,10.5,9.3000000000000007,8.4,8.1999999999999993,8.9,10.1,11.1,11,10.3,null,null,79,5.9465270963539687E-4,{"$error":"#VALUE!"}]
[null,"MOLINE, IL",59,10.7,10.6,11.7,11.8,10.1,8.8000000000000007,7.5,7.1,8,9.1999999999999993,10.6,10.3,9.6999999999999993,null,null,80,5.2416512185510646E-4,{"$error":"#VALUE!"}]
[null,"PEORIA, IL",59,10.9,10.9,11.7,11.6,9.9,8.9,7.8,7.3,8.3000000000000007,9.3000000000000007,10.6,10.6,9.8000000000000007,null,null,null,{"$f":"SUM(T170:T249)","v":0.99635691138741711}]
[null,"ROCKFORD, IL",52,10.5,10.6,11.6,11.8,10.4,9.3000000000000007,8.1,7.7,8.4,9.5,10.6,10.4,9.9]
[null,"SPRINGFIELD, IL",55,12.2,12.2,13.2,13,11.1,9.6,8.3000000000000007,7.9,8.6999999999999993,10.1,12.2,12,10.9]
[null,"EVANSVILLE, IN",62,9.1999999999999993,9.3000000000000007,10,9.6,7.9,7.1,6.2,5.8,6.4,6.9,8.6999999999999993,8.9,8]
[null,"FORT WAYNE, IN",56,11.5,11,11.7,11.6,10,8.9,8,7.3,8.1999999999999993,9.1,10.9,11.1,9.9]
[null,"INDIANAPOLIS, IN",54,10.9,10.8,11.6,11.2,9.6,8.5,7.5,7.2,7.9,8.9,10.5,10.5,9.6]
[null,"SOUTH BEND, IN",54,11.9,11.2,11.9,11.6,10.199999999999999,9.1,8.1,7.7,8.5,9.5,11,11.2,10.199999999999999]
[null,"DES MOINES, IA",53,11.4,11.2,12.4,12.6,11,10.1,8.9,8.6,9.4,10.3,11.3,11.1,10.7]
[null,"SIOUX CITY, IA",61,11.4,11.2,12.3,13.2,11.8,10.7,9.1999999999999993,9.1,9.9,10.5,11.4,11,11]
[null,"WATERLOO, IA",46,11.4,11.4,12.1,12.6,11.1,9.8000000000000007,8.4,8.3000000000000007,9,10.199999999999999,11,11,10.5]
[null,"CONCORDIA, KS",40,11.7,12.1,13.4,13.8,12.1,11.7,11.3,10.9,11.2,11.6,11.8,11.5,11.9]
[null,"DODGE CITY, KS",60,13.5,13.9,15.5,15.5,14.6,14,13.1,12.5,13.5,13.5,13.7,13.4,13.9]
[null,"GOODLAND, KS",54,12.4,12.4,14,14.4,13.5,12.7,11.9,11.5,12,11.9,11.9,11.9,12.5]
[null,"TOPEKA, KS",53,9.6999999999999993,10.199999999999999,11.5,11.7,10.199999999999999,9.4,8.4,8,8.5,9,9.6999999999999993,9.5,9.6]
[null,"WICHITA, KS",49,12,12.5,13.8,14,12.3,12.2,11.3,11.1,11.6,11.9,12.1,11.7,12.2]
[null,"GREATER CINCINNATI AP",55,10.4,10.4,11,10.6,8.6999999999999993,7.9,7.2,6.8,7.4,8.1,9.6999999999999993,10,9]
[null,"JACKSON, KY",21,7.3,7.4,7.6,7.7,6,5.3,5,4.5999999999999996,5.3,6,7,7.1,6.4]
[null,"LEXINGTON, KY",55,10.6,10.6,10.9,10.4,8.6,7.9,7.2,6.8,7.6,8.1,9.9,10.3,9.1]
[null,"LOUISVILLE, KY",55,9.5,9.5,10.1,9.6999999999999993,8,7.4,6.8,6.4,6.8,7.2,8.9,9.1,8.3000000000000007]
[null,"PADUCAH KY",18,8.8000000000000007,8.9,9.4,8.9,7.4,6.2,5.7,5.0999999999999996,5.6,6.5,8.1999999999999993,8.4,7.4]
[null,"BATON ROUGE, LA",51,8.6999999999999993,9.1,9.1,8.6999999999999993,7.6,6.5,5.9,5.6,6.4,6.6,7.4,8.1,7.5]
[null,"LAKE CHARLES, LA",41,9.8000000000000007,10,10.199999999999999,9.8000000000000007,8.6,7.5,6.1,6.1,7.1,7.8,8.8000000000000007,9.3000000000000007,8.4]
[null,"NEW ORLEANS, LA",54,9.3000000000000007,9.8000000000000007,9.9,9.4,8.1,6.8,6.1,5.9,7.3,7.6,8.6999999999999993,9,8.1999999999999993]
[null,"SHREVEPORT, LA",50,9.1999999999999993,9.6,10,9.6,8.3000000000000007,7.6,7.1,6.6,7.2,7.4,8.3000000000000007,8.8000000000000007,8.3000000000000007]
[null,"CARIBOU, ME",22,11.1,10.8,11.7,10.9,10.3,9.3000000000000007,8.6,8.1,9.1999999999999993,10,10,10.4,10]
[null,"PORTLAND, ME",62,9,9.4,10,9.9,9.1,8.1999999999999993,7.6,7.5,7.8,8.4,8.8000000000000007,9,8.6999999999999993]
[null,"BALTIMORE, MD",52,9.4,9.9,10.7,10.199999999999999,8.9,8.1999999999999993,7.6,7.5,7.7,8.1,8.8000000000000007,8.9,8.8000000000000007]
[null,"BLUE HILL, MA",61,17.2,17.2,17.2,16.399999999999999,14.6,13.8,12.9,12.6,13.5,15.2,16.2,16.7,15.3]
[null,"BOSTON, MA",45,13.7,13.7,13.6,13.1,12,11.4,11,10.8,11.3,11.9,12.7,13.4,12.4]
[null,"WORCESTER, MA",36,11.7,11.6,11.5,11,10,8.9,8.4,8.3000000000000007,8.6,9.4,10.4,10.9,10.1]
[null,"ALPENA, MI",42,8.8000000000000007,8.4,8.9,9.1999999999999993,8.3000000000000007,7.5,7,6.7,7.1,7.8,8.5,8.4,8.1]
[null,"DETROIT, MI",44,11.9,11.4,11.7,11.3,10.1,9.1999999999999993,8.5,8.1,8.6999999999999993,9.6999999999999993,11.2,11.3,10.3]
[null,"FLINT, MI",61,11.8,11.2,11.8,11.5,10.1,9,8.1,7.8,8.8000000000000007,9.8000000000000007,11.2,11.3,10.199999999999999]
[null,"GRAND RAPIDS, MI",39,11.4,10.6,11.1,11,9.6999999999999993,8.9,8.3000000000000007,7.9,8.3000000000000007,9.4,10.5,10.7,9.8000000000000007]
[null,"HOUGHTON LAKE, MI",21,9.6999999999999993,9.1,9.1,9.5,8.8000000000000007,7.8,7.5,7,7.8,8.8000000000000007,9.6,9.3000000000000007,8.6999999999999993]
[null,"LANSING, MI",43,11.7,10.9,11.2,11.1,9.9,8.8000000000000007,8,7.5,8.1999999999999993,9.4,10.7,11,9.9]
[null,"MUSKEGON, MI",41,12.2,11.6,11.6,11.5,9.9,9.3000000000000007,8.8000000000000007,8.6,9.3000000000000007,10.7,11.9,11.7,10.6]
[null,"SAULT STE. MARIE, MI",61,9.6,9.3000000000000007,10,10.3,9.6999999999999993,8.5,7.8,7.7,8.6,9.1999999999999993,9.6999999999999993,9.6,9.1999999999999993]
[null,"DULUTH, MN",53,11.6,11.3,11.8,12.3,11.6,10.4,9.4,9.4,10.3,11.2,11.6,11.2,11]
[null,"INTERNATIONAL FALLS, MN",50,8.9,8.8000000000000007,9.4,9.9,9.4,8.5,7.7,7.5,8.5,9.3000000000000007,9.4,8.8000000000000007,8.8000000000000007]
[null,"MINNEAPOLIS-ST.PAUL, MN",64,10.5,10.4,11.3,12.2,11.1,10.4,9.4,9.1999999999999993,10,10.6,11,10.4,10.5]
[null,"ROCHESTER, MN",42,14.2,13.7,14.1,14.3,13.2,12.1,10.8,10.4,11.5,12.7,13.6,13.7,12.9]
[null,"SAINT CLOUD, MN",16,8.4,8.4,9,9.8000000000000007,9.1999999999999993,8.3000000000000007,7.1,6.5,7.2,8.4,8.6,8.1999999999999993,8.3000000000000007]
[null,"JACKSON, MS",39,8.1999999999999993,8.4,8.6999999999999993,8,6.8,6.1,5.2,5.3,6.1,6.2,6.9,7.8,7]
[null,"MERIDIAN, MS",43,7.1,7.5,7.9,7.1,6,5.2,4.9000000000000004,4.5999999999999996,5.3,5.2,6.1,6.9,6.2]
[null,"TUPELO, MS",19,7.6,8.1999999999999993,8.3000000000000007,7.8,6.6,5.7,5.3,5.2,6.1,6,6.9,7.5,6.8]
[null,"COLUMBIA, MO",32,10.7,10.8,11.7,11.5,9.1,8.6999999999999993,8.1999999999999993,7.9,8.6,9.3000000000000007,10.6,10.6,9.8000000000000007]
[null,"KANSAS CITY, MO",30,11.1,11.1,12.3,12.3,10.3,9.9,9.1999999999999993,8.8000000000000007,9.6,10.5,11.2,10.9,10.6]
[null,"ST. LOUIS, MO",53,10.6,10.8,11.6,11.3,9.4,8.8000000000000007,8,7.6,8.1999999999999993,8.9,10.199999999999999,10.3,9.6]
[null,"SPRINGFIELD, MO",57,11.4,11.5,12.5,12,10.199999999999999,9.3000000000000007,8.4,8.4,9.1,10.1,11,11.2,10.4]
[null,"BILLINGS, MT",63,13,12.3,11.4,11.4,10.7,10.1,9.5,9.5,10.199999999999999,11,12.2,13,11.2]
[null,"GLASGOW, MT",33,9.8000000000000007,10.1,11.2,12.3,12.2,11.1,10.5,10.9,10.9,10.6,9.5,9.6999999999999993,10.7]
[null,"GREAT FALLS, MT",61,14.9,13.9,12.8,12.6,11.3,11.1,10,10.1,11.2,12.9,14.5,15.2,12.5]
[null,"HAVRE, MT",3,8.8000000000000007,9.4,10.199999999999999,11.6,12.4,10.8,9.8000000000000007,9,9.4,9.1,10.6,10.8,10.199999999999999]
[null,"HELENA, MT",62,6.7,7.3,8.1999999999999993,9.1,8.8000000000000007,8.5,7.8,7.4,7.4,7.1,7.1,6.7,7.7]
[null,"KALISPELL, MT",40,5.6,5.6,6.7,7.7,7.4,6.9,6.3,6.3,6.1,5.0999999999999996,5.3,5.0999999999999996,6.2]
[null,"MISSOULA, MT",58,5.0999999999999996,5.6,6.7,7.6,7.4,7.2,6.9,6.7,6,5.0999999999999996,5,4.7,6.2]
[null,"GRAND ISLAND, NE",53,11.7,11.7,13.1,14,12.6,11.8,10.5,10.3,11,11.2,11.8,11.6,11.8]
[null,"LINCOLN, NE",30,9.6,10,11.3,12.1,10.5,9.8000000000000007,9.3000000000000007,9.1,9.5,9.9,9.9,9.6,10.1]
[null,"NORFOLK, NE",26,11.6,11.5,12.5,13.1,11.5,10.8,9.6999999999999993,9.5,10.3,11,11.4,11.3,11.2]
[null,"NORTH PLATTE, NE",50,9.1999999999999993,9.8000000000000007,11.5,12.6,11.5,10.4,9.5,9.1999999999999993,9.6999999999999993,9.6,9.5,9,10.1]
[null,"OMAHA EPPLEY AP, NE",66,10.9,11.1,12.2,12.6,10.9,10.1,8.8000000000000007,8.8000000000000007,9.4,9.8000000000000007,10.9,10.7,10.5]
[null,"OMAHA (NORTH), NE",9,9.9,9.1999999999999993,10.5,10.199999999999999,8.9,8.3000000000000007,7.5,7.6,8.6,9,9.6999999999999993,9.8000000000000007,9.1]
[null,"SCOTTSBLUFF, NE",51,10.6,11.1,12,12.5,11.8,10.5,9.3000000000000007,8.9,9.4,9.6999999999999993,10.199999999999999,10.4,10.5]
[null,"VALENTINE, NE",34,9.3000000000000007,9.4,10.4,11.1,11,9.9,9.1,9.1999999999999993,9.6999999999999993,9.5,9.6999999999999993,9.1999999999999993,9.8000000000000007]
[null,"ELKO, NV",47,5.2,5.7,6.6,7.2,6.8,6.7,6.2,5.9,5.4,5,5.0999999999999996,5,5.9]
[null,"ELY, NV",61,10.1,10.3,10.7,10.9,10.7,10.6,10.3,10.4,10.3,10,9.9,9.9,10.3]
[null,"LAS VEGAS, NV",54,7.4,8.5,10.1,11,11,11,10.199999999999999,9.6,9,8.1,7.8,7.3,9.1999999999999993]
[null,"RENO, NV",60,5.6,6.2,7.8,8.1999999999999993,8,7.7,7.2,6.6,5.8,5.4,5.5,5.3,6.6]
[null,"WINNEMUCCA, NV",46,7.6,8,8.6,8.6,8.6,8.5,8.4,7.8,7.6,7.3,7.2,7.4,8]
[null,"CONCORD, NH",60,7.2,7.9,8.1,7.8,7,6.5,5.7,5.4,5.6,6,6.6,7,6.7]
[null,"MT. WASHINGTON, NH",67,46.1,44.3,41.4,35.799999999999997,29.7,27.3,25.3,24.7,28.8,33.799999999999997,39.5,44.5,35.1]
[null,"ATLANTIC CITY AP, NJ",44,10.7,11.1,11.8,11.4,10.1,9.1,8.3000000000000007,7.9,8.3000000000000007,8.6999999999999993,9.9,10.3,9.8000000000000007]
[null,"NEWARK, NJ",58,11.2,11.5,11.9,11.2,10,9.5,8.9,8.6999999999999993,9,9.4,10.199999999999999,10.8,10.199999999999999]
[null,"ALBUQUERQUE, NM",63,8,8.8000000000000007,9.9,10.7,10.5,9.8000000000000007,8.9,8.1,8.4,8.1999999999999993,7.9,7.6,8.9]
[null,"CLAYTON, NM",10,11.9,12.4,13.1,14.4,13.2,12.9,11.2,10.199999999999999,11.3,11.8,11.8,12.1,12.2]
[null,"ROSWELL, NM",29,7.7,8.6,10.1,10.199999999999999,9.9,9.6999999999999993,8.6,7.9,8,7.9,7.7,7.6,8.6999999999999993]
[null,"ALBANY, NY",64,9.8000000000000007,10.1,10.6,10.5,9,8.3000000000000007,7.5,7,7.4,8,9.1,9.3000000000000007,8.9]
[null,"BINGHAMTON, NY",51,11.3,11.3,11.5,11.2,9.9,9.3000000000000007,8.4,8.1999999999999993,8.8000000000000007,9.6999999999999993,10.8,11,10.1]
[null,"BUFFALO, NY",63,14,13.3,13.1,12.3,11.4,10.8,10.199999999999999,9.6999999999999993,10.199999999999999,11.1,12.6,13.1,11.8]
[null,"ISLIP, NY",19,9.6,10.1,10.5,9.8000000000000007,9,8.4,7.7,7.4,7.7,8.3000000000000007,9.4,9.3000000000000007,8.9]
[null,"NEW YORK C.PARK, NY",65,10.6,10.7,11,10.199999999999999,8.8000000000000007,8.1,7.6,7.5,8.1,8.8000000000000007,9.8000000000000007,10.1,9.3000000000000007]
[null,"NEW YORK (JFK AP), NY",44,13,13.3,13.5,12.7,11.6,10.7,10.199999999999999,10,10.4,11,12.2,12.7,11.8]
[null,"NEW YORK (LAGUARDIA AP), NY",54,13.7,13.8,13.9,12.9,11.6,11,10.4,10.3,11,11.6,12.8,13.4,12.2]
[null,"ROCHESTER, NY",62,11.6,11.1,11,10.7,9.3000000000000007,8.6,8,7.7,8.1,8.8000000000000007,10.199999999999999,10.7,9.6]
[null,"SYRACUSE, NY",53,10.6,10.6,10.7,10.4,9,8.3000000000000007,7.9,7.5,8.1999999999999993,8.6999999999999993,10.199999999999999,10.3,9.4]
[null,"ASHEVILLE, NC",38,9.1999999999999993,9.1999999999999993,9.1999999999999993,8.6,6.9,5.8,5.8,5.2,5.5,6.6,7.9,8.6,7.4]
[null,"CAPE HATTERAS, NC",44,11.8,11.7,11.9,11.7,10.6,10.6,10,9.5,10.3,10.6,10.6,11.2,10.9]
[null,"CHARLOTTE, NC",53,7.8,8.1999999999999993,8.8000000000000007,8.6,7.5,6.9,6.6,6.4,6.6,6.7,6.9,7.3,7.4]
[null,"GREENSBORO-WNSTN-SALM-HGHPT,NC",74,8.1,8.5,9.1,8.8000000000000007,7.6,6.9,6.5,6.2,6.6,7,7.5,7.6,7.5]
[null,"RALEIGH, NC",53,8.1999999999999993,8.6,9.3000000000000007,8.8000000000000007,7.7,7,6.7,6.3,6.7,6.6,7.1,7.7,7.6]
[null,"WILMINGTON, NC",51,9,9.6,10,10.1,9.1,8.4,7.9,7.3,7.8,7.9,8.1,8.4,8.6]
[null,"BISMARCK, ND",63,10,9.9,10.9,11.9,11.6,10.4,9.1999999999999993,9.4,9.9,10,9.9,9.5,10.199999999999999]
[null,"FARGO, ND",60,12.6,12.4,13.1,13.6,12.9,11.6,10.5,11,11.8,12.5,12.8,12.2,12.2]
[null,"GRAND FORKS, ND",5,10.8,11.5,11,11,11.3,10,8.3000000000000007,8.9,9.1999999999999993,10.3,10.3,10.7,10.3]
[null,"WILLISTON, ND",38,9.5,9.6999999999999993,10.1,11,11.1,10.3,9.3000000000000007,9.4,9.6999999999999993,9.9,9,9.4,9.9]
[null,"AKRON, OH",54,11.6,11.1,11.4,10.8,9.1,8.4,7.6,7.3,8,9.1,10.8,11.3,9.6999999999999993]
[null,"CLEVELAND, OH",61,12.2,11.8,12,11.5,10,9.1999999999999993,8.6,8.1999999999999993,8.9,9.9,11.8,12,10.5]
[null,"COLUMBUS, OH",53,9.8000000000000007,9.6,10.1,9.6,8.1,7.2,6.5,6.2,6.4,7.4,9.1,9.4,8.3000000000000007]
[null,"DAYTON, OH",59,11.4,11.3,11.7,11.3,9.6999999999999993,8.8000000000000007,7.9,7.3,8.1,9,11,11.1,9.9]
[null,"MANSFIELD, OH",18,12.6,11.9,11.8,11.4,9.9,9.1,7.9,7.8,8.5,9.9,11.1,11.7,10.3]
[null,"TOLEDO, OH",47,11,10.5,11,10.9,9.5,8.4,7.5,7.1,7.7,8.8000000000000007,10.199999999999999,10.4,9.4]
[null,"YOUNGSTOWN, OH",53,11.4,11.1,11.3,10.8,9.4,8.4,7.7,7.4,8.1,9.1999999999999993,10.8,11.1,9.6999999999999993]
[null,"OKLAHOMA CITY, OK",54,12.5,13.1,14.3,14.2,12.5,11.8,10.9,10.4,10.8,11.8,12.3,12.3,12.2]
[null,"TULSA, OK",54,10.3,10.7,11.9,11.9,10.6,9.9,9.3000000000000007,8.8000000000000007,9.1,9.6,10.3,10.1,10.199999999999999]
[null,"ASTORIA, OR",49,9.1,9,8.8000000000000007,8.6999999999999993,8.5,8.6,8.6999999999999993,8,7.5,7.5,8.6,9.1,8.5]
[null,"EUGENE, OR",50,7.8,7.8,8.1999999999999993,7.7,7.4,7.6,8,7.6,7.4,6.7,7.4,7.6,7.6]
[null,"MEDFORD, OR",53,4.0999999999999996,4.5,5.2,5.6,5.7,5.9,5.8,5.3,4.5,3.7,3.6,3.7,4.8]
[null,"PENDLETON, OR",49,7.6,8.1999999999999993,9.1,9.8000000000000007,9.5,9.5,9,8.6,8.3000000000000007,7.6,7.8,7.8,8.6]
[null,"PORTLAND, OR",54,9.9,9.3000000000000007,8.3000000000000007,7.4,7.1,7.2,7.6,7.1,6.5,6.5,8.6,9.6,7.9]
[null,"SALEM, OR",54,7.9,7.8,7.8,7.2,6.7,6.6,6.7,6.3,6.1,6,7.4,7.8,7]
[null,"SEXTON SUMMIT, OR",54,12.8,12.5,11.4,10.4,10.199999999999999,10.8,11.6,10.7,10.8,11.6,14,13.2,11.7]
[null,"GUAM, PC",12,9.9,11.3,10.8,10.8,9.6,8.3000000000000007,6.9,6.8,6.2,7.5,9.6999999999999993,11.2,9.1]
[null,"JOHNSTON ISLAND, PC",23,14.4,15.8,16.899999999999999,16.7,15.9,16.100000000000001,16,15.4,14.4,15,16,16.899999999999999,15.8]
[null,"KOROR, PC",37,7.8,7.8,7.7,7,6.3,5.9,6.3,6.7,6.5,6.7,6.2,6.9,6.8]
[null,"KWAJALEIN, MARSHALL IS., PC",36,16.8,16.3,16.3,15,13.9,13.1,11.2,9.8000000000000007,9.1,10,12.2,16.5,13.3]
[null,"MAJURO, MARSHALL IS, PC",38,12.7,13.2,12.9,12.2,11.2,10,8.4,7.4,7.1,7.4,8.6999999999999993,12,10.3]
[null,"PAGO PAGO, AMER SAMOA, PC",35,9.3000000000000007,9.1999999999999993,8.8000000000000007,8.8000000000000007,10.7,12.5,13.1,13.2,12.8,12.2,10.8,9.6999999999999993,10.9]
[null,"POHNPEI, CAROLINE IS., PC",28,8.1,8.4,7.7,7.1,6.5,5.8,5,4.7,5,4.9000000000000004,5.4,7.2,6.3]
[null,"CHUUK, E. CAROLINE IS., PC",37,11,11.3,10.9,9.9,8.8000000000000007,7.5,7.4,7.7,7.9,7.8,8.1,9.9,9]
[null,"WAKE ISLAND, PC",43,13.6,13.5,14.5,15.6,14.3,12.6,12.6,12,12.4,14,16,14.9,13.8]
[null,"YAP, W CAROLINE IS., PC",33,9.6,10.1,9.6999999999999993,8.9,7.8,6.9,6.6,6.9,6.9,6.4,7.4,8.8000000000000007,8]
[null,"ALLENTOWN, PA",53,10.1,10.5,11.1,10.3,9,8.1,7.2,6.8,7.3,8,9.1999999999999993,9.5,8.9]
[null,"ERIE, PA.",48,13.1,12,11.9,11.2,9.9,9.6,9,9,9.9,11.1,12.8,13,11]
[null,"HARRISBURG, PA",48,8.1999999999999993,9,9.5,9.1,7.6,6.8,6.2,5.8,6,6.6,7.8,8,7.5]
[null,"MIDDLETOWN/HARRISBURG INTL APT",60,8.6,9.1,9.8000000000000007,9.3000000000000007,7.8,6.9,6.3,5.9,6.1,6.6,7.9,8.1,7.7]
[null,"PHILADELPHIA, PA",62,10.3,10.9,11.3,10.8,9.5,8.8000000000000007,8.1999999999999993,8,8.3000000000000007,8.8000000000000007,9.6,10,9.5]
[null,"PITTSBURGH, PA",50,10.4,10.3,10.6,10.199999999999999,8.6999999999999993,8,7.3,6.8,7.4,8.3000000000000007,9.6999999999999993,10.1,9]
[null,"AVOCA, PA",47,8.8000000000000007,9,9.4,9.3000000000000007,8.4,7.7,7.2,6.9,7.4,7.7,8.5,8.6999999999999993,8.1999999999999993]
[null,"WILLIAMSPORT, PA",40,8.6,8.6999999999999993,9,8.9,7.7,6.8,6.3,5.9,6.1,6.6,7.9,8.1999999999999993,7.6]
[null,"BLOCK IS.,RI",6,12.6,12.1,11.8,10.9,10.199999999999999,9.9,9.6,8.1,8,9.3000000000000007,12.6,11.8,10.6]
[null,"PROVIDENCE, RI",49,10.9,11.4,11.9,11.8,10.6,9.9,9.4,9.1999999999999993,9.3000000000000007,9.5,10.199999999999999,10.5,10.4]
[null,"CHARLESTON AP,SC",53,9.1,9.8000000000000007,10,9.6999999999999993,8.6,8.3000000000000007,7.8,7.4,7.7,8,8.1,8.5,8.6]
[null,"COLUMBIA, SC",54,7.2,7.7,8.1999999999999993,8.1999999999999993,7,6.6,6.3,5.8,6,6.1,6.3,6.7,6.8]
[null,"GREENVILLE-SPARTANBURG AP, SC",40,7.6,8,8.3000000000000007,8,7,6.5,6.1,5.7,6.2,6.5,6.8,7.4,7]
[null,"ABERDEEN, SD",26,11.1,11.3,12.1,12.7,12.2,10.5,9.1999999999999993,9.8000000000000007,10.4,10.8,10.9,10.5,11]
[null,"HURON, SD",63,11.4,11.3,12.3,13.2,12.3,11.2,10.3,10.4,11.1,11.3,11.7,11.1,11.5]
[null,"RAPID CITY, SD",52,10.7,11.1,12.4,13.1,12.2,10.9,10.1,10.199999999999999,11,11.2,10.9,10.5,11.2]
[null,"SIOUX FALLS, SD",54,10.9,11.1,12.2,12.9,11.8,10.7,9.8000000000000007,9.8000000000000007,10.3,10.7,11.3,10.7,11]
[null,"BRISTOL-JHNSN CTY-KNGSPRT,TN",48,6.4,6.6,7.1,6.9,5.3,4.7,4.3,3.9,4.3,4.5999999999999996,5.4,5.8,5.4]
[null,"CHATTANOOGA, TN",62,6.9,7.3,7.7,7.3,5.9,5.3,5,4.5999999999999996,4.9000000000000004,4.9000000000000004,6,6.4,6]
[null,"KNOXVILLE, TN",60,7.7,8,8.4,8.4,6.8,6.3,6,5.5,5.6,5.7,6.7,7.2,6.9]
[null,"MEMPHIS, TN",54,10,10.1,10.7,10.199999999999999,8.8000000000000007,7.9,7.5,6.9,7.5,7.7,9,9.6,8.8000000000000007]
[null,"NASHVILLE, TN",61,9.1,9.3000000000000007,9.9,9.1999999999999993,7.6,7,6.5,6.2,6.5,6.8,8.4,8.9,8]
[null,"OAK RIDGE,TN",19,4.5999999999999996,4.7,5,5.4,4.2,3.9,3.6,3.3,3.4,3.2,3.8,4.2,4.0999999999999996]
[null,"ABILENE, TX",58,11.7,12.5,13.7,13.8,13,12.4,10.8,10.1,10.3,11,11.6,11.7,11.9]
[null,"AMARILLO, TX",61,12.8,13.8,15.2,15.2,14.5,14.2,12.7,12,12.8,12.8,13,12.7,13.5]
[null,"AUSTIN/CITY, TX",61,9.3000000000000007,9.6999999999999993,10.4,10.1,9.5,9,8.3000000000000007,7.7,7.7,7.9,8.6,8.8000000000000007,8.9]
[null,"AUSTIN/BERGSTROM, TX",13,7.2,7.4,8.3000000000000007,7.5,7.6,6.4,6.3,6,6.1,6.1,7,7.1,6.9]
[null,"BROWNSVILLE, TX",60,11.1,11.9,13.1,13.6,12.9,12,11.3,10.199999999999999,9.3000000000000007,9.4,10.5,10.6,11.3]
[null,"CORPUS CHRISTI, TX",60,12,12.9,14,14.3,12.8,11.7,11.5,11,10.4,10.4,11.7,11.6,12]
[null,"DALLAS-FORT WORTH, TX",49,11,11.7,12.6,12.4,11.1,10.6,9.8000000000000007,8.9,9.3000000000000007,9.6999999999999993,10.7,10.8,10.7]
[null,"DALLAS-LOVE FIELD, TX",3,9.1,10.1,10.199999999999999,11.4,11.8,10.3,9.1,8.5,8.1,9,8.3000000000000007,9,9.6]
[null,"DEL RIO, TX",23,8.6,9.1999999999999993,10.7,10.9,10.7,11.3,10.7,9.9,8.8000000000000007,8.9,8,8.1999999999999993,9.6999999999999993]
[null,"EL PASO, TX",60,8.3000000000000007,9.1,10.9,11,10.3,9.3000000000000007,8.3000000000000007,7.7,7.6,7.5,8,7.9,8.8000000000000007]
[null,"GALVESTON, TX",60,11.6,11.8,11.9,12.1,11.5,10.7,9.8000000000000007,9.4,10.1,10.3,11.2,11.3,11]
[null,"HOUSTON, TX",33,8.1,8.5,9.1,9,8.1,7.4,6.7,6.1,6.5,6.9,7.6,7.7,7.6]
[null,"LUBBOCK, TX",53,12,13.2,14.6,14.7,14.2,13.6,11.4,10.1,10.5,11.2,11.7,11.8,12.4]
[null,"MIDLAND-ODESSA, TX",49,10.4,11.2,12.5,12.8,12.5,12.3,10.8,10.1,10.1,10.1,10.4,10.1,11.1]
[null,"PORT ARTHUR, TX",49,10.7,11.2,11.5,11.5,10.1,8.6999999999999993,7.4,7.1,8.1999999999999993,8.8000000000000007,9.9,10.3,9.6]
[null,"SAN ANGELO, TX",53,10.199999999999999,10.8,12,12.1,11.1,10.8,9.8000000000000007,8.9,8.9,9.3000000000000007,10,9.9,10.3]
[null,"SAN ANTONIO, TX",60,8.8000000000000007,9.3000000000000007,10.1,10.1,9.8000000000000007,9.6999999999999993,9.1,8.4,8.3000000000000007,8.3000000000000007,8.6,8.4,9.1]
[null,"VICTORIA, TX",41,10.4,10.9,11.4,11.7,10.7,9.6999999999999993,8.9,8.3000000000000007,8.5,8.9,9.6,10,9.9]
[null,"WACO, TX",53,11.3,11.7,12.7,12.6,11.5,11,10.7,9.8000000000000007,9.6,10,10.8,10.9,11.1]
[null,"WICHITA FALLS, TX",54,11.3,11.9,13.1,13.1,12.2,12.1,11.1,10.3,10.4,10.7,11.4,11.1,11.6]
[null,"SALT LAKE CITY, UT",73,7.5,8.1,9.3000000000000007,9.6,9.4,9.4,9.5,9.6999999999999993,9.1,8.5,8,7.6,8.8000000000000007]
[null,"BURLINGTON, VT",59,9.6999999999999993,9.4,9.4,9.5,9,8.5,8,7.7,8.3000000000000007,8.8000000000000007,9.6,9.9,9]
[null,"LYNCHBURG, VA",35,8,8.1,8.5,8.4,7,6.3,5.9,5.6,6.2,6.5,7.2,7.1,7.1]
[null,"NORFOLK, VA",54,11.4,11.8,12.3,11.8,10.4,9.6999999999999993,8.9,8.8000000000000007,9.6,10.199999999999999,10.3,10.9,10.5]
[null,"RICHMOND, VA",54,8.1,8.6,9.1,9,7.9,7.4,6.9,6.5,6.7,7,7.6,7.8,7.7]
[null,"ROANOKE, VA",54,9.3000000000000007,9.4,10,9.6,7.8,6.8,6.5,6.1,6,6.8,8.1,8.6,7.9]
[null,"OLYMPIA, WA",49,7,7,7.2,7.3,6.9,6.7,6.2,6,5.7,5.8,6.8,7.1,6.6]
[null,"QUILLAYUTE, WA",36,6.7,6.8,6.6,6.2,5.9,5.7,5.4,5.0999999999999996,4.8,5.3,6.3,6.5,5.9]
[null,"SEATTLE SEA-TAC AP, WA",54,9.5,9.4,9.4,9.4,8.9,8.6,8.1,7.8,8,8.3000000000000007,9.1,9.6,8.8000000000000007]
[null,"SPOKANE, WA",55,8.6999999999999993,9.1999999999999993,9.6999999999999993,10,9.1999999999999993,9.3000000000000007,8.6,8.3000000000000007,8.1999999999999993,8.1999999999999993,8.6,8.6999999999999993,8.9]
[null,"YAKIMA, WA",48,5.6,6.4,7.9,8.6,8.5,8.1999999999999993,7.8,7.4,7.3,6.6,5.8,5.0999999999999996,7.1]
[null,"SAN JUAN, PR",47,8.4,8.6999999999999993,9.1,8.9,8.4,9,9.6999999999999993,8.8000000000000007,7.6,6.7,7.4,8,8.4]
[null,"BECKLEY, WV",38,9.8000000000000007,9.8000000000000007,10.3,9.9,8.4,7.3,6.5,6.2,6.8,7.8,9.1,9.6,8.5]
[null,"CHARLESTON, WV",55,6.9,6.9,7.5,7.1,5.7,5.2,4.8,4.3,4.5999999999999996,4.8,6,6.4,5.8]
[null,"ELKINS, WV",31,7,7.5,7.7,7.4,6.2,4.5,4,3.9,4,4.5,6.3,6.4,5.8]
[null,"HUNTINGTON, WV",40,7.5,7.6,8,7.7,6.2,5.7,5.3,5.0999999999999996,5.3,5.8,6.8,7.3,6.5]
[null,"GREEN BAY, WI",53,10.8,10.5,10.7,11.2,10,9.1,8.1999999999999993,7.9,8.9,9.8000000000000007,10.8,10.3,9.9]
[null,"LA CROSSE, WI",50,8.6999999999999993,8.6999999999999993,9.3000000000000007,10.4,9.4,8.4,7.6,7.5,8.1999999999999993,9.3000000000000007,9.8000000000000007,8.9,8.9]
[null,"MADISON, WI",56,10.3,10.3,10.9,11.3,10,9,8,7.9,8.4,9.5,10.3,9.8000000000000007,9.6]
[null,"MILWAUKEE, WI",62,12.6,12.3,12.7,12.8,11.5,10.4,9.6999999999999993,9.5,10.4,11.4,12.5,12.2,11.5]
[null,"CASPER, WY",52,16,14.8,13.4,12.5,11.6,10.9,10.1,10.3,10.9,11.9,14.4,15.9,12.7]
[null,"CHEYENNE, WY",45,15.2,14.6,14.4,14.1,12.6,11.4,10.4,10.4,11.2,12.3,13.5,14.7,12.9]
[null,"LANDER, WY",56,5.9,5.9,7,7.8,7.8,7.8,7.5,7.4,6.9,6,5.6,5.6,6.8]
[null,"SHERIDAN, WY",59,7.7,7.8,8.9,9.8000000000000007,9,8.1,7.3,7.4,7.5,7.5,7.6,7.6,8]
[null,"Data source: http://www.ncdc.noaa.gov/oa/climate/online/ccd/avgwind.html"]

{"sheet":"Electricity","index":19,"n_rows":39,"n_cols":21,"rows_kept":39,"cut":false,"hidden":false,"merged":[]}
["Supplemental worksheet: Electricity generation"]
[]
["This supplemental worksheet calculates the amount of electricity generation, fuel consumption and GHG emissions"]
[]
[]
["1  Input assumptions and data"]
[]
[]
[null,null,null,null,null,null,null,null,null,null,null,null,"User","Default","Unit","User reference",null,"Default reference",null,null,"Notes"]
["1.1   Fraction of electricity demand generated onsite (exceed 1.0 in case of export)",null,null,null,null,null,null,null,null,null,null,null,{"$f":"'User Inputs & Results'!J96","v":0},{"$f":"'User Inputs & Results'!K96","v":0},"[-]",null,null,null,null,null,"Excluding co-generation and combined heat and electricity"]
[]
["1.2   Generator type",null,null,null,null,null,null,null,null,null,null,null,1,1,"NA"]
[null,"1= Natural gas generator set"]
[null,"2= Natural gas turbine"]
[null,"3= Diesel generator set"]
[]
["1.3   Energy consumption",null,null,null,null,null,null,null,null,null,null,null,{"$f":"N17","v":10754.197916666668},{"$f":"IF(M12=1,IF(M10<=Drivers!D10*0.96*'Input data'!E57,Drivers!E15/(0.96*'Input data'!E57),IF(M10<=Drivers!F10*0.96*'Input data'!E57,Drivers!G15/(0.96*'Input data'!E57),IF(M10<=Drivers!H10*0.96*'Input data'!E57,Drivers!I15/(0.96*'Input data'!E57),IF(M10<=Drivers!J10*0.96*'Input data'!E57,Drivers!K15/(0.96*'Input data'!E57),IF(M10<=Drivers!L10*0.96*'Input data'!E57,Drivers!M15/(0.96*'Input data'!E57),IF(M10<=Drivers!N10*0.96*'Input data'!E57,Drivers!O15/(0.96*'Input data'!E57),IF(M10<=Drivers!P10*0.96*'Input data'!E57,Drivers!Q15/(0.96*'Input data'!E57),IF(M10<=Drivers!R10*0.96*'Input data'!E57,Drivers!S15/(0.96*'Input data'!E57),IF(M10<=Drivers!T10*0.96*'Input data'!E57,Drivers!U15/(0.96*'Input data'!E57),IF(M10<=Drivers!V10*0.96*'Input data'!E57,Drivers!W15/(0.96*'Input data'!E57),IF(M10<=Drivers!X10*0.96*'Input data'!E57,Drivers!Y15/(0.96*'Input data'!E57),IF(M10<=Drivers!Z10*0.96*'Input data'!E57,Drivers!AA15/(0.96*'Input data'!E57),Drivers!AC15/(0.96*'Input data'!E57))))))))))))),IF(M12=2,IF(M10<=Drivers!D24*0.96*'Input data'!E57,Drivers!E29/(0.96*'Input data'!E57),IF(M10<=Drivers!F24*0.96*'Input data'!E57,Drivers!G29/(0.96*'Input data'!E57),IF(M10<=Drivers!H24*0.96*'Input data'!E57,Drivers!I29/(0.96*'Input data'!E57),IF(M10<=Drivers!J24*0.96*'Input data'!E57,Drivers!K29/(0.96*'Input data'!E57),IF(M10<=Drivers!L24*0.96*'Input data'!E57,Drivers!M29/(0.96*'Input data'!E57),IF(M10<=Drivers!N24*0.96*'Input data'!E57,Drivers!O29/(0.96*'Input data'!E57),IF(M10<=Drivers!P24*0.96*'Input data'!E57,Drivers!Q29/(0.96*'Input data'!E57),IF(M10<=Drivers!R24*0.96*'Input data'!E57,Drivers!S29/(0.96*'Input data'!E57),Drivers!U29/(0.96*'Input data'!E57))))))))),IF(M10<=Drivers!D36*0.96*'Input data'!E57,Drivers!E41/(0.96*'Input data'!E57),IF(M10<=Drivers!F36*0.96*'Input data'!E57,Drivers!G41/(0.96*'Input data'!E57),IF(M10<=Drivers!H36*0.96*'Input data'!E57,Drivers!I41/(0.96*'Input data'!E57),IF(M10<=Drivers!J36*0.96*'Input data'!E57,Drivers!K41/(0.96*'Input data'!E57),IF(M10<=Drivers!L36*0.96*'Input data'!E57,Drivers!M41/(0.96*'Input data'!E57),IF(M10<=Drivers!N36*0.96*'Input data'!E57,Drivers!O41/(0.96*'Input data'!E57),IF(M10<=Drivers!P36*0.96*'Input data'!E57,Drivers!Q41/(0.96*'Input data'!E57),IF(M10<=Drivers!R36*0.96*'Input data'!E57,Drivers!S41/(0.96*'Input data'!E57),Drivers!U41/(0.96*'Input data'!E57)))))))))))","v":10754.197916666668},"Btu/kW-hr",null,null,null,null,null,"A typical CAT generator efficiency of 96% is assumed"]
[]
["1.4   Offsite electricity fuel mix"]
[null,"1.4.1   Biomass",null,null,null,null,null,null,null,null,null,null,1.3,1.3,"%",null,null,null,null,null,"CA-GREET default technology split"]
[null,"1.4.2   Coal",null,null,null,null,null,null,null,null,null,null,50.7,50.7,"%",null,null,null,null,null,"CA-GREET default technology split"]
[null,"1.4.3   NG",null,null,null,null,null,null,null,null,null,null,18.899999999999999,18.899999999999999,"%",null,null,null,null,null,"CA-GREET default technology split"]
[null,"1.4.4   Nuclear",null,null,null,null,null,null,null,null,null,null,18.7,18.7,"%",null,null,null,null,null,"CA-GREET default technology split"]
[null,"1.4.5   Renewables",null,null,null,null,null,null,null,null,null,null,7.7,7.7,"%",null,null,null,null,null,"CA-GREET default technology split"]
[null,"1.4.6   Oil",null,null,null,null,null,null,null,null,null,null,2.7,2.7,"%",null,null,null,null,null,"CA-GREET default technology split"]
[null,null,null,null,null,null,null,null,null,null,null,null,{"$f":"IF(SUM(M20:M25)=100,\"OK\",\"ERROR\")","v":"OK"}]
[]
["1.5   Type of displaced electricity",null,null,null,null,null,null,null,null,null,null,null,2,2,"NA"]
[null,"1= Full grid electricity"]
[null,"2= NG-based electricity"]
[]
["2  Calculations"]
[]
[null,null,null,null,null,null,null,null,null,null,null,null,"Value","Unit",null,"Equation",null,null,null,null,"Notes"]
["2.1   Electricity production",null,null,null,null,null,null,null,null,null,null,null,{"$f":"M10*'Energy Consumption'!E70","v":0},"MMBtu/d"]
[]
["2.2   Fuel consumption",null,null,null,null,null,null,null,null,null,null,null,{"$f":"((M35*1000000*'Input data'!E50)*M17)/1000000","v":0},"MMBtu/d"]
[]
["2.3   GHG emissions",null,null,null,null,null,null,null,null,null,null,null,{"$f":"(M37*IF(M12=1,'Emissions Factors'!H17,IF(M12=2,'Emissions Factors'!G17,'Emissions Factors'!K17)))/1000000","v":0},"tCO2eq/d"]

{"sheet":"Drivers","index":20,"n_rows":55,"n_cols":29,"rows_kept":55,"cut":false,"hidden":false,"merged":[]}
["Supplemental worksheet: Drivers"]
[]
["This supplemental worksheet calculates energy use for prime movers (engines) and motors used in processes."]
[]
["1 Prime mover and motor data tables"]
[]
[]
[null,"Table 1.1: Natural gas engines energy consumption"]
[null,"Engine model #",null,"G3304",null,"G3306",null,"G3408/TM9151-05",null,"G3408/TM8633-01",null,"G3408/TM9213-04",null,"G3412/DM8646-00",null,"G3412/DM5206-04",null,"G3512 LE/DM8619-01",null,"G3512 LE/DM8617-01",null,"G3516B/DM5490",null,"G3608/DM5047",null,"G3608/DM5046",null,"G3520C"]
[null,"Power",null,95,"bhp",145,"bhp",255,"bhp",332,"bhp",400,"bhp",500,"bhp",600,"bhp",860,"bhp",1004,"bhp",{"$f":"(1100/0.96)*'Input data'!$E$56","v":1535.416666666667},"bhp",{"$f":"(1713/0.96)*'Input data'!$E$56","v":2391.0625},"bhp",{"$f":"(1824/0.96)*'Input data'!$E$56","v":2546},"bhp",{"$f":"(1966/0.96)*'Input data'!$E$56","v":2744.2083333333335},"bhp"]
[null,"Energy consumption",null,"MJ LHV/bkW-hr","Btu LHV/bhp-hr","MJ LHV/bkW-hr","Btu LHV/bhp-hr","MJ LHV/bkW-hr","Btu LHV/bhp-hr","MJ LHV/bkW-hr","Btu LHV/bhp-hr","MJ LHV/bkW-hr","Btu LHV/bhp-hr","MJ LHV/bkW-hr","Btu LHV/bhp-hr","MJ LHV/bkW-hr","Btu LHV/bhp-hr","MJ LHV/bkW-hr","Btu LHV/bhp-hr","MJ LHV/bkW-hr","Btu LHV/bhp-hr","MJ HHV/bkW-hr","Btu LHV/bhp-hr","MJ LHV/bkW-hr","Btu LHV/bhp-hr","MJ LHV/bkW-hr","Btu LHV/bhp-hr","MJ LHV/bkW-hr","Btu LHV/bhp-hr"]
[null,"100% Load",null,10.71,7567,11,7775,10.71,7568,10.62,7507,9.92,7008,11.04,7800,10.199999999999999,7210,10.47,7402,10.42,7368,{"$f":"('Input data'!$E$48/0.364)*0.96","v":9.4945054945054945},{"$f":"V12*'Input data'!$E$43/'Input data'!$E$56","v":6715.7125773331136},{"$f":"('Input data'!$E$48/0.376)*0.96","v":9.1914893617021285},{"$f":"X12*'Input data'!$E$43/'Input data'!$E$56","v":6501.3813248650358},{"$f":"('Input data'!$E$48/0.379)*0.96","v":9.1187335092348292},{"$f":"Z12*'Input data'!$E$43/'Input data'!$E$56","v":6449.9192035600363},{"$f":"('Input data'!$E$48/0.404)*0.96","v":8.5544554455445532},{"$f":"AB12*'Input data'!$E$43/'Input data'!$E$56","v":6050.7905399733982}]
[null,"75% Load",null,11.1,7842,11.77,8318,11.64,8225,11.14,7874,10.4,7350,11.27,7964,11.05,7813,10.86,7676,10.84,7665,"NA","NA","NA","NA","NA","NA","NA","NA"]
[null,"50% Load",null,"NA","NA","NA","NA","NA","NA","NA","NA","NA","NA","NA","NA","NA","NA","NA","NA","NA","NA","NA","NA","NA","NA","NA","NA","NA","NA"]
[null,"Average (median)",null,{"$f":"MEDIAN(D12:D13)","v":10.905000000000001},{"$f":"MEDIAN(E12:E13)","v":7704.5},11.385,8046.5,11.175000000000001,7896.5,10.879999999999999,7690.5,10.16,7179,11.154999999999999,7882,10.625,7511.5,10.664999999999999,7539,10.629999999999999,7516.5,{"$f":"V12","v":9.4945054945054945},6715.7125773331136,9.1914893617021285,6501.3813248650358,9.1187335092348292,6449.9192035600363,8.5544554455445532,6050.7905399733982]
[null,"Source: Caterpillar technical data sheets (http://www.catoilandgasinfo.com/gas_compression.asp?src=11cpt22&regstatus=true)"]
[null,"Note(s):"]
[null,"NA= Not available"]
[null,"For G3516 to G3520 the energy consumption  of the engine is calculated from the given generator set efficiency"]
[]
[]
[null,"Table 1.2: Natural gas turbines energy consumption"]
[null,"Engine model #",null,"Saturn 20",null,"Centaur 40",null,"Centaur 50",null,"Taurus 60",null,"Taurus 60",null,"Taurus 70",null,"Mars 90",null,"Mars 100",null,"Titan 130"]
[null,"Power",null,1590,"bhp",4700,"bhp",6130,"bhp",7770,"bhp",7770,"bhp",10915,"bhp",13220,"bhp",15900,"bhp",20500,"bhp"]
[null,"Energy consumption",null,"MJ/bkW-hr","Btu/bhp-hr","MJ/bkW-hr","Btu/bhp-hr","MJ/bkW-hr","Btu/bhp-hr","MJ/bkW-hr","Btu/bhp-hr","MJ/bkW-hr","Btu/bhp-hr","MJ/bkW-hr","Btu/bhp-hr","MJ/bkW-hr","Btu/bhp-hr","MJ/bkW-hr","Btu/bhp-hr","MJ/bkW-hr","Btu/bhp-hr"]
[null,"100% Load",null,14.67,10370,12.904999999999999,9125,12.03,8500,11.26,7965,11.26,7965,10.19,7205,10.83,7655,10.46,7395,9.94,7025]
[null,"75% Load",null,"NA","NA","NA","NA","NA","NA","NA","NA","NA","NA","NA","NA","NA","NA","NA","NA","NA","NA"]
[null,"50% Load",null,"NA","NA","NA","NA","NA","NA","NA","NA","NA","NA","NA","NA","NA","NA","NA","NA","NA","NA"]
[null,"Average (median)",null,{"$f":"D26","v":14.67},{"$f":"E26","v":10370},12.904999999999999,9125,12.03,8500,11.26,7965,11.26,7965,10.19,7205,10.83,7655,10.46,7395,9.94,7025]
[null,"Source: Solar Turbines (Caterpillar) technical data sheets (http://mysolar.cat.com/cda/layout?m=35881&x=7)"]
[null,"Notes: "]
[null,"NA= Not available"]
[]
[null,"Table 1.3: Diesel engines energy consumption"]
[null,"Engine model #",null,"3406C",null,"C18",null,"3412C",null,3512,null,"3512B",null,"3512B-HD",null,3516,null,"3516B",null,"C175-16"]
[null,"Power",null,{"$f":"(275/0.96)*'Input data'!$E$56","v":383.85416666666674},"bhp",{"$f":"(545/0.96)*'Input data'!$E$56","v":760.72916666666674},"bhp",{"$f":"(648/0.96)*'Input data'!$E$56","v":904.5},"bhp",{"$f":"(1020/0.96)*'Input data'!$E$56","v":1423.75},"bhp",{"$f":"(1200/0.96)*'Input data'!$E$56","v":1675},"bhp",{"$f":"(1360/0.96)*'Input data'!$E$56","v":1898.3333333333335},"bhp",{"$f":"(1460/0.96)*'Input data'!$E$56","v":2037.916666666667},"bhp",{"$f":"(1600/0.96)*'Input data'!$E$56","v":2233.3333333333335},"bhp",{"$f":"(2000/0.96)*'Input data'!$E$56","v":2791.666666666667},"bhp"]
[null,"Energy consumption",null,"MJ/bkW-hr","Btu/bhp-hr","MJ/bkW-hr","Btu/bhp-hr","MJ/bkW-hr","Btu/bhp-hr","MJ/bkW-hr","Btu/bhp-hr","MJ/bkW-hr","Btu/bhp-hr","MJ/bkW-hr","Btu/bhp-hr","MJ/bkW-hr","Btu/bhp-hr","MJ/bkW-hr","Btu/bhp-hr","MJ/bkW-hr","Btu/bhp-hr"]
[null,"100% Load",null,{"$f":"E38*'Input data'!$E$45/(1/'Input data'!$E$56)","v":9.9349339549090896},{"$f":"21*'Fuel Specs'!$E$329/$D$36","v":7027.2781546811384},{"$f":"G38*'Input data'!$E$45/(1/'Input data'!$E$56)","v":9.5247761310825663},{"$f":"39.9*'Fuel Specs'!$E$329/$F$36","v":6737.1611666438439},{"$f":"I38*'Input data'!$E$45/(1/'Input data'!$E$56)","v":9.115053676296295},{"$f":"45.4*'Fuel Specs'!$E$329/$H$36","v":6447.3521282476504},{"$f":"K38*'Input data'!$E$45/(1/'Input data'!$E$56)","v":8.9156987837647055},{"$f":"69.9*'Fuel Specs'!$E$329/$J$36","v":6306.3424056189642},{"$f":"M38*'Input data'!$E$45/(1/'Input data'!$E$56)","v":8.8468221407999987},{"$f":"81.6*'Fuel Specs'!$E$329/$L$36","v":6257.6238805970152},{"$f":"O38*'Input data'!$E$45/(1/'Input data'!$E$56)","v":8.7052423747058807},{"$f":"91*'Fuel Specs'!$E$329/$N$36","v":6157.4802458296745},{"$f":"Q38*'Input data'!$E$45/(1/'Input data'!$E$56)","v":9.0090019987397252},{"$f":"101.1*'Fuel Specs'!$E$329/$P$36","v":6372.3385810672653},{"$f":"S38*'Input data'!$E$45/(1/'Input data'!$E$56)","v":8.4321273529499994},{"$f":"103.7*'Fuel Specs'!$E$329/$R$36","v":5964.2977611940296},{"$f":"U38*'Input data'!$E$45/(1/'Input data'!$E$56)","v":8.8793472221999981},{"$f":"136.5*'Fuel Specs'!$E$329/$T$36","v":6280.6298507462679}]
[null,"75% Load",null,{"$f":"E39*'Input data'!$E$45/(1/'Input data'!$E$56)","v":10.281868156509088},{"$f":"16.3*'Fuel Specs'!$E$329/(0.75*$D$36)","v":7272.6751696065112},{"$f":"G39*'Input data'!$E$45/(1/'Input data'!$E$56)","v":10.376197222165137},{"$f":"32.6*'Fuel Specs'!$E$329/(0.75*$F$36)","v":7339.3969601533618},{"$f":"I39*'Input data'!$E$45/(1/'Input data'!$E$56)","v":9.2087473264197541},{"$f":"34.4*'Fuel Specs'!$E$329/(0.75*$H$36)","v":6513.624470241386},{"$f":"K39*'Input data'!$E$45/(1/'Input data'!$E$56)","v":9.1325326597647045},{"$f":"53.7*'Fuel Specs'!$E$329/(0.75*$J$36)","v":6459.7155399473222},{"$f":"M39*'Input data'!$E$45/(1/'Input data'!$E$56)","v":8.8757333242666654},{"$f":"61.4*'Fuel Specs'!$E$329/(0.75*$L$36)","v":6278.0736318407962},{"$f":"O39*'Input data'!$E$45/(1/'Input data'!$E$56)","v":8.7626395771764702},{"$f":"68.7*'Fuel Specs'!$E$329/(0.75*$N$36)","v":6198.0790166812994},{"$f":"Q39*'Input data'!$E$45/(1/'Input data'!$E$56)","v":9.1604886792328752},{"$f":"77.1*'Fuel Specs'!$E$329/(0.75*$P$36)","v":6479.4896749131049},{"$f":"S39*'Input data'!$E$45/(1/'Input data'!$E$56)","v":8.5215713267999984},{"$f":"78.6*'Fuel Specs'!$E$329/(0.75*$R$36)","v":6027.5641791044773},{"$f":"U39*'Input data'!$E$45/(1/'Input data'!$E$56)","v":9.1677362772799995},{"$f":"105.7*'Fuel Specs'!$E$329/(0.75*$T$36)","v":6484.6161194029846}]
[null,"50% Load",null,{"$f":"E40*'Input data'!$E$45/(1/'Input data'!$E$56)","v":11.164973396945451},{"$f":"11.8*'Fuel Specs'!$E$329/(0.5*$D$36)","v":7897.322116689279},{"$f":"G40*'Input data'!$E$45/(1/'Input data'!$E$56)","v":11.267404345541284},{"$f":"23.6*'Fuel Specs'!$E$329/(0.5*$F$36)","v":7969.7746131726681},{"$f":"I40*'Input data'!$E$45/(1/'Input data'!$E$56)","v":9.6370611555555552},{"$f":"24*'Fuel Specs'!$E$329/(0.5*$H$36)","v":6816.5837479270313},{"$f":"K40*'Input data'!$E$45/(1/'Input data'!$E$56)","v":9.4896708084705885},{"$f":"37.2*'Fuel Specs'!$E$329/(0.5*$J$36)","v":6712.3301141352067},{"$f":"M40*'Input data'!$E$45/(1/'Input data'!$E$56)","v":9.3021732803999999},{"$f":"42.9*'Fuel Specs'!$E$329/(0.5*$L$36)","v":6579.7074626865669},{"$f":"O40*'Input data'!$E$45/(1/'Input data'!$E$56)","v":9.1644199944705882},{"$f":"47.9*'Fuel Specs'!$E$329/(0.5*$N$36)","v":6482.2704126426688},{"$f":"Q40*'Input data'!$E$45/(1/'Input data'!$E$56)","v":9.855545213260271},{"$f":"55.3*'Fuel Specs'!$E$329/(0.5*$P$36)","v":6971.1241054998964},{"$f":"S40*'Input data'!$E$45/(1/'Input data'!$E$56)","v":8.9606599256999981},{"$f":"55.1*'Fuel Specs'!$E$329/(0.5*$R$36)","v":6338.1447761194022},{"$f":"U40*'Input data'!$E$45/(1/'Input data'!$E$56)","v":9.8746147130399979},{"$f":"75.9*'Fuel Specs'!$E$329/(0.5*$T$36)","v":6984.6125373134319}]
[null,"Average (median)",null,{"$f":"MEDIAN(D38:D40)","v":10.281868156509088},{"$f":"MEDIAN(E38:E40)","v":7272.6751696065112},{"$f":"MEDIAN(F38:F40)","v":10.376197222165137},{"$f":"MEDIAN((G38:G40))","v":7339.3969601533618},{"$f":"MEDIAN((H38:H40))","v":9.2087473264197541},{"$f":"MEDIAN(I38:I40)","v":6513.624470241386},9.1325326597647045,6459.7155399473222,8.8757333242666654,6278.0736318407962,8.7626395771764702,6198.0790166812994,9.1604886792328752,6479.4896749131049,8.5215713267999984,6027.5641791044773,9.1677362772799995,6484.6161194029846]
[null,"Source: Caterpillar technical data sheets"]
[null,"Notes:"]
[null,"NA= Not available"]
[]
[null,"Table 1.4: Electric motors energy consumption"]
[null,"Engine model #",null,"841 IEC/N495",null,"841 IEC/N424",null,"841 IEC/N434",null,"841 IEC/N437",null,"841 IEC/N443",null,"841 IEC/N455",null,"841 IEC/N462",null,"841 IEC/N468",null,"Quantum-LMV",null,"Quantum-LMV",null,"Quantum-LMV",null,"Quantum-LMV",null,"Quantum-LMV"]
[null,"Power",null,{"$f":"1.1*'Input data'!$E$56","v":1.4740000000000002},"bhp",{"$f":"4*'Input data'!$E$56","v":5.36},"bhp",{"$f":"11*'Input data'!$E$56","v":14.74},"bhp",{"$f":"15*'Input data'!$E$56","v":20.100000000000001},"bhp",{"$f":"22*'Input data'!$E$56","v":29.48},"bhp",{"$f":"55*'Input data'!$E$56","v":73.7},"bhp",{"$f":"110*'Input data'!$E$56","v":147.4},"bhp",{"$f":"220*'Input data'!$E$56","v":294.8},"bhp",{"$f":"350*'Input data'!$E$56","v":469},"bhp",{"$f":"400*'Input data'!$E$56","v":536},"bhp",{"$f":"450*'Input data'!$E$56","v":603},"bhp",{"$f":"500*'Input data'!$E$56","v":670},"bhp",{"$f":"600*'Input data'!$E$56","v":804},"bhp"]
[null,"Energy consumption",null,"MJ/bkW-hr","Btu/bhp-hr","MJ/bkW-hr","Btu/bhp-hr","MJ/bkW-hr","Btu/bhp-hr","MJ/bkW-hr","Btu/bhp-hr","MJ/bkW-hr","Btu/bhp-hr","MJ/bkW-hr","Btu/bhp-hr","MJ/bkW-hr","Btu/bhp-hr","MJ/bkW-hr","Btu/bhp-hr","MJ/bkW-hr","Btu/bhp-hr","MJ/bkW-hr","Btu/bhp-hr","MJ/bkW-hr","Btu/bhp-hr","MJ/bkW-hr","Btu/bhp-hr","MJ/bkW-hr","Btu/bhp-hr"]
[null,"100% Load",null,{"$f":"'Input data'!$E$48/0.838","v":4.2959427207637235},{"$f":"D50*'Input data'!$E$43/'Input data'!$E$56","v":3038.6328785665942},{"$f":"'Input data'!$E$48/0.885","v":4.0677966101694913},{"$f":"F50*'Input data'!$E$43/'Input data'!$E$56","v":2877.2591550720963},{"$f":"'Input data'!$E$48/0.912","v":3.9473684210526314},{"$f":"H50*'Input data'!$E$43/'Input data'!$E$56","v":2792.0771406127255},{"$f":"'Input data'!$E$48/0.919","v":3.9173014145810665},{"$f":"J50*'Input data'!$E$43/'Input data'!$E$56","v":2770.8099589105614},{"$f":"'Input data'!$E$48/0.927","v":3.883495145631068},{"$f":"L50*'Input data'!$E$43/'Input data'!$E$56","v":2746.8978988552381},{"$f":"'Input data'!$E$48/0.943","v":3.8176033934252387},{"$f":"N50*'Input data'!$E$43/'Input data'!$E$56","v":2700.2909355660718},{"$f":"'Input data'!$E$48/0.953","v":3.777544596012592},{"$f":"P50*'Input data'!$E$43/'Input data'!$E$56","v":2671.9562982568791},{"$f":"'Input data'!$E$48/0.956","v":3.7656903765690379},{"$f":"R50*'Input data'!$E$43/'Input data'!$E$56","v":2663.5714981577466},{"$f":"'Input data'!$E$48/0.958","v":3.757828810020877},{"$f":"T50*'Input data'!$E$43/'Input data'!$E$56","v":2658.0108060947869},{"$f":"'Input data'!$E$48/0.958","v":3.757828810020877},{"$f":"V50*'Input data'!$E$43/'Input data'!$E$56","v":2658.0108060947869},{"$f":"'Input data'!$E$48/0.958","v":3.757828810020877},{"$f":"X50*'Input data'!$E$43/'Input data'!$E$56","v":2658.0108060947869},{"$f":"'Input data'!$E$48/0.958","v":3.757828810020877},{"$f":"Z50*'Input data'!$E$43/'Input data'!$E$56","v":2658.0108060947869},{"$f":"'Input data'!$E$48/0.958","v":3.757828810020877},{"$f":"AB50*'Input data'!$E$43/'Input data'!$E$56","v":2658.0108060947869}]
[null,"75% Load",null,"NA","NA","NA","NA","NA","NA","NA","NA","NA","NA","NA","NA","NA","NA","NA","NA",{"$f":"'Input data'!$E$48/0.956","v":3.7656903765690379},{"$f":"T51*'Input data'!$E$43/'Input data'!$E$56","v":2663.5714981577466},{"$f":"'Input data'!$E$48/0.956","v":3.7656903765690379},{"$f":"V51*'Input data'!$E$43/'Input data'!$E$56","v":2663.5714981577466},{"$f":"'Input data'!$E$48/0.958","v":3.757828810020877},{"$f":"X51*'Input data'!$E$43/'Input data'!$E$56","v":2658.0108060947869},{"$f":"'Input data'!$E$48/0.96","v":3.7500000000000004},{"$f":"Z51*'Input data'!$E$43/'Input data'!$E$56","v":2652.4732835820896},{"$f":"'Input data'!$E$48/0.964","v":3.7344398340248963},{"$f":"AB51*'Input data'!$E$43/'Input data'!$E$56","v":2641.4671703722051}]
[null,"50% Load",null,"NA","NA","NA","NA","NA","NA","NA","NA","NA","NA","NA","NA","NA","NA","NA","NA",{"$f":"'Input data'!$E$48/0.949","v":3.7934668071654376},{"$f":"T52*'Input data'!$E$43/'Input data'!$E$56","v":2683.218495509806},{"$f":"'Input data'!$E$48/0.949","v":3.7934668071654376},{"$f":"V52*'Input data'!$E$43/'Input data'!$E$56","v":2683.218495509806},{"$f":"'Input data'!$E$48/0.942","v":3.8216560509554145},{"$f":"X52*'Input data'!$E$43/'Input data'!$E$56","v":2703.1574864530849},{"$f":"'Input data'!$E$48/0.955","v":3.7696335078534036},{"$f":"Z52*'Input data'!$E$43/'Input data'!$E$56","v":2666.3605782605296},{"$f":"'Input data'!$E$48/0.961","v":3.7460978147762751},{"$f":"AB52*'Input data'!$E$43/'Input data'!$E$56","v":2649.713165701151}]
[null,"Average (median)",null,{"$f":"D50","v":4.2959427207637235},{"$f":"E50","v":3038.6328785665942},4.0677966101694913,2877.2591550720963,3.9473684210526314,2792.0771406127255,3.9173014145810665,2770.8099589105614,3.883495145631068,2746.8978988552381,3.8176033934252387,2700.2909355660718,3.777544596012592,2671.9562982568791,3.7656903765690379,2663.5714981577466,{"$f":"MEDIAN(T50:T52)","v":3.7656903765690379},{"$f":"MEDIAN(U50:U52)","v":2663.5714981577466},3.7656903765690379,2663.5714981577466,3.757828810020877,2658.0108060947869,3.757828810020877,2658.0108060947869,3.7460978147762751,2649.713165701151]
[null,"Source: General Electric (GE) technical data sheets"]
[null,"Notes: NA= Not available"]

{"sheet":"Fuel Cycle","index":21,"n_rows":108,"n_cols":8,"rows_kept":108,"cut":false,"hidden":false,"merged":[[29,1,29,3],[69,1,69,4],[55,1,55,4],[45,1,45,4],[19,1,19,3],[35,1,35,5],[96,1,96,5],[82,1,82,5],[20,1,20,3],[21,1,21,3],[22,1,22,3],[23,1,23,3],[24,1,24,3],[30,1,30,3],[25,1,25,3],[26,1,26,3],[27,1,27,3],[28,1,28,3],[41,1,41,3]]}
["Supplemental worksheet: Fuel cycle emissions"]
[]
["This supplemental worksheet calculates upstream emissions associated with other fuel cycles (e.g., natural gas production, etc.)"]
["The choice between co-product displacement and allocation is made in this sheet."]
["This sheet is based on outputs from the CA-GREET model."]
[]
[]
["1   Calculation of impacts from products and co-products"]
[]
["1.1 Method for addressing co-production",null,null,null,null,1,1,"NA"]
[null,"1= ","Co-product displacement"]
[null,"2= ","Allocation by energy value"]
[]
[]
["2   Fuel cycle efficiencies and emissions"]
[]
[]
[]
[null,"Table 2.1: Fuel transport and distribution (T&D)"]
[null,null,null,null,"NG","Diesel","Pet Coke","Notes:"]
[null,"Loss factor",null,null,1.0007999999999999,1,1]
[null,"Energy use (Btu/Btu)",null,null,6.4977227454343801E-3,4.3450661450028299E-3,1.1776884683233136E-3]
[null,"Emissions (g/MMBtu):"]
[null,"VOC",null,null,0.44398116603913668,0.14682889415954348,4.244661368582224E-2]
[null,"CO",null,null,1.0717135044425667,0.64792930837577967,0.19878683116884432]
[null,"CH4: combustion",null,null,1.3954222699885703,0.38269003330590234,0.10086870137937146]
[null,"N2O",null,null,1.0091080544174383E-2,8.2608463408943723E-3,2.279864769439741E-3]
[null,"CO2",null,null,351.75076076578762,490.23683835528766,92.214828424165603]
[null,"Other",null,null,17.548387096774196,0.20699999999999999,null,"Other NG: CH4 leak; Other Diesel: VOC from bulk terminal"]
[null,"Other",null,null,null,0.88,null,"VOC from service stations"]
[null,"GHG",null,null,{"$f":"E24*'Input data'!C72+E25*'Input data'!C70+E26*'Input data'!C71+E27*'Input data'!C73+E28+E29*'Input data'!C71","v":831.44422015885016},{"$f":"(F24+F29+F30)*'Input data'!C72+F25*'Input data'!C70+F26*'Input data'!C71+F27*'Input data'!C73+F28","v":507.12737786281758},{"$f":"(G24+G29+G30)*'Input data'!D72+G25*'Input data'!D70+G26*'Input data'!D71+G27*'Input data'!D73+G28","v":92.214828424165603}]
[null,"Source: CA-GREET"]
[]
[]
[null,"Table 2.2: Energy consumption of displaced system"]
[null,"Energy consumption of displaced system"]
[null,"Fuel type",null,null,"Value","Source"]
[null,null,null,null,"Btu/Btu"]
[null,"Natural gas",null,null,{"$f":"(0.069596-E22)/E21","v":6.3047838983378929E-2},"CA-GREET"]
[null,"Diesel",null,null,{"$f":"(0.163017-F22)/F21","v":0.15867193385499717},"CA-GREET"]
[null,"Electricity",null,null,{"$f":"IF(Electricity!M28=1,D61,F88)","v":2.983663},"CA-GREET","Two electricity displacement options are included"]
[null,"Pet coke",null,null,{"$f":"(0.244899931355213-G22)/G21","v":0.24372224288688971},"CA-GREET"]
[null,"Still gas",null,null,{"$f":"\"--\"","v":"--"}]
[]
[null,"Table 2.3: GHG emissions of displaced system"]
[null,"GHG emissions of displaced system",null,null,null,"Notes:"]
[null,"Fuel type",null,"Value","Source"]
[null,null,null,"gCO2eq/MMBtu"]
[null,"Natural gas",null,{"$f":"(8486.20192160892-E31)/E21","v":7648.6387904177354},"CA-GREET"]
[null,"Diesel",null,{"$f":"(15806.4558207661-F31)/F21","v":15299.328442903281},"CA-GREET"]
[null,"Electricity",null,{"$f":"IF(Electricity!M28=1,D75,F102)","v":187550.32579558052},"CA-GREET","Two electricity displacement options are included"]
[null,"Pet coke",null,{"$f":"(17301.6647528208-G31)/G21","v":17209.449924396635},"CA-GREET"]
[null,"Still gas",null,{"$f":"D49","v":7648.6387904177354},"CA-GREET","Assume still gas would be replaced by natural gas if unavailable"]
[]
[null,"Table 2.4: Total fuel cycle energy consumption"]
[null,"Fuel cycle energy consumption"]
[null,"Fuel type",null,"Value","Source"]
[null,null,null,"Btu/Btu"]
[null,"Natural gas",null,6.9596000000000005E-2,"CA-GREET"]
[null,"Diesel",null,0.163017,"CA-GREET"]
[null,"Electricity",null,{"$f":"(SUMPRODUCT(Electricity!$M$20:$M$25,'Fuel Cycle'!$F$86:$F$91)/100)","v":2.6472412428622025},"CA-GREET"]
[null,"Pet coke",null,0.24489993135521301,"CA-GREET"]
[null,"Still gas",null,{"$f":"\"--\"","v":"--"}]
[null,"Note(s):"]
[null,"NGL is substituted by natural gas"]
[null,"Calculated from CA-GREET"]
[]
[]
[null,"Table 2.5: Total fuel cycle GHG emissions"]
[null,"Fuel cycle GHG emissions"]
[null,"Fuel type",null,"Value","Source"]
[null,null,null,"gCO2eq/MMBtu"]
[null,"Natural gas",null,8486.2019216089211,"CA-GREET"]
[null,"Diesel",null,15806.455820766114,"CA-GREET"]
[null,"Electricity",null,{"$f":"SUMPRODUCT(Electricity!$M$20:$M$25,F100:F105)/100","v":228135.13394224044},"CA-GREET"]
[null,"Pet coke",null,17301.664752820772,"CA-GREET"]
[null,"Still gas",null,{"$f":"D73","v":8486.2019216089211},"CA-GREET","Assume still gas would be replaced by natural gas if unavailable"]
[null,"Note(s):"]
[null,"NGL is substituted by natural gas"]
[null,"Calculated from CA-GREET"]
[]
[null,"Table 2.6: Electricity fuel cycle energy consumption by resource type"]
[null,"Electricity supply energy consumption"]
[null,null,null,"Feedstock","Fuel","Total"]
[null,null,null,"Btu/Btu","Btu/Btu","Btu/Btu"]
[null,"Biomass",null,0.105889738191261,3.3898418962362,3.49573163442746]
[null,"Coal",null,5.5375160238146495E-2,3.1910243738981099,3.2463995341362502]
[null,"NG",null,0.19042000000000001,2.7932429999999999,2.983663]
[null,"Nuclear",null,5.7157366435763898E-2,1.08813928182807,1.14529664826384]
[null,"Renewables",null,0,1.08813928182807,1.08813928182807]
[null,"Oil",null,0.35474299999999998,3.1268371067209997,3.4815801067209997]
[null,"Note(s):"]
[null,"Calculated from CA-GREET"]
[]
[]
[null,"Table 2.7: Electricity fuel cycle GHG emissions by resource type"]
[null,"Electricity supply GHG emissions"]
[null,null,null,"Feedstock","Fuel","Total"]
[null,null,null,"gCO2eq/MMBtu","gCO2eq/MMBtu","gCO2eq/MMBtu"]
[null,"Biomass",null,9531.5710461979324,8061.3794399388325,17592.950486136764]
[null,"Coal",null,14244.778558059399,347377.13697924587,361621.91553730529]
[null,"NG",null,23530.954276083241,164019.37151949725,187550.32579558052]
[null,"Nuclear",null,4858.8657508970473,0,4858.8657508970473]
[null,"Renewables",null,0,0,{"$f":"D104+E104","v":0}]
[null,"Oil",null,37485.94810393863,266532.38292289025,304018.33102682885]
[null,"Note(s):"]
[null,"Calculated from CA-GREET"]
[null,"Values retrieved in LHV"]

{"sheet":"Emissions Factors","index":22,"n_rows":146,"n_cols":21,"rows_kept":146,"cut":false,"hidden":false,"merged":[[137,2,137,4],[137,5,137,7],[137,10,137,11],[118,1,118,2],[120,1,120,2],[121,1,121,2],[122,1,122,2],[126,3,126,11],[128,1,128,2],[130,1,130,2],[131,1,131,2],[132,1,132,2],[9,8,9,11],[117,3,117,5],[117,6,117,8],[117,9,117,11],[9,2,9,7],[47,10,47,13],[116,3,116,11],[116,12,116,14],[117,12,117,14],[126,12,126,14],[127,3,127,5],[127,6,127,8],[127,9,127,11],[127,12,127,14]]}
["Supplemental worksheet: Emissions factors"]
[]
["This supplemental worksheet includes emissions factors for combustion of a variety of fuels in a variety of combustion devices."]
["This worksheet also contains emissions factors for fugitive emissions from operations."]
[]
["1 Emissions factors tables"]
[]
[]
[null,"Table 1.1: Emission Factors of Fuel Combustion for Stationary Applications (grams per MMBtu of fuel burned - LHV)"]
[null,null,"Natural Gas",null,null,null,null,null,"Diesel Fuel",null,null,null,"Crude","Residual oil","Pet. Coke","Coal"]
[null,null,"Utility/ Industrial Boiler (>100 MMBtu/hr input)","Small Industrial Boiler (10-100 MMBtu/hr input)","Large Gas Turbine","CC Gas Turbine","Small Turbine","Stationary Reciprocating Engine","Industrial Boiler","Commercial Boiler","Stationary Reciprocating Engine","Turbine","Industrial Boiler","Industrial Boiler","Industrial Boiler","Industrial Boiler"]
[null,"VOC",1.5570000410079956,2.4170000553131104,1,3.4289999008178711,1,41.119998931884766,1.1729999780654907,1.1729999780654907,83.406669616699219,1.3350000381469727,0.81999999284744263,0.90700000524520874,2.0680000782012939,2.0680000782012939]
[null,"CO",16.419000625610352,28.822000503540039,24,24,24,342.44500732421875,16.686000823974609,16.686000823974609,362.09963989257812,8.7139997482299805,23.739999771118164,15.763999938964844,76.18499755859375,76.18499755859375]
[null,"CH4",1.1000000238418579,1.1000000238418579,4.2600002288818359,4.2600002288818359,4.2600002288818359,368.94000244140625,0.18000000715255737,0.75999999046325684,7.5256500244140625,0.84399998188018799,0.36000001430511475,3.2400000095367432,4,4]
[null,"N2O",0.31499999761581421,0.31499999761581421,1.5,1.5,1.5,1.5,0.38999998569488525,0.38999998569488525,2,2,2,0.36000001430511475,0.56999999284744263,0.56999999284744263]
[null,"CO2",58197.71891257161,58175.548150814087,58178.851896451997,58171.281513427777,58178.851896451997,56550.527644091788,78168.681100745569,78167.086100791465,77349.392764764169,78178.877630889707,77264.397841775266,85044.721973208347,104716.49462871805,108363.43829335245]
[null,"GHG",{"$f":"C12*'Input data'!C72+C13*'Input data'!C70+C14*'Input data'!C71+C15*'Input data'!C73+C16*'Input data'!C69","v":58350.186013585269},{"$f":"D12*'Input data'!C72+D13*'Input data'!C70+D14*'Input data'!C71+D15*'Input data'!C73+D16*'Input data'!C69","v":58350.526051676781},{"$f":"E12*'Input data'!C72+E13*'Input data'!C70+E14*'Input data'!C71+E15*'Input data'!C73+E16*'Input data'!C69","v":58773.851902174043},{"$f":"F12*'Input data'!C72+F13*'Input data'!C70+F14*'Input data'!C71+F15*'Input data'!C73+F16*'Input data'!C69","v":58773.811418842357},{"$f":"G12*'Input data'!C72+G13*'Input data'!C70+G14*'Input data'!C71+G15*'Input data'!C73+G16*'Input data'!C69","v":58773.851902174043},{"$f":"H12*'Input data'!C72+H13*'Input data'!C70+H14*'Input data'!C71+H15*'Input data'!C73+H16*'Input data'!C69","v":66896.41171353453},{"$f":"I12*'Input data'!C72+I13*'Input data'!C70+I14*'Input data'!C71+I15*'Input data'!C73+I16*'Input data'!C69","v":78319.734997911815},{"$f":"J12*'Input data'!C72+J13*'Input data'!C70+J14*'Input data'!C71+J15*'Input data'!C73+J16*'Input data'!C69","v":78332.639997540478},{"$f":"K12*'Input data'!C72+K13*'Input data'!C70+K14*'Input data'!C71+K15*'Input data'!C73+K16*'Input data'!C69","v":78971.454115014407},{"$f":"L12*'Input data'!C72+L13*'Input data'!C70+L14*'Input data'!C71+L15*'Input data'!C73+L16*'Input data'!C69","v":78814.058530152135},{"$f":"M12*'Input data'!$C$72+M13*'Input data'!$C$70+M14*'Input data'!$C$71+M15*'Input data'!$C$73+M16*'Input data'!$C$69","v":77909.923841744516},{"$f":"N12*'Input data'!$C$72+N13*'Input data'!$C$70+N14*'Input data'!$C$71+N15*'Input data'!$C$73+N16*'Input data'!$C$69","v":85261.036077628291},{"$f":"O12*'Input data'!$C$72+O13*'Input data'!$C$70+O14*'Input data'!$C$71+O15*'Input data'!$C$73+O16*'Input data'!$C$69","v":105114.66142292276},{"$f":"P12*'Input data'!$C$72+P13*'Input data'!$C$70+P14*'Input data'!$C$71+P15*'Input data'!$C$73+P16*'Input data'!$C$69","v":108761.60508755715}]
[null,"Source: CA-GREET"]
[]
[]
[null,"Table 1.2: Emission Factors of Venting (unit specified below)"]
[null,"Venting source",null,null,null,null,"CO2","CH4","VOC","Unit","Reference",null,null,"Note(s)"]
[null,"Well workovers"]
[null,null,"Ultra-Heavy Oil (API<10) ",null,null,null,0,0,{"$f":"\"--\"","v":"--"},"g/Event","ARB (2007), Table 4-8",null,null,"No emissions reported for ultra-heavy oil facilities",null,null,null,null,null,null," "]
[null,null,"Heavy Oil (API 10-20)",null,null,null,{"$f":"1000000*405/12889","v":31422.142912561099},{"$f":"1000000*1428/12889","v":110792.14834354876},{"$f":"\"--\"","v":"--"},"g/Event","ARB (2007), Table 4-8",null,null,"Total emissions divided by total number of reported events"]
[null,null,"Light Oil (API 20-30)",null,null,null,{"$f":"1000000*225/5424","v":41482.300884955752},{"$f":"1000000*575/5424","v":106010.32448377581},{"$f":"\"--\"","v":"--"},"g/Event","ARB (2007), Table 4-8",null,null,"Total emissions divided by total number of reported events"]
[null,null,"Ultra-Light Oil (API>30)",null,null,null,{"$f":"1000000*9/599","v":15025.041736227045},{"$f":"1000000*65/599","v":108514.19031719533},"--","g/Event","ARB (2007), Table 4-8",null,null,"Total emissions divided by total number of reported events"]
[null,"Well cleanups"]
[null,null,"Ultra-Heavy Oil (API<10) ",null,null,null,0,0,"--","g/Event","ARB (2007), Table 4-10",null,null,"No emissions reported for ultra-heavy oil facilities"]
[null,null,"Heavy Oil (API 10-20)",null,null,null,{"$f":"1000000*103/956","v":107740.58577405858},{"$f":"1000000*90/956","v":94142.259414225948},"--","g/Event","ARB (2007), Table 4-10",null,null,"Total emissions divided by total number of reported events"]
[null,null,"Light Oil (API 20-30)",null,null,null,{"$f":"1000000*113/1977","v":57157.309054122408},{"$f":"1000000*201/1977","v":101669.19575113809},"--","g/Event","ARB (2007), Table 4-10",null,null,"Total emissions divided by total number of reported events"]
[null,null,"Ultra-Light Oil (API>30)",null,null,null,{"$f":"1000000*3/187","v":16042.780748663101},{"$f":"1000000*21/187","v":112299.46524064172},"--","g/Event","ARB (2007), Table 4-10",null,null,"Total emissions divided by total number of reported events"]
[null,"Compressors"]
[null,null,"Startups",null,null,null,{"$f":"1000000*4/1071","v":3734.8272642390289},{"$f":"1000000*69/1071","v":64425.770308123247},"--","g/unit-yr","ARB (2007), Tables 15-1 & 15-5",null,null,"Total emissions divided by total number of compressor years "]
[null,null,"Blowdowns",null,null,null,{"$f":"1000000*172/1071","v":160597.57236227824},{"$f":"1000000*3238/1071","v":3023342.670401494},"--","g/unit-yr","ARB (2007), Tables 15-1 & 15-6",null,null,"Total emissions divided by total number of compressor years "]
[null,"Gathering pipeline maintenance and pigging"]
[null,null,"Maintenance",null,null,null,{"$f":"1000000*2659/2295","v":1158605.6644880173},{"$f":"1000000*2490/2295","v":1084967.3202614379},"--","g/mile-yr","ARB (2007), Tables 16-3 & 16-4 ",null,null,"Total emissions divided by total number of gathering system pipeline miles"]
[null,null,"Pigging",null,null,null,{"$f":"1000000*104/1417","v":73394.495412844029},{"$f":"1000000*5/1417","v":3528.5815102328866},"--","g/Event","ARB (2007), Tables 16-1 & 16-4 ",null,null,"Total emissions divided by total number of openings - event is defined as opening of launchers/receivers"]
[null,"Gas dehydrator",null,null,null,null,{"$f":"IF('Surface Processing'!M61=1,1000000*308/701123.262,0)","v":439.29508075571454},{"$f":"IF('Surface Processing'!M61=1,1000000*10829/701123.262,0)","v":15445.2156802066},"--","g/MMscf","ARB (2007), Tables 11-1 & 11-3",null,null,"Total emissions of glycol dehydrators divided by the total input volume"]
[null,"Storage tanks",null,null,null,null,0,49.2,{"$f":"(0.6624/0.2236)*H40","v":145.75169946332738},"g/bbl","ARB (2007), Table 20-7"]
[null,"Method limitation(s):"]
[null,"1- Emissions are allocated evenly between units (e.g. compressors) irrespective of unit type (e.g. reciprocating), age, specs and size"]
[null,"2- Units/events/pipelines (e.g. compressors, openings, miles) are allocated evenly between facilities irrespective of facility type (e.g. onshore crude, natural gas processing) and size"]
[null,"Source: ARB (2007)"]
[]
[]
[null,"Table 1.3: Emission Factors of Fugitives (unit specified below)"]
[null,"Fugitives source",null,null,null,null,"CO2","CH4","VOC","Unit","Reference",null,null,null,"Note(s)"]
[null,"Active wells"]
[null,null,"Ultra-Heavy Oil (API<10) ",null,null,null,{"$f":"0/47","v":0},{"$f":"0/47","v":0},{"$f":"\"--\"","v":"--"},"g/unit-yr","ARB (2007), Table 4-5",null,null,null,"Total emissions divided by number of wells associated with ultra-heavy oil production"]
[null,null,"Heavy Oil (API 10-20)",null,null,null,{"$f":"1000000*66/36619","v":1802.3430459597478},{"$f":"1000000*155/36619","v":4232.7753352084983},{"$f":"\"--\"","v":"--"},"g/unit-yr","ARB (2007), Table 4-5",null,null,null,"Total emissions divided by number of wells associated with heavy oil production"]
[null,null,"Light Oil (API 20-30)",null,null,null,{"$f":"1000000*459/14261","v":32185.681228525347},{"$f":"1000000*1415/14261","v":99221.653460486647},{"$f":"\"--\"","v":"--"},"g/unit-yr","ARB (2007), Table 4-5",null,null,null,"Total emissions divided by number of wells associated with light oil production"]
[null,null,"Ultra-Light Oil (API>30)",null,null,null,{"$f":"1000000*19/1323","v":14361.30007558579},{"$f":"1000000*139/1323","v":105064.24792139078},"--","g/unit-yr","ARB (2007), Table 4-5",null,null,null,"Total emissions divided by number of wells associated with ultra-light oil production"]
[null,"Well cellars"]
[null,null,"Ultra-Heavy Oil (API<10) ",null,null,null,{"$f":"\"--\"","v":"--"},{"$f":"1000000*3/22","v":136363.63636363635},"--","g/unit-yr","ARB (2007), Table 4-7",null,null,null,"Total emissions divided by number of wells associated with ultra-heavy oil production"]
[null,null,"Heavy Oil (API 10-20)",null,null,null,{"$f":"\"--\"","v":"--"},{"$f":"1000000*933/7461","v":125050.26135906715},"--","g/unit-yr","ARB (2007), Table 4-7",null,null,null,"Total emissions divided by number of wells associated with heavy oil production"]
[null,null,"Light Oil (API 20-30)",null,null,null,"--",{"$f":"1000000*850/4998","v":170068.02721088435},"--","g/unit-yr","ARB (2007), Table 4-7",null,null,null,"Total emissions divided by number of wells associated with light oil production"]
[null,null,"Ultra-Light Oil (API>30)",null,null,null,"--",{"$f":"1000000*369/2168","v":170202.9520295203},"--","g/unit-yr","ARB (2007), Table 4-7",null,null,null,"Total emissions divided by number of wells associated with ultra-light oil production"]
[null,"Gas dehydrator",null,null,null,null,{"$f":"IF('Surface Processing'!M61=1,1000000*16682/701123.262,0)","v":23793.248497294902},{"$f":"IF('Surface Processing'!M61=1,1000000*10802/701123.262,0)","v":15406.706046503989},"--","g/MMscf","ARB (2007), Tables 11-2 & 11-3",null,null,null,"Total fugitives of glycol dehydrators divided by total input volume"]
[null,"AGR unit",null,null,null,null,0,{"$f":"IF('Surface Processing'!M58=1,965*'Input data'!D82,0)","v":19565.831445},"--","g/MMscf","EPA (1996), p. 23",null,null,null,"Zero CO2 fugitives. All remaining CO2 is vented."]
[null,"Gathering pipeline",null,null,null,null,{"$f":"1000000*327/2295","v":142483.66013071896},{"$f":"1000000*867/2295","v":377777.77777777775},"--","g/mile-yr","ARB (2007), Table 16-5",null,null,null,"Total fugitives of gathering pipelines divided by number of pipeline miles"]
[null,"Separators (e.g. free knock out, etc)",null,null,null,null,{"$f":"1000000*11/4618","v":2381.9835426591599},{"$f":"1000000*170/4618","v":36812.472932005199},"--","g/unit-yr","ARB (2007), Table 17-3",null,null,null,"Total fugitives of separators divided by number of separators"]
[null,"Sumps and pits",null,null,null,null,{"$f":"\"--\"","v":"--"},{"$f":"1000000*264/250","v":1056000},"--","g/unit-yr","ARB (2007), Table 18-1",null,null,null,"Total fugitives of crude oil sumps and pits divided by total number of sumps and pits"]
[null,"Components <10,000 ppmv"]
[null,null,"Valves"]
[null,null,null,"Gas service",null,null,{"$f":"\"--\"","v":"--"},{"$f":"0.687*1.3*10^-3*'Input data'!$E$24","v":147.86194858500002},{"$f":"0.171*1.3*10^-3*'Input data'!$E$24","v":36.804065805},"g/unit-yr","API (1996), Pub. 4638, Tables 2 & 3"]
[null,null,null,"Heavy oil service",null,null,{"$f":"\"--\"","v":"--"},{"$f":"0.942*4.4*10^-4*'Input data'!$E$24","v":68.621453867999989},{"$f":"0.03*4.4*10^-4*'Input data'!$E$24","v":2.1853966199999997},"g/unit-yr","API (1996), Pub. 4638, Tables 2 & 3"]
[null,null,null,"Light oil service",null,null,"--",{"$f":"0.612*1*10^-3*'Input data'!$E$24","v":101.32293419999999},{"$f":"0.296*1*10^-3*'Input data'!$E$24","v":49.005863599999991},"g/unit-yr","API (1996), Pub. 4638, Tables 2 & 3"]
[null,null,"Connectors"]
[null,null,null,"Gas service",null,null,"--",{"$f":"0.687*5.3*10^-4*'Input data'!$E$24","v":60.282179038500004},{"$f":"0.171*5.3*10^-4*'Input data'!$E$24","v":15.004734520499998},"g/unit-yr","API (1996), Pub. 4638, Tables 2 & 3"]
[null,null,null,"Heavy oil service",null,null,"--",{"$f":"0.942*4*10^-4*'Input data'!$E$24","v":62.383139879999987},{"$f":"0.03*4*10^-4*'Input data'!$E$24","v":1.9867241999999998},"g/unit-yr","API (1996), Pub. 4638, Tables 2 & 3"]
[null,null,null,"Light oil service",null,null,"--",{"$f":"0.612*5.1*10^-4*'Input data'!$E$24","v":51.674696441999991},{"$f":"0.296*5.1*10^-4*'Input data'!$E$24","v":24.992990435999992},"g/unit-yr","API (1996), Pub. 4638, Tables 2 & 3"]
[null,null,"Flanges"]
[null,null,null,"Gas service",null,null,"--",{"$f":"0.687*3*10^-4*'Input data'!$E$24","v":34.121988134999995},{"$f":"0.171*3*10^-4*'Input data'!$E$24","v":8.4932459550000008},"g/unit-yr","API (1996), Pub. 4638, Tables 2 & 3"]
[null,null,null,"Heavy oil service",null,null,"--",{"$f":"0.942*2.1*10^-5*'Input data'!$E$24","v":3.2751148436999999},{"$f":"0.03*2.1*10^-5*'Input data'!$E$24","v":0.10430302049999998},"g/unit-yr","API (1996), Pub. 4638, Tables 2 & 3"]
[null,null,null,"Light oil service",null,null,"--",{"$f":"0.612*1.3*10^-4*'Input data'!$E$24","v":13.171981445999998},{"$f":"0.296*1.3*10^-4*'Input data'!$E$24","v":6.3707622679999991},"g/unit-yr","API (1996), Pub. 4638, Tables 2 & 3"]
[null,null,"Open end lines"]
[null,null,null,"Gas service",null,null,"--",{"$f":"0.687*7.9*10^-4*'Input data'!$E$24","v":89.854568755499997},{"$f":"0.171*7.9*10^-4*'Input data'!$E$24","v":22.365547681500004},"g/unit-yr","API (1996), Pub. 4638, Tables 2 & 3"]
[null,null,null,"Heavy oil service",null,null,"--",{"$f":"0.942*3.8*10^-4*'Input data'!$E$24","v":59.263982885999994},{"$f":"0.03*3.8*10^-4*'Input data'!$E$24","v":1.8873879899999997},"g/unit-yr","API (1996), Pub. 4638, Tables 2 & 3"]
[null,null,null,"Light oil service",null,null,"--",{"$f":"0.612*7.4*10^-4*'Input data'!$E$24","v":74.978971307999998},{"$f":"0.296*7.4*10^-4*'Input data'!$E$24","v":36.264339063999991},"g/unit-yr","API (1996), Pub. 4638, Tables 2 & 3"]
[null,null,"Pump seals"]
[null,null,null,"Gas service",null,null,"--",{"$f":"0.687*1.9*10^-2*'Input data'!$E$24","v":2161.0592485500001},{"$f":"0.171*1.9*10^-2*'Input data'!$E$24","v":537.90557715},"g/unit-yr","API (1996), Pub. 4638, Tables 2 & 3"]
[null,null,null,"Heavy oil service",null,null,"--",{"$f":"\"--\"","v":"--"},{"$f":"\"--\"","v":"--"},"g/unit-yr","API (1996), Pub. 4638, Tables 2 & 3"]
[null,null,null,"Light oil service",null,null,"--",{"$f":"0.612*2.7*10^-2*'Input data'!$E$24","v":2735.7192233999999},{"$f":"0.296*2.7*10^-2*'Input data'!$E$24","v":1323.1583172000001},"g/unit-yr","API (1996), Pub. 4638, Tables 2 & 3"]
[null,null,"Others (compressors, hatches, etc)"]
[null,null,null,"Gas service",null,null,"--",{"$f":"0.687*6.3*10^-3*'Input data'!$E$24","v":716.561750835},{"$f":"0.171*6.3*10^-3*'Input data'!$E$24","v":178.358165055},"g/unit-yr","API (1996), Pub. 4638, Tables 2 & 3"]
[null,null,null,"Heavy oil service",null,null,"--",{"$f":"0.942*1.7*10^-3*'Input data'!$E$24","v":265.12834448999996},{"$f":"0.03*1.7*10^-3*'Input data'!$E$24","v":8.4435778499999987},"g/unit-yr","API (1996), Pub. 4638, Tables 2 & 3"]
[null,null,null,"Light oil service",null,null,"--",{"$f":"0.612*5.8*10^-3*'Input data'!$E$24","v":587.6730183599999},{"$f":"0.296*5.8*10^-3*'Input data'!$E$24","v":284.23400887999992},"g/unit-yr","API (1996), Pub. 4638, Tables 2 & 3"]
[null,"Components >=10,000 ppmv"]
[null,null,"Valves"]
[null,null,null,"Gas service",null,null,"--",{"$f":"0.687*5.2*'Input data'!$E$24","v":591447.79434000002},{"$f":"0.171*5.2*'Input data'!$E$24","v":147216.26321999999},"g/unit-yr","API (1996), Pub. 4638, Tables 2 & 3"]
[null,null,null,"Heavy oil service",null,null,"--",{"$f":"\"--\"","v":"--"},{"$f":"\"--\"","v":"--"},"g/unit-yr","API (1996), Pub. 4638, Tables 2 & 3"]
[null,null,null,"Light oil service",null,null,"--",{"$f":"0.612*4.6*'Input data'!$E$24","v":466085.49731999991},{"$f":"0.296*4.6*'Input data'!$E$24","v":225426.97255999997},"g/unit-yr","API (1996), Pub. 4638, Tables 2 & 3"]
[null,null,"Connectors"]
[null,null,null,"Gas service",null,null,"--",{"$f":"0.687*1.4*'Input data'!$E$24","v":159235.94462999998},{"$f":"0.171*1.4*'Input data'!$E$24","v":39635.147789999995},"g/unit-yr","API (1996), Pub. 4638, Tables 2 & 3"]
[null,null,null,"Heavy oil service",null,null,"--",{"$f":"\"--\"","v":"--"},{"$f":"\"--\"","v":"--"},"g/unit-yr","API (1996), Pub. 4638, Tables 2 & 3"]
[null,null,null,"Light oil service",null,null,"--",{"$f":"0.612*1.4*'Input data'!$E$24","v":141852.10787999997},{"$f":"0.296*1.4*'Input data'!$E$24","v":68608.209039999972},"g/unit-yr","API (1996), Pub. 4638, Tables 2 & 3"]
[null,null,"Flanges"]
[null,null,null,"Gas service",null,null,"--",{"$f":"0.687*4.3*'Input data'!$E$24","v":489081.82993499993},{"$f":"0.171*4.3*'Input data'!$E$24","v":121736.52535499999},"g/unit-yr","API (1996), Pub. 4638, Tables 2 & 3"]
[null,null,null,"Heavy oil service",null,null,"--",{"$f":"\"--\"","v":"--"},{"$f":"\"--\"","v":"--"},"g/unit-yr","API (1996), Pub. 4638, Tables 2 & 3"]
[null,null,null,"Light oil service",null,null,"--",{"$f":"0.612*3.9*'Input data'!$E$24","v":395159.44337999995},{"$f":"0.296*3.9*'Input data'!$E$24","v":191122.86803999994},"g/unit-yr","API (1996), Pub. 4638, Tables 2 & 3"]
[null,null,"Open end lines"]
[null,null,null,"Gas service",null,null,"--",{"$f":"0.687*1.4*'Input data'!$E$24","v":159235.94462999998},{"$f":"0.171*1.4*'Input data'!$E$24","v":39635.147789999995},"g/unit-yr","API (1996), Pub. 4638, Tables 2 & 3"]
[null,null,null,"Heavy oil service",null,null,"--",{"$f":"0.942*1.4*'Input data'!$E$24","v":218340.98957999994},{"$f":"0.03*1.4*'Input data'!$E$24","v":6953.5346999999983},"g/unit-yr","API (1996), Pub. 4638, Tables 2 & 3"]
[null,null,null,"Light oil service",null,null,"--",{"$f":"0.612*1.4*'Input data'!$E$24","v":141852.10787999997},{"$f":"0.296*1.4*'Input data'!$E$24","v":68608.209039999972},"g/unit-yr","API (1996), Pub. 4638, Tables 2 & 3"]
[null,null,"Pump seals"]
[null,null,null,"Gas service",null,null,"--",{"$f":"0.687*3.9*'Input data'!$E$24","v":443585.84575499996},{"$f":"0.171*3.9*'Input data'!$E$24","v":110412.19741499999},"g/unit-yr","API (1996), Pub. 4638, Tables 2 & 3"]
[null,null,null,"Heavy oil service",null,null,"--",{"$f":"\"--\"","v":"--"},{"$f":"\"--\"","v":"--"},"g/unit-yr","API (1996), Pub. 4638, Tables 2 & 3"]
[null,null,null,"Light oil service",null,null,"--",{"$f":"0.612*5.3*'Input data'!$E$24","v":537011.55125999986},{"$f":"0.296*5.3*'Input data'!$E$24","v":259731.07707999996},"g/unit-yr","API (1996), Pub. 4638, Tables 2 & 3"]
[null,null,"Others (compressors, hatches, etc)"]
[null,null,null,"Gas service",null,null,"--",{"$f":"0.687*4.7*'Input data'!$E$24","v":534577.81411499996},{"$f":"0.171*4.7*'Input data'!$E$24","v":133060.85329500001},"g/unit-yr","API (1996), Pub. 4638, Tables 2 & 3"]
[null,null,null,"Heavy oil service",null,null,"--",{"$f":"\"--\"","v":"--"},{"$f":"\"--\"","v":"--"},"g/unit-yr","API (1996), Pub. 4638, Tables 2 & 3"]
[null,null,null,"Light oil service",null,null,"--",{"$f":"0.612*4.4*'Input data'!$E$24","v":445820.91047999996},{"$f":"0.296*4.4*'Input data'!$E$24","v":215625.79983999996},"g/unit-yr","API (1996), Pub. 4638, Tables 2 & 3"]
[]
[]
[null,"Table 1.4: Emission Factors of Land Use Change - 150 year analysis timeframe (gCO2eq./MJ)"]
[null,null,null,"Conventional oil and in situ production",null,null,null,null,null,null,null,null,"Oil sands mining"]
[null,null,null,"Low carbon stock (semi-arid grasslands)",null,null,"Moderate carbon stock (mixed)",null,null,"High carbon stock (forested)"]
[null,null,null,"Low intensity","Moderate intensity","High intensity","Low intensity","Moderate intensity","High intensity","Low intensity","Moderate intensity","High intensity","Low intensity","Moderate intensity","High intensity"]
[null,"Scenario number",null,1,2,3,4,5,6,7,8,9,10,11,12]
[null,"Soil carbon",null,0.03,0.13,0.35,{"$f":"AVERAGE(D121,J121)","v":9.5000000000000001E-2},0.35,1.5,0.16,0.56999999999999995,2.65,0.77,1.21,2.16]
[null,"Biomass",null,0,0,0,0.01,8.5000000000000006E-2,0.32500000000000001,0.02,0.17,0.65,0.03,0.04,0.13]
[null,"Foregone sequestration",null,0,0,0,1.4999999999999999E-2,2.5000000000000001E-2,4.4999999999999998E-2,0.03,0.05,0.09,0.03,0.03,0.04]
[]
[]
[null,"Table 1.5: Emission Factors of Land Use Change - 30 year analysis timeframe (gCO2eq./MJ)"]
[null,null,null,"Conventional oil and in situ production",null,null,null,null,null,null,null,null,"Oil sands mining"]
[null,null,null,"Low carbon stock (semi-arid grasslands)",null,null,"Moderate carbon stock (mixed)",null,null,"High carbon stock (forested)"]
[null,null,null,"Low intensity","Moderate intensity","High intensity","Low intensity","Moderate intensity","High intensity","Low intensity","Moderate intensity","High intensity","Low intensity","Moderate intensity","High intensity"]
[null,"Scenario number",null,1,2,3,4,5,6,7,8,9,10,11,12]
[null,"Soil carbon",null,0.03,0.13,0.35,{"$f":"AVERAGE(D131,J131)","v":0.21500000000000002},{"$f":"AVERAGE(E131,K131)","v":0.57000000000000006},{"$f":"AVERAGE(F131,L131)","v":1.93},0.4,1.01,3.51,0.96,1.4,2.39]
[null,"Biomass",null,0,0,0,0.34,0.68,1.47,0.68,1.36,2.94,0.24299999999999999,0.31,0.47]
[null,"Foregone sequestration",null,0,0,0,5.0000000000000001E-3,5.0000000000000001E-3,0.01,0.01,0.01,0.02,0.01,0.01,0.01]
[null,"Notes: Calculations of Yeh et al. (2010) performed over 30 year timeframe instead of 50 year timeframe.  See documentation for more details. This shorter timeframe results in lower emissions from foregone sequestration, but much higher emissions from biomass carbon because the biomass does not have time to regrow over 30 year project lifetime (assumed project life is 30 years)."]
[]
[]
[null,"Table 1.6 Transport-specific emissions factors (on-site g/MMBtu consumed)"]
[null,null,"Ocean tanker",null,null,"Barge",null,null,"Locomotive","Pipeline turbine","Pipeline engine",null,"HDV truck"]
[null,null,"Diesel","Residual oil","Natural gas","Diesel","Residual oil","Natural gas","Diesel","Natural gas","Natural gas","Diesel","Diesel"]
[null,"VOC",79.925003051757813,79.925003051757813,79.925003051757813,24.746999740600586,24.746999740600586,24.746999740600586,70.739997863769531,0.90800000000000003,230.4,40.86,8.2129999999999992]
[null,"CO",181.66900634765625,181.66900634765625,90.834503173828125,219.99299621582031,219.99299621582031,109.99649810791016,204.45500183105469,77.180000000000007,379.84699999999998,459.6,32.892000000000003]
[null,"CH4",4.5809998512268066,4.5809998512268066,91.619997024536133,1.2126029872894288,1.2126029872894288,24.252059745788578,3.940000057220459,23.154,328.39299999999997,4.54,1.5569999999999999]
[null,"N2O",2,2,2,2,2,2,2,2,2,2,2.0009999999999999]
[null,"CO2",84534.053580268403,77651.875599581283,58768.887746953653,84655.06470264736,77772.886721960254,59096.009311798327,77646.45838418632,59224.895974698455,57194.619086603212,77336.992237705985,78117]
[null,"GHG",{"$f":"C140*'Input data'!$C$72+C141*'Input data'!$C$70+C142*'Input data'!$C$71+C143*'Input data'!$C$73+C144*'Input data'!$C$69","v":85783.016496165772},{"$f":"D140*'Input data'!$C$72+D141*'Input data'!$C$70+D142*'Input data'!$C$71+D143*'Input data'!$C$73+D144*'Input data'!$C$69","v":78900.838515478652},{"$f":"E140*'Input data'!$C$72+E141*'Input data'!$C$70+E142*'Input data'!$C$71+E143*'Input data'!$C$73+E144*'Input data'!$C$69","v":62048.49038710563},{"$f":"F140*'Input data'!$C$72+F141*'Input data'!$C$70+F142*'Input data'!$C$71+F143*'Input data'!$C$73+F144*'Input data'!$C$69","v":85710.084270470776},{"$f":"G140*'Input data'!$C$72+G141*'Input data'!$C$70+G142*'Input data'!$C$71+G143*'Input data'!$C$73+G144*'Input data'!$C$69","v":78827.90628978367},{"$f":"H140*'Input data'!$C$72+H141*'Input data'!$C$70+H142*'Input data'!$C$71+H143*'Input data'!$C$73+H144*'Input data'!$C$69","v":60551.020901611562},{"$f":"I140*'Input data'!$C$72+I141*'Input data'!$C$70+I142*'Input data'!$C$71+I143*'Input data'!$C$73+I144*'Input data'!$C$69","v":78887.380381924202},{"$f":"J140*'Input data'!$C$72+J141*'Input data'!$C$70+J142*'Input data'!$C$71+J143*'Input data'!$C$73+J144*'Input data'!$C$69","v":60526.048774698458},{"$f":"K140*'Input data'!$C$72+K141*'Input data'!$C$70+K142*'Input data'!$C$71+K143*'Input data'!$C$73+K144*'Input data'!$C$69","v":67322.439286603214},{"$f":"L140*'Input data'!$C$72+L141*'Input data'!$C$70+L142*'Input data'!$C$71+L143*'Input data'!$C$73+L144*'Input data'!$C$69","v":78908.518237705983},{"$f":"M140*'Input data'!$C$72+M141*'Input data'!$C$70+M142*'Input data'!$C$71+M143*'Input data'!$C$73+M144*'Input data'!$C$69","v":78830.310500000007}]
[null,"Notes: Emissions factors from GREET 1.8d, sheet 'EF', Table 2., \"Emission Factors of Fuel Combustion: Feedstock and Fuel Transportation from Product Origin to Product Destination (grams per mmBtu of fuel burned)\""]

{"sheet":"Fuel Specs","index":23,"n_rows":343,"n_cols":17,"rows_kept":343,"cut":false,"hidden":false,"merged":[[320,4,320,5],[18,9,18,11],[18,12,18,14],[18,1,18,2],[18,3,18,5],[18,6,18,8],[67,1,67,2],[67,3,67,6],[67,7,67,10],[67,12,67,15]]}
["Supplemental worksheet: Crude oil and other fuel specifications"]
[]
["This sheet provides an overview of crude oil and fuel properties used in the model"]
[]
[]
["1 Crude oil properties"]
[]
[]
["1.1   Crude oil heating value selector",null,null,null,null,null,null,null,null,null,null,null,"User","Default"]
[null,null,"HHV=1",null,null,null,null,null,null,null,null,null,2,2]
[null,null,"LHV=2"]
[]
["1.2   Crude oil heating value"]
[null,null,"1.2.1   Btu",null,null,null,null,null,null,null,null,null,{"$f":"IF(M10=1,VLOOKUP('Production & Extraction'!M32,'Fuel Specs'!B21:O62,8,TRUE),VLOOKUP('Production & Extraction'!M32,'Fuel Specs'!B21:O62,5,TRUE))","v":5.5145999999999997},{"$f":"IF(N10=1,VLOOKUP('Production & Extraction'!N32,'Fuel Specs'!B21:O62,8,TRUE),VLOOKUP('Production & Extraction'!N32,'Fuel Specs'!B21:O62,5,TRUE))","v":5.5145999999999997},"MMBtu/bbl"]
[null,null,"1.2.2   MJ",null,null,null,null,null,null,null,null,null,{"$f":"M14*'Input data'!E46","v":5818.1787299999996},{"$f":"N14*'Input data'!E46","v":5818.1787299999996},"MJ/bbl"]
[]
[]
[null,"Table 1.1: Crude oil heating values"]
[null,"Crude density",null,"LHV - US Standard Units",null,null,"HHV - US Standard Units",null,null,"LHV - SI units",null,null,"HHV - SI units"]
[null,"Deg API","SG","Btu/lb","Btu/gal","MMBtu/bbl","Btu/lb","Btu/l","MMBtu/bbl","MJ/lb","MJ/kg","MJ/bbl","MJ/lb","MJ/kg","MJ/bbl"]
[null,4,{"$f":"141.5/(B21+131.5)","v":1.0442804428044281},16910,147250,{"$f":"E21*42/1000000","v":6.1844999999999999},17930,{"$f":"G21*2.204*C21","v":41267.582140221406},{"$f":"H21*158.98/1000000","v":6.5607202086523984},{"$f":"D21*1.055/1000","v":17.840049999999998},{"$f":"J21/0.45359","v":39.330783306510284},{"$f":"F21*1055.055","v":6524.9876475000001},{"$f":"G21*1.055/1000","v":18.916149999999998},{"$f":"M21*'Input data'!$E$18","v":41.691194600000003},{"$f":"N21*C21*'Input data'!$E$33","v":6921.8776424121343}]
[null,5,1.0366300366300367,16990,146860,{"$f":"E22*42/1000000","v":6.16812},17980,{"$f":"G22*2.204*C22","v":41079.492161172173},{"$f":"H22*158.98/1000000","v":6.5308176637831519},17.92445,{"$f":"J22/0.45359","v":39.516854428007676},{"$f":"F22*1055.055","v":6507.7058466000008},{"$f":"G22*1.055/1000","v":18.968899999999998},{"$f":"M22*'Input data'!$E$18","v":41.807455599999997},{"$f":"N22*C22*'Input data'!$E$33","v":6890.3290090001037}]
[null,6,1.0290909090909091,17050,146340,6.14628,18030,40894.138036363634,6.5013500650210903,17.987749999999998,39.656407769130709,6484.6634454000005,19.021649999999998,{"$f":"M23*'Input data'!$E$18","v":41.923716599999999},{"$f":"N23*C23*'Input data'!$E$33","v":6859.2392648013374}]
[null,7,1.0216606498194947,17110,145790,6.1231799999999996,18090,40733.977906137188,6.4758878075176893,18.05105,39.795961110253756,6460.2916748999996,19.084949999999996,{"$f":"M24*'Input data'!$E$18","v":42.063229799999995},{"$f":"N24*C24*'Input data'!$E$33","v":6832.3753496620066}]
[null,8,1.0143369175627239,17170,145260,6.1009200000000003,18150,40576.113978494628,6.450790600301076,18.114349999999998,39.93551445137679,6436.8061506000004,19.148250000000001,{"$f":"M25*'Input data'!$E$18","v":42.202743000000005},{"$f":"N25*C25*'Input data'!$E$33","v":6805.8965802594403}]
[null,9,1.0071174377224199,17230,144700,6.0773999999999999,18210,40420.497224199295,6.4260506487032032,18.177649999999996,40.07506779249983,6411.9912570000006,19.211549999999999,{"$f":"M26*'Input data'!$E$18","v":42.342256200000001},{"$f":"N26*C26*'Input data'!$E$33","v":6779.7947328412511}]
[null,10,1,17270,144000,6.048,18260,40245.040000000001,6.3981564591999991,18.219849999999997,40.168103353248526,6380.9726400000009,19.264299999999999,{"$f":"M27*'Input data'!$E$18","v":42.458517200000003},{"$f":"N27*C27*'Input data'!$E$33","v":6750.3650116315603}]
[null,11,0.99298245614035086,17310,143410,6.0232200000000002,18310,40072.045333333335,6.3706537670933336,18.262049999999999,40.261138913997222,6354.8283771000006,19.317049999999998,{"$f":"M28*'Input data'!$E$18","v":42.574778199999997},{"$f":"N28*C28*'Input data'!$E$33","v":6721.3483391406007}]
[null,12,{"$f":"141.5/(B29+131.5)","v":0.98606271777003485},17350,142720,5.9942399999999996,18360,39901.461742160282,6.3435343877686412,18.30425,40.354174474745918,6324.2528831999998,19.369799999999998,{"$f":"M29*'Input data'!$E$18","v":42.691039199999999},{"$f":"N29*C29*'Input data'!$E$33","v":6692.7360802035228}]
[null,13,{"$f":"141.5/(B30+131.5)","v":0.97923875432525953},17400,142030,5.9652599999999998,18410,39733.239169550179,6.3167903631750866,18.356999999999999,40.470468925681779,6293.6773893,19.422549999999998,{"$f":"M30*'Input data'!$E$18","v":42.8073002},{"$f":"N30*C30*'Input data'!$E$33","v":6664.5198386911816}]
[null,14,{"$f":"141.5/(B31+131.5)","v":0.97250859106529208},17440,141440,5.94048,18450,39545.894845360825,6.2870063625154637,18.3992,40.563504486430482,6267.5331264000006,19.464749999999999,{"$f":"M31*'Input data'!$E$18","v":42.900309},{"$f":"N31*C31*'Input data'!$E$33","v":6633.0962751629659}]
[null,15,{"$f":"141.5/(B32+131.5)","v":0.96587030716723554},17480,140750,5.9115000000000002,18500,39382.39590443686,6.2610133008873712,18.441399999999998,40.656540047179163,6236.9576325000007,19.517499999999998,{"$f":"M32*'Input data'!$E$18","v":43.016570000000002},{"$f":"N32*C32*'Input data'!$E$33","v":6605.6723359582356}]
[null,16,0.95932203389830506,17520,140160,5.8867200000000004,18550,39221.113898305091,6.2353726875525437,18.483599999999999,40.749575607927866,6210.8133696000004,19.570250000000001,{"$f":"M33*'Input data'!$E$18","v":43.13283100000001},{"$f":"N33*C33*'Input data'!$E$33","v":6578.6202467766216}]
[null,17,0.95286195286195285,17550,139470,5.8577399999999997,18600,39062.004040404041,6.2100774023434342,18.515250000000002,40.81935227848939,6180.2378756999997,19.623000000000001,{"$f":"M34*'Input data'!$E$18","v":43.249092000000005},{"$f":"N34*C34*'Input data'!$E$33","v":6551.9324954964413}]
[null,18,0.94648829431438131,17590,138790,5.82918,18650,38905.022742474925,6.1851205155986628,18.557449999999996,40.912387839238072,6150.1055049000006,19.675750000000001,{"$f":"M35*'Input data'!$E$18","v":43.365353000000006},{"$f":"N35*C35*'Input data'!$E$33","v":6525.6017709892403}]
[null,19,0.94019933554817281,17630,138190,5.8039800000000001,18700,38750.127574750833,6.1604952818338869,18.599649999999997,41.005423399986768,6123.5181189000004,19.7285,{"$f":"M36*'Input data'!$E$18","v":43.481614000000008},{"$f":"N36*C36*'Input data'!$E$33","v":6499.6209564422697}]
[null,20,0.93399339933993397,17660,137510,5.7754200000000004,18740,38576.692013201326,6.1329224962587459,18.6313,41.075200070548291,6093.3857481000005,19.770699999999998,{"$f":"M37*'Input data'!$E$18","v":43.5746228},{"$f":"N37*C37*'Input data'!$E$33","v":6470.5303319465165}]
[null,21,0.9278688524590164,17690,136910,5.7502199999999997,18780,38405.531016393448,6.1057113209862299,18.662949999999999,41.144976741109808,6066.7983621000003,19.812899999999999,{"$f":"M38*'Input data'!$E$18","v":43.6676316},{"$f":"N38*C38*'Input data'!$E$33","v":6441.8212238375954}]
[null,22,0.92182410423452765,17730,136230,5.72166,18820,38236.600130293162,6.0788546887140074,18.705149999999996,41.238012301858497,6036.6659913000003,19.8551,{"$f":"M39*'Input data'!$E$18","v":43.760640400000007},{"$f":"N39*C39*'Input data'!$E$33","v":6413.4861757691815}]
[null,23,0.91585760517799353,17760,135640,5.6968800000000002,18860,38069.856051779934,6.0523457151119739,18.736799999999999,41.307788972420028,6010.5217284000009,19.897299999999998,{"$f":"M40*'Input data'!$E$18","v":43.8536492},{"$f":"N40*C40*'Input data'!$E$33","v":6385.5179244395149}]
[null,24,0.909967845659164,17800,135040,5.6716800000000003,18900,37905.256591639874,6.0261776929389068,18.779,41.400824533168723,5983.9343424000008,19.939499999999999,{"$f":"M41*'Input data'!$E$18","v":43.946657999999999},{"$f":"N41*C41*'Input data'!$E$33","v":6357.9093933841868}]
[null,25,0.90415335463258784,17830,134350,5.6426999999999996,18940,37742.760638977634,6.000344086384664,18.810649999999999,41.47060120373024,5953.3588485,19.981699999999996,{"$f":"M42*'Input data'!$E$18","v":44.039666799999999},{"$f":"N42*C42*'Input data'!$E$33","v":6330.6536870068821}]
[null,26,0.89841269841269844,17860,133760,5.6179199999999998,18980,37582.328126984132,5.9748385256279368,18.842299999999998,41.540377874291757,5927.2145855999997,20.023899999999998,{"$f":"M43*'Input data'!$E$18","v":44.132675599999999},{"$f":"N43*C43*'Input data'!$E$33","v":6303.7440848375436}]
[null,27,0.89274447949526814,17890,133170,5.59314,19020,37423.919999999998,5.9496548015999986,18.873949999999997,41.610154544853273,5901.0703227000004,20.066099999999999,{"$f":"M44*'Input data'!$E$18","v":44.225684399999999},{"$f":"N44*C44*'Input data'!$E$33","v":6277.1740360078793}]
[null,28,0.88714733542319746,17920,132580,5.5683600000000002,19060,37267.498181818184,5.9247868609454546,18.9056,41.679931215414804,5874.926059800001,20.1083,{"$f":"M45*'Input data'!$E$18","v":44.318693200000006},{"$f":"N45*C45*'Input data'!$E$33","v":6250.937153934703}]
[null,29,0.88161993769470404,17950,131890,5.5393800000000004,19090,37093.594641744545,5.8971396761445476,18.937249999999999,41.749707885976321,5844.3505659000011,20.139949999999995,{"$f":"M46*'Input data'!$E$18","v":44.388449799999997},{"$f":"N46*C46*'Input data'!$E$33","v":6221.7680346516318}]
[null,30,0.87616099071207432,17980,131300,5.5145999999999997,19130,36941.155294117649,5.8729048686588232,18.968899999999998,41.819484556537837,5818.2063029999999,20.182149999999996,{"$f":"M47*'Input data'!$E$18","v":44.481458599999996},{"$f":"N47*C47*'Input data'!$E$33","v":6196.1991387425569}]
[null,31,0.87076923076923074,18000,130710,5.4898199999999999,19160,36771.400369230774,5.8459172307003087,18.989999999999998,41.866002336912189,5792.0620401000006,20.213799999999999,{"$f":"M48*'Input data'!$E$18","v":44.551215200000001},{"$f":"N48*C48*'Input data'!$E$33","v":6167.725873328769}]
[null,32,0.86544342507645255,18030,130120,5.4650400000000001,19200,36622.796330275232,5.822292160587156,19.021649999999998,41.935779007473705,5765.9177772000003,20.256,{"$f":"M49*'Input data'!$E$18","v":44.644224000000001},{"$f":"N49*C49*'Input data'!$E$33","v":6142.8002798853868}]
[null,33,0.86018237082066873,18050,129530,5.4402600000000003,19230,36457.040607902745,5.7959403158443781,19.042750000000002,41.982296787848064,5739.7735143000009,20.287649999999999,{"$f":"M50*'Input data'!$E$18","v":44.713980599999999},{"$f":"N50*C50*'Input data'!$E$33","v":6114.9978071140595}]
[null,34,0.85498489425981872,18080,128940,5.4154799999999996,19270,36312.1318429003,5.7729027203842893,19.074399999999997,42.052073458409573,5713.6292513999997,20.329849999999997,{"$f":"M51*'Input data'!$E$18","v":44.806989399999999},{"$f":"N51*C51*'Input data'!$E$33","v":6090.6920278888147}]
[null,35,0.8498498498498499,18110,128350,5.3906999999999998,19300,36150.233033033037,5.7471640475915926,19.10605,42.121850128971097,5687.4849885000003,20.361499999999999,{"$f":"M52*'Input data'!$E$18","v":44.876746000000004},{"$f":"N52*C52*'Input data'!$E$33","v":6063.5364812288335}]
[null,36,0.84477611940298503,18130,127560,5.3575200000000001,19330,35990.267343283587,5.7217327022352249,19.127149999999997,42.168367909345434,5652.4782636,20.393149999999999,{"$f":"M53*'Input data'!$E$18","v":44.946502600000002},{"$f":"N53*C53*'Input data'!$E$33","v":6036.7051799021056}]
[null,37,0.83976261127596441,18150,127160,5.3407200000000001,19360,35832.200356083085,5.6966032126100883,19.148250000000001,42.214885689719793,5634.7533396000008,20.424799999999998,{"$f":"M54*'Input data'!$E$18","v":45.0162592},{"$f":"N54*C54*'Input data'!$E$33","v":6010.1923509946873}]
[null,38,0.83480825958702065,18180,126570,5.3159400000000003,19390,35675.9984660767,5.6717702361368731,19.179899999999996,42.284662360281303,5608.6090767000005,20.456449999999997,{"$f":"M55*'Input data'!$E$18","v":45.086015799999998},{"$f":"N55*C55*'Input data'!$E$33","v":5983.992357826588}]
[null,39,0.8299120234604106,18200,125980,5.2911599999999996,19420,35521.628856304989,5.6472285555753672,19.201000000000001,42.331180140655661,5582.4648138000002,20.488099999999999,{"$f":"M56*'Input data'!$E$18","v":45.155772400000004},{"$f":"N56*C56*'Input data'!$E$33","v":5958.0996959566492}]
[null,40,0.82507288629737607,18230,125390,5.2663799999999998,19450,35369.059475218659,5.622973075370262,19.23265,42.400956811217178,5556.3205508999999,20.519749999999998,{"$f":"M57*'Input data'!$E$18","v":45.225529000000002},{"$f":"N57*C57*'Input data'!$E$33","v":5932.5089893271752}]
[null,41,0.82028985507246377,18250,124800,5.2416,19480,35218.25901449276,5.5989988181240591,19.25375,42.447474591591529,5530.1762880000006,20.551399999999997,{"$f":"M58*'Input data'!$E$18","v":45.2952856},{"$f":"N58*C58*'Input data'!$E$33","v":5907.2149865426818}]
[null,42,0.81556195965417866,18280,124310,5.2210200000000002,19510,35069.196887608072,5.5753009211919311,19.285399999999999,42.517251262153046,5508.4632561000008,20.58305,{"$f":"M59*'Input data'!$E$18","v":45.365042200000005},{"$f":"N59*C59*'Input data'!$E$33","v":5882.2125572773184}]
[null,43,0.81088825214899718,18300,123720,5.1962400000000004,19530,34903.971232091695,5.5490333464779367,19.3065,42.56376904252739,5482.3189932000005,20.604149999999997,{"$f":"M60*'Input data'!$E$18","v":45.411546599999994},{"$f":"N60*C60*'Input data'!$E$33","v":5854.4989934686673}]
[null,44,0.80626780626780625,18320,123120,5.1710399999999996,19560,34758.398632478638,5.5258902145914535,19.327599999999997,42.610286822901735,5455.7316072000003,20.6358,{"$f":"M61*'Input data'!$E$18","v":45.481303200000006},{"$f":"N61*C61*'Input data'!$E$33","v":5830.0818682010522}]
[null,45,0.80169971671388107,18340,122530,5.1462599999999998,19590,34614.475580736544,5.5030093278254952,19.348699999999997,42.656804603276079,5429.5873443,20.667449999999999,{"$f":"M62*'Input data'!$E$18","v":45.551059800000004},{"$f":"N62*C62*'Input data'!$E$33","v":5805.9414242395842}]
[null,"Source: Schmidt (1985) Fuel Oil Manual"]
[null,"Note(s): Correlations relating crude oil energy density as a function of API gravity"]
[]
[]
[null,"Table 1.2: Crude oil chemical composition"]
[null,"Crude density",null,"wt% of constituents",null,null,null,"Relative molar proportions",null,null,null,"Stoichiometric O2","lbmol/lb crude liquid fuel",null,null,null,"lbmol O2 required"]
[null,"Deg API","SG","Carbon","Hydrogen","Sulfur","Oxygen + Nitrogen","C","H","S","N","O2 per C atom","C","H","S","N"]
[null,4,{"$f":"141.5/(B70+131.5)","v":1.0442804428044281},{"$f":"100-E70-F70-G70","v":85.964206642066415},{"$f":"IF(B70<=9,24.5-15*C70,IF(B70<=15,25-15*C70,IF(B70<=30,25.2-15*C70,IF(B70<=45,25.45-15*C70,\"ERROR\"))))","v":8.8357933579335786},5,{"$f":"$G$116","v":0.2},{"$f":"(D70/12)/(D70/12)","v":1},{"$f":"(E70/1)/(D70/12)","v":1.233414748264746},{"$f":"(F70/32)/(D70/12)","v":2.1811403527598805E-2},{"$f":"(G70/14)/(D70/12)","v":1.9941854653804623E-3},{"$f":"H70*1+I70/4+J70","v":1.3301650905937854},{"$f":"D70/100/12","v":7.1636838868388675E-2},{"$f":"E70/100/1","v":8.8357933579335787E-2},{"$f":"F70/100/32","v":1.5625000000000001E-3},{"$f":"G70/100/14","v":1.4285714285714287E-4},{"$f":"M70*L70","v":9.5288822263222633E-2}]
[null,5,1.0366300366300367,{"$f":"100-E71-F71-G71","v":85.849450549450552},{"$f":"IF(B71<=9,24.5-15*C71,IF(B71<=15,25-15*C71,IF(B71<=30,25.2-15*C71,IF(B71<=45,25.45-15*C71,\"ERROR\"))))","v":8.9505494505494489},5,0.2,{"$f":"(D71/12)/(D71/12)","v":1},{"$f":"(E71/1)/(D71/12)","v":1.2511040282631234},{"$f":"(F71/32)/(D71/12)","v":2.1840559118313427E-2},{"$f":"(G71/14)/(D71/12)","v":1.9968511193886565E-3},{"$f":"H71*1+I71/4+J71","v":1.3346165661840943},{"$f":"D71/100/12","v":7.1541208791208802E-2},{"$f":"E71/100/1","v":8.9505494505494484E-2},{"$f":"F71/100/32","v":1.5625000000000001E-3},{"$f":"G71/100/14","v":1.4285714285714287E-4},{"$f":"M71*L71","v":9.5480082417582435E-2}]
[null,6,1.0290909090909091,86.236363636363635,9.0636363636363644,4.5,0.2,1,1.2612270714737508,1.9568311195445921E-2,1.9878919309659349E-3,1.3348750790638837,7.1863636363636366E-2,9.063636363636364E-2,1.4062499999999999E-3,1.4285714285714287E-4,9.5928977272727284E-2]
[null,7,1.0216606498194947,86.124909747292421,9.1750902527075802,4.5,0.2,1,1.2783883705138199,1.9593634465933957E-2,1.9904644536821799E-3,1.339190727094389,7.177075812274368E-2,9.1750902527075795E-2,1.4062499999999999E-3,1.4285714285714287E-4,9.6114733754512641E-2]
[null,8,1.0143369175627239,86.015053763440861,9.2849462365591418,4.5,0.2,1,1.2953471510363281,1.9618658899417458E-2,1.9930066183535197E-3,1.3434554466584994,7.1679211469534057E-2,9.2849462365591412E-2,1.4062499999999999E-3,1.4285714285714287E-4,9.6297827060931901E-2]
[null,9,1.0071174377224199,86.406761565836291,9.3932384341637007,4,0.2,1,1.3045143593777673,1.7359752556599384E-2,1.9839717207542156E-3,1.3434883424010413,7.2005634638196911E-2,9.3932384341637004E-2,1.25E-3,1.4285714285714287E-4,9.673873072360617E-2]
[null,10,1,85.8,10,4,0.2,1,1.3986013986013988,1.7482517482517484E-2,1.9980019980019984E-3,1.3671328671328671,7.1499999999999994E-2,0.1,1.25E-3,1.4285714285714287E-4,9.774999999999999E-2]
[null,11,0.99298245614035086,85.694736842105257,10.105263157894736,4,0.2,1,1.4150595749907875,1.7503992138557918E-2,2.0004562444066194E-3,1.371268885886255,7.1412280701754385E-2,0.10105263157894737,1.25E-3,1.4285714285714287E-4,9.7925438596491235E-2]
[null,12,{"$f":"141.5/(B78+131.5)","v":0.98606271777003485},85.590940766550517,10.209059233449477,4,0.2,1,1.4313280085977382,1.752521921789893E-2,2.0028821963313063E-3,1.3753572213673335,7.1325783972125426E-2,0.10209059233449476,1.25E-3,1.4285714285714287E-4,9.8098432055749113E-2]
[null,13,{"$f":"141.5/(B79+131.5)","v":0.97923875432525953},85.488581314878886,10.311418685121106,4,0.2,1,1.4474099618719187,1.7546202977390291E-2,2.0052803402731763E-3,1.3793986934453699,7.1240484429065734E-2,0.10311418685121106,1.25E-3,1.4285714285714287E-4,9.8269031141868496E-2]
[null,14,{"$f":"141.5/(B80+131.5)","v":0.97250859106529208},85.88762886597938,10.412371134020619,3.5,0.2,1,1.4547898836888287,1.5281595467585313E-2,1.9959634896437963E-3,1.3789790663897925,7.1573024054982823E-2,0.10412371134020619,1.0937500000000001E-3,1.4285714285714287E-4,9.8697701890034378E-2]
[null,15,{"$f":"141.5/(B81+131.5)","v":0.96587030716723554},85.788054607508528,10.511945392491468,3.5,0.2,1,1.4704068682641163,1.5299332826753767E-2,1.9982802059433495E-3,1.3829010498927827,7.1490045506257108E-2,0.10511945392491467,1.0937500000000001E-3,1.4285714285714287E-4,9.8863658987485767E-2]
[null,16,0.95932203389830506,85.489830508474569,10.810169491525423,3.5,0.2,1,1.517397252126331,1.5352703265330401E-2,2.0052510387370322E-3,1.3947020162969133,7.1241525423728816E-2,0.10810169491525423,1.0937500000000001E-3,1.4285714285714287E-4,9.9360699152542392E-2]
[null,17,0.95286195286195285,85.392929292929296,10.907070707070707,3.5,0.2,1,1.5327363701960042,1.5370125031050758E-2,2.0075265346678542E-3,1.3985542175800518,7.1160774410774411E-2,0.10907070707070707,1.0937500000000001E-3,1.4285714285714287E-4,9.9522201178451175E-2]
[null,18,0.94648829431438131,85.297324414715717,11.00267558528428,3.5,0.2,1,1.5479044381447542,1.5387352522555374E-2,2.0097766560072329E-3,1.402363462058744,7.1081103678929766E-2,0.1100267558528428,1.0937500000000001E-3,1.4285714285714287E-4,9.9681542642140464E-2]
[null,19,0.94019933554817281,85.202990033222591,11.097009966777406,3.5,0.2,1,1.5629043012387847,1.5404388971422555E-2,2.0120018248388646E-3,1.4061304642811188,7.100249169435216E-2,0.11097009966777406,1.0937500000000001E-3,1.4285714285714287E-4,9.9838766611295676E-2]
[null,20,0.93399339933993397,85.609900990099007,11.19009900990099,3,0.2,1,1.5685240441329542,1.3141003400180418E-2,2.0024386133608257E-3,1.405272014433419,7.1341584158415836E-2,0.1119009900990099,9.3749999999999997E-4,1.4285714285714287E-4,0.10025433168316832]
[null,21,0.9278688524590164,85.518032786885243,11.281967213114754,3,0.2,1,1.5831001035157,1.3155120193229307E-2,2.0045897437301805E-3,1.4089301460721544,7.1265027322404376E-2,0.11281967213114755,9.3749999999999997E-4,1.4285714285714287E-4,0.10040744535519128]
[null,22,0.92182410423452765,85.42736156351792,11.372638436482085,3,0.2,1,1.5975169868299639,1.3169082825571376E-2,2.0067173829442096E-3,1.4125483295330623,7.1189467969598269E-2,0.11372638436482084,9.3749999999999997E-4,1.4285714285714287E-4,0.10055856406080348]
[null,23,0.91585760517799353,85.337864077669906,11.462135922330097,3,0.2,1,1.6117772873102914,1.3182893808732849E-2,2.0088219137116723E-3,1.4161272156363056,7.1114886731391588E-2,0.11462135922330097,9.3749999999999997E-4,1.4285714285714287E-4,0.10070772653721682]
[null,24,0.909967845659164,85.249517684887465,11.550482315112539,3,0.2,1,1.6258835421648574,1.3196555599978878E-2,2.0109037104729722E-3,1.4196674411411931,7.1041264737406226E-2,0.1155048231511254,9.3749999999999997E-4,1.4285714285714287E-4,0.10085497052518758]
[null,25,0.90415335463258784,85.662300319488821,11.637699680511181,2.5,0.2,1,1.6302667059521188,1.0944137578648604E-2,2.0012137286671734E-3,1.4185108140666782,7.1385250266240693E-2,0.11637699680511181,7.8125000000000004E-4,1.4285714285714287E-4,0.10126074946751865]
[null,26,0.89841269841269844,85.576190476190476,11.723809523809523,2.5,0.2,1,1.6439819709532022,1.0955149963830617E-2,2.0032274219575984E-3,1.4219506427021311,7.1313492063492065E-2,0.11723809523809522,7.8125000000000004E-4,1.4285714285714287E-4,0.10140426587301588]
[null,27,0.89274447949526814,85.491167192429018,11.808832807570978,2.5,0.2,1,1.6575512809632225,1.0966045157505157E-2,2.0052196859438004E-3,1.4253538653983107,7.1242639327024182E-2,0.11808832807570978,7.8125000000000004E-4,1.4285714285714287E-4,0.10154597134595161]
[null,28,0.88714733542319746,85.907210031347958,11.892789968652037,2,0.2,1,1.6612514778648684,8.7303498708236633E-3,1.9955085419025519E-3,1.4240432193370409,7.1589341692789965E-2,0.11892789968652037,6.2500000000000001E-4,1.4285714285714287E-4,0.10194631661442007]
[null,29,0.88161993769470404,85.824299065420561,11.975700934579439,2,0.2,1,1.6744489938147924,8.7387838661904353E-3,1.9974363122720997E-3,1.4273510323198886,7.1520249221183801E-2,0.11975700934579439,6.2500000000000001E-4,1.4285714285714287E-4,0.10208450155763241]
[null,30,0.87616099071207432,86.242414860681109,12.057585139318885,1.5,0.2,1,1.6777246080778856,6.5223127263850551E-3,1.9877524499459218E-3,1.4259534647458565,7.1868679050567583E-2,0.12057585139318885,4.6874999999999998E-4,1.4285714285714287E-4,0.10248139189886479]
[null,31,0.87076923076923074,85.911538461538456,12.388461538461538,1.5,0.2,1,1.7304024712360659,6.5474325110802707E-3,1.9954080033768445E-3,1.4391480503200968,7.1592948717948704E-2,0.12388461538461538,4.6874999999999998E-4,1.4285714285714287E-4,0.10303285256410255]
[null,32,0.86544342507645255,85.83165137614678,12.468348623853212,1.5,0.2,1,1.7431819274983569,6.553526478651938E-3,1.9972652125415432E-3,1.4423490083532413,7.1526376146788986E-2,0.12468348623853212,4.6874999999999998E-4,1.4285714285714287E-4,0.10316599770642203]
[null,33,0.86018237082066873,86.252735562310036,12.547264437689968,1,0.2,1,1.7456509903214379,4.3476881927889156E-3,1.9875146024177903E-3,1.4407604357731483,7.1877279635258362E-2,0.12547264437689967,3.1250000000000001E-4,1.4285714285714287E-4,0.10355794072948328]
[null,34,0.85498489425981872,86.174773413897285,12.625226586102718,1,0.2,1,1.7580866538002407,4.3516215377657642E-3,1.9893127029786354E-3,1.443873284987826,7.181231117824774E-2,0.12625226586102717,3.1250000000000001E-4,1.4285714285714287E-4,0.10368787764350454]
[null,35,0.8498498498498499,86.097747747747746,12.702252252252251,1,0.2,1,1.7703950569486806,4.3555146308668653E-3,1.9910924026819957E-3,1.4469542788680372,7.174812312312312E-2,0.1270225225225225,3.1250000000000001E-4,1.4285714285714287E-4,0.10381625375375375]
[null,36,0.84477611940298503,86.521641791044772,12.778358208955224,0.5,0.2,1,1.7722768007314191,2.1670878651704776E-3,1.981337476727294E-3,1.4452362880480252,7.2101368159203968E-2,0.12778358208955223,1.5625E-4,1.4285714285714287E-4,0.10420351368159202]
[null,37,0.83976261127596441,86.446439169139467,12.853560830860534,0.5,0.2,1,1.7842577606758099,2.1689730867125831E-3,1.983061107851505E-3,1.4482334132556649,7.2038699307616222E-2,0.12853560830860533,1.5625E-4,1.4285714285714287E-4,0.10432885138476755]
[null,38,0.83480825958702065,86.372123893805309,12.92787610619469,0.5,0.2,1,1.7961178477569275,2.1708392887331519E-3,1.984767349698882E-3,1.4512003012279651,7.1976769911504423E-2,0.12927876106194691,1.5625E-4,1.4285714285714287E-4,0.10445271017699115]
[null,39,0.8299120234604106,86.298680351906157,13.00131964809384,0.5,0.2,1,1.8078588819774464,2.172686757612262E-3,1.9864564641026397E-3,1.4541374072519737,7.1915566959921795E-2,0.1300131964809384,1.5625E-4,1.4285714285714287E-4,0.10457511608015639]
[null,40,0.82507288629737607,86.22609329446064,13.073906705539358,0.5,0.2,1,1.8194826469837415,2.1745157740092748E-3,1.9881287076656227E-3,1.4570451775199447,7.1855077745383869E-2,0.13073906705539357,1.5625E-4,1.4285714285714287E-4,0.10469609450923227]
[null,41,0.82028985507246377,86.154347826086948,13.145652173913042,0.5,0.2,1,1.8309908909691908,2.1763266130049711E-3,1.9897843318902593E-3,1.4599240493553027,7.1795289855072456E-2,0.13145652173913042,1.5625E-4,1.4285714285714287E-4,0.10481567028985507]
[null,42,0.81556195965417866,86.083429394812683,13.21657060518732,0.5,0.2,1,1.8423853275506803,2.17811954423947E-3,1.9914235833046585E-3,1.4627744514319094,7.1736191162343907E-2,0.13216570605187319,1.5625E-4,1.4285714285714287E-4,0.1049338676753122]
[null,43,0.81088825214899718,86.013323782234963,13.286676217765041,0.5,0.2,1,1.8536676366192346,2.1798948320460778E-3,1.9930467035849855E-3,1.4655968039868548,7.1677769818529136E-2,0.13286676217765042,1.5625E-4,1.4285714285714287E-4,0.10505071036294174]
[null,44,0.80626780626780625,85.944017094017099,13.355982905982906,0.5,0.2,1,1.8648394651656561,2.1816527355812019E-3,1.994653929674242E-3,1.4683915190269952,7.1620014245014255E-2,0.13355982905982905,1.5625E-4,1.4285714285714287E-4,0.10516622150997151]
[null,45,0.80169971671388107,85.875495750708211,13.424504249291783,0.5,0.2,1,1.8759024280820278,2.1833935089504704E-3,1.9962454938975732E-3,1.4711590005294573,7.1562913125590169E-2,0.13424504249291783,1.5625E-4,1.4285714285714287E-4,0.10528042374881962]
[null,"Source: Fuel oil manual, Schmidt (1985), pg. 41"]
[]
[null,"Input values:"]
[null,"Default sulfur content (wt%) for mid-weight crudes",null,null,null,null,1]
[null,"Oxygen + Nitrogen content (wt%)",null,null,null,null,0.2]
[null,"Sulfur content is increased in very heavy crudes and decreased in light crudes as per data from Speight."]
[null,"Assume for stoichiometric combustion that N/O is all N"]
[]
[]
[]
[]
["2 Gaseous fuel properties"]
[]
[null,"Table 2.1: Heat of combustion"]
[null,"Gas","Mol mass","Mol mass","Mol C","Mol H","Btu/scf","Btu/scf","Btu/lb","Btu/lb","Btu/mol","Btu/mol","Btu/lbmol","Btu/lbmol","MJ/kg","MJ/kg","Ratio"]
[null,null,"g/mol","mol/kg","mol/mol","mol/mol","HHV","LHV","HHV","LHV","HHV","LHV","HHV","LHV","HHV","LHV","HHV/LHV"]
[null,"N2, Ar",28.01,{"$f":"1/(C128/1000)","v":35.701535166012135},0,0,0,0,0,0,0,0,{"$f":"K128*453.59","v":0},{"$f":"L128*453.59","v":0},{"$f":"K128*1055.05/1000000*D128","v":0},{"$f":"L128*1055.05/1000000*D128","v":0},{"$f":"IFERROR(M128/N128,0)","v":0}]
[null,"O2",{"$f":"15.999*2","v":31.998000000000001},{"$f":"1/(C129/1000)","v":31.251953247077942},0,0,0,0,0,0,0,0,{"$f":"K129*453.59","v":0},0,0,0,{"$f":"IFERROR(M129/N129,0)","v":0}]
[null,"CO2",44.01,{"$f":"1/(C130/1000)","v":22.722108611679165},1,0,0,0,0,0,{"$f":"I130/453*$C130","v":0},{"$f":"J130/453*$C130","v":0},0,0,0,0,0]
[null,"H2O",18.010000000000002,55.524708495280393,0,2,0,0,0,0,0,0,0,0,0,0,0]
[null,"CH4",16.041,62.340253101427592,1,4,1013,913,23879,21520,{"$f":"I132/453*$C132","v":845.56962251655636},762.03602649006621,383541.9250772848,345651.9212556291,55.614876269315673,50.120697571743925,1.1096189591078069]
[null,"C2H6",30.067,33.259054777663216,2,6,1792,1641,22320,20432,1481.4468874172185,1356.1345342163356,671969.49366357608,615129.06337518769,51.983920529801317,47.586714348785868,1.0924040720438526]
[null,"C3H8",44.091999999999999,22.679851220175998,3,8,2590,2385,21611,19944,2103.4706666666666,1941.2159999999999,954113.2596933333,880516.1654399999,50.332639183222959,46.450148344370859,1.0835840352988368]
[null,"C4H10",58.118000000000002,17.206373240648336,4,10,3370,3113,21308,19680,2733.7270286975718,2524.8614569536426,1239991.2429469314,1145251.9082596027,49.626943487858718,45.835284768211928,1.0827235772357722]
[null,"CO",28.01,35.701535166012135,1,0,323,323,4347,4347,268.78470198675501,268.78470198675501,121918.0529741722,121918.0529741722,10.124287748344372,10.124287748344372,1]
[null,"H2",2.016,496.03174603174602,0,2,325,279,61100,51623,271.9152317880795,229.73944370860926,123338.02998675498,104207.51427178807,142.30365342163356,120.23144845474613,1.1835809619743141]
[null,"H2S",34.076000000000001,29.346167390538795,0,2,640,594,7100,6545,534.0830022075055,492.33426048565121,242254.7089713024,223317.89721368652,16.536103752759377,15.243492825607063,1.0847975553857907]
[null,"SO2",64.06,15.61036528254761,0,0,0,0,0,0,0,0,0,0,0,0,0]
[null,"Source: Mechanical engineer's handbook - Energy & Power (3rd edition). John Wiley & Sons. Chapter 17: Gaseous Fuels, Table 2"]
[null,"Source: Ganapathy (2003) - Industrial boilers and heat recovery steam generators, Design, Applications, and Calculations, Marcel Dekker Inc."]
[null,"Notes: Assume N2, Ar, other has properties of N2 for simplicity"]
[]
[]
[null,"Table 2.2: Molar masses and reactive C, H, and S"]
[null,"Gas","Mol mass","Mol mass","Mol mass","Mol C","Mol H","Mol S"]
[null,null,"g/mol","mol/kg","lb/lbmol","Reactive mol/mol","Reactive mol/mol","Reactive mol/mol"]
[null,"N2, Ar",28,{"$f":"1/(C148/1000)","v":35.714285714285715},{"$f":"C148","v":28},0,0,0]
[null,"O2",32,{"$f":"1/(C149/1000)","v":31.25},{"$f":"C149","v":32},0,0,0]
[null,"CO2",44,{"$f":"1/(C150/1000)","v":22.72727272727273},44,0,0,0]
[null,"H2O",18,55.555555555555557,18,0,0,0]
[null,"CH4",16,62.5,16,1,4,0]
[null,"C2H6",30,33.333333333333336,30,2,6,0]
[null,"C3H8",44,22.72727272727273,44,3,8,0]
[null,"C4H10",58,17.241379310344826,58,4,10,0]
[null,"CO",28,35.714285714285715,28,1,0,0]
[null,"H2",2,500,2,0,2,0]
[null,"H2S",34,29.411764705882351,34,0,2,1]
[null,"SO2",64,15.625,64,0,0,0]
[]
[]
[]
[null,"Table 2.3: Combustion coefficients: Reactants needed per mol of input gas on left"]
[null,"Gas","N2, Ar","O2","CO2","H2O","CH4","C2H6","C3H8","n-C4H10","CO","H2","H2S","SO2"]
[null,null,"mol/mol","mol/mol","mol/mol","mol/mol","mol/mol","mol/mol","mol/mol","mol/mol","mol/mol","mol/mol"]
[null,"N2, Ar",0,0,0,0,0,0,0,0,0,0,0,0]
[null,"O2",0,0,0,0,0,0,0,0,0,0,0,0]
[null,"CO2",0,0,0,0,0,0,0,0,0,0,0,0]
[null,"H2O",0,0,0,0,0,0,0,0,0,0,0,0]
[null,"CH4",{"$f":"D170*'Input data'!$E$102/'Input data'!$E$103","v":7.5436754176610981},2,{"$f":"D170*'Input data'!$E$104/'Input data'!$E$103","v":2.8639618138424821E-3},{"$f":"D170*'Input data'!$E$105/'Input data'!$E$103","v":0.19482733427499879},0,0,0,0,0,0,0,0]
[null,"C2H6",{"$f":"D171*'Input data'!$E$102/'Input data'!$E$103","v":13.20143198090692},3.5,{"$f":"D171*'Input data'!$E$104/'Input data'!$E$103","v":5.0119331742243438E-3},{"$f":"D171*'Input data'!$E$105/'Input data'!$E$103","v":0.34094783498124792},0,0,0,0,0,0,0,0]
[null,"C3H8",{"$f":"D172*'Input data'!$E$102/'Input data'!$E$103","v":18.859188544152744},5,{"$f":"D172*'Input data'!$E$104/'Input data'!$E$103","v":7.1599045346062056E-3},{"$f":"D172*'Input data'!$E$105/'Input data'!$E$103","v":0.48706833568749702},0,0,0,0,0,0,0,0]
[null,"C4H10",{"$f":"D173*'Input data'!$E$102/'Input data'!$E$103","v":24.516945107398566},6.5,{"$f":"D173*'Input data'!$E$104/'Input data'!$E$103","v":9.3078758949880665E-3},{"$f":"D173*'Input data'!$E$105/'Input data'!$E$103","v":0.63318883639374612},0,0,0,0,0,0,0,0]
[null,"CO",{"$f":"D174*'Input data'!$E$102/'Input data'!$E$103","v":1.8859188544152745},0.5,{"$f":"D174*'Input data'!$E$104/'Input data'!$E$103","v":7.1599045346062051E-4},{"$f":"D174*'Input data'!$E$105/'Input data'!$E$103","v":4.8706833568749698E-2},0,0,0,0,0,0,0,0]
[null,"H2",{"$f":"D175*'Input data'!$E$102/'Input data'!$E$103","v":1.8859188544152745},0.5,{"$f":"D175*'Input data'!$E$104/'Input data'!$E$103","v":7.1599045346062051E-4},{"$f":"D175*'Input data'!$E$105/'Input data'!$E$103","v":4.8706833568749698E-2},0,0,0,0,0,0,0,0]
[null,"H2S",{"$f":"D176*'Input data'!$E$102/'Input data'!$E$103","v":5.6577565632458233},1.5,{"$f":"D176*'Input data'!$E$104/'Input data'!$E$103","v":2.1479713603818618E-3},{"$f":"D176*'Input data'!$E$105/'Input data'!$E$103","v":0.14612050070624907},0,0,0,0,0,0,0,0]
[null,"SO2",{"$f":"D177*'Input data'!$E$102/'Input data'!$E$103","v":0},0,{"$f":"D177*'Input data'!$E$104/'Input data'!$E$103","v":0},{"$f":"D177*'Input data'!$E$105/'Input data'!$E$103","v":0},0,0,0,0,0,0,0,0,null,"H2S + 1.5O2 => SO2 + H2O"]
[]
[]
[null,"Table 2.4: Combustion coefficients: Products generated per mol of input gas on the left"]
[null,"Gas","N2, Ar","O2","CO2","H2O","CH4","C2H6","C3H8","n-C4H10","CO","H2","H2S","SO2"]
[null,null,"mol/mol","mol/mol","mol/mol","mol/mol","mol/mol","mol/mol","mol/mol","mol/mol","mol/mol","mol/mol"]
[null,"N2, Ar",1,0,0,0,0,0,0,0,0,0,0,0]
[null,"O2",0,1,0,0,0,0,0,0,0,0,0,0]
[null,"CO2",0,0,1,0,0,0,0,0,0,0,0,0]
[null,"H2O",0,0,0,1,0,0,0,0,0,0,0,0]
[null,"CH4",{"$f":"C170","v":7.5436754176610981},0,{"$f":"1/1+E170","v":1.0028639618138424},{"$f":"4/2+F170","v":2.1948273342749989},0,0,0,0,0,0,0,0]
[null,"C2H6",13.20143198090692,0,{"$f":"2/1+E171","v":2.0050119331742242},{"$f":"6/2+F171","v":3.340947834981248},0,0,0,0,0,0,0,0]
[null,"C3H8",18.859188544152744,0,{"$f":"3/1+E172","v":3.007159904534606},{"$f":"8/2+F172","v":4.4870683356874972},0,0,0,0,0,0,0,0]
[null,"C4H10",24.516945107398566,0,{"$f":"4/1+E173","v":4.0093078758949883},{"$f":"10/2+F173","v":5.6331888363937459},0,0,0,0,0,0,0,0]
[null,"CO",1.8859188544152745,0,{"$f":"1/1+E174","v":1.0007159904534606},{"$f":"F174","v":4.8706833568749698E-2},0,0,0,0,0,0,0,0]
[null,"H2",1.8859188544152745,0,{"$f":"0/1+E175","v":7.1599045346062051E-4},{"$f":"2/2+F175","v":1.0487068335687497},0,0,0,0,0,0,0,0]
[null,"H2S",5.6577565632458233,0,{"$f":"0/1+E176","v":2.1479713603818618E-3},{"$f":"2/2+F176","v":1.1461205007062492},0,0,0,0,0,0,0,{"$f":"1/1+N176","v":1}]
[null,"SO2",0,0,{"$f":"0/1+E177","v":0},{"$f":"F177","v":0},0,0,0,0,0,0,0,1]
[]
[]
[null,"Table 2.5: Example combustion calculation"]
[null,"Input gas","Mols reactants","Mols from air","Products"]
[null,"N2, Ar",4.0000000000000001E-3,{"$f":"SUMPRODUCT($C$199:$C$210,C166:C177)","v":7.7398109785202873},{"$f":"SUMPRODUCT($C$199:$C$210,C183:C194)","v":7.7438109785202869}]
[null,"O2",0,{"$f":"SUMPRODUCT($C$199:$C$210,D166:D177)","v":2.0519999999999996},{"$f":"SUMPRODUCT($C$199:$C$210,D183:D194)","v":0}]
[null,"CO2",0,{"$f":"SUMPRODUCT($C$199:$C$210,E166:E177)","v":2.9384248210023861E-3},{"$f":"SUMPRODUCT($C$199:$C$210,E183:E194)","v":1.0389384248210023}]
[null,"H2O",0,{"$f":"SUMPRODUCT($C$199:$C$210,F166:F177)","v":0.19989284496614876},{"$f":"SUMPRODUCT($C$199:$C$210,F183:F194)","v":2.2318928449661488}]
[null,"CH4",0.96599999999999997,{"$f":"SUMPRODUCT($C$199:$C$210,G166:G177)","v":0},{"$f":"SUMPRODUCT($C$199:$C$210,G183:G194)","v":0}]
[null,"C2H6",0.02,{"$f":"SUMPRODUCT($C$199:$C$210,H166:H177)","v":0},{"$f":"SUMPRODUCT($C$199:$C$210,H183:H194)","v":0}]
[null,"C3H8",0.01,{"$f":"SUMPRODUCT($C$199:$C$210,I166:I177)","v":0},{"$f":"SUMPRODUCT($C$199:$C$210,I183:I194)","v":0}]
[null,"C4H10",0,{"$f":"SUMPRODUCT($C$199:$C$210,J166:J177)","v":0},{"$f":"SUMPRODUCT($C$199:$C$210,J183:J194)","v":0}]
[null,"CO",0,{"$f":"SUMPRODUCT($C$199:$C$210,K166:K177)","v":0},{"$f":"SUMPRODUCT($C$199:$C$210,K183:K194)","v":0}]
[null,"H2",0,{"$f":"SUMPRODUCT($C$199:$C$210,L166:L177)","v":0},{"$f":"SUMPRODUCT($C$199:$C$210,L183:L194)","v":0}]
[null,"H2S",0,{"$f":"SUMPRODUCT($C$199:$C$210,M166:M177)","v":0},{"$f":"SUMPRODUCT($C$199:$C$210,M183:M194)","v":0}]
[null,"SO2",0,{"$f":"SUMPRODUCT($C$199:$C$210,N166:N177)","v":0},{"$f":"SUMPRODUCT($C$199:$C$210,N183:N194)","v":0}]
[]
[]
[null,"Table 2.6: Check on example element balance"]
[null,"Element balance","Inputs","Outputs","Check"]
[null,"N",{"$f":"D199*2+C199*2","v":15.487621957040574},{"$f":"E199*2","v":15.487621957040574},{"$f":"IF(C215=D215,\"OK\", \"ERROR\")","v":"OK"}]
[null,"O",{"$f":"(C200+D200)*2+(C201+D201)*2+(C202+D202)*1+(C207+D207)*1+(C210+D210)*2","v":4.3097696946081525},{"$f":"E200*2+E201*2+E202*1+E207*1+E210*2","v":4.3097696946081534},{"$f":"IF(C216=D216,\"OK\", \"ERROR\")","v":"OK"}]
[null,"C",{"$f":"(C201+D201)*1+(C203+D203)*1+(C204+D204)*2+(C205+D205)*3+(C206+D206)*4+(C207+D207)*1","v":1.0389384248210023},{"$f":"E201*1+E203*1+E204*2+E205*3+E206*4+E207*1","v":1.0389384248210023},"OK"]
[null,"H",{"$f":"(C202+D202)*2+(C203+D203)*4+(C204+D204)*6+(C205+D205)*8+(C206+D206)*10+(C208+D208)*2+(C209+D209)*2","v":4.4637856899322976},{"$f":"E202*2+E203*4+E204*6+E205*8+E206*10+E208*2+E209*2","v":4.4637856899322976},"OK"]
[null,"S",{"$f":"(C209+D209)*1+(C210+D210)*1","v":0},{"$f":"E209*1+E210*1","v":0},"OK"]
[]
[]
[]
["3 Gaseous fuels composition"]
[]
[null,"Table 3.1: Natural gas composition"]
[null,"Gas","User","Default","Unit"]
[null,"N2, Ar",4.0000000000000001E-3,4.0000000000000001E-3,"mol/mol fuel"]
[null,"O2",0,0,"mol/mol fuel"]
[null,"CO2",0,0,"mol/mol fuel"]
[null,"H2O",0,0,"mol/mol fuel"]
[null,"CH4",0.96599999999999997,0.96599999999999997,"mol/mol fuel"]
[null,"C2H6",0.02,0.02,"mol/mol fuel"]
[null,"C3H8",0.01,0.01,"mol/mol fuel"]
[null,"C4H10",0,0,"mol/mol fuel"]
[null,"CO",0,0,"mol/mol fuel"]
[null,"H2",0,0,"mol/mol fuel"]
[null,"H2S",0,0,"mol/mol fuel"]
[null,"SO2",0,0,"mol/mol fuel"]
[null,"Check:",{"$f":"IF(SUM(C227:C237)=1, \"OK\", \"ERROR\")","v":"OK"},{"$f":"IF(SUM(D227:D237)=1, \"OK\", \"ERROR\")","v":"OK"}]
[]
[]
["3.1   Average molecular mass - Natural gas"]
[null,{"$f":"SUMPRODUCT(C128:C139,C227:C238)","v":16.649905999999998},{"$f":"SUMPRODUCT(C128:C139,D227:D238)","v":16.649905999999998},"g/mol"]
[]
["3.2   Heating value - Natural gas"]
[null,"User","Default","Unit"]
["HHV",{"$f":"SUMPRODUCT(C227:C237,K128:K138)","v":867.48389976600447},{"$f":"SUMPRODUCT(D227:D237,K128:K138)","v":867.48389976600447},"Btu/mol"]
["HHV",{"$f":"B247/B243","v":52.10142926728863},{"$f":"C247/C243","v":52.10142926728863},"MBtu/kg"]
["LHV",{"$f":"SUMPRODUCT(C227:C237,L128:L138)","v":782.66165227373062},{"$f":"SUMPRODUCT(D227:D237,L128:L138)","v":782.66165227373062},"Btu/mol"]
["LHV",{"$f":"B249/B243","v":47.006971226968531},{"$f":"C249/C243","v":47.006971226968531},"MBtu/kg"]
[]
[]
[]
[null,"Table 3.2: Reaction results - Natural gas"]
[null,"Input gas","Mols reactants","Reactants from air","Products from fuel +air"]
[null,"N2, Ar",{"$f":"C227","v":4.0000000000000001E-3},{"$f":"SUMPRODUCT($C$256:$C$267,C166:C177)","v":7.7398109785202873},{"$f":"SUMPRODUCT($C$256:$C$267,C183:C194)","v":7.7438109785202869}]
[null,"O2",0,{"$f":"SUMPRODUCT($C$256:$C$267,D166:D177)","v":2.0519999999999996},{"$f":"SUMPRODUCT($C$256:$C$267,D183:D194)","v":0}]
[null,"CO2",0,{"$f":"SUMPRODUCT($C$256:$C$267,E166:E177)","v":2.9384248210023861E-3},{"$f":"SUMPRODUCT($C$256:$C$267,E183:E194)","v":1.0389384248210023}]
[null,"H2O",0,{"$f":"SUMPRODUCT($C$256:$C$267,F166:F177)","v":0.19989284496614876},{"$f":"SUMPRODUCT($C$256:$C$267,F183:F194)","v":2.2318928449661488}]
[null,"CH4",0.96599999999999997,{"$f":"SUMPRODUCT($C$256:$C$267,G166:G177)","v":0},{"$f":"SUMPRODUCT($C$256:$C$267,G183:G194)","v":0}]
[null,"C2H6",0.02,{"$f":"SUMPRODUCT($C$256:$C$267,H166:H177)","v":0},{"$f":"SUMPRODUCT($C$256:$C$267,H183:H194)","v":0}]
[null,"C3H8",0.01,{"$f":"SUMPRODUCT($C$256:$C$267,I166:I177)","v":0},{"$f":"SUMPRODUCT($C$256:$C$267,I183:I194)","v":0}]
[null,"C4H10",0,{"$f":"SUMPRODUCT($C$256:$C$267,J166:J177)","v":0},{"$f":"SUMPRODUCT($C$256:$C$267,J183:J194)","v":0}]
[null,"CO",0,{"$f":"SUMPRODUCT($C$256:$C$267,K166:K177)","v":0},{"$f":"SUMPRODUCT($C$256:$C$267,K183:K194)","v":0}]
[null,"H2",0,{"$f":"SUMPRODUCT($C$256:$C$267,L166:L177)","v":0},{"$f":"SUMPRODUCT($C$256:$C$267,L183:L194)","v":0}]
[null,"H2S",0,{"$f":"SUMPRODUCT($C$256:$C$267,M166:M177)","v":0},{"$f":"SUMPRODUCT($C$256:$C$267,M183:M194)","v":0}]
[null,"SO2",0,{"$f":"SUMPRODUCT($C$256:$C$267,N166:N177)","v":0},{"$f":"SUMPRODUCT($C$256:$C$267,N183:N194)","v":0}]
[]
[]
[]
[null,"Table 3.3: Gas composition - Product gas (after gas processing)"]
[null,"Gas","User","Default","Unit"]
[null,"N2, Ar",{"$f":"'Gas Balance'!AC10/100","v":2.3251387326464514E-2},{"$f":"C273","v":2.3251387326464514E-2},"mol/mol fuel"]
[null,"O2",0,{"$f":"C274","v":0},"mol/mol fuel"]
[null,"CO2",{"$f":"'Gas Balance'!AC11/100","v":0},0,"mol/mol fuel"]
[null,"H2O",0,0,"mol/mol fuel"]
[null,"CH4",{"$f":"'Gas Balance'!AC12/100","v":0.97219170323618231},0.97219170323618231,"mol/mol fuel"]
[null,"C2H6",{"$f":"'Gas Balance'!AC13/100","v":4.5569094373531897E-3},4.5569094373531897E-3,"mol/mol fuel"]
[null,"C3H8",{"$f":"'Gas Balance'!AC14/100","v":0},0,"mol/mol fuel"]
[null,"C4H10",{"$f":"'Gas Balance'!AC15/100","v":0},0,"mol/mol fuel"]
[null,"CO",0,0,"mol/mol fuel"]
[null,"H2",0,0,"mol/mol fuel"]
[null,"H2S",{"$f":"'Gas Balance'!AC16/100","v":0},0,"mol/mol fuel"]
[null,"SO2",0,0,"mol/mol fuel"]
[null,"Check:",{"$f":"IF(SUM(C273:C283)=1, \"OK\", \"ERROR\")","v":"OK"},{"$f":"IF(SUM(D273:D283)=1, \"OK\", \"ERROR\")","v":"OK"}]
[]
[]
["3.3   Average molecular mass - Produced gas"]
[null,{"$f":"SUMPRODUCT(C128:C139,C273:C284)","v":16.383211066678768},{"$f":"SUMPRODUCT(C128:C139,D273:D284)","v":16.383211066678768},"g/mol"]
[]
[]
["3.4   Heating value - Produced gas"]
[null,"User","Default","Unit"]
["HHV",{"$f":"SUMPRODUCT(C273:C283,K128:K138)","v":828.80659082135571},{"$f":"SUMPRODUCT(D273:D283,K128:K138)","v":828.80659082135571},"Btu/mol"]
["HHV",{"$f":"B294/B289","v":50.588775756361706},{"$f":"C294/C289","v":50.588775756361706},"MBtu/kg"]
["LHV",{"$f":"SUMPRODUCT(C273:C283,L128:L138)","v":747.02488477800102},{"$f":"SUMPRODUCT(D273:D283,L128:L138)","v":747.02488477800102},"Btu/mol"]
["LHV",{"$f":"B296/B289","v":45.59697618114366},{"$f":"C296/C289","v":45.59697618114366},"MBtu/kg"]
[]
[]
[null,"Table 3.4: Reaction results - Produced gas"]
[null,"Input gas","Mols/mol fuel","Reactants/mol fuel","Products/mol fuel"]
[null,"N2, Ar",{"$f":"C273","v":2.3251387326464514E-2},{"$f":"SUMPRODUCT($C$302:$C$313,C166:C177)","v":7.3940563829372321},{"$f":"SUMPRODUCT($C$302:$C$313,C183:C194)","v":7.4173077702636965}]
[null,"O2",0,{"$f":"SUMPRODUCT($C$302:$C$313,D166:D177)","v":1.9603325895031007},{"$f":"SUMPRODUCT($C$302:$C$313,D183:D194)","v":0}]
[null,"CO2",0,{"$f":"SUMPRODUCT($C$302:$C$313,E166:E177)","v":2.8071588393839154E-3},{"$f":"SUMPRODUCT($C$302:$C$313,E183:E194)","v":0.98411268095027249}]
[null,"H2O",0,{"$f":"SUMPRODUCT($C$302:$C$313,F166:F177)","v":0.19096318635264731},{"$f":"SUMPRODUCT($C$302:$C$313,F183:F194)","v":2.1490173211370718}]
[null,"CH4",0.97219170323618231,{"$f":"SUMPRODUCT($C$302:$C$313,G166:G177)","v":0},{"$f":"SUMPRODUCT($C$302:$C$313,G183:G194)","v":0}]
[null,"C2H6",4.5569094373531897E-3,{"$f":"SUMPRODUCT($C$302:$C$313,H166:H177)","v":0},{"$f":"SUMPRODUCT($C$302:$C$313,H183:H194)","v":0}]
[null,"C3H8",0,{"$f":"SUMPRODUCT($C$302:$C$313,I166:I177)","v":0},{"$f":"SUMPRODUCT($C$302:$C$313,I183:I194)","v":0}]
[null,"n-C4H10",0,{"$f":"SUMPRODUCT($C$302:$C$313,J166:J177)","v":0},{"$f":"SUMPRODUCT($C$302:$C$313,J183:J194)","v":0}]
[null,"CO",0,{"$f":"SUMPRODUCT($C$302:$C$313,K166:K177)","v":0},{"$f":"SUMPRODUCT($C$302:$C$313,K183:K194)","v":0}]
[null,"H2",0,{"$f":"SUMPRODUCT($C$302:$C$313,L166:L177)","v":0},{"$f":"SUMPRODUCT($C$302:$C$313,L183:L194)","v":0}]
[null,"H2S",0,{"$f":"SUMPRODUCT($C$302:$C$313,M166:M177)","v":0},{"$f":"SUMPRODUCT($C$302:$C$313,M183:M194)","v":0}]
[null,"SO2",0,{"$f":"SUMPRODUCT($C$302:$C$313,N166:N177)","v":0},{"$f":"SUMPRODUCT($C$302:$C$313,N183:N194)","v":0}]
[]
[]
[]
["4 Other fuels properties"]
[]
[]
[null,"Table 4.1: Other fuels properties"]
[null,"Fuel",null,null,null,null,"Density","C ratio"]
[null,null,null,null,"LHV","HHV",null,"(% by wt)"]
[null,"Liquid Fuels:",null,null,"Btu/gal","Btu/gal","grams/gal"]
[null,"Crude oil",null,null,129670,138350,3205,0.85299999999999998]
[null,"Conventional gasoline",null,null,116090,124340,2819,0.86299999999999999]
[null,"Reformulated or low-sulfur gasoline",null,null,116090,124340,2819,0.86299999999999999]
[null,"CA reformulated gasoline",null,null,109771.98636437056,120540.96773507145,2788.0898299560213,0.82870402298850565]
[null,"U.S. conventional diesel",null,null,128450,137380,3167,0.86499999999999999]
[null,"Diesel for non-road engines",null,null,128450,137380,3167,0.86499999999999999]
[null,"Low-sulfur diesel",null,null,127463.51938029277,133075.1387920352,3141.8675346178593,0.86499999999999999]
[null,"Liquid petroleum gas (LPG)",null,null,84950,91410,1923,0.82]
[null,"Residual oil",null,null,140352.52220119376,150110,3752,0.86799999999999999]
[null,"Gaseous Fuels (at 32F and 1atm):",null,null,"Btu/ft3","Btu/ft3","gms/ft3"]
[null,"Natural gas",null,null,930,1030,20.399999999999999,0.72399999999999998]
[null,"Gaseous hydrogen",null,null,282,331,2.48,0]
[null,"Carbon Dioxide",null,null,null,null,55.977829999999997,0.27272727272727271]
[null,"Still gas (in refineries)",null,null,1458,1584,32.799999999999997]
[null,"Solid fuels",null,null,"Btu/ton","Btu/ton"]
[null,"Petroleum coke",null,null,25370000,26920000,null,0.79900000000000004]
[null,"Coal",null,null,19546300,20608570,null,0.63700000000000001]
[null,"Bituminous coal",null,null,22460600,23445900,null,0.755]
[null,"Coking coal",null,null,24600497.144575384,25679670,null,0.747]
[null,"Source: CA-GREET"]

{"sheet":"Input data","index":24,"n_rows":1877,"n_cols":11,"rows_kept":1877,"cut":false,"hidden":false,"merged":[[8,1,8,2],[16,1,16,2],[26,1,26,2],[33,1,33,2],[161,7,161,10],[125,1,125,3],[125,4,125,5],[126,1,126,3],[126,4,126,5],[127,1,127,3],[127,4,127,5],[122,4,122,5],[123,1,123,3],[123,4,123,5],[124,1,124,3],[124,4,124,5],[40,1,40,2],[54,1,54,2],[27,1,27,2],[28,1,28,2],[29,1,29,2],[30,1,30,2],[31,1,31,2],[32,1,32,2],[34,1,34,2],[35,1,35,2],[36,1,36,2],[37,1,37,2],[41,1,41,2],[42,1,42,2],[43,1,43,2],[44,1,44,2],[45,1,45,2],[46,1,46,2],[47,1,47,2],[48,1,48,2],[49,1,49,2],[50,1,50,2],[51,1,51,2],[55,1,55,2],[56,1,56,2],[160,7,160,10],[112,1,112,2],[113,1,113,2],[122,1,122,3],[99,1,99,2],[101,1,101,2],[102,1,102,2],[103,1,103,2],[100,1,100,2],[90,1,90,2],[91,1,91,2],[92,1,92,2],[160,1,160,3],[104,1,104,2],[108,1,108,2],[109,1,109,2],[110,1,110,2],[111,1,111,2],[203,1,203,2],[189,7,189,10],[199,1,199,2],[200,1,200,2],[180,7,180,10],[187,1,187,3],[187,7,187,10],[188,1,188,3],[188,7,188,10],[59,1,59,2],[60,1,60,2],[61,1,61,2],[179,1,179,3],[179,7,179,10],[170,1,170,3],[170,7,170,10],[171,7,171,10],[178,1,178,3],[178,7,178,10],[93,1,93,2],[94,1,94,2],[162,7,162,10],[169,1,169,3],[169,7,169,10],[161,1,161,3]]}
["Supplemental worksheet: Other model data inputs"]
[]
["This sheet provides other needed data inputs, except crude oil and other fuel properties"]
[]
[]
["1 Conversion factors"]
[]
[null,"Table 1.1: Length conversion factors"]
[null,"Parameter",null,"Case","Value","Unit"]
[null,"feet per meter",null,null,3.2808000000000002,"ft/m"]
[null,"meters per foot",null,null,{"$f":"1/E10","v":0.30480370641306997},"m/ft"]
[null,"meters per inch",null,null,2.5399999999999999E-2,"m/in"]
[null,"inches per meter",null,null,{"$f":"1/E12","v":39.370078740157481},"in/m"]
[null,"miles per kilometer",null,null,0.62136999999999998,"mi/km"]
[]
[null,"Table 1.2: Mass conversion factors"]
[null,"Parameter",null,"Case","Value","Unit"]
[null,"pounds per kilogram",null,null,2.2040000000000002,"lb/kg"]
[null,"kilogram per pounds",null,null,0.45358999999999999,"kg/lb"]
[null,"grams per kilogram",null,null,1000,"g/kg"]
[null,"kilograms per gram",null,null,{"$f":"1/1000","v":1E-3},"kg/g"]
[null,"grams per pound",null,null,{"$f":"E19*1000","v":453.59},"g/lb"]
[null,"pounds per gram",null,null,{"$f":"1/E22","v":2.2046341409643071E-3},"lb/g"]
[null,"pounds per component-day",null,null,{"$f":"E19*1000*365","v":165560.34999999998},"g per component-yr"]
[]
[null,"Table 1.3: Volume conversion factors"]
[null,"Parameter",null,"Case","Value","Unit"]
[null,"m3 per yd3",null,null,1.3069999999999999,"m3/yd3"]
[null,"gallons per barrel",null,null,42,"gal/bbl"]
[null,"bbls per gallon",null,null,{"$f":"1/E29","v":2.3809523809523808E-2},"bbl/gal"]
[null,"liters per gallon",null,null,3.78,"l/gal"]
[null,"liters per cuft",null,null,28.316846600000002,"l/cuft"]
[null,"liters per bbl",null,null,158.9873,"l/bbl"]
[null,"m3 per bbl",null,null,{"$f":"E33/1000","v":0.1589873},"m3/bbl"]
[null,"ft3 per bbl",null,null,{"$f":"E34*35.3146667","v":5.6145835090329097},"ft3/bbl"]
[null,"bbl per m3",null,null,{"$f":"1/E34","v":6.2898105697750699},"bbl/m3"]
[null,"liters per mol @ STP",null,null,22.4,"l/mol"]
[null,"ft3 per m3",null,null,{"$f":"E35/E34","v":35.314666699999997},"ft3/m3"]
[]
[null,"Table 1.4: Energy conversion factors"]
[null,"Parameter",null,"Case","Value","Unit"]
[null,"Btu per Joule",null,null,9.4781711999999995E-4,"Btu/J"]
[null,"Btu per MJ",null,null,{"$f":"E42*1000000","v":947.81711999999993},"Btu/MJ"]
[null,"Joules per Btu",null,null,1055.05,"J/Btu"]
[null,"MJ per Btu",null,null,{"$f":"E44/1000000","v":1.0550499999999999E-3},"MJ/Btu"]
[null,"MJ per MMBtu",null,null,{"$f":"E45*1000000","v":1055.05},"MJ/MMBtu"]
[null,"Joules per calorie",null,null,4.18,"J/cal"]
[null,"MJ per kWh",null,null,3.6,"MJ/kWh"]
[null,"kWh per MJ",null,null,{"$f":"1/E48","v":0.27777777777777779},"kWh/MJ"]
[null,"kWh per Btu",null,null,{"$f":"E45*E49","v":2.9306944444444443E-4},"kWh/Btu"]
[null,"Btu per kWh",null,null,{"$f":"1/E50","v":3412.160561110848},"Btu/kWh"]
[null,"MMBtu per MWh",null,null,{"$f":"E51/1000","v":3.4121605611108481},"MMBtu/MWh"]
[]
[null,"Table 1.5: Power conversion factors"]
[null,"Parameter",null,"Case","Value","Unit"]
[null,"hp per kW",null,null,1.34,"hp/kW"]
[null,"kW per hp",null,null,{"$f":"1/E56","v":0.74626865671641784},"kW/hp"]
[]
[null,"Table 1.6: Other conversion factors"]
[null,"Parameter",null,"Case","Value","Unit"]
[null,"MMscf to m^3 of methane",null,null,28316.847000000002,"m^3/mmscf"]
[null,"seconds per day",null,null,86400,"sec/day"]
[]
[]
["2. Properties of gases"]
[]
[null,"Table 2.1: Global warming potentials"]
[null,"Gas","GWP"]
[null,"CO2",1]
[null,"CO",1.6]
[null,"CH4",25]
[null,"VOCs",3.1]
[null,"N2O",298]
[null,"Source: IPCC, 2007 (Fourth Report)"]
[]
[null,"Table 2.2: Gas densities"]
[null,"Gas","Density @ STP",null,"Notes:"]
[null,null,"lb/ft3","g/ft3"]
[null,"N2",7.8072000000000003E-2,{"$f":"C79*$E$22","v":35.412678479999997}]
[null,"H2S",{"$f":"0.0895*293/273","v":9.6056776556776552E-2},{"$f":"C80*$E$22","v":43.570393278388273},"Source: NTP (corrected to STP)"]
[null,"CO2",0.1234,{"$f":"C81*$E$22","v":55.973005999999998}]
[null,"CH4",4.4699999999999997E-2,{"$f":"C82*$E$22","v":20.275472999999998}]
[null,"C2H6",{"$f":"0.0789*293/273","v":8.4680219780219779E-2},{"$f":"C83*$E$22","v":38.410100890109888},"Source: NTP (corrected to STP)"]
[null,"C3H8",{"$f":"0.1175*293/273","v":0.1261080586080586},57.201354304029294,"Source: NTP (corrected to STP)"]
[null,"C4H10",0.156,70.760039999999989]
[null,"H20",4.8000000000000001E-2,{"$f":"C86*$E$22","v":21.772320000000001}]
[null,"Source: Engineering Tool Box (http://www.engineeringtoolbox.com/gas-density-d_158.html)"]
[]
[]
[null,"Table 2.3: Composition of dry air"]
[null,"Parameter",null,"Case","Value","Unit"]
[null,"N2, Ar",null,null,{"$f":"0.7809+0.0093","v":0.79020000000000001},"mols/mol dry air"]
[null,"O2",null,null,0.20949999999999999,"mols/mol dry air"]
[null,"CO2",null,null,2.9999999999999997E-4,"mols/mol dry air"]
[null,"H2O",null,null,0,"mols/mol dry air"]
[null,"Source: www.engineeringtoolbox.com"]
[]
[]
[null,"Table 2.4   Composition of moist air"]
[null,"Parameter",null,"Case","Value","Unit"]
[null,"Moisture in air",null,"H2O",0.02,"mols/mol moist air"]
[null,"N2, Ar",null,null,{"$f":"(1-$E$101)*E92","v":0.77439599999999997},"mols/mol moist air"]
[null,"O2",null,null,{"$f":"(1-$E$101)*E93","v":0.20530999999999999},"mols/mol moist air"]
[null,"CO2",null,null,{"$f":"(1-$E$101)*E94","v":2.9399999999999999E-4},"mols/mol moist air"]
[null,"H2O",null,null,{"$f":"E101","v":0.02},"mols/mol moist air"]
[]
[]
[null,"Table 2.5   Molar mass air components"]
[null,"Parameter",null,"Case","Value","Unit"]
[null,"N2, Ar",null,null,28,"lb/lbmol"]
[null,"O2",null,null,32,"lb/lbmol"]
[null,"CO2",null,null,44,"lb/lbmol"]
[null,"H2O",null,null,18,"lb/lbmol"]
[null,"Molar mass moist air",null,null,{"$f":"SUMPRODUCT(E102:E105,E110:E113)","v":28.625943999999997},"lb/lbmol"]
[null,"Notes: Assume N2 molar mass for all N2, Ar components"]
[]
[]
[]
[]
["3. Gas turbine characteristics"]
[]
[null,"Table 3.1: Gas turbine characteristics"]
[null,"Parameter",null,null,"Unit",null,"A","B","C","D"]
[null,"Turbine exhaust temp.",null,null,"F",null,931.97,947.92,949.99,1074.08]
[null,"Turbine efficiency",null,null,"Btu e-/Btu LHV fuel input",null,{"$f":"0.205347355055416*SUMPRODUCT('Steam Injection'!M374:M377,'Fuel Specs'!Q132:Q135)","v":0.22682172644068782},{"$f":"0.236933006336359*SUMPRODUCT('Steam Injection'!M374:M377,'Fuel Specs'!Q132:Q135)","v":0.26171047361916316},{"$f":"0.280010093479161*SUMPRODUCT('Steam Injection'!M374:M377,'Fuel Specs'!Q132:Q135)","v":0.30929238317494734},{"$f":"0.32422458904191*SUMPRODUCT('Steam Injection'!M374:M377,'Fuel Specs'!Q132:Q135)","v":0.35813064658740001}]
[null,"Turbine specific power",null,null,"Btu e-/lb of exhaust",null,69.456000000000003,85.4,108.017,155.70099999999999]
[null,"Turbine excess air",null,null,"Mol O2/Mol O2 stoichiometric",null,4,3.75,3.5,2.8]
[null,"Turbine loss",null,null,"Btu loss/Btu HHV fuel",null,4.0621729283865482E-2,3.6108203807880428E-2,3.159467833189538E-2,2.7081152855910322E-2]
[null,"Notes: Gas turbines are classed as \"A\" through \"D\" with \"D\" being most efficient.  Data based roughly on turbines from Kim (2004), Table 2.  Calculations for turbine efficiency and exit temperature documented in model documentation."]
[null,"Notes: Gas turbine efficiency is modeled in an HHV basis, but is adjusted here to account for use of LHV.  This is done by using ratio of HHV to LHV for input fuel mix."]
[]
["4. Enthalpy of air and exhaust gas"]
[]
[null,"Table 4.1: Coefficients for specific heat capacity Cp as a function of temperature"]
[null,null,"N2","O2","CO2","SO2","Air","Other (assume N2)","H2O (v)","Fuel inputs (assume CH4)"]
[null,"a",6.9029999999999996,6.085,5.3159999999999998,6.157,6.7130000000000001,{"$f":"C136","v":6.9029999999999996},7.7,4.75]
[null,"b",-2.085E-4,2.0170000000000001E-3,7.9360999999999998E-3,7.6889999999999997E-3,2.609E-4,{"$f":"C137","v":-2.085E-4},2.5520000000000002E-4,6.6600000000000001E-3]
[null,"c",5.9569999999999997E-7,-5.2750000000000003E-7,-2.5809999999999999E-6,-2.8100000000000002E-6,3.5400000000000002E-7,{"$f":"C138","v":5.9569999999999997E-7},7.7810000000000001E-7,9.3519999999999996E-7]
[null,"d",-1.1760000000000001E-10,5.3720000000000003E-11,3.059E-10,3.5269999999999998E-10,-8.0519999999999997E-11,-1.1760000000000001E-10,-1.4719999999999999E-10,-4.5099999999999999E-10]
[null,"Specific heats as a function of temperature",null,null,"Cp = a + bT + cT2 + dT3","Btu/lbmol-R",null,"Functions useful from 491-3240 Rankine","Cengel & Boles (2006, 5th edition) Table A-2E"]
[null,null,null,null,"See table below for a, b, c, d"]
[]
[null,"Change in enthalpy with change in temperature",null,null,"dh = Cp * dT"]
[null,"Integrating to get change in enthalpy",null,null,"h = int (dh) _(T=0C) ^(T=T)"]
[null,null,null,null,"h = int (Cp*dT) from: _(T=0C) ^(T=T)"]
[null,null,null,null,"h = aT + b/2T2 + c/3*T3 + d/4*T4 + C"]
[]
[null,"Assumed reference temperature: ",null,null,"300 °K = 540 R"]
[null,"Set enthalpy h = ",null,null,"0 @ 30 °C or 540 R"]
[null,"Solve for C to obtain set point of h = 0 @ 0C"]
[]
[null,"T0 =",null,null,540,"R"]
[]
[null,"Table 4.2: Coefficients of integration for enthalpy as a function of temperature"]
[null,null,"N2","O2","CO2","SO2","Air","Other (assume N2)","H2O (v)","Fuel inputs (assume CH4)"]
[null,"C =",{"$f":"-(C136*$E$152+1/2*C137*$E$152^2+C138/3*$E$152^3+C139/4*$E$152^4)","v":-3725.9879031359997},-3553.4331404207996,-3898.754564076,-4305.8424896279994,-3679.9283068271998,-3725.9879031359997,-4232.9199481920004,-3575.5275819600001]
[]
[]
[]
[null,"Table 4.3: OTSG inlet combustion conditions"]
[null,"Inputs",null,null,"Value","Unit",null,"Notes"]
[null,"OTSG inlet air and fuel temperature",null,null,{"$f":"'Steam Injection'!M82","v":80.33},"°F",null,"h = 0 @ 300 °K, water in vapor phase"]
[null,"OTSG inlet air and fuel temperature",null,null,{"$f":"E162+459.67","v":540},"R"]
[null,"Result","N2","O2","CO2","SO2","Air","Other (assume N2)","H2O (v)","Fuel inputs (assume CH4)","H2O latent heat vaporization (hfg) @ 0 °C"]
[null,"Enthalpy (Btu/lbmol)",{"$f":"(C136*$E$163+1/2*C137*$E$163^2+C138/3*$E$163^3+C139/4*$E$163^4)+C156","v":0},0,0,0,0,0,0,0,{"$f":"K166*453.592","v":19353.258666666665}]
[null,"Enthalpy (Btu/mol)",{"$f":"C165/453.592","v":0},{"$f":"D165/453.592","v":0},0,0,0,0,0,{"$f":"J165/453.592","v":0},{"$f":"E206","v":42.666666666666664}]
[]
[]
[null,"Table 4.4: OTSG outlet exhaust conditions"]
[null,"Inputs",null,null,"Value","Unit",null,"Notes"]
[null,"OTSG outlet exhaust temperature",null,null,{"$f":"'Steam Injection'!M84","v":350},"°F",null,"h = 0 @ 300 °K, water in vapor phase"]
[null,"OTSG outlet exhaust temperature",null,null,{"$f":"E171+459.67","v":809.67000000000007},"R"]
[null,null,"N2","O2","CO2","SO2","Air","Other (assume N2)","H2O (v)","Fuel inputs (assume CH4)","H2O latent heat vaporization (hfg) @ 0 °C"]
[null,"Enthalpy (Btu/lbmol)",{"$f":"(C136*$E$172+1/2*C137*$E$172^2+C138/3*$E$172^3+C139/4*$E$172^4)+C156","v":1887.5838217941364},1946.9875061010707,2582.9764242168603,2740.3370121167227,1894.8871551016246,1887.5838217941364,2207.0434974827394,2570.4474047154672,{"$f":"K165","v":19353.258666666665}]
[null,"Enthalpy (Btu/mol)",{"$f":"C174/453.592","v":4.1614133886711766},{"$f":"D174/453.592","v":4.2923762017431324},5.6944929015874628,6.0414138964459756,4.1775144956296071,4.1614133886711766,4.8657019909582608,5.6668711192337327,{"$f":"K166","v":42.666666666666664}]
[]
[]
[null,"Table 4.5   Gas turbine exhaust conditions - Identical to HRSG inlet gas conditions"]
[null,"Inputs",null,null,"Value","Unit",null,"Notes"]
[null,"Gas turbine exhaust temperature",null,null,{"$f":"'Steam Injection'!M412","v":949.99},"°F",null,"h = 0 @ 300 °K, water in vapor phase"]
[null,"Gas turbine exhaust temperature",null,null,{"$f":"E180+459.67","v":1409.66},"R"]
[null,null,"N2","O2","CO2","SO2","Air","Other (assume N2)","H2O (v)","Fuel inputs (assume CH4)","H2O latent heat vaporization (hfg) @ 0 °C"]
[null,"Enthalpy (Btu/lbmol)",{"$f":"((C136*$E$181+1/2*C137*$E$181^2+C138/3*$E$181^3+C139/4*$E$181^4)+C156)","v":6237.8665960237777},6588.8682156909717,9372.0930161650995,9737.3935423291605,6293.3947586304148,6237.8665960237777,7456.2442510077017,10165.544049558262,{"$f":"K174","v":19353.258666666665}]
[null,"Enthalpy (Btu/mol)",{"$f":"C183/453.592","v":13.752153027442676},{"$f":"D183/453.592","v":14.52597976968503},20.661945131671413,21.467295592358685,13.874571770733203,13.752153027442676,16.43821815862648,22.411206656110036,{"$f":"K166","v":42.666666666666664}]
[]
[]
[null,"Table 4.6: HRSG outlet exhaust conditions"]
[null,"Inputs",null,null,"Value","Unit",null,"Notes"]
[null,"HRSG outlet exhaust temperature",null,null,{"$f":"'Steam Injection'!M304","v":500},"°F",null,"h = 0 @ 300 °K, water in vapor phase"]
[null,"HRSG outlet exhaust temperature",null,"conv.",{"$f":"E189+459.67","v":959.67000000000007},"R"]
[null,null,"N2","O2","CO2","SO2","Air","Other (assume N2)","H2O (v)","Fuel inputs (assume CH4)","H2O latent heat vaporization (hfg) @ 0 °C"]
[null,"Enthalpy (Btu/lbmol)",{"$f":"(C136*$E$190+1/2*C137*$E$190^2+C138/3*$E$190^3+C139/4*$E$190^4)+C156","v":2953.1648482021465},3070.9388743244326,4161.773636907169,4390.441240487773,2969.6938584304653,2953.1648482021465,3472.075846256238,4229.6085550691296,{"$f":"K165","v":19353.258666666665}]
[null,"Enthalpy (Btu/mol)",{"$f":"C192/453.592","v":6.5106193411747704},{"$f":"D192/453.592","v":6.770266835227325},9.1751477912025994,9.6792739741613012,6.5470596007655901,6.5106193411747704,7.6546231993867577,9.3246983083236259,{"$f":"K166","v":42.666666666666664}]
[]
[]
[]
["5. Properties of water and steam"]
[]
[null,"Table 5.1: Properties of water"]
[null,"Parameter",null,"Case","Value","Unit","Notes"]
[null,"Density of fresh water",null,null,8.3436000000000003,"lb/gal","at 32 °F"]
[null,null,null,null,{"$f":"E201*42","v":350.43119999999999},"lb/bbl","at 32 °F"]
[null,null,null,null,{"$f":"E202/E35","v":62.414460384499726},"lb/ft3","at 32 °F"]
[null,"Water hfg",null,null,1075.2,"Btu/lbmass","Enthalpy of vaporization of pure water @ 0C"]
[null,null,null,"conv.",{"$f":"E204/453.6","v":2.3703703703703702},"Btu/g"]
[null,null,null,"conv.",{"$f":"E205*18","v":42.666666666666664},"Btu/mol"]
[null,"Source: www.engineeringtoolbox.com"]
[null,"Cengel & Boles (2006, 5th edition) Table A-4E"]
[]
[]
[null,"Table 5.2: Properties of saturated water and steam as a function of temperature"]
[null,"T","P","Liquid volume","Liquid U","Liquid H","Liquid S","Vapor volume"]
[null,"°F","psia","ft^3/lb","Btu/lbm","Btu/lbm","Btu/(lbm °R)","ft^3/lb"]
[null,32,8.8649000000000006E-2,1.602E-2,-1.814E-2,-1.788E-2,-3.6999999999999998E-5,3302]
[null,40,0.12173,1.602E-2,8.032,8.032,1.6199999999999999E-2,2443]
[null,60,0.25639000000000001,1.6029999999999999E-2,28.08,28.08,5.5539999999999999E-2,1206]
[null,80,0.50744,1.6070000000000001E-2,48.07,48.07,9.3289999999999998E-2,632.4]
[null,100,0.95043999999999995,1.6129999999999999E-2,68.03,68.040000000000006,0.12959999999999999,349.9]
[null,120,1.6949000000000001,1.6199999999999999E-2,88,88,0.16470000000000001,203]
[null,140,2.8929,1.6289999999999999E-2,108,108,0.19850000000000001,122.8]
[null,160,4.7472000000000003,1.6389999999999998E-2,128,128,0.23130000000000001,77.19]
[null,180,7.5195999999999996,1.651E-2,148,148,0.2631,50.17]
[null,200,11.538,1.6629999999999999E-2,168.1,168.1,0.29399999999999998,33.61]
[null,220,17.201000000000001,1.677E-2,188.2,188.2,0.3241,23.13]
[null,240,24.984999999999999,1.6920000000000001E-2,208.4,208.5,0.35339999999999999,16.32]
[null,260,35.445,1.7080000000000001E-2,228.7,228.8,0.38200000000000001,11.76]
[null,280,49.218000000000004,1.7260000000000001E-2,249.1,249.2,0.40989999999999999,8.6440000000000001]
[null,300,67.021000000000001,1.745E-2,269.5,269.8,0.43719999999999998,6.4669999999999996]
[null,320,89.653000000000006,1.7649999999999999E-2,290.2,290.39999999999998,0.46400000000000002,4.915]
[null,340,118,1.787E-2,310.89999999999998,311.3,0.49030000000000001,3.7890000000000001]
[null,360,153,1.8110000000000001E-2,331.8,332.3,0.51619999999999999,2.9580000000000002]
[null,380,195.71,1.8360000000000001E-2,352.9,353.6,0.54159999999999997,2.3359999999999999]
[null,400,247.22,1.864E-2,374.2,375.1,0.56669999999999998,1.8640000000000001]
[null,420,308.70999999999998,1.8939999999999999E-2,395.8,396.9,0.59150000000000003,1.5009999999999999]
[null,440,381.44,1.9259999999999999E-2,417.6,419,0.61609999999999998,1.218]
[null,460,466.71,1.9619999999999999E-2,439.8,441.5,0.64049999999999996,0.99519999999999997]
[null,480,565.91999999999996,2.001E-2,462.3,464.4,0.66479999999999995,0.81799999999999995]
[null,500,680.53,2.044E-2,485.3,487.9,0.68899999999999995,0.67559999999999998]
[null,520,812.08,2.0920000000000001E-2,508.8,511.9,0.71330000000000005,0.56010000000000004]
[null,540,962.23,2.146E-2,532.9,536.70000000000005,0.73770000000000002,0.46560000000000001]
[null,560,1132.7,2.2079999999999999E-2,557.70000000000005,562.29999999999995,0.76239999999999997,0.38750000000000001]
[null,580,1325.4,2.2790000000000001E-2,583.4,589,0.78749999999999998,0.32229999999999998]
[null,600,1542.5,2.3630000000000002E-2,610.20000000000005,616.9,0.81330000000000002,0.26750000000000002]
[null,620,1786.1,2.4649999999999998E-2,638.5,646.6,0.84,0.22070000000000001]
[null,640,2059.1999999999998,2.5930000000000002E-2,668.8,678.7,0.86829999999999996,0.1802]
[null,660,2364.8000000000002,2.7660000000000001E-2,702.4,714.5,0.89910000000000001,0.1444]
[null,680,2707.3,2.7660000000000001E-2,702.4,714.5,0.89910000000000001,0.1444]
[null,700,3092.9,2.7660000000000001E-2,702.4,714.5,0.89910000000000001,0.1444]
[null,705.10299999999995,3200.1,4.9750000000000003E-2,868,897.5,1.054,4.9750000000000003E-2]
[null,"Source: Knovel Steam Tables, Table: 1b. Saturation Properties vs. Temperature - English Units"]
[]
[]
[null,"Table 5.3: Properties of saturated water and steam as a function of pressure"]
[null,"P (psia)","T  (°F)","liquid v  (ft3/lb)","liquid u (Btu/lb)","liquid h (Btu/lb)","liquid s (Btu/(lb °R))","vapor v  (ft3/lb)","vapor u (Btu/lb)","vapor h (Btu/lb)","vapor s (Btu/(lb °R))"]
[null,15,213,1.6719999999999999E-2,181.1,181.2,0.31369999999999998,26.3,1078,1151,1.7549999999999999]
[null,20,227.9,1.6830000000000001E-2,196.2,196.2,0.33579999999999999,20.09,1082,1156,1.732]
[null,25,240,1.6920000000000001E-2,208.4,208.5,0.35339999999999999,16.309999999999999,1085,1161,1.714]
[null,30,250.3,1.7000000000000001E-2,218.8,218.9,0.36820000000000003,13.75,1088,1164,1.7]
[null,35,259.3,1.7080000000000001E-2,227.9,228,0.38090000000000002,11.9,1090,1167,1.6870000000000001]
[null,40,267.2,1.7149999999999999E-2,236,236.2,0.3921,10.5,1092,1170,1.677]
[null,45,274.39999999999998,1.721E-2,243.4,243.5,0.4022,9.4019999999999992,1094,1172,1.667]
[null,50,281,1.7270000000000001E-2,250.1,250.2,0.4113,8.5169999999999995,1095,1174,1.659]
[null,55,287.10000000000002,1.7319999999999999E-2,256.3,256.39999999999998,0.41959999999999997,7.7880000000000003,1097,1176,1.651]
[null,60,292.7,1.738E-2,262,262.2,0.42730000000000001,7.1760000000000002,1098,1178,1.6439999999999999]
[null,65,298,1.7430000000000001E-2,267.39999999999998,267.7,0.4345,6.6559999999999997,1099,1179,1.6379999999999999]
[null,70,302.89999999999998,1.7479999999999999E-2,272.5,272.8,0.44119999999999998,6.2069999999999999,1100,1181,1.6319999999999999]
[null,75,307.60000000000002,1.7520000000000001E-2,277.39999999999998,277.60000000000002,0.44750000000000001,5.8159999999999998,1101,1182,1.6259999999999999]
[null,80,312,1.7569999999999999E-2,281.89999999999998,282.2,0.45340000000000003,5.4729999999999999,1102,1183,1.621]
[null,85,316.2,1.7610000000000001E-2,286.3,286.60000000000002,0.45900000000000002,5.1689999999999996,1103,1184,1.6160000000000001]
[null,90,320.3,1.7659999999999999E-2,290.39999999999998,290.7,0.46439999999999998,4.8970000000000002,1104,1186,1.6120000000000001]
[null,95,324.10000000000002,1.77E-2,294.39999999999998,294.7,0.46949999999999997,4.6529999999999996,1105,1187,1.607]
[null,100,327.8,1.7739999999999999E-2,298.2,298.60000000000002,0.47439999999999999,4.4320000000000004,1105,1187,1.603]
[null,105,331.4,1.7770000000000001E-2,301.89999999999998,302.3,0.47899999999999998,4.2320000000000002,1106,1188,1.599]
[null,110,334.8,1.7809999999999999E-2,305.5,305.8,0.48349999999999999,4.05,1107,1189,1.595]
[null,115,338.1,1.7850000000000001E-2,308.89999999999998,309.3,0.48780000000000001,3.8820000000000001,1107,1190,1.5920000000000001]
[null,120,341.3,1.789E-2,312.2,312.60000000000002,0.49199999999999999,3.7290000000000001,1108,1191,1.5880000000000001]
[null,125,344.3,1.7919999999999998E-2,315.39999999999998,315.89999999999998,0.496,3.5870000000000002,1108,1191,1.585]
[null,130,347.3,1.796E-2,318.60000000000002,319,0.49980000000000002,3.4550000000000001,1109,1192,1.5820000000000001]
[null,135,350.2,1.7989999999999999E-2,321.60000000000002,322,0.50360000000000005,3.3330000000000002,1109,1193,1.579]
[null,140,353,1.8020000000000001E-2,324.5,325,0.50719999999999998,3.22,1110,1193,1.5760000000000001]
[null,145,355.8,1.806E-2,327.39999999999998,327.9,0.51070000000000004,3.1139999999999999,1110,1194,1.573]
[null,150,358.4,1.8089999999999998E-2,330.2,330.7,0.5141,3.0150000000000001,1111,1194,1.57]
[null,155,361,1.8120000000000001E-2,332.9,333.4,0.51749999999999996,2.9220000000000002,1111,1195,1.5669999999999999]
[null,160,363.6,1.8149999999999999E-2,335.6,336.1,0.52070000000000005,2.8340000000000001,1112,1196,1.5649999999999999]
[null,165,366,1.8180000000000002E-2,338.2,338.7,0.52390000000000003,2.7519999999999998,1112,1196,1.5620000000000001]
[null,170,368.4,1.821E-2,340.7,341.3,0.52690000000000003,2.6749999999999998,1112,1196,1.56]
[null,175,370.8,1.8239999999999999E-2,343.2,343.8,0.52990000000000004,2.601,1113,1197,1.5569999999999999]
[null,180,373.1,1.8270000000000002E-2,345.6,346.2,0.53280000000000005,2.532,1113,1197,1.5549999999999999]
[null,185,375.3,1.83E-2,348,348.6,0.53569999999999995,2.4660000000000002,1113,1198,1.5529999999999999]
[null,190,377.5,1.8329999999999999E-2,350.3,351,0.53849999999999998,2.4039999999999999,1114,1198,1.55]
[null,195,379.7,1.8360000000000001E-2,352.6,353.3,0.54120000000000001,2.3439999999999999,1114,1198,1.548]
[null,200,381.8,1.839E-2,354.9,355.5,0.54390000000000005,2.2879999999999998,1114,1199,1.546]
[null,205,383.9,1.8409999999999999E-2,357.1,357.8,0.54649999999999999,2.234,1114,1199,1.544]
[null,210,385.9,1.8440000000000002E-2,359.2,359.9,0.54910000000000003,2.1829999999999998,1115,1199,1.542]
[null,215,387.9,1.847E-2,361.3,362.1,0.55159999999999998,2.1339999999999999,1115,1200,1.54]
[null,220,389.9,1.8499999999999999E-2,363.4,364.2,0.55410000000000004,2.0870000000000002,1115,1200,1.538]
[null,225,391.8,1.8519999999999998E-2,365.5,366.3,0.55649999999999999,2.0419999999999998,1115,1200,1.536]
[null,230,393.7,1.8550000000000001E-2,367.5,368.3,0.55879999999999996,1.9990000000000001,1116,1201,1.534]
[null,235,395.6,1.8579999999999999E-2,369.5,370.3,0.56120000000000003,1.958,1116,1201,1.532]
[null,240,397.4,1.8599999999999998E-2,371.5,372.3,0.5635,1.9179999999999999,1116,1201,1.5309999999999999]
[null,245,399.2,1.8630000000000001E-2,373.4,374.2,0.56569999999999998,1.88,1116,1201,1.5289999999999999]
[null,250,401,1.865E-2,375.3,376.2,0.56789999999999996,1.8440000000000001,1116,1202,1.5269999999999999]
[null,255,402.7,1.8679999999999999E-2,377.2,378.1,0.57010000000000005,1.8089999999999999,1116,1202,1.5249999999999999]
[null,260,404.5,1.8700000000000001E-2,379,379.9,0.57230000000000003,1.7749999999999999,1117,1202,1.524]
[null,265,406.1,1.873E-2,380.8,381.8,0.57440000000000002,1.742,1117,1202,1.522]
[null,270,407.8,1.8749999999999999E-2,382.6,383.6,0.57640000000000002,1.7110000000000001,1117,1202,1.52]
[null,275,409.5,1.8780000000000002E-2,384.4,385.4,0.57850000000000001,1.68,1117,1203,1.5189999999999999]
[null,280,411.1,1.8800000000000001E-2,386.2,387.1,0.58050000000000002,1.651,1117,1203,1.5169999999999999]
[null,285,412.7,1.883E-2,387.9,388.9,0.58250000000000002,1.623,1117,1203,1.516]
[null,290,414.3,1.8849999999999999E-2,389.6,390.6,0.58440000000000003,1.5960000000000001,1117,1203,1.514]
[null,295,415.8,1.8870000000000001E-2,391.3,392.3,0.58640000000000003,1.569,1118,1203,1.5129999999999999]
[null,300,417.4,1.89E-2,393,394,0.58830000000000005,1.5429999999999999,1118,1203,1.5109999999999999]
[null,305,418.9,1.8919999999999999E-2,394.6,395.7,0.59009999999999996,1.5189999999999999,1118,1204,1.51]
[null,310,420.4,1.8939999999999999E-2,396.2,397.3,0.59199999999999997,1.4950000000000001,1118,1204,1.508]
[null,315,421.9,1.8970000000000001E-2,397.8,398.9,0.59379999999999999,1.4710000000000001,1118,1204,1.5069999999999999]
[null,320,423.3,1.899E-2,399.4,400.5,0.59560000000000002,1.4490000000000001,1118,1204,1.5049999999999999]
[null,325,424.8,1.9009999999999999E-2,401,402.1,0.59740000000000004,1.427,1118,1204,1.504]
[null,330,426.2,1.9040000000000001E-2,402.5,403.7,0.59919999999999995,1.405,1118,1204,1.5029999999999999]
[null,335,427.6,1.9060000000000001E-2,404.1,405.3,0.60089999999999999,1.385,1118,1204,1.5009999999999999]
[null,340,429,1.908E-2,405.6,406.8,0.60260000000000002,1.365,1118,1204,1.5]
[null,345,430.4,1.9099999999999999E-2,407.1,408.3,0.60429999999999995,1.345,1119,1204,1.4990000000000001]
[null,350,431.8,1.9130000000000001E-2,408.6,409.8,0.60599999999999998,1.3260000000000001,1119,1204,1.4970000000000001]
[null,355,433.1,1.915E-2,410.1,411.3,0.60760000000000003,1.3080000000000001,1119,1205,1.496]
[null,360,434.4,1.917E-2,411.5,412.8,0.60929999999999995,1.29,1119,1205,1.4950000000000001]
[null,365,435.8,1.9189999999999999E-2,413,414.3,0.6109,1.272,1119,1205,1.494]
[null,370,437.1,1.9210000000000001E-2,414.4,415.7,0.61250000000000004,1.2549999999999999,1119,1205,1.492]
[null,375,438.4,1.924E-2,415.8,417.2,0.61409999999999998,1.2390000000000001,1119,1205,1.4910000000000001]
[null,380,439.6,1.9259999999999999E-2,417.2,418.6,0.61560000000000004,1.222,1119,1205,1.49]
[null,385,440.9,1.9279999999999999E-2,418.6,420,0.61719999999999997,1.2070000000000001,1119,1205,1.4890000000000001]
[null,390,442.2,1.9300000000000001E-2,420,421.4,0.61870000000000003,1.1910000000000001,1119,1205,1.488]
[null,395,443.4,1.932E-2,421.4,422.8,0.62019999999999997,1.1759999999999999,1119,1205,1.486]
[null,400,444.6,1.934E-2,422.7,424.2,0.62170000000000003,1.1619999999999999,1119,1205,1.4850000000000001]
[null,405,445.8,1.9359999999999999E-2,424.1,425.5,0.62319999999999998,1.147,1119,1205,1.484]
[null,410,447.1,1.9380000000000001E-2,425.4,426.9,0.62470000000000003,1.133,1119,1205,1.4830000000000001]
[null,415,448.2,1.941E-2,426.7,428.2,0.62619999999999998,1.1200000000000001,1119,1205,1.482]
[null,420,449.4,1.9429999999999999E-2,428.1,429.6,0.62760000000000005,1.1060000000000001,1119,1205,1.4810000000000001]
[null,425,450.6,1.9449999999999999E-2,429.4,430.9,0.629,1.093,1119,1205,1.48]
[null,430,451.8,1.9470000000000001E-2,430.6,432.2,0.63049999999999995,1.081,1119,1205,1.4790000000000001]
[null,435,452.9,1.949E-2,431.9,433.5,0.63190000000000002,1.0680000000000001,1119,1205,1.4770000000000001]
[null,440,454.1,1.951E-2,433.2,434.8,0.63329999999999997,1.056,1119,1205,1.476]
[null,445,455.2,1.9529999999999999E-2,434.5,436.1,0.63460000000000005,1.044,1119,1205,1.4750000000000001]
[null,450,456.3,1.9550000000000001E-2,435.7,437.3,0.63600000000000001,1.032,1119,1205,1.474]
[null,455,457.4,1.9570000000000001E-2,436.9,438.6,0.63739999999999997,1.0209999999999999,1119,1205,1.4730000000000001]
[null,460,458.5,1.959E-2,438.2,439.8,0.63870000000000005,1.01,1119,1205,1.472]
[null,465,459.6,1.9609999999999999E-2,439.4,441.1,0.64,0.99880000000000002,1119,1205,1.4710000000000001]
[null,470,460.7,1.9630000000000002E-2,440.6,442.3,0.64139999999999997,0.98809999999999998,1119,1205,1.47]
[null,475,461.8,1.9650000000000001E-2,441.8,443.5,0.64270000000000005,0.97760000000000002,1119,1205,1.4690000000000001]
[null,480,462.9,1.967E-2,443,444.8,0.64400000000000002,0.96730000000000005,1119,1205,1.468]
[null,485,463.9,1.9689999999999999E-2,444.2,446,0.6452,0.95720000000000005,1119,1205,1.4670000000000001]
[null,490,465,1.9709999999999998E-2,445.4,447.2,0.64649999999999996,0.94740000000000002,1119,1205,1.466]
[null,495,466,1.9730000000000001E-2,446.5,448.3,0.64780000000000004,0.93769999999999998,1119,1205,1.4650000000000001]
[null,500,467,1.975E-2,447.7,449.5,0.64900000000000002,0.92820000000000003,1119,1205,1.464]
[null,505,468.1,1.9769999999999999E-2,448.9,450.7,0.65029999999999999,0.91879999999999995,1119,1205,1.4630000000000001]
[null,510,469.1,1.9789999999999999E-2,450,451.9,0.65149999999999997,0.90969999999999995,1119,1205,1.462]
[null,515,470.1,1.9810000000000001E-2,451.1,453,0.65280000000000005,0.90069999999999995,1119,1205,1.4610000000000001]
[null,520,471.1,1.983E-2,452.3,454.2,0.65400000000000003,0.89190000000000003,1119,1205,1.46]
[null,525,472.1,1.985E-2,453.4,455.3,0.6552,0.88319999999999999,1119,1205,1.46]
[null,530,473.1,1.9869999999999999E-2,454.5,456.5,0.65639999999999998,0.87470000000000003,1119,1205,1.4590000000000001]
[null,535,474.1,1.9890000000000001E-2,455.6,457.6,0.65759999999999996,0.86639999999999995,1119,1205,1.458]
[null,540,475.1,1.9910000000000001E-2,456.7,458.7,0.65880000000000005,0.85819999999999996,1119,1205,1.4570000000000001]
[null,545,476,1.993E-2,457.8,459.8,0.65990000000000004,0.85009999999999997,1119,1205,1.456]
[null,550,477,1.9949999999999999E-2,458.9,460.9,0.66110000000000002,0.84219999999999995,1119,1205,1.4550000000000001]
[null,555,477.9,1.9970000000000002E-2,460,462.1,0.6623,0.83450000000000002,1119,1205,1.454]
[null,560,478.9,1.9990000000000001E-2,461.1,463.2,0.66339999999999999,0.82679999999999998,1119,1204,1.4530000000000001]
[null,565,479.8,2.001E-2,462.1,464.2,0.66459999999999997,0.81930000000000003,1119,1204,1.452]
[null,570,480.8,2.0029999999999999E-2,463.2,465.3,0.66569999999999996,0.81189999999999996,1119,1204,1.4510000000000001]
[null,575,481.7,2.0039999999999999E-2,464.3,466.4,0.66679999999999995,0.80469999999999997,1119,1204,1.4510000000000001]
[null,580,482.6,2.0060000000000001E-2,465.3,467.5,0.66790000000000005,0.79759999999999998,1119,1204,1.45]
[null,585,483.5,2.0080000000000001E-2,466.4,468.5,0.66900000000000004,0.79049999999999998,1119,1204,1.4490000000000001]
[null,590,484.4,2.01E-2,467.4,469.6,0.67020000000000002,0.78359999999999996,1118,1204,1.448]
[null,595,485.3,2.0119999999999999E-2,468.4,470.7,0.67120000000000002,0.77680000000000005,1118,1204,1.4470000000000001]
[null,600,486.2,2.0140000000000002E-2,469.5,471.7,0.67230000000000001,0.7702,1118,1204,1.446]
[null,605,487.1,2.0160000000000001E-2,470.5,472.8,0.6734,0.76359999999999995,1118,1204,1.446]
[null,610,488,2.018E-2,471.5,473.8,0.67449999999999999,0.7571,1118,1204,1.4450000000000001]
[null,615,488.9,2.0199999999999999E-2,472.5,474.8,0.67559999999999998,0.75070000000000003,1118,1204,1.444]
[null,620,489.8,2.0219999999999998E-2,473.5,475.8,0.67659999999999998,0.74450000000000005,1118,1204,1.4430000000000001]
[null,625,490.7,2.0230000000000001E-2,474.5,476.9,0.67769999999999997,0.73829999999999996,1118,1203,1.4419999999999999]
[null,630,491.5,2.0250000000000001E-2,475.5,477.9,0.67869999999999997,0.73219999999999996,1118,1203,1.4410000000000001]
[null,635,492.4,2.027E-2,476.5,478.9,0.67979999999999996,0.72619999999999996,1118,1203,1.4410000000000001]
[null,640,493.2,2.0289999999999999E-2,477.5,479.9,0.68079999999999996,0.72030000000000005,1118,1203,1.44]
[null,645,494.1,2.0310000000000002E-2,478.5,480.9,0.68179999999999996,0.71450000000000002,1118,1203,1.4390000000000001]
[null,650,494.9,2.0330000000000001E-2,479.5,481.9,0.68289999999999995,0.70879999999999999,1118,1203,1.4379999999999999]
[null,655,495.8,2.035E-2,480.4,482.9,0.68389999999999995,0.70309999999999995,1118,1203,1.4370000000000001]
[null,660,496.6,2.0369999999999999E-2,481.4,483.9,0.68489999999999995,0.6976,1118,1203,1.4370000000000001]
[null,665,497.4,2.0379999999999999E-2,482.4,484.9,0.68589999999999995,0.69210000000000005,1118,1203,1.4359999999999999]
[null,670,498.3,2.0400000000000001E-2,483.3,485.8,0.68689999999999996,0.68669999999999998,1117,1203,1.4350000000000001]
[null,675,499.1,2.0420000000000001E-2,484.3,486.8,0.68789999999999996,0.68140000000000001,1117,1202,1.4339999999999999]
[null,680,499.9,2.044E-2,485.2,487.8,0.68889999999999996,0.67610000000000003,1117,1202,1.4339999999999999]
[null,685,500.7,2.0459999999999999E-2,486.2,488.8,0.68989999999999996,0.67100000000000004,1117,1202,1.4330000000000001]
[null,690,501.5,2.0480000000000002E-2,487.1,489.7,0.69089999999999996,0.66590000000000005,1117,1202,1.4319999999999999]
[null,695,502.3,2.0500000000000001E-2,488,490.7,0.69179999999999997,0.66080000000000005,1117,1202,1.431]
[null,700,503.1,2.051E-2,489,491.6,0.69279999999999997,0.65590000000000004,1117,1202,1.431]
[null,705,503.9,2.053E-2,489.9,492.6,0.69379999999999997,0.65100000000000002,1117,1202,1.43]
[null,710,504.7,2.0549999999999999E-2,490.8,493.5,0.69469999999999998,0.64610000000000001,1117,1202,1.429]
[null,715,505.5,2.0570000000000001E-2,491.7,494.4,0.69569999999999999,0.64139999999999997,1117,1202,1.4279999999999999]
[null,720,506.3,2.0590000000000001E-2,492.6,495.4,0.6966,0.63670000000000004,1117,1201,1.4279999999999999]
[null,725,507.1,2.061E-2,493.5,496.3,0.6976,0.63200000000000001,1117,1201,1.427]
[null,730,507.8,2.0619999999999999E-2,494.5,497.2,0.69850000000000001,0.62749999999999995,1116,1201,1.4259999999999999]
[null,735,508.6,2.0639999999999999E-2,495.4,498.2,0.69940000000000002,0.62290000000000001,1116,1201,1.425]
[null,740,509.4,2.0660000000000001E-2,496.3,499.1,0.70040000000000002,0.61850000000000005,1116,1201,1.425]
[null,745,510.1,2.068E-2,497.1,500,0.70130000000000003,0.61409999999999998,1116,1201,1.4239999999999999]
[null,750,510.9,2.07E-2,498,500.9,0.70220000000000005,0.60970000000000002,1116,1201,1.423]
[null,755,511.7,2.0719999999999999E-2,498.9,501.8,0.70309999999999995,0.60550000000000004,1116,1201,1.4219999999999999]
[null,760,512.4,2.0729999999999998E-2,499.8,502.7,0.70399999999999996,0.60119999999999996,1116,1200,1.4219999999999999]
[null,765,513.1,2.0750000000000001E-2,500.7,503.6,0.70499999999999996,0.59699999999999998,1116,1200,1.421]
[null,770,513.9,2.077E-2,501.6,504.5,0.70589999999999997,0.59289999999999998,1116,1200,1.42]
[null,775,514.6,2.0789999999999999E-2,502.4,505.4,0.70679999999999998,0.58879999999999999,1116,1200,1.42]
[null,780,515.4,2.0809999999999999E-2,503.3,506.3,0.70760000000000001,0.58479999999999999,1115,1200,1.419]
[null,785,516.1,2.0820000000000002E-2,504.2,507.2,0.70850000000000002,0.58079999999999998,1115,1200,1.4179999999999999]
[null,790,516.79999999999995,2.0840000000000001E-2,505,508.1,0.70940000000000003,0.57689999999999997,1115,1200,1.4179999999999999]
[null,795,517.5,2.086E-2,505.9,509,0.71030000000000004,0.57299999999999995,1115,1199,1.417]
[null,800,518.29999999999995,2.0879999999999999E-2,506.7,509.8,0.71120000000000005,0.56920000000000004,1115,1199,1.4159999999999999]
[null,805,519,2.0899999999999998E-2,507.6,510.7,0.71209999999999996,0.56540000000000001,1115,1199,1.4159999999999999]
[null,810,519.70000000000005,2.0920000000000001E-2,508.4,511.6,0.71289999999999998,0.56159999999999999,1115,1199,1.415]
[null,815,520.4,2.0930000000000001E-2,509.3,512.4,0.71379999999999999,0.55789999999999995,1115,1199,1.4139999999999999]
[null,820,521.1,2.095E-2,510.1,513.29999999999995,0.71460000000000001,0.55430000000000001,1115,1199,1.413]
[null,825,521.79999999999995,2.0969999999999999E-2,511,514.20000000000005,0.71550000000000002,0.55069999999999997,1114,1199,1.413]
[null,830,522.5,2.0990000000000002E-2,511.8,515,0.71640000000000004,0.54710000000000003,1114,1198,1.4119999999999999]
[null,835,523.20000000000005,2.1010000000000001E-2,512.6,515.9,0.71719999999999995,0.54359999999999997,1114,1198,1.411]
[null,840,523.9,2.102E-2,513.5,516.70000000000005,0.71809999999999996,0.54010000000000002,1114,1198,1.411]
[null,845,524.6,2.104E-2,514.29999999999995,517.6,0.71889999999999998,0.53659999999999997,1114,1198,1.41]
[null,850,525.29999999999995,2.1059999999999999E-2,515.1,518.4,0.71970000000000001,0.53320000000000001,1114,1198,1.409]
[null,855,526,2.1080000000000002E-2,515.9,519.29999999999995,0.72060000000000002,0.52980000000000005,1114,1198,1.409]
[null,860,526.70000000000005,2.1100000000000001E-2,516.70000000000005,520.1,0.72140000000000004,0.52649999999999997,1114,1197,1.4079999999999999]
[null,865,527.29999999999995,2.111E-2,517.6,520.9,0.72219999999999995,0.5232,1114,1197,1.407]
[null,870,528,2.1129999999999999E-2,518.4,521.79999999999995,0.72309999999999997,0.51990000000000003,1113,1197,1.407]
[null,875,528.70000000000005,2.1149999999999999E-2,519.20000000000005,522.6,0.72389999999999999,0.51670000000000005,1113,1197,1.4059999999999999]
[null,880,529.4,2.1170000000000001E-2,520,523.4,0.72470000000000001,0.51349999999999996,1113,1197,1.4059999999999999]
[null,885,530,2.1190000000000001E-2,520.79999999999995,524.29999999999995,0.72550000000000003,0.51029999999999998,1113,1197,1.405]
[null,890,530.70000000000005,2.12E-2,521.6,525.1,0.72629999999999995,0.50719999999999998,1113,1196,1.4039999999999999]
[null,895,531.4,2.1219999999999999E-2,522.4,525.9,0.72709999999999997,0.50409999999999999,1113,1196,1.4039999999999999]
[null,900,532,2.1239999999999998E-2,523.20000000000005,526.70000000000005,0.72789999999999999,0.50109999999999999,1113,1196,1.403]
[null,905,532.70000000000005,2.1260000000000001E-2,524,527.5,0.72870000000000001,0.498,1113,1196,1.4019999999999999]
[null,910,533.29999999999995,2.128E-2,524.79999999999995,528.29999999999995,0.72950000000000004,0.495,1112,1196,1.4019999999999999]
[null,915,534,2.129E-2,525.6,529.20000000000005,0.73029999999999995,0.49209999999999998,1112,1196,1.401]
[null,920,534.6,2.1309999999999999E-2,526.29999999999995,530,0.73109999999999997,0.48920000000000002,1112,1195,1.4]
[null,925,535.29999999999995,2.1329999999999998E-2,527.1,530.79999999999995,0.7319,0.48630000000000001,1112,1195,1.4]
[null,930,535.9,2.1350000000000001E-2,527.9,531.6,0.73270000000000002,0.4834,1112,1195,1.399]
[null,935,536.6,2.137E-2,528.70000000000005,532.4,0.73350000000000004,0.48049999999999998,1112,1195,1.399]
[null,940,537.20000000000005,2.138E-2,529.5,533.20000000000005,0.73429999999999995,0.47770000000000001,1112,1195,1.3979999999999999]
[null,945,537.79999999999995,2.1399999999999999E-2,530.20000000000005,534,0.73499999999999999,0.47489999999999999,1112,1195,1.397]
[null,950,538.5,2.1420000000000002E-2,531,534.79999999999995,0.73580000000000001,0.47220000000000001,1111,1194,1.397]
[null,955,539.1,2.1440000000000001E-2,531.79999999999995,535.5,0.73660000000000003,0.46949999999999997,1111,1194,1.3959999999999999]
[null,960,539.70000000000005,2.146E-2,532.5,536.29999999999995,0.73740000000000006,0.4667,1111,1194,1.395]
[null,965,540.29999999999995,2.147E-2,533.29999999999995,537.1,0.73809999999999998,0.46410000000000001,1111,1194,1.395]
[null,970,541,2.1489999999999999E-2,534,537.9,0.7389,0.46139999999999998,1111,1194,1.3939999999999999]
[null,975,541.6,2.1510000000000001E-2,534.79999999999995,538.70000000000005,0.73960000000000004,0.45879999999999999,1111,1194,1.3939999999999999]
[null,980,542.20000000000005,2.1530000000000001E-2,535.6,539.5,0.74039999999999995,0.45619999999999999,1111,1193,1.393]
[null,985,542.79999999999995,2.155E-2,536.29999999999995,540.20000000000005,0.74119999999999997,0.4536,1110,1193,1.3919999999999999]
[null,990,543.4,2.1559999999999999E-2,537.1,541,0.7419,0.4511,1110,1193,1.3919999999999999]
[null,995,544,2.1579999999999998E-2,537.79999999999995,541.79999999999995,0.74270000000000003,0.4486,1110,1193,1.391]
[null,1000,544.70000000000005,2.1600000000000001E-2,538.6,542.6,0.74339999999999995,0.4461,1110,1193,1.391]
[null,1005,545.29999999999995,2.162E-2,539.29999999999995,543.29999999999995,0.74419999999999997,0.44359999999999999,1110,1192,1.39]
[null,1010,545.9,2.164E-2,540.1,544.1,0.74490000000000001,0.44109999999999999,1110,1192,1.389]
[null,1015,546.5,2.1649999999999999E-2,540.79999999999995,544.9,0.74560000000000004,0.43869999999999998,1110,1192,1.389]
[null,1020,547.1,2.1669999999999998E-2,541.5,545.6,0.74639999999999995,0.43630000000000002,1109,1192,1.3879999999999999]
[null,1025,547.70000000000005,2.1690000000000001E-2,542.29999999999995,546.4,0.74709999999999999,0.43390000000000001,1109,1192,1.3879999999999999]
[null,1030,548.29999999999995,2.171E-2,543,547.1,0.74780000000000002,0.43159999999999998,1109,1191,1.387]
[null,1035,548.79999999999995,2.1729999999999999E-2,543.70000000000005,547.9,0.74860000000000004,0.42920000000000003,1109,1191,1.3859999999999999]
[null,1040,549.4,2.1739999999999999E-2,544.5,548.6,0.74929999999999997,0.4269,1109,1191,1.3859999999999999]
[null,1045,550,2.1760000000000002E-2,545.20000000000005,549.4,0.75,0.42459999999999998,1109,1191,1.385]
[null,1050,550.6,2.1780000000000001E-2,545.9,550.20000000000005,0.75070000000000003,0.42230000000000001,1109,1191,1.385]
[null,1055,551.20000000000005,2.18E-2,546.6,550.9,0.75149999999999995,0.42009999999999997,1108,1190,1.3839999999999999]
[null,1060,551.79999999999995,2.1819999999999999E-2,547.4,551.6,0.75219999999999998,0.4178,1108,1190,1.3839999999999999]
[null,1065,552.4,2.1829999999999999E-2,548.1,552.4,0.75290000000000001,0.41560000000000002,1108,1190,1.383]
[null,1070,552.9,2.1850000000000001E-2,548.79999999999995,553.1,0.75360000000000005,0.41339999999999999,1108,1190,1.3819999999999999]
[null,1075,553.5,2.1870000000000001E-2,549.5,553.9,0.75429999999999997,0.41120000000000001,1108,1190,1.3819999999999999]
[null,1080,554.1,2.189E-2,550.20000000000005,554.6,0.755,0.40910000000000002,1108,1189,1.381]
[null,1085,554.6,2.1909999999999999E-2,551,555.29999999999995,0.75570000000000004,0.40699999999999997,1107,1189,1.381]
[null,1090,555.20000000000005,2.1919999999999999E-2,551.70000000000005,556.1,0.75639999999999996,0.40479999999999999,1107,1189,1.38]
[null,1095,555.79999999999995,2.1940000000000001E-2,552.4,556.79999999999995,0.7571,0.4027,1107,1189,1.38]
[null,1100,556.4,2.196E-2,553.1,557.6,0.75780000000000003,0.40060000000000001,1107,1189,1.379]
[null,1105,556.9,2.198E-2,553.79999999999995,558.29999999999995,0.75849999999999995,0.39860000000000001,1107,1188,1.3779999999999999]
[null,1110,557.5,2.1999999999999999E-2,554.5,559,0.75919999999999999,0.39650000000000002,1107,1188,1.3779999999999999]
[null,1115,558,2.2020000000000001E-2,555.20000000000005,559.70000000000005,0.75990000000000002,0.39450000000000002,1107,1188,1.377]
[null,1120,558.6,2.2030000000000001E-2,555.9,560.5,0.76060000000000005,0.39250000000000002,1106,1188,1.377]
[null,1125,559.1,2.205E-2,556.6,561.20000000000005,0.76129999999999998,0.39050000000000001,1106,1188,1.3759999999999999]
[null,1130,559.70000000000005,2.2069999999999999E-2,557.29999999999995,561.9,0.76200000000000001,0.38850000000000001,1106,1187,1.3759999999999999]
[null,1135,560.29999999999995,2.2089999999999999E-2,558,562.6,0.76270000000000004,0.3866,1106,1187,1.375]
[null,1140,560.79999999999995,2.2110000000000001E-2,558.70000000000005,563.29999999999995,0.76339999999999997,0.3846,1106,1187,1.3740000000000001]
[null,1145,561.4,2.2120000000000001E-2,559.4,564.1,0.7641,0.38269999999999998,1106,1187,1.3740000000000001]
[null,1150,561.9,2.214E-2,560.1,564.79999999999995,0.76470000000000005,0.38080000000000003,1105,1186,1.373]
[null,1155,562.4,2.2159999999999999E-2,560.79999999999995,565.5,0.76539999999999997,0.37890000000000001,1105,1186,1.373]
[null,1160,563,2.2179999999999998E-2,561.4,566.20000000000005,0.7661,0.377,1105,1186,1.3720000000000001]
[null,1165,563.5,2.2200000000000001E-2,562.1,566.9,0.76680000000000004,0.37509999999999999,1105,1186,1.3720000000000001]
[null,1170,564.1,2.222E-2,562.79999999999995,567.6,0.76739999999999997,0.37330000000000002,1105,1186,1.371]
[null,1175,564.6,2.223E-2,563.5,568.29999999999995,0.7681,0.37140000000000001,1105,1185,1.371]
[null,1180,565.1,2.2249999999999999E-2,564.20000000000005,569,0.76880000000000004,0.36959999999999998,1104,1185,1.37]
[null,1185,565.70000000000005,2.2270000000000002E-2,564.9,569.70000000000005,0.76939999999999997,0.36780000000000002,1104,1185,1.369]
[null,1190,566.20000000000005,2.2290000000000001E-2,565.5,570.4,0.77010000000000001,0.36599999999999999,1104,1185,1.369]
[null,1195,566.70000000000005,2.231E-2,566.20000000000005,571.1,0.77080000000000004,0.36420000000000002,1104,1184,1.3680000000000001]
[null,1200,567.29999999999995,2.2329999999999999E-2,566.9,571.79999999999995,0.77139999999999997,0.36249999999999999,1104,1184,1.3680000000000001]
[null,1205,567.79999999999995,2.2339999999999999E-2,567.6,572.5,0.77210000000000001,0.36070000000000002,1104,1184,1.367]
[null,1210,568.29999999999995,2.2360000000000001E-2,568.20000000000005,573.20000000000005,0.77280000000000004,0.35899999999999999,1103,1184,1.367]
[null,1215,568.79999999999995,2.2380000000000001E-2,568.9,573.9,0.77339999999999998,0.35730000000000001,1103,1184,1.3660000000000001]
[null,1220,569.4,2.24E-2,569.6,574.6,0.77410000000000001,0.35549999999999998,1103,1183,1.3660000000000001]
[null,1225,569.9,2.2419999999999999E-2,570.20000000000005,575.29999999999995,0.77470000000000006,0.3538,1103,1183,1.365]
[null,1230,570.4,2.2440000000000002E-2,570.9,576,0.77539999999999998,0.35220000000000001,1103,1183,1.3640000000000001]
[null,1235,570.9,2.2450000000000001E-2,571.6,576.70000000000005,0.77600000000000002,0.35049999999999998,1102,1183,1.3640000000000001]
[null,1240,571.4,2.247E-2,572.20000000000005,577.4,0.77669999999999995,0.3488,1102,1182,1.363]
[null,1245,571.9,2.249E-2,572.9,578.1,0.77729999999999999,0.34720000000000001,1102,1182,1.363]
[null,1250,572.5,2.2509999999999999E-2,573.6,578.79999999999995,0.77800000000000002,0.34560000000000002,1102,1182,1.3620000000000001]
[null,1255,573,2.2530000000000001E-2,574.20000000000005,579.4,0.77859999999999996,0.34389999999999998,1102,1182,1.3620000000000001]
[null,1260,573.5,2.2550000000000001E-2,574.9,580.1,0.7792,0.34229999999999999,1102,1181,1.361]
[null,1265,574,2.257E-2,575.5,580.79999999999995,0.77990000000000004,0.3407,1101,1181,1.361]
[null,1270,574.5,2.2579999999999999E-2,576.20000000000005,581.5,0.78049999999999997,0.33910000000000001,1101,1181,1.36]
[null,1275,575,2.2599999999999999E-2,576.79999999999995,582.20000000000005,0.78120000000000001,0.33760000000000001,1101,1181,1.36]
[null,1280,575.5,2.2620000000000001E-2,577.5,582.79999999999995,0.78180000000000005,0.33600000000000002,1101,1180,1.359]
[null,1285,576,2.264E-2,578.1,583.5,0.78239999999999998,0.33450000000000002,1101,1180,1.359]
[null,1290,576.5,2.266E-2,578.79999999999995,584.20000000000005,0.78310000000000002,0.33289999999999997,1101,1180,1.3580000000000001]
[null,1295,577,2.2679999999999999E-2,579.4,584.9,0.78369999999999995,0.33139999999999997,1100,1180,1.3580000000000001]
[null,1300,577.5,2.2700000000000001E-2,580.1,585.5,0.7843,0.32990000000000003,1100,1179,1.357]
[null,1305,578,2.2710000000000001E-2,580.70000000000005,586.20000000000005,0.78490000000000004,0.32840000000000003,1100,1179,1.3560000000000001]
[null,1310,578.5,2.273E-2,581.4,586.9,0.78559999999999997,0.32690000000000002,1100,1179,1.3560000000000001]
[null,1315,579,2.2749999999999999E-2,582,587.6,0.78620000000000001,0.32540000000000002,1100,1179,1.355]
[null,1320,579.5,2.2769999999999999E-2,582.70000000000005,588.20000000000005,0.78680000000000005,0.32390000000000002,1099,1179,1.355]
[null,1325,580,2.2790000000000001E-2,583.29999999999995,588.9,0.78739999999999999,0.32250000000000001,1099,1178,1.3540000000000001]
[null,1330,580.4,2.281E-2,583.9,589.6,0.78810000000000002,0.32100000000000001,1099,1178,1.3540000000000001]
[null,1335,580.9,2.283E-2,584.6,590.20000000000005,0.78869999999999996,0.3196,1099,1178,1.353]
[null,1340,581.4,2.2849999999999999E-2,585.20000000000005,590.9,0.7893,0.31809999999999999,1099,1178,1.353]
[null,1345,581.9,2.2870000000000001E-2,585.9,591.6,0.78990000000000005,0.31669999999999998,1098,1177,1.3520000000000001]
[null,1350,582.4,2.2880000000000001E-2,586.5,592.20000000000005,0.79049999999999998,0.31530000000000002,1098,1177,1.3520000000000001]
[null,1355,582.9,2.29E-2,587.1,592.9,0.79110000000000003,0.31390000000000001,1098,1177,1.351]
[null,1360,583.29999999999995,2.2919999999999999E-2,587.79999999999995,593.5,0.79169999999999996,0.3125,1098,1176,1.351]
[null,1365,583.79999999999995,2.2939999999999999E-2,588.4,594.20000000000005,0.79239999999999999,0.31109999999999999,1098,1176,1.35]
[null,1370,584.29999999999995,2.2960000000000001E-2,589,594.79999999999995,0.79300000000000004,0.30969999999999998,1097,1176,1.35]
[null,1375,584.79999999999995,2.298E-2,589.70000000000005,595.5,0.79359999999999997,0.30840000000000001,1097,1176,1.349]
[null,1380,585.29999999999995,2.3E-2,590.29999999999995,596.20000000000005,0.79420000000000002,0.307,1097,1175,1.349]
[null,1385,585.70000000000005,2.3019999999999999E-2,590.9,596.79999999999995,0.79479999999999995,0.30570000000000003,1097,1175,1.3480000000000001]
[null,1390,586.20000000000005,2.3040000000000001E-2,591.5,597.5,0.7954,0.30430000000000001,1097,1175,1.3480000000000001]
[null,1395,586.70000000000005,2.3060000000000001E-2,592.20000000000005,598.1,0.79600000000000004,0.30299999999999999,1096,1175,1.347]
[null,1400,587.1,2.307E-2,592.79999999999995,598.79999999999995,0.79659999999999997,0.30170000000000002,1096,1174,1.347]
[null,1405,587.6,2.3089999999999999E-2,593.4,599.4,0.79720000000000002,0.3004,1096,1174,1.3460000000000001]
[null,1410,588.1,2.3109999999999999E-2,594,600.1,0.79779999999999995,0.29909999999999998,1096,1174,1.345]
[null,1415,588.5,2.3130000000000001E-2,594.70000000000005,600.70000000000005,0.7984,0.29780000000000001,1096,1174,1.345]
[null,1420,589,2.315E-2,595.29999999999995,601.4,0.79900000000000004,0.29649999999999999,1095,1173,1.3440000000000001]
[null,1425,589.5,2.317E-2,595.9,602,0.79959999999999998,0.29520000000000002,1095,1173,1.3440000000000001]
[null,1430,589.9,2.3189999999999999E-2,596.5,602.70000000000005,0.80020000000000002,0.29399999999999998,1095,1173,1.343]
[null,1435,590.4,2.3210000000000001E-2,597.1,603.29999999999995,0.80079999999999996,0.29270000000000002,1095,1173,1.343]
[null,1440,590.79999999999995,2.3230000000000001E-2,597.79999999999995,603.9,0.8014,0.29139999999999999,1095,1172,1.3420000000000001]
[null,1445,591.29999999999995,2.325E-2,598.4,604.6,0.80200000000000005,0.29020000000000001,1094,1172,1.3420000000000001]
[null,1450,591.79999999999995,2.3269999999999999E-2,599,605.20000000000005,0.80249999999999999,0.28899999999999998,1094,1172,1.341]
[null,1455,592.20000000000005,2.3290000000000002E-2,599.6,605.9,0.80310000000000004,0.28770000000000001,1094,1171,1.341]
[null,1460,592.70000000000005,2.3310000000000001E-2,600.20000000000005,606.5,0.80369999999999997,0.28649999999999998,1094,1171,1.34]
[null,1465,593.1,2.333E-2,600.79999999999995,607.1,0.80430000000000001,0.2853,1094,1171,1.34]
[null,1470,593.6,2.3349999999999999E-2,601.4,607.79999999999995,0.80489999999999995,0.28410000000000002,1093,1171,1.339]
[null,1475,594,2.3359999999999999E-2,602,608.4,0.80549999999999999,0.28289999999999998,1093,1170,1.339]
[null,1480,594.5,2.3380000000000001E-2,602.70000000000005,609.1,0.80610000000000004,0.28170000000000001,1093,1170,1.3380000000000001]
[null,1485,594.9,2.3400000000000001E-2,603.29999999999995,609.70000000000005,0.80659999999999998,0.28050000000000003,1093,1170,1.3380000000000001]
[null,1490,595.4,2.342E-2,603.9,610.29999999999995,0.80720000000000003,0.27939999999999998,1093,1170,1.337]
[null,1495,595.79999999999995,2.3439999999999999E-2,604.5,611,0.80779999999999996,0.2782,1092,1169,1.337]
[null,1500,596.29999999999995,2.3460000000000002E-2,605.1,611.6,0.80840000000000001,0.27700000000000002,1092,1169,1.3360000000000001]
[null,1505,596.70000000000005,2.3480000000000001E-2,605.70000000000005,612.20000000000005,0.80900000000000005,0.27589999999999998,1092,1169,1.3360000000000001]
[null,1510,597.20000000000005,2.35E-2,606.29999999999995,612.9,0.8095,0.2747,1092,1168,1.335]
[null,1515,597.6,2.3519999999999999E-2,606.9,613.5,0.81010000000000004,0.27360000000000001,1091,1168,1.335]
[null,1520,598,2.3539999999999998E-2,607.5,614.1,0.81069999999999998,0.27250000000000002,1091,1168,1.3340000000000001]
[null,1525,598.5,2.3560000000000001E-2,608.1,614.70000000000005,0.81130000000000002,0.27129999999999999,1091,1168,1.3340000000000001]
[null,1530,598.9,2.358E-2,608.70000000000005,615.4,0.81179999999999997,0.2702,1091,1167,1.333]
[null,1535,599.4,2.3599999999999999E-2,609.29999999999995,616,0.81240000000000001,0.26910000000000001,1091,1167,1.333]
[null,1540,599.79999999999995,2.3619999999999999E-2,609.9,616.6,0.81299999999999994,0.26800000000000002,1090,1167,1.3320000000000001]
[null,1545,600.20000000000005,2.3640000000000001E-2,610.5,617.20000000000005,0.8135,0.26690000000000003,1090,1166,1.3320000000000001]
[null,1550,600.70000000000005,2.366E-2,611.1,617.9,0.81410000000000005,0.26579999999999998,1090,1166,1.331]
[null,1555,601.1,2.368E-2,611.70000000000005,618.5,0.81469999999999998,0.26469999999999999,1090,1166,1.331]
[null,1560,601.5,2.3699999999999999E-2,612.29999999999995,619.1,0.81520000000000004,0.26369999999999999,1089,1166,1.33]
[null,1565,602,2.3720000000000001E-2,612.9,619.70000000000005,0.81579999999999997,0.2626,1089,1165,1.33]
[null,1570,602.4,2.3740000000000001E-2,613.5,620.4,0.81640000000000001,0.26150000000000001,1089,1165,1.329]
[null,1575,602.79999999999995,2.376E-2,614.1,621,0.81689999999999996,0.26050000000000001,1089,1165,1.329]
[null,1580,603.20000000000005,2.3779999999999999E-2,614.6,621.6,0.8175,0.25940000000000002,1089,1164,1.3280000000000001]
[null,1585,603.70000000000005,2.3800000000000002E-2,615.20000000000005,622.20000000000005,0.81810000000000005,0.25840000000000002,1088,1164,1.3280000000000001]
[null,1590,604.1,2.3820000000000001E-2,615.79999999999995,622.79999999999995,0.81859999999999999,0.25729999999999997,1088,1164,1.327]
[null,1595,604.5,2.384E-2,616.4,623.5,0.81920000000000004,0.25629999999999997,1088,1164,1.327]
[null,1600,604.9,2.3859999999999999E-2,617,624.1,0.81969999999999998,0.25530000000000003,1088,1163,1.3260000000000001]
[null,1605,605.4,2.3879999999999998E-2,617.6,624.70000000000005,0.82030000000000003,0.25419999999999998,1087,1163,1.3260000000000001]
[null,1610,605.79999999999995,2.3900000000000001E-2,618.20000000000005,625.29999999999995,0.82089999999999996,0.25319999999999998,1087,1163,1.325]
[null,1615,606.20000000000005,2.392E-2,618.79999999999995,625.9,0.82140000000000002,0.25219999999999998,1087,1162,1.325]
[null,1620,606.6,2.3939999999999999E-2,619.4,626.5,0.82199999999999995,0.25119999999999998,1087,1162,1.3240000000000001]
[null,1625,607,2.3970000000000002E-2,619.9,627.1,0.82250000000000001,0.25019999999999998,1087,1162,1.3240000000000001]
[null,1630,607.5,2.3990000000000001E-2,620.5,627.79999999999995,0.82310000000000005,0.2492,1086,1161,1.323]
[null,1635,607.9,2.401E-2,621.1,628.4,0.8236,0.2482,1086,1161,1.323]
[null,1640,608.29999999999995,2.4029999999999999E-2,621.70000000000005,629,0.82420000000000004,0.2472,1086,1161,1.3220000000000001]
[null,1645,608.70000000000005,2.4049999999999998E-2,622.29999999999995,629.6,0.82469999999999999,0.24629999999999999,1086,1161,1.3220000000000001]
[null,1650,609.1,2.4070000000000001E-2,622.9,630.20000000000005,0.82530000000000003,0.24529999999999999,1085,1160,1.321]
[null,1655,609.5,2.409E-2,623.4,630.79999999999995,0.82579999999999998,0.24429999999999999,1085,1160,1.321]
[null,1660,609.9,2.4109999999999999E-2,624,631.4,0.82640000000000002,0.24329999999999999,1085,1160,1.32]
[null,1665,610.29999999999995,2.4129999999999999E-2,624.6,632,0.82689999999999997,0.2424,1085,1159,1.32]
[null,1670,610.79999999999995,2.4150000000000001E-2,625.20000000000005,632.6,0.82750000000000001,0.2414,1084,1159,1.319]
[null,1675,611.20000000000005,2.4170000000000001E-2,625.79999999999995,633.29999999999995,0.82799999999999996,0.24049999999999999,1084,1159,1.319]
[null,1680,611.6,2.419E-2,626.29999999999995,633.9,0.8286,0.23960000000000001,1084,1158,1.3180000000000001]
[null,1685,612,2.4209999999999999E-2,626.9,634.5,0.82909999999999995,0.23860000000000001,1084,1158,1.3180000000000001]
[null,1690,612.4,2.4240000000000001E-2,627.5,635.1,0.82969999999999999,0.23769999999999999,1083,1158,1.3169999999999999]
[null,1695,612.79999999999995,2.426E-2,628.1,635.70000000000005,0.83020000000000005,0.23680000000000001,1083,1157,1.3169999999999999]
[null,1700,613.20000000000005,2.4279999999999999E-2,628.6,636.29999999999995,0.83069999999999999,0.23580000000000001,1083,1157,1.3160000000000001]
[null,1705,613.6,2.4299999999999999E-2,629.20000000000005,636.9,0.83130000000000004,0.2349,1083,1157,1.3160000000000001]
[null,1710,614,2.4320000000000001E-2,629.79999999999995,637.5,0.83179999999999998,0.23400000000000001,1082,1157,1.3149999999999999]
[null,1715,614.4,2.4340000000000001E-2,630.4,638.1,0.83240000000000003,0.2331,1082,1156,1.3149999999999999]
[null,1720,614.79999999999995,2.436E-2,630.9,638.70000000000005,0.83289999999999997,0.23219999999999999,1082,1156,1.3140000000000001]
[null,1725,615.20000000000005,2.4379999999999999E-2,631.5,639.29999999999995,0.83350000000000002,0.23130000000000001,1082,1156,1.3140000000000001]
[null,1730,615.6,2.4400000000000002E-2,632.1,639.9,0.83399999999999996,0.23039999999999999,1081,1155,1.3129999999999999]
[null,1735,616,2.443E-2,632.70000000000005,640.5,0.83450000000000002,0.22950000000000001,1081,1155,1.3129999999999999]
[null,1740,616.4,2.445E-2,633.20000000000005,641.1,0.83509999999999995,0.2286,1081,1155,1.3120000000000001]
[null,1745,616.79999999999995,2.4469999999999999E-2,633.79999999999995,641.70000000000005,0.83560000000000001,0.2278,1081,1154,1.3120000000000001]
[null,1750,617.20000000000005,2.4490000000000001E-2,634.4,642.29999999999995,0.83609999999999995,0.22689999999999999,1080,1154,1.3109999999999999]
[null,1755,617.6,2.4510000000000001E-2,634.9,642.9,0.8367,0.22600000000000001,1080,1154,1.3109999999999999]
[null,1760,618,2.453E-2,635.5,643.5,0.83720000000000006,0.22520000000000001,1080,1153,1.31]
[null,1765,618.4,2.4559999999999998E-2,636.1,644.1,0.8377,0.2243,1080,1153,1.31]
[null,1770,618.70000000000005,2.4580000000000001E-2,636.6,644.70000000000005,0.83830000000000005,0.22339999999999999,1079,1153,1.3089999999999999]
[null,1775,619.1,2.46E-2,637.20000000000005,645.29999999999995,0.83879999999999999,0.22259999999999999,1079,1152,1.3089999999999999]
[null,1780,619.5,2.462E-2,637.79999999999995,645.9,0.83930000000000005,0.22170000000000001,1079,1152,1.3080000000000001]
[null,1785,619.9,2.4639999999999999E-2,638.29999999999995,646.5,0.83989999999999998,0.22090000000000001,1079,1152,1.3080000000000001]
[null,1790,620.29999999999995,2.4660000000000001E-2,638.9,647.1,0.84040000000000004,0.22009999999999999,1078,1151,1.3069999999999999]
[null,1795,620.70000000000005,2.469E-2,639.5,647.70000000000005,0.84089999999999998,0.21920000000000001,1078,1151,1.3069999999999999]
[null,1800,621.1,2.4709999999999999E-2,640,648.29999999999995,0.84150000000000003,0.21840000000000001,1078,1151,1.306]
[null,1805,621.5,2.4729999999999999E-2,640.6,648.9,0.84199999999999997,0.21759999999999999,1078,1150,1.306]
[null,1810,621.79999999999995,2.4750000000000001E-2,641.20000000000005,649.5,0.84250000000000003,0.2167,1077,1150,1.3049999999999999]
[null,1815,622.20000000000005,2.477E-2,641.70000000000005,650.1,0.84299999999999997,0.21590000000000001,1077,1150,1.3049999999999999]
[null,1820,622.6,2.4799999999999999E-2,642.29999999999995,650.6,0.84360000000000002,0.21510000000000001,1077,1149,1.304]
[null,1825,623,2.4819999999999998E-2,642.9,651.20000000000005,0.84409999999999996,0.21429999999999999,1077,1149,1.304]
[null,1830,623.4,2.4840000000000001E-2,643.4,651.79999999999995,0.84460000000000002,0.2135,1076,1149,1.3029999999999999]
[null,1835,623.70000000000005,2.486E-2,644,652.4,0.84519999999999995,0.2127,1076,1148,1.3029999999999999]
[null,1840,624.1,2.4889999999999999E-2,644.5,653,0.84570000000000001,0.21190000000000001,1076,1148,1.302]
[null,1845,624.5,2.4910000000000002E-2,645.1,653.6,0.84619999999999995,0.21110000000000001,1076,1148,1.302]
[null,1850,624.9,2.4930000000000001E-2,645.70000000000005,654.20000000000005,0.84670000000000001,0.21029999999999999,1075,1147,1.3009999999999999]
[null,1855,625.29999999999995,2.495E-2,646.20000000000005,654.79999999999995,0.84719999999999995,0.20949999999999999,1075,1147,1.3009999999999999]
[null,1860,625.6,2.4979999999999999E-2,646.79999999999995,655.4,0.8478,0.2087,1075,1147,1.3]
[null,1865,626,2.5000000000000001E-2,647.29999999999995,656,0.84830000000000005,0.20799999999999999,1074,1146,1.3]
[null,1870,626.4,2.5020000000000001E-2,647.9,656.6,0.8488,0.2072,1074,1146,1.2989999999999999]
[null,1875,626.79999999999995,2.504E-2,648.5,657.1,0.84930000000000005,0.2064,1074,1146,1.2989999999999999]
[null,1880,627.1,2.5069999999999999E-2,649,657.7,0.84989999999999999,0.2056,1074,1145,1.298]
[null,1885,627.5,2.5090000000000001E-2,649.6,658.3,0.85040000000000004,0.2049,1073,1145,1.298]
[null,1890,627.9,2.511E-2,650.1,658.9,0.85089999999999999,0.2041,1073,1145,1.2969999999999999]
[null,1895,628.20000000000005,2.5139999999999999E-2,650.70000000000005,659.5,0.85140000000000005,0.2034,1073,1144,1.2969999999999999]
[null,1900,628.6,2.5159999999999998E-2,651.20000000000005,660.1,0.85189999999999999,0.2026,1073,1144,1.296]
[null,1905,629,2.5180000000000001E-2,651.79999999999995,660.7,0.85250000000000004,0.20180000000000001,1072,1143,1.296]
[null,1910,629.4,2.521E-2,652.4,661.3,0.85299999999999998,0.2011,1072,1143,1.2949999999999999]
[null,1915,629.70000000000005,2.5229999999999999E-2,652.9,661.9,0.85350000000000004,0.20039999999999999,1072,1143,1.2949999999999999]
[null,1920,630.1,2.5250000000000002E-2,653.5,662.4,0.85399999999999998,0.1996,1071,1142,1.294]
[null,1925,630.5,2.528E-2,654,663,0.85450000000000004,0.19889999999999999,1071,1142,1.294]
[null,1930,630.79999999999995,2.53E-2,654.6,663.6,0.85499999999999998,0.1981,1071,1142,1.2929999999999999]
[null,1935,631.20000000000005,2.5319999999999999E-2,655.1,664.2,0.85560000000000003,0.19739999999999999,1071,1141,1.2929999999999999]
[null,1940,631.5,2.5350000000000001E-2,655.7,664.8,0.85609999999999997,0.19670000000000001,1070,1141,1.292]
[null,1945,631.9,2.537E-2,656.2,665.4,0.85660000000000003,0.19600000000000001,1070,1141,1.292]
[null,1950,632.29999999999995,2.5389999999999999E-2,656.8,666,0.85709999999999997,0.19520000000000001,1070,1140,1.2909999999999999]
[null,1955,632.6,2.5420000000000002E-2,657.3,666.5,0.85760000000000003,0.19450000000000001,1069,1140,1.2909999999999999]
[null,1960,633,2.5440000000000001E-2,657.9,667.1,0.85809999999999997,0.1938,1069,1139,1.29]
[null,1965,633.4,2.547E-2,658.5,667.7,0.85860000000000003,0.19309999999999999,1069,1139,1.29]
[null,1970,633.70000000000005,2.5489999999999999E-2,659,668.3,0.85919999999999996,0.19239999999999999,1069,1139,1.2889999999999999]
[null,1975,634.1,2.5510000000000001E-2,659.6,668.9,0.85970000000000002,0.19170000000000001,1068,1138,1.2889999999999999]
[null,1980,634.4,2.554E-2,660.1,669.5,0.86019999999999996,0.191,1068,1138,1.288]
[null,1985,634.79999999999995,2.5559999999999999E-2,660.7,670,0.86070000000000002,0.1903,1068,1138,1.288]
[null,1990,635.1,2.5590000000000002E-2,661.2,670.6,0.86119999999999997,0.18959999999999999,1067,1137,1.2869999999999999]
[null,1995,635.5,2.5610000000000001E-2,661.8,671.2,0.86170000000000002,0.18890000000000001,1067,1137,1.2869999999999999]
[null,2000,635.9,2.563E-2,662.3,671.8,0.86219999999999997,0.18820000000000001,1067,1137,1.286]
[null,2005,636.20000000000005,2.5659999999999999E-2,662.9,672.4,0.86270000000000002,0.1875,1067,1136,1.286]
[null,2010,636.6,2.5680000000000001E-2,663.4,673,0.86319999999999997,0.18679999999999999,1066,1136,1.2849999999999999]
[null,2015,636.9,2.571E-2,664,673.5,0.86380000000000001,0.18609999999999999,1066,1135,1.2849999999999999]
[null,2020,637.29999999999995,2.5729999999999999E-2,664.5,674.1,0.86429999999999996,0.1855,1066,1135,1.284]
[null,2025,637.6,2.5760000000000002E-2,665.1,674.7,0.86480000000000001,0.18479999999999999,1065,1135,1.284]
[null,2030,638,2.5780000000000001E-2,665.6,675.3,0.86529999999999996,0.18410000000000001,1065,1134,1.2829999999999999]
[null,2035,638.29999999999995,2.581E-2,666.2,675.9,0.86580000000000001,0.18340000000000001,1065,1134,1.2829999999999999]
[null,2040,638.70000000000005,2.5829999999999999E-2,666.7,676.5,0.86629999999999996,0.18279999999999999,1064,1133,1.282]
[null,2045,639,2.5860000000000001E-2,667.3,677,0.86680000000000001,0.18210000000000001,1064,1133,1.282]
[null,2050,639.4,2.588E-2,667.8,677.6,0.86729999999999996,0.18140000000000001,1064,1133,1.2809999999999999]
[null,2055,639.70000000000005,2.5909999999999999E-2,668.4,678.2,0.86780000000000002,0.18079999999999999,1064,1132,1.2809999999999999]
[null,2060,640.1,2.5930000000000002E-2,668.9,678.8,0.86829999999999996,0.18010000000000001,1063,1132,1.28]
[null,2065,640.4,2.596E-2,669.5,679.4,0.86880000000000002,0.17949999999999999,1063,1131,1.28]
[null,2070,640.70000000000005,2.598E-2,670,680,0.86929999999999996,0.17879999999999999,1063,1131,1.2789999999999999]
[null,2075,641.1,2.6009999999999998E-2,670.5,680.5,0.86990000000000001,0.1782,1062,1131,1.2789999999999999]
[null,2080,641.4,2.6040000000000001E-2,671.1,681.1,0.87039999999999995,0.17749999999999999,1062,1130,1.278]
[null,2085,641.79999999999995,2.606E-2,671.6,681.7,0.87090000000000001,0.1769,1062,1130,1.278]
[null,2090,642.1,2.6089999999999999E-2,672.2,682.3,0.87139999999999995,0.1762,1061,1130,1.2769999999999999]
[null,2095,642.5,2.6110000000000001E-2,672.7,682.9,0.87190000000000001,0.17560000000000001,1061,1129,1.2769999999999999]
[null,2100,642.79999999999995,2.614E-2,673.3,683.4,0.87239999999999995,0.17499999999999999,1061,1129,1.276]
[null,2105,643.1,2.6159999999999999E-2,673.8,684,0.87290000000000001,0.17430000000000001,1060,1128,1.276]
[null,2110,643.5,2.6190000000000001E-2,674.4,684.6,0.87339999999999995,0.17369999999999999,1060,1128,1.2749999999999999]
[null,2115,643.79999999999995,2.622E-2,674.9,685.2,0.87390000000000001,0.1731,1060,1127,1.2749999999999999]
[null,2120,644.20000000000005,2.6239999999999999E-2,675.5,685.8,0.87439999999999996,0.1724,1059,1127,1.274]
[null,2125,644.5,2.6270000000000002E-2,676,686.4,0.87490000000000001,0.17180000000000001,1059,1127,1.274]
[null,2130,644.79999999999995,2.63E-2,676.6,686.9,0.87539999999999996,0.17119999999999999,1059,1126,1.2729999999999999]
[null,2135,645.20000000000005,2.632E-2,677.1,687.5,0.87590000000000001,0.1706,1058,1126,1.2729999999999999]
[null,2140,645.5,2.6349999999999998E-2,677.7,688.1,0.87639999999999996,0.17,1058,1125,1.272]
[null,2145,645.79999999999995,2.6380000000000001E-2,678.2,688.7,0.87690000000000001,0.16930000000000001,1058,1125,1.272]
[null,2150,646.20000000000005,2.64E-2,678.8,689.3,0.87739999999999996,0.16869999999999999,1057,1125,1.2709999999999999]
[null,2155,646.5,2.6429999999999999E-2,679.3,689.8,0.87790000000000001,0.1681,1057,1124,1.2709999999999999]
[null,2160,646.79999999999995,2.6460000000000001E-2,679.9,690.4,0.87839999999999996,0.16750000000000001,1057,1124,1.27]
[null,2165,647.20000000000005,2.648E-2,680.4,691,0.87890000000000001,0.16689999999999999,1056,1123,1.27]
[null,2170,647.5,2.6509999999999999E-2,680.9,691.6,0.87949999999999995,0.1663,1056,1123,1.2689999999999999]
[null,2175,647.79999999999995,2.6540000000000001E-2,681.5,692.2,0.88,0.16569999999999999,1056,1123,1.2689999999999999]
[null,2180,648.20000000000005,2.657E-2,682,692.8,0.88049999999999995,0.1651,1055,1122,1.268]
[null,2185,648.5,2.6589999999999999E-2,682.6,693.3,0.88100000000000001,0.16450000000000001,1055,1122,1.2669999999999999]
[null,2190,648.79999999999995,2.6620000000000001E-2,683.1,693.9,0.88149999999999995,0.16389999999999999,1055,1121,1.2669999999999999]
[null,2195,649.20000000000005,2.665E-2,683.7,694.5,0.88200000000000001,0.1633,1054,1121,1.266]
[null,2200,649.5,2.6679999999999999E-2,684.2,695.1,0.88249999999999995,0.16270000000000001,1054,1120,1.266]
[null,2205,649.79999999999995,2.6710000000000001E-2,684.8,695.7,0.88300000000000001,0.16209999999999999,1054,1120,1.2649999999999999]
[null,2210,650.20000000000005,2.673E-2,685.3,696.3,0.88349999999999995,0.16159999999999999,1053,1120,1.2649999999999999]
[null,2215,650.5,2.6759999999999999E-2,685.9,696.8,0.88400000000000001,0.161,1053,1119,1.264]
[null,2220,650.79999999999995,2.6790000000000001E-2,686.4,697.4,0.88449999999999995,0.16039999999999999,1053,1119,1.264]
[null,2225,651.1,2.682E-2,687,698,0.88500000000000001,0.1598,1052,1118,1.2629999999999999]
[null,2230,651.5,2.6849999999999999E-2,687.5,698.6,0.88549999999999995,0.15920000000000001,1052,1118,1.2629999999999999]
[null,2235,651.79999999999995,2.6880000000000001E-2,688.1,699.2,0.88600000000000001,0.15870000000000001,1052,1117,1.262]
[null,2240,652.1,2.69E-2,688.6,699.8,0.88649999999999995,0.15809999999999999,1051,1117,1.262]
[null,2245,652.4,2.6929999999999999E-2,689.2,700.3,0.88700000000000001,0.1575,1051,1116,1.2609999999999999]
[null,2250,652.70000000000005,2.6960000000000001E-2,689.7,700.9,0.88749999999999996,0.15690000000000001,1051,1116,1.2609999999999999]
[null,2255,653.1,2.699E-2,690.3,701.5,0.88800000000000001,0.15640000000000001,1050,1116,1.26]
[null,2260,653.4,2.7019999999999999E-2,690.8,702.1,0.88849999999999996,0.15579999999999999,1050,1115,1.26]
[null,2265,653.70000000000005,2.7050000000000001E-2,691.4,702.7,0.88900000000000001,0.1552,1050,1115,1.2589999999999999]
[null,2270,654,2.708E-2,691.9,703.3,0.88949999999999996,0.1547,1049,1114,1.2589999999999999]
[null,2275,654.4,2.7109999999999999E-2,692.5,703.9,0.89,0.15409999999999999,1049,1114,1.258]
[null,2280,654.70000000000005,2.7140000000000001E-2,693,704.5,0.89049999999999996,0.15359999999999999,1049,1113,1.2569999999999999]
[null,2285,655,2.717E-2,693.6,705,0.89100000000000001,0.153,1048,1113,1.2569999999999999]
[null,2290,655.29999999999995,2.7199999999999998E-2,694.1,705.6,0.89149999999999996,0.1525,1048,1112,1.256]
[null,2295,655.6,2.7230000000000001E-2,694.7,706.2,0.8921,0.15190000000000001,1047,1112,1.256]
[null,2300,655.9,2.726E-2,695.2,706.8,0.89259999999999995,0.15140000000000001,1047,1111,1.2549999999999999]
[null,2305,656.3,2.7289999999999998E-2,695.8,707.4,0.8931,0.15079999999999999,1047,1111,1.2549999999999999]
[null,2310,656.6,2.7320000000000001E-2,696.3,708,0.89359999999999995,0.15029999999999999,1046,1111,1.254]
[null,2315,656.9,2.7349999999999999E-2,696.9,708.6,0.89410000000000001,0.1497,1046,1110,1.254]
[null,2320,657.2,2.7380000000000002E-2,697.4,709.2,0.89459999999999995,0.1492,1046,1110,1.2529999999999999]
[null,2325,657.5,2.741E-2,698,709.8,0.89510000000000001,0.14860000000000001,1045,1109,1.2529999999999999]
[null,2330,657.8,2.7439999999999999E-2,698.5,710.3,0.89559999999999995,0.14810000000000001,1045,1109,1.252]
[null,2335,658.1,2.7470000000000001E-2,699.1,710.9,0.89610000000000001,0.14749999999999999,1044,1108,1.2509999999999999]
[null,2340,658.5,2.75E-2,699.6,711.5,0.89659999999999995,0.14699999999999999,1044,1108,1.2509999999999999]
[null,2345,658.8,2.7539999999999999E-2,700.2,712.1,0.89710000000000001,0.14649999999999999,1044,1107,1.25]
[null,2350,659.1,2.7570000000000001E-2,700.7,712.7,0.89759999999999995,0.1459,1043,1107,1.25]
[null,2355,659.4,2.76E-2,701.3,713.3,0.89810000000000001,0.1454,1043,1106,1.2490000000000001]
[null,2360,659.7,2.7629999999999998E-2,701.8,713.9,0.89859999999999995,0.1449,1043,1106,1.2490000000000001]
[null,2365,660,2.7660000000000001E-2,702.4,714.5,0.89910000000000001,0.1444,1042,1105,1.248]
[null,2370,660.3,2.7699999999999999E-2,702.9,715.1,0.89959999999999996,0.14380000000000001,1042,1105,1.248]
[null,2375,660.6,2.7730000000000001E-2,703.5,715.7,0.9002,0.14330000000000001,1041,1104,1.2470000000000001]
[null,2380,660.9,2.776E-2,704,716.3,0.90069999999999995,0.14280000000000001,1041,1104,1.2470000000000001]
[null,2385,661.2,2.7789999999999999E-2,704.6,716.9,0.9012,0.14230000000000001,1041,1103,1.246]
[null,2390,661.5,2.7820000000000001E-2,705.2,717.5,0.90169999999999995,0.14169999999999999,1040,1103,1.2450000000000001]
[null,2395,661.9,2.7859999999999999E-2,705.7,718.1,0.9022,0.14119999999999999,1040,1102,1.2450000000000001]
[null,2400,662.2,2.7890000000000002E-2,706.3,718.7,0.90269999999999995,0.14069999999999999,1039,1102,1.244]
[null,2405,662.5,2.792E-2,706.8,719.3,0.9032,0.14019999999999999,1039,1101,1.244]
[null,2410,662.8,2.7959999999999999E-2,707.4,719.9,0.90369999999999995,0.13969999999999999,1039,1101,1.2430000000000001]
[null,2415,663.1,2.7990000000000001E-2,708,720.5,0.9042,0.13919999999999999,1038,1100,1.2430000000000001]
[null,2420,663.4,2.8029999999999999E-2,708.5,721.1,0.90480000000000005,0.13869999999999999,1038,1100,1.242]
[null,2425,663.7,2.8060000000000002E-2,709.1,721.7,0.90529999999999999,0.1381,1037,1099,1.2410000000000001]
[null,2430,664,2.809E-2,709.6,722.3,0.90580000000000005,0.1376,1037,1099,1.2410000000000001]
[null,2435,664.3,2.8129999999999999E-2,710.2,722.9,0.90629999999999999,0.1371,1037,1098,1.24]
[null,2440,664.6,2.8160000000000001E-2,710.8,723.5,0.90680000000000005,0.1366,1036,1098,1.24]
[null,2445,664.9,2.8199999999999999E-2,711.3,724.1,0.9073,0.1361,1036,1097,1.2390000000000001]
[null,2450,665.2,2.8230000000000002E-2,711.9,724.7,0.90780000000000005,0.1356,1035,1097,1.2390000000000001]
[null,2455,665.5,2.827E-2,712.5,725.3,0.9083,0.1351,1035,1096,1.238]
[null,2460,665.8,2.8299999999999999E-2,713,725.9,0.90890000000000004,0.1346,1035,1096,1.238]
[null,2465,666.1,2.8340000000000001E-2,713.6,726.5,0.90939999999999999,0.1341,1034,1095,1.2370000000000001]
[null,2470,666.4,2.8369999999999999E-2,714.1,727.1,0.90990000000000004,0.1336,1034,1095,1.236]
[null,2475,666.7,2.8410000000000001E-2,714.7,727.7,0.91039999999999999,0.1331,1033,1094,1.236]
[null,2480,667,2.844E-2,715.3,728.3,0.91090000000000004,0.1326,1033,1094,1.2350000000000001]
[null,2485,667.3,2.8479999999999998E-2,715.8,728.9,0.91149999999999998,0.1321,1032,1093,1.2350000000000001]
[null,2490,667.6,2.852E-2,716.4,729.6,0.91200000000000003,0.13170000000000001,1032,1093,1.234]
[null,2495,667.9,2.8549999999999999E-2,717,730.2,0.91249999999999998,0.13120000000000001,1032,1092,1.2330000000000001]
[null,2500,668.2,2.8590000000000001E-2,717.6,730.8,0.91300000000000003,0.13070000000000001,1031,1092,1.2330000000000001]
[null,"Source: Knovel Steam Tables: Table: 1d. Saturation Properties vs. Pressure - English Units"]
[]
[]
[null,"Table 5.4: Properties of compressed water and superheated steam"]
[null,"P","T","v ","u ","h","s ","h"]
[null,"(psia)","(°F) ","(ft^3/lb) ","(Btu/lbm) ","(Btu/lbm) ","(Btu/(lbm °R)) ","(Btu/mol)"]
[null,100,40,1.601E-2,8.0310000000000006,8.327,1.6199999999999999E-2,{"$f":"F759/$E$22*18","v":0.33044379285257613}]
[null,100,60,1.6029999999999999E-2,28.06,28.36,5.552E-2,1.1254216362794593]
[null,100,80,1.6070000000000001E-2,48.04,48.34,9.3240000000000003E-2,1.918296258735863]
[null,100,100,1.6129999999999999E-2,68,68.3,0.12959999999999999,2.7103772129015189]
[null,100,120,1.6199999999999999E-2,87.95,88.25,0.1646,3.502061332921802]
[null,100,140,1.6289999999999999E-2,107.9,108.2,0.19839999999999999,4.2937454529420842]
[null,100,160,1.6389999999999998E-2,127.9,128.19999999999999,0.23119999999999999,5.0874137436892353]
[null,100,180,1.6500000000000001E-2,147.9,148.19999999999999,0.26300000000000001,5.8810820344363854]
[null,100,200,1.6629999999999999E-2,168,168.3,0.29389999999999999,6.6787186666372724]
[null,100,220,1.677E-2,188.1,188.4,0.32400000000000001,7.4763552988381585]
[null,100,240,1.6920000000000001E-2,208.3,208.6,0.3533,8.2779602724927805]
[null,100,260,1.7080000000000001E-2,228.6,228.9,0.38190000000000002,9.0835335876011385]
[null,100,280,1.7260000000000001E-2,249,249.3,0.4098,9.8930752441632333]
[null,100,300,1.745E-2,269.5,269.8,0.43719999999999998,10.706585242179061]
[null,100,320,1.7649999999999999E-2,290.10000000000002,290.5,0.46400000000000002,11.528031923102363]
[null,100,340,4.5209999999999999,1111,1195,1.6120000000000001,47.421680372142241]
[null,100,360,4.6630000000000003,1120,1206,1.6259999999999999,47.85819793205318]
[null,100,380,4.8,1128,1217,1.64,48.294715491964112]
[null,100,400,4.9359999999999999,1136,1228,1.6519999999999999,48.731233051875044]
[null,100,420,5.069,1145,1238,1.6639999999999999,49.128067197248626]
[null,100,440,5.2009999999999996,1152,1249,1.6759999999999999,49.564584757159551]
[null,100,460,5.3310000000000004,1160,1259,1.6870000000000001,49.961418902533126]
[null,100,480,5.46,1168,1269,1.698,50.3582530479067]
[null,100,500,5.5880000000000001,1176,1279,1.7090000000000001,50.755087193280282]
[null,100,520,5.7149999999999999,1184,1289,1.7190000000000001,51.15192133865385]
[null,100,540,5.8410000000000002,1191,1299,1.7290000000000001,51.548755484027431]
[null,100,560,5.9669999999999996,1199,1309,1.7390000000000001,51.945589629401006]
[null,100,580,6.0919999999999996,1207,1319,1.7490000000000001,52.342423774774574]
[null,100,600,6.2160000000000002,1214,1329,1.7589999999999999,52.739257920148155]
[null,100,620,6.3410000000000002,1222,1339,1.768,53.136092065521737]
[null,100,640,6.4649999999999999,1230,1349,1.7769999999999999,53.532926210895305]
[null,100,660,6.5880000000000001,1238,1359,1.786,53.929760356268879]
[null,100,680,6.7110000000000003,1245,1369,1.7949999999999999,54.326594501642454]
[null,100,700,6.8339999999999996,1253,1379,1.804,54.723428647016028]
[null,100,720,6.9569999999999999,1261,1389,1.8120000000000001,55.12026279238961]
[null,100,740,7.0789999999999997,1269,1400,1.821,55.556780352300542]
[null,100,760,7.202,1276,1410,1.829,55.953614497674117]
[null,100,780,7.3239999999999998,1284,1420,1.837,56.350448643047685]
[null,100,800,7.4459999999999997,1292,1430,1.845,56.747282788421266]
[null,100,820,7.5670000000000002,1300,1440,1.853,57.144116933794834]
[null,100,840,7.6890000000000001,1308,1450,1.861,57.540951079168416]
[null,100,860,7.81,1316,1460,1.869,57.93778522454199]
[null,100,880,7.9320000000000004,1324,1470,1.877,58.334619369915565]
[null,100,900,8.0530000000000008,1332,1481,1.8839999999999999,58.771136929826504]
[null,100,920,8.1739999999999995,1340,1491,1.8919999999999999,59.167971075200072]
[null,100,940,8.2949999999999999,1348,1501,1.899,59.564805220573653]
[null,100,960,8.4160000000000004,1356,1512,1.9059999999999999,60.001322780484585]
[null,100,980,8.5370000000000008,1364,1522,1.9139999999999999,60.39815692585816]
[null,100,1000,8.6579999999999995,1372,1532,1.921,60.794991071231728]
[null,100,1020,8.7780000000000005,1380,1543,1.9279999999999999,61.23150863114266]
[null,100,1040,8.8989999999999991,1389,1553,1.9350000000000001,61.628342776516241]
[null,100,1060,9.0190000000000001,1397,1564,1.9419999999999999,62.064860336427174]
[null,100,1080,9.14,1405,1574,1.9490000000000001,62.461694481800748]
[null,100,1100,9.26,1413,1585,1.956,62.89821204171168]
[null,100,1120,9.3810000000000002,1422,1595,1.962,63.295046187085262]
[null,100,1140,9.5009999999999994,1430,1606,1.9690000000000001,63.731563746996187]
[null,100,1160,9.6210000000000004,1439,1617,1.976,64.168081306907126]
[null,100,1180,9.7409999999999997,1447,1627,1.982,64.564915452280701]
[null,100,1200,9.8620000000000001,1456,1638,1.9890000000000001,65.001433012191626]
[null,100,1220,9.9819999999999993,1464,1649,1.9950000000000001,65.437950572102565]
[null,100,1240,10.1,1473,1660,2.0019999999999998,65.87446813201349]
[null,100,1260,10.220000000000001,1481,1670,2.008,66.271302277387065]
[null,100,1280,10.34,1490,1681,2.0139999999999998,66.707819837298004]
[null,100,1300,10.46,1499,1692,2.02,67.144337397208929]
[null,100,1320,10.58,1507,1703,2.0270000000000001,{"$f":"F823/$E$22*18","v":67.580854957119868}]
[null,100,1340,10.7,1516,1714,2.0329999999999999,68.017372517030807]
[null,100,1360,10.82,1525,1725,2.0390000000000001,68.453890076941732]
[null,100,1380,10.94,1534,1736,2.0449999999999999,68.890407636852672]
[null,100,1400,11.06,1543,1747,2.0510000000000002,69.326925196763597]
[null,100,1420,11.18,1551,1758,2.0569999999999999,69.763442756674536]
[null,100,1440,11.3,1560,1770,2.0630000000000002,70.239643731122825]
[null,100,1460,11.42,1569,1781,2.0680000000000001,70.676161291033765]
[null,100,1480,11.54,1578,1792,2.0739999999999998,71.11267885094469]
[null,100,1500,11.66,1587,1803,2.08,71.549196410855629]
[null,200,40,1.601E-2,8.0299999999999994,8.6229999999999993,1.6199999999999999E-2,0.34219008355563396]
[null,200,60,1.602E-2,28.05,28.64,5.5489999999999998E-2,1.1365329923499197]
[null,200,80,1.6060000000000001E-2,48.02,48.61,9.3200000000000005E-2,1.9290107806609493]
[null,200,100,1.6119999999999999E-2,67.97,68.56,0.1295,2.7206949006812322]
[null,200,120,1.619E-2,87.91,88.51,0.16450000000000001,3.5123790207015149]
[null,200,140,1.6279999999999999E-2,107.9,108.5,0.19839999999999999,4.305650477303292]
[null,200,160,1.6379999999999999E-2,127.8,128.4,0.2311,5.0953504265967062]
[null,200,180,1.6500000000000001E-2,147.9,148.5,0.26290000000000002,5.8929870587975923]
[null,200,200,1.6619999999999999E-2,167.9,168.5,0.29380000000000001,6.6866553495447434]
[null,200,220,1.6760000000000001E-2,188,188.6,0.32390000000000002,7.4842919817456295]
[null,200,240,1.6910000000000001E-2,208.2,208.8,0.35310000000000002,8.2858969554002524]
[null,200,260,1.7069999999999998E-2,228.5,229.1,0.38169999999999998,9.0914702705086086]
[null,200,280,1.7250000000000001E-2,248.9,249.5,0.40970000000000001,9.9010119270707015]
[null,200,300,1.7440000000000001E-2,269.39999999999998,270,0.437,10.714521925086533]
[null,200,320,1.7639999999999999E-2,290,290.60000000000002,0.46379999999999999,11.532000264556098]
[null,200,340,1.7860000000000001E-2,310.8,311.39999999999998,0.49009999999999998,12.357415286933135]
[null,200,360,1.8100000000000002E-2,331.7,332.4,0.51600000000000001,13.190766992217641]
[null,200,380,1.8360000000000001E-2,352.9,353.6,0.54159999999999997,14.032055380409622]
[null,200,400,2.3610000000000002,1123,1211,1.56,48.05661500473996]
[null,200,420,2.4380000000000002,1133,1223,1.5740000000000001,48.532815979188257]
[null,200,440,2.512,1142,1235,1.5880000000000001,49.009016953636547]
[null,200,460,2.5840000000000001,1151,1247,1.601,49.485217928084836]
[null,200,480,2.6549999999999998,1160,1258,1.613,49.921735487995768]
[null,200,500,2.7250000000000001,1168,1269,1.6240000000000001,50.3582530479067]
[null,200,520,2.7930000000000001,1177,1280,1.6359999999999999,50.794770607817632]
[null,200,540,2.86,1185,1291,1.6459999999999999,51.231288167728565]
[null,200,560,2.927,1193,1301,1.657,51.628122313102139]
[null,200,580,2.9929999999999999,1201,1312,1.667,52.064639873013071]
[null,200,600,3.0579999999999998,1209,1322,1.677,52.461474018386653]
[null,200,620,3.1230000000000002,1217,1333,1.6870000000000001,52.897991578297585]
[null,200,640,3.1880000000000002,1225,1343,1.696,53.29482572367116]
[null,200,660,3.2519999999999998,1233,1353,1.706,53.691659869044734]
[null,200,680,3.3159999999999998,1241,1364,1.7150000000000001,54.128177428955674]
[null,200,700,3.379,1249,1374,1.724,54.525011574329241]
[null,200,720,3.4430000000000001,1257,1384,1.7330000000000001,54.921845719702816]
[null,200,740,3.5059999999999998,1265,1395,1.7410000000000001,55.358363279613748]
[null,200,760,3.5680000000000001,1273,1405,1.75,55.75519742498733]
[null,200,780,3.6309999999999998,1281,1415,1.758,56.152031570360897]
[null,200,800,3.6930000000000001,1289,1426,1.766,56.588549130271836]
[null,200,820,3.7559999999999998,1297,1436,1.7749999999999999,56.985383275645411]
[null,200,840,3.8180000000000001,1305,1446,1.7829999999999999,57.382217421018986]
[null,200,860,3.88,1313,1457,1.79,57.818734980929918]
[null,200,880,3.9409999999999998,1321,1467,1.798,58.215569126303492]
[null,200,900,4.0030000000000001,1329,1477,1.806,58.612403271677067]
[null,200,920,4.0650000000000004,1337,1488,1.8140000000000001,59.048920831587999]
[null,200,940,4.1260000000000003,1345,1498,1.821,59.445754976961574]
[null,200,960,4.1870000000000003,1354,1509,1.8280000000000001,59.882272536872506]
[null,200,980,4.2489999999999997,1362,1519,1.8360000000000001,60.279106682246088]
[null,200,1000,4.3099999999999996,1370,1530,1.843,60.71562424215702]
[null,200,1020,4.3710000000000004,1378,1540,1.85,61.112458387530594]
[null,200,1040,4.4320000000000004,1387,1551,1.857,61.548975947441527]
[null,200,1060,4.4930000000000003,1395,1561,1.8640000000000001,61.945810092815101]
[null,200,1080,4.5540000000000003,1403,1572,1.871,62.382327652726033]
[null,200,1100,4.6150000000000002,1412,1582,1.8779999999999999,62.779161798099608]
[null,200,1120,4.6760000000000002,1420,1593,1.885,{"$f":"F887/$E$22*18","v":63.215679358010547}]
[null,200,1140,4.7359999999999998,1428,1604,1.8919999999999999,63.652196917921472]
[null,200,1160,4.7969999999999997,1437,1615,1.8979999999999999,64.088714477832411]
[null,200,1180,4.8579999999999997,1445,1625,1.905,64.485548623205986]
[null,200,1200,4.9180000000000001,1454,1636,1.911,64.922066183116911]
[null,200,1220,4.9790000000000001,1463,1647,1.9179999999999999,65.35858374302785]
[null,200,1240,5.0389999999999997,1471,1658,1.9239999999999999,65.795101302938775]
[null,200,1260,5.0999999999999996,1480,1669,1.931,66.231618862849714]
[null,200,1280,5.16,1489,1680,1.9370000000000001,66.668136422760654]
[null,200,1300,5.2210000000000001,1497,1690,1.9430000000000001,67.064970568134214]
[null,200,1320,5.2809999999999997,1506,1701,1.9490000000000001,67.501488128045153]
[null,200,1340,5.3410000000000002,1515,1713,1.956,67.977689102493443]
[null,200,1360,5.4020000000000001,1524,1724,1.962,68.414206662404368]
[null,200,1380,5.4619999999999997,1532,1735,1.968,68.850724222315307]
[null,200,1400,5.5220000000000002,1541,1746,1.974,69.287241782226246]
[null,200,1420,5.5819999999999999,1550,1757,1.98,69.723759342137171]
[null,200,1440,5.6429999999999998,1559,1768,1.986,70.160276902048111]
[null,200,1460,5.7030000000000003,1568,1779,1.992,70.596794461959036]
[null,200,1480,5.7629999999999999,1577,1791,1.9970000000000001,71.072995436407325]
[null,200,1500,5.8230000000000004,1586,1802,2.0030000000000001,71.509512996318264]
[null,150,1480,7.6890000000000001,1578,1791,2.0289999999999999,71.072995436407325]
[null,150,1500,7.7690000000000001,1587,1803,2.0350000000000001,71.549196410855629]
[null,300,32,1.6E-2,-2.1050000000000001E-3,0.88639999999999997,-5.0000000000000004E-6,3.5175378645913719E-2]
[null,300,40,1.6E-2,8.0299999999999994,8.9179999999999993,1.6199999999999999E-2,0.35389669084415443]
[null,300,60,1.602E-2,28.04,28.93,5.5460000000000002E-2,1.1480411825657533]
[null,300,80,1.6060000000000001E-2,47.99,48.89,9.3149999999999997E-2,1.9401221367314097]
[null,300,100,1.6119999999999999E-2,67.930000000000007,68.83,0.12939999999999999,2.7314094226063186]
[null,300,120,1.619E-2,87.87,88.77,0.16439999999999999,3.5226967084812273]
[null,300,140,1.6279999999999999E-2,107.8,108.7,0.1983,4.3135871602107638]
[null,300,160,1.6379999999999999E-2,127.8,128.69999999999999,0.23100000000000001,5.1072554509579131]
[null,300,180,1.6490000000000001E-2,147.80000000000001,148.69999999999999,0.26279999999999998,5.9009237417050642]
[null,300,200,1.6619999999999999E-2,167.8,168.8,0.29370000000000002,6.6985603739059512]
[null,300,220,1.6750000000000001E-2,187.9,188.9,0.32369999999999999,7.4961970061068373]
[null,300,240,1.6899999999999998E-2,208.1,209.1,0.35299999999999998,8.2978019797614593]
[null,300,260,1.7069999999999998E-2,228.4,229.3,0.38159999999999999,9.0994069534160804]
[null,300,280,1.7239999999999998E-2,248.7,249.7,0.40949999999999998,9.9089486099781734]
[null,300,300,1.7430000000000001E-2,269.2,270.2,0.43680000000000002,10.722458607994003]
[null,300,320,1.7639999999999999E-2,289.8,290.8,0.46360000000000001,11.53993694746357]
[null,300,340,1.7860000000000001E-2,310.60000000000002,311.60000000000002,0.4899,12.365351969840606]
[null,300,360,1.8089999999999998E-2,331.5,332.6,0.51580000000000004,13.198703675125115]
[null,300,380,1.8350000000000002E-2,352.7,353.7,0.5413,14.036023721863359]
[null,300,400,1.8630000000000001E-2,374.1,375.2,0.56659999999999999,14.889217134416544]
[null,300,417.37,1.89E-2,393,394,0.58830000000000005,15.635265327718866]
[null,300,417.37,1.5429999999999999,1118,1203,1.5109999999999999,47.739147688441108]
[null,300,420,1.5509999999999999,1119,1205,1.5129999999999999,47.818514517515823]
[null,300,440,1.609,1130,1220,1.53,48.413765735576177]
[null,300,460,1.6639999999999999,1141,1233,1.544,48.929650124561832]
[null,300,480,1.716,1150,1246,1.5580000000000001,49.445534513547479]
[null,300,500,1.7669999999999999,1160,1258,1.571,49.921735487995768]
[null,300,520,1.8160000000000001,1169,1270,1.583,50.397936462444065]
[null,300,540,1.865,1178,1281,1.595,50.834454022354997]
[null,300,560,1.9119999999999999,1186,1293,1.6060000000000001,51.310654996803287]
[null,300,580,1.9590000000000001,1195,1304,1.617,51.747172556714219]
[null,300,600,2.0049999999999999,1204,1315,1.627,52.183690116625151]
[null,300,620,2.0499999999999998,1212,1326,1.637,52.620207676536083]
[null,300,640,2.0950000000000002,1220,1337,1.647,53.056725236447008]
[null,300,660,2.1389999999999998,1228,1347,1.657,53.45355938182059]
[null,300,680,2.1829999999999998,1237,1358,1.6659999999999999,53.890076941731522]
[null,300,700,2.2269999999999999,1245,1369,1.6759999999999999,54.326594501642454]
[null,300,720,2.2709999999999999,1253,1379,1.6850000000000001,54.723428647016028]
[null,300,740,2.3140000000000001,1261,1390,1.6930000000000001,55.159946206926961]
[null,300,760,2.3570000000000002,1269,1400,1.702,55.556780352300542]
[null,300,780,2.4,1278,1411,1.7110000000000001,55.993297912211474]
[null,300,800,2.4420000000000002,1286,1421,1.7190000000000001,56.390132057585049]
[null,300,820,2.4849999999999999,1294,1432,1.7270000000000001,{"$f":"F951/$E$22*18","v":56.826649617495981}]
[null,300,840,2.5270000000000001,1302,1442,1.736,57.223483762869556]
[null,300,860,2.569,1310,1453,1.744,57.660001322780488]
[null,300,880,2.6110000000000002,1318,1463,1.752,58.056835468154063]
[null,300,900,2.653,1327,1474,1.7589999999999999,58.493353028065002]
[null,300,920,2.6949999999999998,1335,1484,1.7669999999999999,58.890187173438569]
[null,300,940,2.7360000000000002,1343,1495,1.7749999999999999,59.326704733349501]
[null,300,960,2.778,1351,1505,1.782,59.723538878723076]
[null,300,980,2.819,1360,1516,1.79,60.160056438634008]
[null,300,1000,2.8610000000000002,1368,1527,1.7969999999999999,60.59657399854494]
[null,300,1020,2.9020000000000001,1376,1537,1.804,60.993408143918522]
[null,300,1040,2.9430000000000001,1385,1548,1.8109999999999999,61.429925703829454]
[null,300,1060,2.984,1393,1559,1.8180000000000001,61.866443263740379]
[null,300,1080,3.0249999999999999,1401,1569,1.825,62.263277409113961]
[null,300,1100,3.0659999999999998,1410,1580,1.8320000000000001,62.699794969024893]
[null,300,1120,3.1070000000000002,1418,1591,1.839,63.136312528935832]
[null,300,1140,3.1480000000000001,1427,1602,1.8460000000000001,63.572830088846764]
[null,300,1160,3.1890000000000001,1435,1612,1.853,63.969664234220332]
[null,300,1180,3.23,1444,1623,1.859,64.406181794131271]
[null,300,1200,3.27,1452,1634,1.8660000000000001,64.842699354042196]
[null,300,1220,3.3109999999999999,1461,1645,1.8720000000000001,65.279216913953135]
[null,300,1240,3.3519999999999999,1470,1656,1.879,65.71573447386406]
[null,300,1260,3.3919999999999999,1478,1667,1.885,66.152252033775]
[null,300,1280,3.4329999999999998,1487,1678,1.891,66.588769593685939]
[null,300,1300,3.4729999999999999,1496,1689,1.8979999999999999,67.025287153596864]
[null,300,1320,3.5139999999999998,1505,1700,1.9039999999999999,67.461804713507803]
[null,300,1340,3.5550000000000002,1514,1711,1.91,67.898322273418728]
[null,300,1360,3.5950000000000002,1522,1722,1.9159999999999999,68.334839833329653]
[null,300,1380,3.6349999999999998,1531,1733,1.9219999999999999,68.771357393240606]
[null,300,1400,3.6760000000000002,1540,1744,1.9279999999999999,69.207874953151531]
[null,300,1420,3.7160000000000002,1549,1755,1.9339999999999999,69.644392513062456]
[null,300,1440,3.7570000000000001,1558,1767,1.94,70.12059348751076]
[null,300,1460,3.7970000000000002,1567,1778,1.946,70.557111047421685]
[null,300,1480,3.8370000000000002,1576,1789,1.952,70.99362860733261]
[null,300,1500,3.8780000000000001,1585,1801,1.958,71.469829581780914]
[null,400,40,1.6E-2,8.0289999999999999,9.2129999999999992,1.6199999999999999E-2,0.36560329813267489]
[null,400,60,1.601E-2,28.02,29.21,5.5440000000000003E-2,1.1591525386362134]
[null,400,80,1.6049999999999998E-2,47.97,49.16,9.3100000000000002E-2,1.950836658656496]
[null,400,100,1.6109999999999999E-2,67.900000000000006,69.09,0.12939999999999999,2.7417271103860319]
[null,400,120,1.619E-2,87.82,89.02,0.16439999999999999,3.5326175621155671]
[null,400,140,1.627E-2,107.8,109,0.19819999999999999,4.3254921845719707]
[null,400,160,1.6369999999999999E-2,127.7,128.9,0.23089999999999999,5.1151921338653858]
[null,400,180,1.6490000000000001E-2,147.69999999999999,148.9,0.26269999999999999,5.908860424612536]
[null,400,200,1.661E-2,167.8,169,0.29360000000000003,6.7064970568134221]
[null,400,220,1.6750000000000001E-2,187.8,189.1,0.3236,7.5041336890143082]
[null,400,240,1.6899999999999998E-2,208,209.3,0.35289999999999999,8.3057386626689311]
[null,400,260,1.7059999999999999E-2,228.3,229.5,0.38140000000000002,9.1073436363235523]
[null,400,280,1.7239999999999998E-2,248.6,249.9,0.4093,9.916885292885647]
[null,400,300,1.7420000000000001E-2,269.10000000000002,270.39999999999998,0.43659999999999999,10.730395290901473]
[null,400,320,1.763E-2,289.7,291,0.46339999999999998,11.54787363037104]
[null,400,340,1.7850000000000001E-2,310.39999999999998,311.8,0.48970000000000002,12.373288652748077]
[null,400,360,1.8079999999999999E-2,331.4,332.7,0.51559999999999995,13.202672016578848]
[null,400,380,1.8339999999999999E-2,352.5,353.9,0.54110000000000003,14.043960404770827]
[null,400,400,1.8620000000000001E-2,373.9,375.3,0.56630000000000003,14.893185475870281]
[null,400,420,1.8929999999999999E-2,395.6,397,0.59119999999999995,15.754315571330938]
[null,400,440,1.9259999999999999E-2,417.6,419,0.61599999999999999,16.627350691152802]
[null,400,460,1.198,1129,1217,1.4990000000000001,48.294715491964112]
[null,400,480,1.2430000000000001,1140,1232,1.514,48.889966710024474]
[null,400,500,1.2849999999999999,1150,1246,1.5289999999999999,49.445534513547479]
[null,400,520,1.3260000000000001,1160,1259,1.542,49.961418902533126]
[null,400,540,1.365,1170,1271,1.5549999999999999,50.437619876981415]
[null,400,560,1.403,1180,1283,1.5669999999999999,50.913820851429705]
[null,400,580,1.44,1189,1295,1.579,51.390021825878001]
[null,400,600,1.476,1198,1307,1.59,51.866222800326284]
[null,400,620,1.512,1206,1318,1.6,{"$f":"F1015/$E$22*18","v":52.302740360237223}]
[null,400,640,1.548,1215,1330,1.611,52.778941334685506]
[null,400,660,1.5820000000000001,1224,1341,1.621,53.215458894596445]
[null,400,680,1.617,1232,1352,1.631,53.651976454507377]
[null,400,700,1.651,1241,1363,1.64,54.088494014418309]
[null,400,720,1.6839999999999999,1249,1374,1.649,54.525011574329241]
[null,400,740,1.718,1257,1385,1.659,54.961529134240173]
[null,400,760,1.7509999999999999,1266,1395,1.6679999999999999,55.358363279613748]
[null,400,780,1.784,1274,1406,1.6759999999999999,55.79488083952468]
[null,400,800,1.8169999999999999,1282,1417,1.6850000000000001,56.231398399435612]
[null,400,820,1.849,1291,1428,1.6930000000000001,56.667915959346551]
[null,400,840,1.881,1299,1438,1.702,57.064750104720119]
[null,400,860,1.9139999999999999,1307,1449,1.71,57.501267664631051]
[null,400,880,1.946,1316,1460,1.718,57.93778522454199]
[null,400,900,1.978,1324,1470,1.726,58.334619369915565]
[null,400,920,2.0099999999999998,1332,1481,1.7330000000000001,58.771136929826504]
[null,400,940,2.0409999999999999,1341,1492,1.7410000000000001,59.207654489737436]
[null,400,960,2.073,1349,1502,1.7490000000000001,59.604488635111004]
[null,400,980,2.1040000000000001,1357,1513,1.756,60.041006195021943]
[null,400,1000,2.1360000000000001,1366,1524,1.764,60.477523754932875]
[null,400,1020,2.1669999999999998,1374,1535,1.7709999999999999,60.914041314843807]
[null,400,1040,2.198,1383,1545,1.778,61.310875460217382]
[null,400,1060,2.23,1391,1556,1.7849999999999999,61.747393020128314]
[null,400,1080,2.2610000000000001,1400,1567,1.792,62.183910580039246]
[null,400,1100,2.2919999999999998,1408,1578,1.7989999999999999,62.620428139950178]
[null,400,1120,2.323,1417,1588,1.806,63.017262285323753]
[null,400,1140,2.3540000000000001,1425,1599,1.8129999999999999,63.453779845234685]
[null,400,1160,2.3849999999999998,1434,1610,1.82,63.890297405145617]
[null,400,1180,2.4159999999999999,1442,1621,1.8260000000000001,64.326814965056542]
[null,400,1200,2.4460000000000002,1451,1632,1.833,64.763332524967495]
[null,400,1220,2.4769999999999999,1460,1643,1.84,65.19985008487842]
[null,400,1240,2.508,1468,1654,1.8460000000000001,65.636367644789345]
[null,400,1260,2.5390000000000001,1477,1665,1.853,66.072885204700285]
[null,400,1280,2.569,1486,1676,1.859,66.50940276461121]
[null,400,1300,2.6,1495,1687,1.865,66.945920324522149]
[null,400,1320,2.6309999999999998,1503,1698,1.8720000000000001,67.382437884433088]
[null,400,1340,2.661,1512,1709,1.8779999999999999,67.818955444344013]
[null,400,1360,2.6920000000000002,1521,1720,1.8839999999999999,68.255473004254952]
[null,400,1380,2.722,1530,1732,1.89,68.731673978703242]
[null,400,1400,2.7530000000000001,1539,1743,1.8959999999999999,69.168191538614167]
[null,400,1420,2.7829999999999999,1548,1754,1.9019999999999999,69.604709098525106]
[null,400,1440,2.8140000000000001,1557,1765,1.9079999999999999,70.041226658436045]
[null,400,1460,2.8439999999999999,1566,1777,1.9139999999999999,70.517427632884321]
[null,400,1480,2.8740000000000001,1575,1788,1.92,70.95394519279526]
[null,400,1500,2.9049999999999998,1584,1799,1.9259999999999999,71.390462752706199]
[null,500,40,1.5990000000000001E-2,8.0280000000000005,9.5069999999999997,1.619E-2,0.377270222006658]
[null,500,60,1.601E-2,28.01,29.49,5.5410000000000001E-2,1.1702638947066735]
[null,500,80,1.6049999999999998E-2,47.95,49.43,9.3060000000000004E-2,1.9615511805815826]
[null,500,100,1.6109999999999999E-2,67.86,69.36,0.1293,2.7524416323111178]
[null,500,120,1.618E-2,87.78,89.28,0.1643,3.54293524989528]
[null,500,140,1.627E-2,107.7,109.2,0.1981,4.3334288674794417]
[null,500,160,1.6369999999999999E-2,127.7,129.19999999999999,0.23080000000000001,5.1270971582265918]
[null,500,180,1.6480000000000002E-2,147.6,149.19999999999999,0.2626,5.920765448973742]
[null,500,200,1.661E-2,167.7,169.2,0.29339999999999999,6.7144337397208931]
[null,500,220,1.6740000000000001E-2,187.8,189.3,0.32350000000000001,7.512070371921781]
[null,500,240,1.6889999999999999E-2,207.9,209.5,0.35270000000000001,8.3136753455764012]
[null,500,260,1.7049999999999999E-2,228.2,229.7,0.38129999999999997,9.1152803192310241]
[null,500,280,1.7229999999999999E-2,248.5,250.1,0.40910000000000002,9.9248219757931171]
[null,500,300,1.7420000000000001E-2,268.89999999999998,270.60000000000002,0.4365,10.738331973808947]
[null,500,320,1.762E-2,289.5,291.2,0.4632,11.555810313278512]
[null,500,340,1.7840000000000002E-2,310.3,311.89999999999998,0.48949999999999999,12.377256994201812]
[null,500,360,1.8069999999999999E-2,331.2,332.8,0.51539999999999997,13.206640358032587]
[null,500,380,1.8329999999999999E-2,352.3,354,0.54079999999999995,14.047928746224565]
[null,500,400,1.8610000000000002E-2,373.7,375.4,0.56599999999999995,14.897153817324016]
[null,500,420,1.891E-2,395.3,397.1,0.59099999999999997,{"$f":"F1079/$E$22*18","v":15.758283912784675}]
[null,500,440,1.925E-2,417.3,419.1,0.61570000000000003,16.631319032606541]
[null,500,460,1.9609999999999999E-2,439.7,441.5,0.64039999999999997,17.520227518243349]
[null,500,480,0.95479999999999998,1128,1216,1.476,48.255032077426755]
[null,500,500,0.99299999999999999,1140,1232,1.4930000000000001,48.889966710024474]
[null,500,520,1.0289999999999999,1151,1247,1.508,49.485217928084836]
[null,500,540,1.0629999999999999,1162,1260,1.522,50.001102317070483]
[null,500,560,1.0960000000000001,1172,1274,1.5349999999999999,50.556670120593495]
[null,500,580,1.1279999999999999,1182,1286,1.5469999999999999,51.032871095041784]
[null,500,600,1.159,1191,1299,1.5589999999999999,51.548755484027431]
[null,500,620,1.1890000000000001,1201,1311,1.57,52.024956458475721]
[null,500,640,1.2190000000000001,1210,1323,1.581,52.501157432924003]
[null,500,660,1.248,1219,1334,1.5920000000000001,52.937674992834943]
[null,500,680,1.276,1228,1346,1.6020000000000001,53.413875967283232]
[null,500,700,1.304,1236,1357,1.6120000000000001,53.850393527194171]
[null,500,720,1.3320000000000001,1245,1368,1.621,54.286911087105096]
[null,500,740,1.36,1254,1379,1.631,54.723428647016028]
[null,500,760,1.387,1262,1390,1.64,55.159946206926961]
[null,500,780,1.4139999999999999,1271,1401,1.649,55.596463766837893]
[null,500,800,1.4410000000000001,1279,1412,1.6579999999999999,56.032981326748832]
[null,500,820,1.468,1288,1423,1.6659999999999999,56.469498886659764]
[null,500,840,1.494,1296,1434,1.675,56.906016446570696]
[null,500,860,1.52,1304,1445,1.6830000000000001,57.342534006481628]
[null,500,880,1.546,1313,1456,1.6910000000000001,57.779051566392553]
[null,500,900,1.5720000000000001,1321,1467,1.6990000000000001,58.215569126303492]
[null,500,920,1.5980000000000001,1330,1478,1.7070000000000001,58.652086686214425]
[null,500,940,1.6240000000000001,1338,1488,1.7150000000000001,59.048920831587999]
[null,500,960,1.65,1347,1499,1.722,59.485438391498938]
[null,500,980,1.675,1355,1510,1.73,59.921955951409871]
[null,500,1000,1.7010000000000001,1364,1521,1.738,60.358473511320796]
[null,500,1020,1.726,1372,1532,1.7450000000000001,60.794991071231728]
[null,500,1040,1.752,1381,1543,1.752,61.23150863114266]
[null,500,1060,1.7769999999999999,1389,1553,1.7589999999999999,61.628342776516241]
[null,500,1080,1.802,1398,1564,1.766,62.064860336427174]
[null,500,1100,1.827,1406,1575,1.774,62.501377896338099]
[null,500,1120,1.8520000000000001,1415,1586,1.78,62.937895456249038]
[null,500,1140,1.877,1423,1597,1.7869999999999999,63.37441301615997]
[null,500,1160,1.9019999999999999,1432,1608,1.794,63.810930576070902]
[null,500,1180,1.927,1441,1619,1.8009999999999999,64.247448135981841]
[null,500,1200,1.952,1449,1630,1.8080000000000001,64.683965695892766]
[null,500,1220,1.9770000000000001,1458,1641,1.8140000000000001,65.120483255803705]
[null,500,1240,2.0019999999999998,1467,1652,1.821,65.55700081571463]
[null,500,1260,2.0259999999999998,1476,1663,1.827,65.99351837562557]
[null,500,1280,2.0510000000000002,1484,1674,1.8340000000000001,66.430035935536495]
[null,500,1300,2.0760000000000001,1493,1685,1.84,66.866553495447434]
[null,500,1320,2.1,1502,1696,1.8460000000000001,67.303071055358373]
[null,500,1340,2.125,1511,1708,1.8520000000000001,67.779272029806648]
[null,500,1360,2.15,1520,1719,1.859,68.215789589717588]
[null,500,1380,2.1739999999999999,1529,1730,1.865,68.652307149628527]
[null,500,1400,2.1989999999999998,1538,1741,1.871,69.088824709539452]
[null,500,1420,2.2229999999999999,1547,1753,1.877,69.565025683987741]
[null,500,1440,2.2480000000000002,1556,1764,1.883,70.001543243898681]
[null,500,1460,2.2719999999999998,1565,1775,1.889,70.438060803809606]
[null,500,1480,2.2970000000000002,1574,1787,1.895,70.914261778257895]
[null,500,1500,2.3210000000000002,1583,1798,1.901,71.350779338168834]
[null,600,40,1.5990000000000001E-2,8.0269999999999992,9.8019999999999996,1.619E-2,0.38897682929517846]
[null,600,60,1.6E-2,28,29.77,5.5379999999999999E-2,1.1813752507771338]
[null,600,80,1.6039999999999999E-2,47.92,49.7,9.3009999999999995E-2,1.9722657025066692]
[null,600,100,1.61E-2,67.83,69.62,0.12920000000000001,2.7627593200908316]
[null,600,120,1.618E-2,87.74,89.53,0.16420000000000001,3.5528561035296193]
[null,600,140,1.626E-2,107.7,109.5,0.19800000000000001,4.3453338918406494]
[null,600,160,1.636E-2,127.6,129.4,0.23069999999999999,5.1350338411340646]
[null,600,180,1.6480000000000002E-2,147.6,149.4,0.26250000000000001,5.9287021318812148]
[null,600,200,1.66E-2,167.6,169.4,0.29330000000000001,6.7223704226283649]
[null,600,220,1.6740000000000001E-2,187.7,189.5,0.32329999999999998,{"$f":"F1143/$E$22*18","v":7.520007054829251}]
[null,600,240,1.6889999999999999E-2,207.8,209.7,0.35260000000000002,8.321612028483873]
[null,600,260,1.7049999999999999E-2,228,229.9,0.38109999999999999,9.123217002138496]
[null,600,280,1.7219999999999999E-2,248.4,250.3,0.40899999999999997,9.9327586587005907]
[null,600,300,1.7409999999999998E-2,268.8,270.7,0.43630000000000002,10.742300315262684]
[null,600,320,1.7610000000000001E-2,289.39999999999998,291.3,0.46300000000000002,11.559778654732249]
[null,600,340,1.7829999999999999E-2,310.10000000000002,312.10000000000002,0.48930000000000001,12.385193677109285]
[null,600,360,1.8069999999999999E-2,331,333,0.5151,13.214577040940057]
[null,600,380,1.8319999999999999E-2,352.1,354.1,0.54059999999999997,14.0518970876783]
[null,600,400,1.8599999999999998E-2,373.4,375.5,0.56579999999999997,14.901122158777751]
[null,600,420,1.89E-2,395.1,397.2,0.5907,15.76225225423841]
[null,600,440,1.9230000000000001E-2,417,419.1,0.61539999999999995,16.631319032606541]
[null,600,460,1.9599999999999999E-2,439.4,441.5,0.64,17.520227518243349]
[null,600,480,0.02,462.2,464.4,0.66459999999999997,18.428977711148836]
[null,600,500,0.79530000000000001,1128,1217,1.46,48.294715491964112]
[null,600,520,0.82889999999999997,1141,1233,1.4770000000000001,48.929650124561832]
[null,600,540,0.86029999999999995,1153,1249,1.492,49.564584757159551]
[null,600,560,0.8901,1164,1263,1.5069999999999999,50.120152560682563]
[null,600,580,0.91859999999999997,1175,1277,1.52,50.675720364205567]
[null,600,600,0.94599999999999995,1185,1290,1.5329999999999999,51.191604753191214]
[null,600,620,0.97270000000000001,1195,1303,1.5449999999999999,51.707489142176854]
[null,600,640,0.99860000000000004,1204,1315,1.556,52.183690116625151]
[null,600,660,1.024,1214,1327,1.5669999999999999,52.65989109107344]
[null,600,680,1.0489999999999999,1223,1339,1.577,53.136092065521737]
[null,600,700,1.073,1232,1351,1.5880000000000001,53.612293039970019]
[null,600,720,1.097,1241,1363,1.5980000000000001,54.088494014418309]
[null,600,740,1.121,1250,1374,1.607,54.525011574329241]
[null,600,760,1.1439999999999999,1258,1385,1.617,54.961529134240173]
[null,600,780,1.167,1267,1397,1.6259999999999999,55.437730108688463]
[null,600,800,1.19,1276,1408,1.635,55.874247668599395]
[null,600,820,1.2130000000000001,1284,1419,1.6439999999999999,56.310765228510334]
[null,600,840,1.236,1293,1430,1.6519999999999999,56.747282788421266]
[null,600,860,1.258,1302,1441,1.661,57.183800348332198]
[null,600,880,1.28,1310,1452,1.669,57.62031790824313]
[null,600,900,1.302,1319,1463,1.677,58.056835468154063]
[null,600,920,1.3240000000000001,1327,1474,1.6850000000000001,58.493353028065002]
[null,600,940,1.3460000000000001,1336,1485,1.6930000000000001,58.929870587975927]
[null,600,960,1.3680000000000001,1344,1496,1.7010000000000001,59.366388147886859]
[null,600,980,1.389,1353,1507,1.708,59.802905707797791]
[null,600,1000,1.411,1361,1518,1.716,60.239423267708723]
[null,600,1020,1.4319999999999999,1370,1529,1.7230000000000001,60.675940827619662]
[null,600,1040,1.454,1379,1540,1.7310000000000001,61.112458387530594]
[null,600,1060,1.4750000000000001,1387,1551,1.738,61.548975947441527]
[null,600,1080,1.496,1396,1562,1.7450000000000001,61.985493507352459]
[null,600,1100,1.5169999999999999,1404,1573,1.752,62.422011067263391]
[null,600,1120,1.5389999999999999,1413,1584,1.7589999999999999,62.85852862717433]
[null,600,1140,1.56,1422,1595,1.766,63.295046187085262]
[null,600,1160,1.581,1430,1606,1.7729999999999999,63.731563746996187]
[null,600,1180,1.6020000000000001,1439,1617,1.78,64.168081306907126]
[null,600,1200,1.6220000000000001,1448,1628,1.7869999999999999,64.604598866818051]
[null,600,1220,1.643,1457,1639,1.7929999999999999,65.041116426728991]
[null,600,1240,1.6639999999999999,1465,1650,1.8,65.477633986639916]
[null,600,1260,1.6850000000000001,1474,1661,1.806,65.914151546550855]
[null,600,1280,1.706,1483,1672,1.8129999999999999,66.35066910646178]
[null,600,1300,1.726,1492,1684,1.819,66.826870080910084]
[null,600,1320,1.7470000000000001,1501,1695,1.825,67.263387640821009]
[null,600,1340,1.768,1510,1706,1.8320000000000001,67.699905200731934]
[null,600,1360,1.788,1519,1717,1.8380000000000001,68.136422760642873]
[null,600,1380,1.8089999999999999,1528,1728,1.8440000000000001,68.572940320553812]
[null,600,1400,1.829,1537,1740,1.85,69.049141295002102]
[null,600,1420,1.85,1546,1751,1.8560000000000001,69.485658854913027]
[null,600,1440,1.871,1555,1762,1.8620000000000001,69.922176414823966]
[null,600,1460,1.891,1564,1774,1.8680000000000001,70.398377389272255]
[null,600,1480,1.911,1573,1785,1.8740000000000001,70.834894949183195]
[null,600,1500,1.9319999999999999,1582,1797,1.88,{"$f":"F1207/$E$22*18","v":71.311095923631484}]
[null,700,40,1.5980000000000001E-2,8.0259999999999998,10.1,1.619E-2,0.40080248682731101]
[null,700,60,1.6E-2,27.98,30.06,5.5350000000000003E-2,1.1928834409929672]
[null,700,80,1.6039999999999999E-2,47.9,49.98,9.2969999999999997E-2,1.9833770585771291]
[null,700,100,1.61E-2,67.8,69.88,0.12920000000000001,2.773077007870544]
[null,700,120,1.617E-2,87.7,89.79,0.1641,3.5631737913093326]
[null,700,140,1.626E-2,107.6,109.7,0.19789999999999999,4.3532705747481213]
[null,700,160,1.636E-2,127.5,129.69999999999999,0.2306,5.1469388654952706]
[null,700,180,1.6469999999999999E-2,147.5,149.6,0.26240000000000002,5.9366388147886866]
[null,700,200,1.66E-2,167.5,169.7,0.29320000000000002,6.7342754469895727]
[null,700,220,1.6729999999999998E-2,187.6,189.7,0.32319999999999999,7.5279437377367229]
[null,700,240,1.6879999999999999E-2,207.7,209.9,0.35239999999999999,8.3295487113913449]
[null,700,260,1.704E-2,227.9,230.1,0.38090000000000002,9.131153685045966]
[null,700,280,1.7219999999999999E-2,248.2,250.5,0.4088,9.9406953416080608]
[null,700,300,1.7399999999999999E-2,268.7,270.89999999999998,0.43609999999999999,10.750236998170152]
[null,700,320,1.7600000000000001E-2,289.2,291.5,0.46279999999999999,11.567715337639719]
[null,700,340,1.7819999999999999E-2,309.89999999999998,312.2,0.48909999999999998,12.38916201856302]
[null,700,360,1.806E-2,330.8,333.1,0.51490000000000002,13.218545382393794]
[null,700,380,1.831E-2,351.9,354.3,0.54039999999999999,14.059833770585772]
[null,700,400,1.8589999999999999E-2,373.2,375.6,0.5655,14.905090500231488]
[null,700,420,1.8890000000000001E-2,394.8,397.2,0.59040000000000004,15.76225225423841]
[null,700,440,1.9220000000000001E-2,416.7,419.2,0.61509999999999998,16.635287374060276]
[null,700,460,1.958E-2,439,441.6,0.63970000000000005,17.524195859697087]
[null,700,480,1.9980000000000001E-2,461.8,464.4,0.66420000000000001,18.428977711148836]
[null,700,500,2.044E-2,485.2,487.9,0.68889999999999996,19.361537952776736]
[null,700,520,0.68369999999999997,1130,1218,1.4470000000000001,48.334398906501463]
[null,700,540,0.71379999999999999,1143,1236,1.4650000000000001,49.048700368173897]
[null,700,560,0.74170000000000003,1155,1252,1.4810000000000001,49.683635000771623]
[null,700,580,0.7681,1167,1266,1.4950000000000001,50.239202804294628]
[null,700,600,0.79330000000000001,1178,1281,1.5089999999999999,50.834454022354997]
[null,700,620,0.81759999999999999,1188,1294,1.5209999999999999,51.350338411340637]
[null,700,640,0.84099999999999997,1198,1307,1.5329999999999999,51.866222800326284]
[null,700,660,0.86380000000000001,1208,1320,1.5449999999999999,52.382107189311938]
[null,700,680,0.88600000000000001,1218,1333,1.556,52.897991578297585]
[null,700,700,0.90769999999999995,1227,1345,1.5669999999999999,53.374192552745875]
[null,700,720,0.92910000000000004,1236,1357,1.577,53.850393527194171]
[null,700,740,0.95,1246,1369,1.587,54.326594501642454]
[null,700,760,0.97070000000000001,1255,1380,1.5960000000000001,54.763112061553393]
[null,700,780,0.99109999999999998,1263,1392,1.6060000000000001,55.239313036001676]
[null,700,800,1.0109999999999999,1272,1403,1.615,55.675830595912615]
[null,700,820,1.0309999999999999,1281,1415,1.6240000000000001,56.152031570360897]
[null,700,840,1.0509999999999999,1290,1426,1.633,56.588549130271836]
[null,700,860,1.071,1299,1437,1.641,57.025066690182769]
[null,700,880,1.0900000000000001,1307,1448,1.65,57.461584250093701]
[null,700,900,1.109,1316,1460,1.6579999999999999,57.93778522454199]
[null,700,920,1.1279999999999999,1325,1471,1.6659999999999999,58.374302784452922]
[null,700,940,1.147,1333,1482,1.6739999999999999,58.810820344363854]
[null,700,960,1.1659999999999999,1342,1493,1.6819999999999999,59.247337904274787]
[null,700,980,1.1850000000000001,1351,1504,1.69,59.683855464185719]
[null,700,1000,1.204,1359,1515,1.6970000000000001,60.120373024096658]
[null,700,1020,1.222,1368,1526,1.7050000000000001,60.55689058400759]
[null,700,1040,1.2410000000000001,1376,1537,1.712,60.993408143918522]
[null,700,1060,1.2589999999999999,1385,1548,1.72,61.429925703829454]
[null,700,1080,1.278,1394,1559,1.7270000000000001,61.866443263740379]
[null,700,1100,1.296,1403,1570,1.734,62.302960823651318]
[null,700,1120,1.3140000000000001,1411,1581,1.7410000000000001,62.73947838356225]
[null,700,1140,1.333,1420,1593,1.748,63.215679358010547]
[null,700,1160,1.351,1429,1604,1.7549999999999999,63.652196917921472]
[null,700,1180,1.369,1437,1615,1.762,64.088714477832411]
[null,700,1200,1.387,1446,1626,1.7689999999999999,64.525232037743336]
[null,700,1220,1.405,1455,1637,1.7749999999999999,64.961749597654276]
[null,700,1240,1.423,1464,1648,1.782,65.398267157565215]
[null,700,1260,1.4410000000000001,1473,1659,1.788,65.83478471747614]
[null,700,1280,1.4590000000000001,1482,1671,1.7949999999999999,66.310985691924429]
[null,700,1300,1.4770000000000001,1491,1682,1.8009999999999999,{"$f":"F1271/$E$22*18","v":66.747503251835369}]
[null,700,1320,1.4950000000000001,1499,1693,1.8080000000000001,67.184020811746294]
[null,700,1340,1.512,1508,1704,1.8140000000000001,67.620538371657233]
[null,700,1360,1.53,1517,1716,1.82,68.096739346105522]
[null,700,1380,1.548,1526,1727,1.8260000000000001,68.533256906016447]
[null,700,1400,1.5660000000000001,1535,1738,1.8320000000000001,68.969774465927387]
[null,700,1420,1.583,1545,1750,1.839,69.445975440375676]
[null,700,1440,1.601,1554,1761,1.845,69.882493000286601]
[null,700,1460,1.619,1563,1772,1.851,70.31901056019754]
[null,700,1480,1.6359999999999999,1572,1784,1.8560000000000001,70.79521153464583]
[null,700,1500,1.6539999999999999,1581,1795,1.8620000000000001,71.231729094556755]
[null,800,40,1.5980000000000001E-2,8.0239999999999991,10.39,1.618E-2,0.41231067704314472]
[null,800,60,1.5990000000000001E-2,27.97,30.34,5.5329999999999997E-2,1.2039947970634275]
[null,800,80,1.6029999999999999E-2,47.87,50.25,9.2920000000000003E-2,1.9940915805022157]
[null,800,100,1.609E-2,67.760000000000005,70.150000000000006,0.12909999999999999,2.7837915297956308]
[null,800,120,1.617E-2,87.65,90.05,0.1641,3.5734914790890451]
[null,800,140,1.6250000000000001E-2,107.6,110,0.1978,4.3651755991093282]
[null,800,160,1.635E-2,127.5,129.9,0.23050000000000001,5.1548755484027424]
[null,800,180,1.6469999999999999E-2,147.4,149.9,0.26229999999999998,5.9485438391498935]
[null,800,200,1.6590000000000001E-2,167.4,169.9,0.29310000000000003,6.7422121298970445]
[null,800,220,1.6729999999999998E-2,187.5,190,0.3231,7.5398487620979306]
[null,800,240,1.687E-2,207.6,210.1,0.3523,8.3374853942988167]
[null,800,260,1.704E-2,227.8,230.3,0.38080000000000003,9.1390903679534397]
[null,800,280,1.721E-2,248.1,250.7,0.40860000000000002,9.9486320245155309]
[null,800,300,1.7389999999999999E-2,268.5,271.10000000000002,0.43590000000000001,10.758173681077626]
[null,800,320,1.7600000000000001E-2,289.10000000000002,291.7,0.46260000000000001,11.57565202054719]
[null,800,340,1.7809999999999999E-2,309.8,312.39999999999998,0.4889,12.39709870147049]
[null,800,360,1.805E-2,330.6,333.3,0.51470000000000005,13.226482065301266]
[null,800,380,1.83E-2,351.7,354.4,0.54010000000000002,14.063802112039507]
[null,800,400,1.857E-2,373,375.7,0.56520000000000004,14.909058841685223]
[null,800,420,1.8870000000000001E-2,394.5,397.3,0.59009999999999996,15.766220595692147]
[null,800,440,1.9199999999999998E-2,416.4,419.3,0.61470000000000002,16.639255715514011]
[null,800,460,1.9560000000000001E-2,438.7,441.6,0.63929999999999998,17.524195859697087]
[null,800,480,1.9959999999999999E-2,461.5,464.4,0.66379999999999995,18.428977711148836]
[null,800,500,2.0410000000000001E-2,484.8,487.8,0.6885,19.357569611323001]
[null,800,520,0.57199999999999995,1117,1201,1.4179999999999999,47.659780859366393]
[null,800,540,0.60199999999999998,1132,1221,1.4390000000000001,48.453449150113542]
[null,800,560,0.62919999999999998,1146,1239,1.456,49.167750611785976]
[null,800,580,0.65429999999999999,1159,1256,1.472,49.84236865892106]
[null,800,600,0.67800000000000005,1170,1271,1.4870000000000001,50.437619876981415]
[null,800,620,0.7006,1182,1285,1.5,50.99318768050442]
[null,800,640,0.72230000000000005,1192,1299,1.5129999999999999,51.548755484027431]
[null,800,660,0.74319999999999997,1203,1313,1.5249999999999999,52.104323287550436]
[null,800,680,0.76349999999999996,1213,1326,1.5369999999999999,52.620207676536083]
[null,800,700,0.78339999999999999,1222,1338,1.548,53.096408650984372]
[null,800,720,0.80269999999999997,1232,1351,1.5580000000000001,53.612293039970019]
[null,800,740,0.82169999999999999,1241,1363,1.569,54.088494014418309]
[null,800,760,0.84040000000000004,1251,1375,1.5780000000000001,54.564694988866606]
[null,800,780,0.85870000000000002,1260,1387,1.5880000000000001,55.040895963314895]
[null,800,800,0.87680000000000002,1269,1399,1.597,55.517096937763178]
[null,800,820,0.89470000000000005,1278,1410,1.607,55.953614497674117]
[null,800,840,0.91239999999999999,1287,1422,1.6160000000000001,56.429815472122399]
[null,800,860,0.92979999999999996,1296,1433,1.6240000000000001,56.866333032033332]
[null,800,880,0.94720000000000004,1304,1445,1.633,57.342534006481628]
[null,800,900,0.96430000000000005,1313,1456,1.641,57.779051566392553]
[null,800,920,0.98140000000000005,1322,1467,1.65,58.215569126303492]
[null,800,940,0.99829999999999997,1331,1479,1.6579999999999999,58.691770100751782]
[null,800,960,1.0149999999999999,1339,1490,1.6659999999999999,59.128287660662721]
[null,800,980,1.032,1348,1501,1.673,59.564805220573653]
[null,800,1000,1.048,1357,1512,1.681,60.001322780484585]
[null,800,1020,1.0649999999999999,1366,1523,1.6890000000000001,60.43784034039551]
[null,800,1040,1.081,1374,1534,1.696,60.874357900306443]
[null,800,1060,1.0980000000000001,1383,1546,1.704,61.350558874754739]
[null,800,1080,1.1140000000000001,1392,1557,1.7110000000000001,61.787076434665664]
[null,800,1100,1.1299999999999999,1401,1568,1.718,{"$f":"F1335/$E$22*18","v":62.223593994576603}]
[null,800,1120,1.1459999999999999,1409,1579,1.7250000000000001,62.660111554487536]
[null,800,1140,1.1619999999999999,1418,1590,1.732,63.096629114398468]
[null,800,1160,1.179,1427,1601,1.7390000000000001,63.5331466743094]
[null,800,1180,1.1950000000000001,1436,1613,1.746,64.009347648757696]
[null,800,1200,1.21,1445,1624,1.7529999999999999,64.445865208668621]
[null,800,1220,1.226,1454,1635,1.76,64.882382768579561]
[null,800,1240,1.242,1462,1646,1.766,65.3189003284905]
[null,800,1260,1.258,1471,1658,1.7729999999999999,65.795101302938775]
[null,800,1280,1.274,1480,1669,1.7789999999999999,66.231618862849714]
[null,800,1300,1.29,1489,1680,1.786,66.668136422760654]
[null,800,1320,1.3049999999999999,1498,1691,1.792,67.104653982671579]
[null,800,1340,1.321,1507,1703,1.798,67.580854957119868]
[null,800,1360,1.337,1516,1714,1.8049999999999999,68.017372517030807]
[null,800,1380,1.3520000000000001,1525,1725,1.8109999999999999,68.453890076941732]
[null,800,1400,1.3680000000000001,1534,1737,1.8169999999999999,68.930091051390022]
[null,800,1420,1.383,1543,1748,1.823,69.366608611300961]
[null,800,1440,1.399,1552,1760,1.829,69.842809585749251]
[null,800,1460,1.415,1562,1771,1.835,70.279327145660176]
[null,800,1480,1.43,1571,1783,1.841,70.75552812010848]
[null,800,1500,1.446,1580,1794,1.847,71.192045680019405]
[null,900,40,1.5970000000000002E-2,8.0229999999999997,10.68,1.618E-2,0.42381886725897838]
[null,900,60,1.5990000000000001E-2,27.96,30.62,5.5300000000000002E-2,1.2151061531338876]
[null,900,80,1.6029999999999999E-2,47.85,50.52,9.2880000000000004E-2,2.0048061024273025]
[null,900,100,1.609E-2,67.73,70.41,0.12909999999999999,2.7941092175753433]
[null,900,120,1.6160000000000001E-2,87.61,90.3,0.16400000000000001,3.5834123327233849]
[null,900,140,1.6250000000000001E-2,107.5,110.2,0.19769999999999999,4.3731122820168]
[null,900,160,1.635E-2,127.4,130.1,0.23039999999999999,5.1628122313102143]
[null,900,180,1.6459999999999999E-2,147.4,150.1,0.26219999999999999,5.9564805220573644]
[null,900,200,1.6590000000000001E-2,167.4,170.1,0.29299999999999998,6.7501488128045146]
[null,900,220,1.6719999999999999E-2,187.4,190.2,0.32290000000000002,7.5477854450054007]
[null,900,240,1.687E-2,207.5,210.3,0.35210000000000002,8.3454220772062886]
[null,900,260,1.703E-2,227.7,230.6,0.38059999999999999,9.1509953923146448]
[null,900,280,1.72E-2,248,250.9,0.40849999999999997,9.9565687074230045]
[null,900,300,1.7389999999999999E-2,268.39999999999998,271.3,0.43569999999999998,10.766110363985097]
[null,900,320,1.7590000000000001E-2,288.89999999999998,291.89999999999998,0.46239999999999998,11.583588703454662]
[null,900,340,1.78E-2,309.60000000000002,312.60000000000002,0.48870000000000002,12.405035384377964]
[null,900,360,1.804E-2,330.4,333.4,0.51449999999999996,13.230450406754999]
[null,900,380,1.8290000000000001E-2,351.5,354.5,0.53990000000000005,14.067770453493244]
[null,900,400,1.856E-2,372.8,375.8,0.56499999999999995,14.91302718313896]
[null,900,420,1.8859999999999998E-2,394.3,397.4,0.58979999999999999,15.77018893714588]
[null,900,440,1.9189999999999999E-2,416.2,419.4,0.61439999999999995,16.643224056967746]
[null,900,460,1.9550000000000001E-2,438.4,441.7,0.63890000000000002,17.528164201150819]
[null,900,480,1.9939999999999999E-2,461.1,464.4,0.66339999999999999,18.428977711148836]
[null,900,500,2.0389999999999998E-2,484.4,487.8,0.68799999999999994,19.357569611323001]
[null,900,520,2.0899999999999998E-2,508.4,511.8,0.71279999999999999,20.309971560219584]
[null,900,540,0.51300000000000001,1120,1205,1.4119999999999999,47.818514517515823]
[null,900,560,0.54010000000000002,1136,1226,1.4319999999999999,48.651866222800329]
[null,900,580,0.56469999999999998,1150,1244,1.45,49.366167684472764]
[null,900,600,0.58750000000000002,1163,1260,1.466,50.001102317070483]
[null,900,620,0.60899999999999999,1175,1276,1.48,50.636036949668203]
[null,900,640,0.62949999999999995,1186,1291,1.494,51.231288167728565]
[null,900,660,0.64910000000000001,1197,1305,1.5069999999999999,51.786855971251569]
[null,900,680,0.66800000000000004,1207,1319,1.5189999999999999,52.342423774774574]
[null,900,700,0.68640000000000001,1217,1332,1.53,52.858308163760228]
[null,900,720,0.70420000000000005,1227,1345,1.5409999999999999,53.374192552745875]
[null,900,740,0.72170000000000001,1237,1357,1.552,53.850393527194171]
[null,900,760,0.73880000000000001,1247,1370,1.5620000000000001,54.366277916179811]
[null,900,780,0.75560000000000005,1256,1382,1.5720000000000001,54.842478890628108]
[null,900,800,0.77210000000000001,1265,1394,1.5820000000000001,55.318679865076398]
[null,900,820,0.78839999999999999,1274,1406,1.591,55.79488083952468]
[null,900,840,0.80449999999999999,1284,1417,1.6,56.231398399435612]
[null,900,860,0.82040000000000002,1293,1429,1.609,56.707599373883909]
[null,900,880,0.83609999999999995,1302,1441,1.6180000000000001,57.183800348332198]
[null,900,900,0.85160000000000002,1310,1452,1.6259999999999999,{"$f":"F1399/$E$22*18","v":57.62031790824313}]
[null,900,920,0.86699999999999999,1319,1464,1.635,58.09651888269142]
[null,900,940,0.88229999999999997,1328,1475,1.643,58.533036442602352]
[null,900,960,0.89749999999999996,1337,1487,1.651,59.009237417050642]
[null,900,980,0.91259999999999997,1346,1498,1.659,59.445754976961574]
[null,900,1000,0.92749999999999999,1355,1509,1.667,59.882272536872506]
[null,900,1020,0.94240000000000002,1364,1520,1.6739999999999999,60.318790096783445]
[null,900,1040,0.95720000000000005,1372,1532,1.6819999999999999,60.794991071231728]
[null,900,1060,0.97189999999999999,1381,1543,1.6890000000000001,61.23150863114266]
[null,900,1080,0.98650000000000004,1390,1554,1.6970000000000001,61.668026191053599]
[null,900,1100,1.0009999999999999,1399,1566,1.704,62.144227165501889]
[null,900,1120,1.016,1408,1577,1.7110000000000001,62.580744725412828]
[null,900,1140,1.03,1416,1588,1.718,63.017262285323753]
[null,900,1160,1.044,1425,1599,1.7250000000000001,63.453779845234685]
[null,900,1180,1.0589999999999999,1434,1611,1.732,63.929980819682982]
[null,900,1200,1.073,1443,1622,1.7390000000000001,64.366498379593907]
[null,900,1220,1.087,1452,1633,1.746,64.803015939504846]
[null,900,1240,1.1020000000000001,1461,1644,1.752,65.239533499415771]
[null,900,1260,1.1160000000000001,1470,1656,1.7589999999999999,65.71573447386406]
[null,900,1280,1.1299999999999999,1479,1667,1.766,66.152252033775]
[null,900,1300,1.1439999999999999,1488,1678,1.772,66.588769593685939]
[null,900,1320,1.1579999999999999,1497,1690,1.778,67.064970568134214]
[null,900,1340,1.1719999999999999,1506,1701,1.7849999999999999,67.501488128045153]
[null,900,1360,1.1859999999999999,1515,1712,1.7909999999999999,67.938005687956093]
[null,900,1380,1.2,1524,1724,1.7969999999999999,68.414206662404368]
[null,900,1400,1.214,1533,1735,1.8029999999999999,68.850724222315307]
[null,900,1420,1.228,1542,1747,1.81,69.326925196763597]
[null,900,1440,1.242,1551,1758,1.8160000000000001,69.763442756674536]
[null,900,1460,1.256,1561,1770,1.8220000000000001,70.239643731122825]
[null,900,1480,1.27,1570,1781,1.8280000000000001,70.676161291033765]
[null,900,1500,1.2829999999999999,1579,1793,1.8340000000000001,71.15236226548204]
[null,1000,40,1.5970000000000002E-2,8.0220000000000002,10.98,1.617E-2,0.43572389162018571]
[null,1000,60,1.5980000000000001E-2,27.94,30.9,5.527E-2,1.2262175092043477]
[null,1000,80,1.602E-2,47.83,50.79,9.2829999999999996E-2,2.0155206243523889]
[null,1000,100,1.6080000000000001E-2,67.7,70.67,0.129,2.804426905355057]
[null,1000,120,1.6160000000000001E-2,87.57,90.56,0.16389999999999999,3.5937300205030978]
[null,1000,140,1.6240000000000001E-2,107.5,110.5,0.19769999999999999,4.3850173063780069]
[null,1000,160,1.634E-2,127.4,130.4,0.2303,5.1747172556714212]
[null,1000,180,1.6459999999999999E-2,147.30000000000001,150.30000000000001,0.26200000000000001,5.9644172049648372]
[null,1000,200,1.6580000000000001E-2,167.3,170.3,0.2928,6.7580854957119874]
[null,1000,220,1.6719999999999999E-2,187.3,190.4,0.32279999999999998,7.5557221279128735]
[null,1000,240,1.686E-2,207.4,210.5,0.35199999999999998,8.3533587601137604]
[null,1000,260,1.702E-2,227.6,230.8,0.3805,9.1589320752221184]
[null,1000,280,1.719E-2,247.9,251.1,0.4083,9.9645053903304763]
[null,1000,300,1.738E-2,268.3,271.5,0.43559999999999999,10.774047046892569]
[null,1000,320,1.7579999999999998E-2,288.8,292,0.46229999999999999,11.587557044908397]
[null,1000,340,1.78E-2,309.39999999999998,312.7,0.48849999999999999,12.409003725831699]
[null,1000,360,1.8030000000000001E-2,330.3,333.6,0.51419999999999999,13.238387089662472]
[null,1000,380,1.8280000000000001E-2,351.3,354.7,0.53959999999999997,14.075707136400714]
[null,1000,400,1.8550000000000001E-2,372.5,376,0.56469999999999998,14.92096386604643]
[null,1000,420,1.8849999999999999E-2,394,397.5,0.58950000000000002,15.774157278599617]
[null,1000,440,1.917E-2,415.9,419.4,0.61409999999999998,16.643224056967746]
[null,1000,460,1.9529999999999999E-2,438.1,441.7,0.63859999999999995,17.528164201150819]
[null,1000,480,1.992E-2,460.8,464.4,0.66310000000000002,18.428977711148836]
[null,1000,500,2.0369999999999999E-2,484,487.7,0.68759999999999999,19.353601269869266]
[null,1000,520,2.087E-2,507.9,511.7,0.71230000000000004,20.306003218765845]
[null,1000,540,2.145E-2,532.6,536.6,0.73750000000000004,21.29412024074605]
[null,1000,560,0.46729999999999999,1124,1211,1.4079999999999999,48.05661500473996]
[null,1000,580,0.49199999999999999,1140,1231,1.4279999999999999,48.850283295487117]
[null,1000,600,0.51429999999999998,1154,1249,1.446,49.564584757159551]
[null,1000,620,0.53510000000000002,1167,1266,1.4610000000000001,50.239202804294628]
[null,1000,640,0.55469999999999997,1179,1282,1.476,50.874137436892347]
[null,1000,660,0.57340000000000002,1191,1297,1.4890000000000001,51.469388654952716]
[null,1000,680,0.59119999999999995,1202,1311,1.502,52.024956458475721]
[null,1000,700,0.60850000000000004,1212,1325,1.514,{"$f":"F1463/$E$22*18","v":52.580524261998725}]
[null,1000,720,0.62519999999999998,1223,1338,1.5249999999999999,53.096408650984372]
[null,1000,740,0.64149999999999996,1233,1351,1.536,53.612293039970019]
[null,1000,760,0.65739999999999998,1242,1364,1.5469999999999999,54.128177428955674]
[null,1000,780,0.67300000000000004,1252,1377,1.5569999999999999,54.644061817941314]
[null,1000,800,0.68830000000000002,1262,1389,1.5669999999999999,55.12026279238961]
[null,1000,820,0.70330000000000004,1271,1401,1.577,55.596463766837893]
[null,1000,840,0.71809999999999996,1280,1413,1.5860000000000001,56.072664741286182]
[null,1000,860,0.73270000000000002,1289,1425,1.595,56.548865715734479]
[null,1000,880,0.74709999999999999,1299,1437,1.6040000000000001,57.025066690182769]
[null,1000,900,0.76139999999999997,1308,1449,1.613,57.501267664631051]
[null,1000,920,0.77549999999999997,1317,1460,1.621,57.93778522454199]
[null,1000,940,0.78949999999999998,1326,1472,1.629,58.41398619899028]
[null,1000,960,0.8034,1335,1483,1.6379999999999999,58.850503758901219]
[null,1000,980,0.81710000000000005,1344,1495,1.6459999999999999,59.326704733349501]
[null,1000,1000,0.83079999999999998,1352,1506,1.653,59.763222293260441]
[null,1000,1020,0.84430000000000005,1361,1518,1.661,60.239423267708723]
[null,1000,1040,0.85780000000000001,1370,1529,1.669,60.675940827619662]
[null,1000,1060,0.87119999999999997,1379,1540,1.6759999999999999,61.112458387530594]
[null,1000,1080,0.88460000000000005,1388,1552,1.6839999999999999,61.588659361978884]
[null,1000,1100,0.89780000000000004,1397,1563,1.6910000000000001,62.025176921889816]
[null,1000,1120,0.91100000000000003,1406,1574,1.698,62.461694481800748]
[null,1000,1140,0.92410000000000003,1415,1586,1.7050000000000001,62.937895456249038]
[null,1000,1160,0.93720000000000003,1424,1597,1.7130000000000001,63.37441301615997]
[null,1000,1180,0.95030000000000003,1433,1608,1.7190000000000001,63.810930576070902]
[null,1000,1200,0.96319999999999995,1441,1620,1.726,64.287131550519192]
[null,1000,1220,0.97619999999999996,1450,1631,1.7330000000000001,64.723649110430131]
[null,1000,1240,0.98909999999999998,1459,1642,1.74,65.160166670341056]
[null,1000,1260,1.002,1468,1654,1.7470000000000001,65.636367644789345]
[null,1000,1280,1.0149999999999999,1477,1665,1.7529999999999999,66.072885204700285]
[null,1000,1300,1.028,1486,1677,1.76,66.549086179148574]
[null,1000,1320,1.04,1495,1688,1.766,66.985603739059499]
[null,1000,1340,1.0529999999999999,1505,1699,1.772,67.422121298970438]
[null,1000,1360,1.0660000000000001,1514,1711,1.7789999999999999,67.898322273418728]
[null,1000,1380,1.0780000000000001,1523,1722,1.7849999999999999,68.334839833329653]
[null,1000,1400,1.091,1532,1734,1.7909999999999999,68.811040807777957]
[null,1000,1420,1.1040000000000001,1541,1745,1.7969999999999999,69.247558367688882]
[null,1000,1440,1.1160000000000001,1550,1757,1.8029999999999999,69.723759342137171]
[null,1000,1460,1.129,1559,1768,1.81,70.160276902048111]
[null,1000,1480,1.141,1569,1780,1.8149999999999999,70.6364778764964]
[null,1000,1500,1.1539999999999999,1578,1791,1.821,71.072995436407325]
[null,1100,40,1.5959999999999998E-2,8.0210000000000008,11.27,1.617E-2,0.44723208183601931]
[null,1100,60,1.5980000000000001E-2,27.93,31.18,5.5239999999999997E-2,1.2373288652748076]
[null,1100,80,1.602E-2,47.8,51.06,9.2780000000000001E-2,2.0262351462774757]
[null,1100,100,1.6080000000000001E-2,67.66,70.94,0.12889999999999999,2.8151414272801429]
[null,1100,120,1.6150000000000001E-2,87.53,90.81,0.1638,3.6036508741374371]
[null,1100,140,1.6240000000000001E-2,107.4,110.7,0.1976,4.3929539892854788]
[null,1100,160,1.634E-2,127.3,130.6,0.23019999999999999,5.182653938578893]
[null,1100,180,1.6449999999999999E-2,147.19999999999999,150.6,0.26190000000000002,5.9763222293260432]
[null,1100,200,1.6570000000000001E-2,167.2,170.6,0.29270000000000002,6.7699905200731934]
[null,1100,220,1.6709999999999999E-2,187.2,190.6,0.32269999999999999,7.5636588108203453]
[null,1100,240,1.686E-2,207.3,210.8,0.35189999999999999,8.3652637844749673]
[null,1100,260,1.702E-2,227.5,231,0.38030000000000003,9.1668687581295902]
[null,1100,280,1.719E-2,247.8,251.3,0.40820000000000001,9.9724420732379464]
[null,1100,300,1.737E-2,268.10000000000002,271.7,0.43540000000000001,10.781983729800039]
[null,1100,320,1.7569999999999999E-2,288.60000000000002,292.2,0.46210000000000001,11.595493727815869]
[null,1100,340,1.779E-2,309.3,312.89999999999998,0.48830000000000001,12.416940408739169]
[null,1100,360,1.8020000000000001E-2,330.1,333.7,0.51400000000000001,13.242355431116207]
[null,1100,380,1.8270000000000002E-2,351.1,354.8,0.53939999999999999,14.079675477854451]
[null,1100,400,1.8540000000000001E-2,372.3,376.1,0.56440000000000001,14.924932207500166]
[null,1100,420,1.8839999999999999E-2,393.8,397.6,0.58919999999999995,15.778125620053354]
[null,1100,440,1.916E-2,415.6,419.5,0.61380000000000001,16.647192398421485]
[null,1100,460,1.951E-2,437.8,441.7,0.63829999999999998,17.528164201150819]
[null,1100,480,1.9910000000000001E-2,460.4,464.4,0.66269999999999996,18.428977711148836]
[null,1100,500,2.035E-2,483.6,487.7,0.68720000000000003,{"$f":"F1527/$E$22*18","v":19.353601269869266}]
[null,1100,520,2.0840000000000001E-2,507.4,511.6,0.71179999999999999,20.30203487731211]
[null,1100,540,2.1420000000000002E-2,532.1,536.4,0.7369,21.286183557838577]
[null,1100,560,0.40579999999999999,1111,1193,1.3839999999999999,47.342313543067526]
[null,1100,580,0.43120000000000003,1129,1217,1.4059999999999999,48.294715491964112]
[null,1100,600,0.4536,1145,1237,1.4259999999999999,49.088383782711261]
[null,1100,620,0.47410000000000002,1159,1256,1.4430000000000001,49.84236865892106]
[null,1100,640,0.49309999999999998,1172,1272,1.4590000000000001,50.47730329151878]
[null,1100,660,0.5111,1184,1288,1.4730000000000001,51.112237924116499]
[null,1100,680,0.52810000000000001,1196,1303,1.486,51.707489142176854]
[null,1100,700,0.54459999999999997,1207,1318,1.4990000000000001,52.302740360237223]
[null,1100,720,0.56040000000000001,1218,1332,1.5109999999999999,52.858308163760228]
[null,1100,740,0.57569999999999999,1228,1345,1.522,53.374192552745875]
[null,1100,760,0.5907,1238,1358,1.5329999999999999,53.890076941731522]
[null,1100,780,0.60529999999999995,1248,1371,1.5429999999999999,54.405961330717176]
[null,1100,800,0.61960000000000004,1258,1384,1.5529999999999999,54.921845719702816]
[null,1100,820,0.63360000000000005,1267,1396,1.5629999999999999,55.398046694151112]
[null,1100,840,0.64729999999999999,1277,1409,1.573,55.91393108313676]
[null,1100,860,0.66090000000000004,1286,1421,1.5820000000000001,56.390132057585049]
[null,1100,880,0.67430000000000001,1296,1433,1.591,56.866333032033332]
[null,1100,900,0.6875,1305,1445,1.6,57.342534006481628]
[null,1100,920,0.7006,1314,1457,1.609,57.818734980929918]
[null,1100,940,0.71350000000000002,1323,1468,1.617,58.25525254084085]
[null,1100,960,0.72629999999999995,1332,1480,1.625,58.731453515289139]
[null,1100,980,0.73899999999999999,1341,1492,1.633,59.207654489737436]
[null,1100,1000,0.75160000000000005,1350,1503,1.641,59.644172049648361]
[null,1100,1020,0.7641,1359,1515,1.649,60.120373024096658]
[null,1100,1040,0.77649999999999997,1368,1526,1.657,60.55689058400759]
[null,1100,1060,0.78879999999999995,1377,1538,1.665,61.03309155845588]
[null,1100,1080,0.80110000000000003,1386,1549,1.6719999999999999,61.469609118366812]
[null,1100,1100,0.81330000000000002,1395,1561,1.679,61.945810092815101]
[null,1100,1120,0.82540000000000002,1404,1572,1.6870000000000001,62.382327652726033]
[null,1100,1140,0.83750000000000002,1413,1583,1.694,62.818845212636965]
[null,1100,1160,0.84950000000000003,1422,1595,1.7010000000000001,63.295046187085262]
[null,1100,1180,0.86140000000000005,1431,1606,1.708,63.731563746996187]
[null,1100,1200,0.87329999999999997,1440,1618,1.7150000000000001,64.207764721444477]
[null,1100,1220,0.88519999999999999,1449,1629,1.722,64.644282281355416]
[null,1100,1240,0.89700000000000002,1458,1640,1.728,65.080799841266341]
[null,1100,1260,0.90880000000000005,1467,1652,1.7350000000000001,65.55700081571463]
[null,1100,1280,0.92049999999999998,1476,1663,1.742,65.99351837562557]
[null,1100,1300,0.93220000000000003,1485,1675,1.748,66.469719350073859]
[null,1100,1320,0.94389999999999996,1494,1686,1.7549999999999999,66.906236909984784]
[null,1100,1340,0.95550000000000002,1503,1698,1.7609999999999999,67.382437884433088]
[null,1100,1360,0.96709999999999996,1512,1709,1.768,67.818955444344013]
[null,1100,1380,0.97870000000000001,1521,1721,1.774,68.295156418792303]
[null,1100,1400,0.99019999999999997,1531,1732,1.78,68.731673978703242]
[null,1100,1420,1.002,1540,1744,1.786,69.207874953151531]
[null,1100,1440,1.0129999999999999,1549,1755,1.792,69.644392513062456]
[null,1100,1460,1.0249999999999999,1558,1767,1.798,70.12059348751076]
[null,1100,1480,1.036,1568,1778,1.804,70.557111047421685]
[null,1100,1500,1.048,1577,1790,1.81,71.033312021869975]
[null,1200,40,1.5959999999999998E-2,8.0190000000000001,11.56,1.6160000000000001E-2,0.45874027205185308]
[null,1200,60,1.5970000000000002E-2,27.92,31.46,5.5219999999999998E-2,1.2484402213452679]
[null,1200,80,1.601E-2,47.78,51.33,9.2740000000000003E-2,2.0369496682025621]
[null,1200,100,1.6070000000000001E-2,67.63,71.2,0.12889999999999999,2.8254591150598563]
[null,1200,120,1.6150000000000001E-2,87.48,91.07,0.1638,3.61396856191715]
[null,1200,140,1.6230000000000001E-2,107.3,111,0.19750000000000001,4.4048590136466856]
[null,1200,160,1.6330000000000001E-2,127.2,130.9,0.2301,5.1945589629401008]
[null,1200,180,1.6449999999999999E-2,147.19999999999999,150.80000000000001,0.26179999999999998,5.9842589122335159]
[null,1200,200,1.6570000000000001E-2,167.1,170.8,0.29260000000000003,6.7779272029806661]
[null,1200,220,1.67E-2,187.1,190.9,0.32250000000000001,7.5755638351815522]
[null,1200,240,1.685E-2,207.2,211,0.35170000000000001,8.3732004673824374]
[null,1200,260,1.7010000000000001E-2,227.4,231.2,0.38019999999999998,9.1748054410370585]
[null,1200,280,1.7180000000000001E-2,247.6,251.5,0.40799999999999997,9.9803787561454183]
[null,1200,300,1.737E-2,268,271.89999999999998,0.43519999999999998,10.789920412707511]
[null,1200,320,1.7569999999999999E-2,288.5,292.39999999999998,0.46189999999999998,11.603430410723341]
[null,1200,340,1.7780000000000001E-2,309.10000000000002,313.10000000000002,0.48799999999999999,12.424877091646643]
[null,1200,360,1.8010000000000002E-2,329.9,333.9,0.51380000000000003,13.250292114023678]
[null,1200,380,1.8259999999999998E-2,350.9,354.9,0.53910000000000002,14.083643819308186]
[null,1200,400,1.8530000000000001E-2,372.1,376.2,0.56420000000000003,14.928900548953902]
[null,1200,420,1.882E-2,393.5,397.7,0.58889999999999998,15.782093961507089]
[null,1200,440,1.9140000000000001E-2,415.3,419.6,0.61350000000000005,16.65116073987522]
[null,1200,460,1.95E-2,437.5,441.8,0.63790000000000002,17.532132542604554]
[null,1200,480,1.9890000000000001E-2,460,464.5,0.6623,18.432946052602571]
[null,1200,500,2.0320000000000001E-2,483.2,487.7,0.68669999999999998,19.353601269869266]
[null,1200,520,2.0820000000000002E-2,506.9,511.5,0.71140000000000003,20.298066535858375]
[null,1200,540,2.138E-2,531.5,536.29999999999995,0.73629999999999995,21.282215216384841]
[null,1200,560,2.205E-2,557.20000000000005,562.1,0.76190000000000002,22.306047311448665]
[null,1200,580,0.37909999999999999,1117,1201,1.3839999999999999,47.659780859366393]
[null,1200,600,0.40200000000000002,1135,1224,1.4059999999999999,48.572499393725614]
[null,1200,620,0.42249999999999999,1150,1244,1.425,49.366167684472764]
[null,1200,640,0.44130000000000003,1165,1263,1.4419999999999999,50.120152560682563]
[null,1200,660,0.45879999999999999,1178,1279,1.4570000000000001,50.755087193280282]
[null,1200,680,0.4753,1190,1295,1.4710000000000001,51.390021825878001]
[null,1200,700,0.49099999999999999,1201,1311,1.484,52.024956458475721]
[null,1200,720,0.50619999999999998,1213,1325,1.4970000000000001,52.580524261998725]
[null,1200,740,0.52080000000000004,1223,1339,1.508,53.136092065521737]
[null,1200,760,0.53490000000000004,1234,1353,1.52,53.691659869044734]
[null,1200,780,0.54869999999999997,1244,1366,1.53,54.207544258030381]
[null,1200,800,0.56220000000000003,1254,1379,1.5409999999999999,54.723428647016028]
[null,1200,820,0.57540000000000002,1264,1392,1.5509999999999999,55.239313036001676]
[null,1200,840,0.58830000000000005,1274,1404,1.5609999999999999,55.715514010449965]
[null,1200,860,0.60099999999999998,1283,1417,1.57,56.231398399435612]
[null,1200,880,0.61360000000000003,1293,1429,1.579,56.707599373883909]
[null,1200,900,0.62590000000000001,1302,1441,1.5880000000000001,57.183800348332198]
[null,1200,920,0.6381,1311,1453,1.597,57.660001322780488]
[null,1200,940,0.6502,1320,1465,1.605,58.136202297228785]
[null,1200,960,0.66210000000000002,1330,1477,1.6140000000000001,58.612403271677067]
[null,1200,980,0.67390000000000005,1339,1488,1.6220000000000001,59.048920831587999]
[null,1200,1000,0.68559999999999999,1348,1500,1.63,59.525121806036289]
[null,1200,1020,0.69720000000000004,1357,1512,1.6379999999999999,60.001322780484585]
[null,1200,1040,0.7087,1366,1523,1.6459999999999999,60.43784034039551]
[null,1200,1060,0.72019999999999995,1375,1535,1.6539999999999999,60.914041314843807]
[null,1200,1080,0.73150000000000004,1384,1547,1.661,61.390242289292097]
[null,1200,1100,0.74280000000000002,1393,1558,1.669,61.826759849203029]
[null,1200,1120,0.75409999999999999,1402,1570,1.6759999999999999,62.302960823651318]
[null,1200,1140,0.76519999999999999,1411,1581,1.6830000000000001,62.73947838356225]
[null,1200,1160,0.77629999999999999,1420,1593,1.69,63.215679358010547]
[null,1200,1180,0.78739999999999999,1429,1604,1.6970000000000001,63.652196917921472]
[null,1200,1200,0.7984,1438,1616,1.704,64.128397892369762]
[null,1200,1220,0.80940000000000001,1447,1627,1.7110000000000001,64.564915452280701]
[null,1200,1240,0.82030000000000003,1456,1639,1.718,65.041116426728991]
[null,1200,1260,0.83109999999999995,1465,1650,1.7250000000000001,65.477633986639916]
[null,1200,1280,0.84199999999999997,1475,1662,1.7310000000000001,65.953834961088219]
[null,1200,1300,0.8528,1484,1673,1.738,66.390352520999144]
[null,1200,1320,0.86350000000000005,1493,1685,1.744,66.866553495447434]
[null,1200,1340,0.87429999999999997,1502,1696,1.7509999999999999,67.303071055358373]
[null,1200,1360,0.88500000000000001,1511,1708,1.7569999999999999,67.779272029806648]
[null,1200,1380,0.89559999999999995,1520,1719,1.764,68.215789589717588]
[null,1200,1400,0.90629999999999999,1529,1731,1.77,68.691990564165877]
[null,1200,1420,0.91690000000000005,1539,1742,1.776,69.128508124076816]
[null,1200,1440,0.92749999999999999,1548,1754,1.782,69.604709098525106]
[null,1200,1460,0.93810000000000004,1557,1765,1.788,70.041226658436045]
[null,1200,1480,0.9486,1566,1777,1.794,70.517427632884321]
[null,1200,1500,0.95920000000000005,1576,1789,1.8,70.99362860733261]
[null,1300,40,1.5949999999999999E-2,8.0180000000000007,11.85,1.6160000000000001E-2,0.47024846226768668]
[null,1300,60,1.5970000000000002E-2,27.9,31.74,5.5190000000000003E-2,1.259551577415728]
[null,1300,80,1.601E-2,47.75,51.61,9.2689999999999995E-2,2.0480610242730219]
[null,1300,100,1.6070000000000001E-2,67.599999999999994,71.459999999999994,0.1288,2.8357768028395687]
[null,1300,120,1.6140000000000002E-2,87.44,91.32,0.16370000000000001,3.6238894155514894]
[null,1300,140,1.6230000000000001E-2,107.3,111.2,0.19739999999999999,4.4127956965541575]
[null,1300,160,1.6330000000000001E-2,127.2,131.1,0.2301,5.2024956458475717]
[null,1300,180,1.644E-2,147.1,151,0.26169999999999999,5.9921955951409869]
[null,1300,200,1.6559999999999998E-2,167,171,0.29249999999999998,6.785863885888137]
[null,1300,220,1.67E-2,187.1,191.1,0.32240000000000002,7.5835005180890231]
[null,1300,240,1.685E-2,207.1,211.2,0.35160000000000002,8.3811371502899092]
[null,1300,260,1.7000000000000001E-2,227.3,231.4,0.38,9.1827421239445322]
[null,1300,280,1.7170000000000001E-2,247.5,251.7,0.4078,9.9883154390528901]
[null,1300,300,1.736E-2,267.89999999999998,272,0.435,10.793888754161248]
[null,1300,320,1.7559999999999999E-2,288.3,292.60000000000002,0.4617,11.611367093630815]
[null,1300,340,1.7770000000000001E-2,308.89999999999998,313.2,0.48780000000000001,12.428845433100376]
[null,1300,360,1.7999999999999999E-2,329.7,334,0.51359999999999995,13.254260455477414]
[null,1300,380,1.8249999999999999E-2,350.7,355.1,0.53890000000000005,14.09158050221566]
[null,1300,400,1.8519999999999998E-2,371.9,376.3,0.56389999999999996,14.932868890407638]
[null,1300,420,1.881E-2,393.3,397.8,0.58860000000000001,15.786062302960824]
[null,1300,440,1.9130000000000001E-2,415,419.6,0.61319999999999997,16.65116073987522]
[null,1300,460,1.9480000000000001E-2,437.2,441.8,0.63759999999999994,17.532132542604554]
[null,1300,480,1.9869999999999999E-2,459.7,464.5,0.66190000000000004,18.432946052602571]
[null,1300,500,2.0299999999999999E-2,482.7,487.6,0.68630000000000002,19.349632928415531]
[null,1300,520,2.0789999999999999E-2,506.4,511.5,0.71089999999999998,20.298066535858375]
[null,1300,540,2.1350000000000001E-2,531,536.1,0.73580000000000001,21.274278533477371]
[null,1300,560,2.2009999999999998E-2,556.5,561.79999999999995,0.76129999999999998,22.294142287087457]
[null,1300,580,0.33329999999999999,1103,1183,1.361,46.945479397693958]
[null,1300,600,0.3574,1124,1210,1.3859999999999999,48.01693159020261]
[null,1300,620,0.37819999999999998,1141,1232,1.407,48.889966710024474]
[null,1300,640,0.39689999999999998,1157,1252,1.425,49.683635000771623]
[null,1300,660,0.41410000000000002,1171,1270,1.4410000000000001,50.397936462444065]
[null,1300,680,0.43020000000000003,1184,1287,1.456,51.072554509579135]
[null,1300,700,0.44550000000000001,1196,1303,1.47,51.707489142176854]
[null,1300,720,0.46010000000000001,1207,1318,1.4830000000000001,52.302740360237223]
[null,1300,740,0.47410000000000002,1219,1333,1.4950000000000001,52.897991578297585]
[null,1300,760,0.48759999999999998,1229,1347,1.5069999999999999,53.45355938182059]
[null,1300,780,0.50080000000000002,1240,1360,1.518,53.969443770806237]
[null,1300,800,0.51359999999999995,1250,1374,1.5289999999999999,54.525011574329241]
[null,1300,820,0.52610000000000001,1260,1387,1.5389999999999999,55.040895963314895]
[null,1300,840,0.5383,1270,1400,1.5489999999999999,55.556780352300542]
[null,1300,860,0.55030000000000001,1280,1412,1.5589999999999999,56.032981326748832]
[null,1300,880,0.56210000000000004,1289,1425,1.5680000000000001,56.548865715734479]
[null,1300,900,0.57379999999999998,1299,1437,1.577,57.025066690182769]
[null,1300,920,0.58520000000000005,1308,1449,1.5860000000000001,57.501267664631051]
[null,1300,940,0.59650000000000003,1318,1461,1.595,57.977468639079348]
[null,1300,960,0.60770000000000002,1327,1473,1.603,58.453669613527637]
[null,1300,980,0.61880000000000002,1336,1485,1.6120000000000001,58.929870587975927]
[null,1300,1000,0.62980000000000003,1346,1497,1.62,59.406071562424223]
[null,1300,1020,0.64059999999999995,1355,1509,1.6279999999999999,59.882272536872506]
[null,1300,1040,0.65139999999999998,1364,1521,1.6359999999999999,60.358473511320796]
[null,1300,1060,0.66210000000000002,1373,1532,1.643,60.794991071231728]
[null,1300,1080,0.67269999999999996,1382,1544,1.651,61.271192045680024]
[null,1300,1100,0.68320000000000003,1391,1556,1.659,61.747393020128314]
[null,1300,1120,0.69369999999999998,1400,1567,1.6659999999999999,62.183910580039246]
[null,1300,1140,0.70409999999999995,1409,1579,1.673,62.660111554487536]
[null,1300,1160,0.71440000000000003,1418,1590,1.68,63.096629114398468]
[null,1300,1180,0.72470000000000001,1428,1602,1.6879999999999999,63.572830088846764]
[null,1300,1200,0.73499999999999999,1437,1613,1.6950000000000001,64.009347648757696]
[null,1300,1220,0.74519999999999997,1446,1625,1.7010000000000001,64.485548623205986]
[null,1300,1240,0.75529999999999997,1455,1637,1.708,64.961749597654276]
[null,1300,1260,0.76549999999999996,1464,1648,1.7150000000000001,65.398267157565215]
[null,1300,1280,0.77549999999999997,1473,1660,1.722,65.87446813201349]
[null,1300,1300,0.78559999999999997,1482,1671,1.728,66.310985691924429]
[null,1300,1320,0.79559999999999997,1491,1683,1.7350000000000001,66.787186666372719]
[null,1300,1340,0.80549999999999999,1501,1694,1.7410000000000001,67.223704226283658]
[null,1300,1360,0.8155,1510,1706,1.748,67.699905200731934]
[null,1300,1380,0.82540000000000002,1519,1718,1.754,68.176106175180237]
[null,1300,1400,0.83530000000000004,1528,1729,1.76,68.612623735091162]
[null,1300,1420,0.84509999999999996,1537,1741,1.7669999999999999,69.088824709539452]
[null,1300,1440,0.85499999999999998,1547,1752,1.7729999999999999,69.525342269450391]
[null,1300,1460,0.86480000000000001,1556,1764,1.7789999999999999,70.001543243898681]
[null,1300,1480,0.87460000000000004,1565,1776,1.7849999999999999,70.47774421834697]
[null,1300,1500,0.88429999999999997,1575,1787,1.7909999999999999,70.914261778257895]
[null,1400,40,1.5939999999999999E-2,8.016,12.15,1.6150000000000001E-2,0.48215348662889396]
[null,1400,60,1.5959999999999998E-2,27.89,32.020000000000003,5.5160000000000001E-2,1.2706629334861883]
[null,1400,80,1.6E-2,47.73,51.88,9.264E-2,2.0587755461981088]
[null,1400,100,1.6060000000000001E-2,67.56,71.73,0.1288,2.8464913247646559]
[null,1400,120,1.6140000000000002E-2,87.4,91.58,0.1636,3.6342071033312022]
[null,1400,140,1.6219999999999998E-2,107.2,111.5,0.1973,4.4247007209153644]
[null,1400,160,1.6320000000000001E-2,127.1,131.30000000000001,0.23,5.2104323287550436]
[null,1400,180,1.644E-2,147,151.30000000000001,0.2616,6.0041006195021938]
[null,1400,200,1.6559999999999998E-2,167,171.3,0.29239999999999999,6.7977689102493448]
[null,1400,220,1.669E-2,187,191.3,0.32229999999999998,7.5914372009964959]
[null,1400,240,1.6840000000000001E-2,207,211.4,0.35139999999999999,8.3890738331973829]
[null,1400,260,1.7000000000000001E-2,227.2,231.6,0.37990000000000002,9.190678806852004]
[null,1400,280,1.7170000000000001E-2,247.4,251.8,0.40770000000000001,9.9922837805066251]
[null,1400,300,1.7350000000000001E-2,267.7,272.2,0.43480000000000002,10.801825437068718]
[null,1400,320,1.755E-2,288.2,292.7,0.46150000000000002,11.615335435084548]
[null,1400,340,1.7760000000000001E-2,308.8,313.39999999999998,0.48759999999999998,12.436782116007848]
[null,1400,360,1.7989999999999999E-2,329.5,334.2,0.51329999999999998,13.262197138384886]
[null,1400,380,1.8239999999999999E-2,350.5,355.2,0.53869999999999996,14.095548843669393]
[null,1400,400,1.8509999999999999E-2,371.6,376.4,0.56369999999999998,14.936837231861372]
[null,1400,420,1.8800000000000001E-2,393.1,397.9,0.58840000000000003,15.790030644414561]
[null,1400,440,1.9120000000000002E-2,414.8,419.7,0.6129,16.655129081328955]
[null,1400,460,1.9460000000000002E-2,436.8,441.9,0.63719999999999999,17.536100884058293]
[null,1400,480,1.985E-2,459.3,464.5,0.66149999999999998,18.432946052602571]
[null,1400,500,2.0279999999999999E-2,482.3,487.6,0.68589999999999995,19.349632928415531]
[null,1400,520,2.0760000000000001E-2,506,511.4,0.71040000000000003,20.29409819440464]
[null,1400,540,2.1319999999999999E-2,530.4,535.9,0.73519999999999996,21.266341850569898]
[null,1400,560,2.197E-2,555.9,561.6,0.76060000000000005,22.28620560417999]
[null,1400,580,2.2749999999999999E-2,582.70000000000005,588.6,0.78690000000000004,23.357657796688642]
[null,1400,600,0.31780000000000003,1111,1194,1.365,47.38199695760489]
[null,1400,620,0.33939999999999998,1131,1219,1.3879999999999999,48.374082321038827]
[null,1400,640,0.35830000000000001,1148,1241,1.4079999999999999,49.247117440860691]
[null,1400,660,0.3755,1163,1260,1.4259999999999999,50.001102317070483]
[null,1400,680,0.39129999999999998,1177,1278,1.4419999999999999,50.715403778742917]
[null,1400,700,0.40629999999999999,1190,1295,1.4570000000000001,51.390021825878001]
[null,1400,720,0.4204,1202,1311,1.47,52.024956458475721]
[null,1400,740,0.434,1214,1326,1.4830000000000001,52.620207676536083]
[null,1400,760,0.44700000000000001,1225,1341,1.4950000000000001,53.215458894596445]
[null,1400,780,0.45960000000000001,1236,1355,1.506,53.771026698119456]
[null,1400,800,0.4718,1246,1368,1.5169999999999999,54.286911087105096]
[null,1400,820,0.48370000000000002,1257,1382,1.528,54.842478890628108]
[null,1400,840,0.49540000000000001,1267,1395,1.538,55.358363279613748]
[null,1400,860,0.50680000000000003,1277,1408,1.548,55.874247668599395]
[null,1400,880,0.51800000000000002,1286,1421,1.5569999999999999,56.390132057585049]
[null,1400,900,0.52900000000000003,1296,1433,1.5669999999999999,56.866333032033332]
[null,1400,920,0.53979999999999995,1306,1445,1.5760000000000001,57.342534006481628]
[null,1400,940,0.55049999999999999,1315,1458,1.585,57.858418395467282]
[null,1400,960,0.56110000000000004,1325,1470,1.593,58.334619369915565]
[null,1400,980,0.57150000000000001,1334,1482,1.6020000000000001,58.810820344363854]
[null,1400,1000,0.58189999999999997,1343,1494,1.61,59.287021318812151]
[null,1400,1020,0.59209999999999996,1352,1506,1.6180000000000001,59.763222293260441]
[null,1400,1040,0.60219999999999996,1362,1518,1.6259999999999999,60.239423267708723]
[null,1400,1060,0.61219999999999997,1371,1530,1.6339999999999999,60.71562424215702]
[null,1400,1080,0.62219999999999998,1380,1541,1.6419999999999999,61.152141802067945]
[null,1400,1100,0.6321,1389,1553,1.649,61.628342776516241]
[null,1400,1120,0.64190000000000003,1398,1565,1.657,62.104543750964531]
[null,1400,1140,0.65169999999999995,1408,1576,1.6639999999999999,62.541061310875463]
[null,1400,1160,0.66139999999999999,1417,1588,1.671,{"$f":"F1782/$E$22*18","v":63.017262285323753}]
[null,1400,1180,0.67100000000000004,1426,1600,1.6779999999999999,63.493463259772049]
[null,1400,1200,0.68059999999999998,1435,1611,1.6850000000000001,63.929980819682982]
[null,1400,1220,0.69020000000000004,1444,1623,1.6919999999999999,64.406181794131271]
[null,1400,1240,0.69969999999999999,1453,1635,1.6990000000000001,64.882382768579561]
[null,1400,1260,0.70909999999999995,1463,1646,1.706,65.3189003284905]
[null,1400,1280,0.71860000000000002,1472,1658,1.7130000000000001,65.795101302938775]
[null,1400,1300,0.72799999999999998,1481,1669,1.7190000000000001,66.231618862849714]
[null,1400,1320,0.73729999999999996,1490,1681,1.726,66.707819837298004]
[null,1400,1340,0.74660000000000004,1499,1693,1.732,67.184020811746294]
[null,1400,1360,0.75590000000000002,1509,1704,1.7390000000000001,67.620538371657233]
[null,1400,1380,0.76519999999999999,1518,1716,1.7450000000000001,68.096739346105522]
[null,1400,1400,0.77439999999999998,1527,1728,1.752,68.572940320553812]
[null,1400,1420,0.78359999999999996,1536,1739,1.758,69.009457880464737]
[null,1400,1440,0.79279999999999995,1546,1751,1.764,69.485658854913027]
[null,1400,1460,0.80189999999999995,1555,1763,1.77,69.961859829361316]
[null,1400,1480,0.81110000000000004,1564,1774,1.776,70.398377389272255]
[null,1400,1500,0.82020000000000004,1574,1786,1.782,70.874578363720545]
[null,1500,32,1.5939999999999999E-2,5.2400000000000002E-2,4.4770000000000003,8.2999999999999998E-5,0.17766264688374966]
[null,1500,40,1.5939999999999999E-2,8.0139999999999993,12.44,1.6150000000000001E-2,0.49366167684472761]
[null,1500,60,1.5959999999999998E-2,27.87,32.299999999999997,5.5129999999999998E-2,1.281774289556648]
[null,1500,80,1.6E-2,47.71,52.15,9.2600000000000002E-2,2.0694900681231951]
[null,1500,100,1.6060000000000001E-2,67.53,71.989999999999995,0.12870000000000001,2.8568090125443684]
[null,1500,120,1.6129999999999999E-2,87.36,91.84,0.16350000000000001,3.6445247911109155]
[null,1500,140,1.6219999999999998E-2,107.2,111.7,0.19719999999999999,4.4326374038228362]
[null,1500,160,1.6320000000000001E-2,127.1,131.6,0.22989999999999999,5.2223373531162505]
[null,1500,180,1.643E-2,147,151.5,0.26150000000000001,6.0120373024096656]
[null,1500,200,1.6549999999999999E-2,166.9,171.5,0.29220000000000002,6.8057055931568158]
[null,1500,220,1.669E-2,186.9,191.5,0.32219999999999999,7.599373883903966]
[null,1500,240,1.6830000000000001E-2,206.9,211.6,0.3513,8.3970105161048529]
[null,1500,260,1.6990000000000002E-2,227.1,231.8,0.37969999999999998,9.1986154897594758]
[null,1500,280,1.7160000000000002E-2,247.3,252,0.40749999999999997,10.000220463414097]
[null,1500,300,1.7350000000000001E-2,267.60000000000002,272.39999999999998,0.43469999999999998,10.80976211997619]
[null,1500,320,1.754E-2,288,292.89999999999998,0.46129999999999999,11.62327211799202]
[null,1500,340,1.7749999999999998E-2,308.60000000000002,313.60000000000002,0.4874,12.444718798915321]
[null,1500,360,1.7979999999999999E-2,329.4,334.4,0.5131,13.270133821292355]
[null,1500,380,1.823E-2,350.3,355.3,0.53839999999999999,14.09951718512313]
[null,1500,400,1.8499999999999999E-2,371.4,376.6,0.56340000000000001,14.944773914768845]
[null,1500,420,1.8790000000000001E-2,392.8,398,0.58809999999999996,15.793998985868296]
[null,1500,440,1.9099999999999999E-2,414.5,419.8,0.61260000000000003,16.65909742278269]
[null,1500,460,1.9449999999999999E-2,436.5,441.9,0.63690000000000002,17.536100884058293]
[null,1500,480,1.983E-2,459,464.5,0.66120000000000001,18.432946052602571]
[null,1500,500,2.026E-2,482,487.6,0.6855,19.349632928415531]
[null,1500,520,2.0740000000000001E-2,505.5,511.3,0.70989999999999998,20.290129852950905]
[null,1500,540,2.129E-2,529.9,535.79999999999995,0.73470000000000002,21.262373509116163]
[null,1500,560,2.1930000000000002E-2,555.20000000000005,561.29999999999995,0.75990000000000002,22.274300579818778]
[null,1500,580,2.2700000000000001E-2,581.9,588.20000000000005,0.78610000000000002,23.341784430873698]
[null,1500,596.27,2.3460000000000002E-2,605.1,611.6,0.80840000000000001,24.270376331047864]
[null,1500,596.27,0.27700000000000002,1092,1169,1.3360000000000001,46.389911594170954]
[null,1500,600,0.28189999999999998,1097,1175,1.3420000000000001,46.628012081395092]
[null,1500,620,0.3049,1120,1205,1.37,47.818514517515823]
[null,1500,640,0.32429999999999998,1139,1229,1.3919999999999999,48.770916466412402]
[null,1500,660,0.34160000000000001,1155,1250,1.411,49.604268171696908]
[null,1500,680,0.35730000000000001,1170,1269,1.4279999999999999,50.3582530479067]
[null,1500,700,0.372,1184,1287,1.4430000000000001,51.072554509579135]
[null,1500,720,0.38590000000000002,1196,1303,1.4570000000000001,51.707489142176854]
[null,1500,740,0.39900000000000002,1208,1319,1.4710000000000001,52.342423774774574]
[null,1500,760,0.41160000000000002,1220,1334,1.4830000000000001,52.937674992834943]
[null,1500,780,0.42380000000000001,1231,1349,1.4950000000000001,53.532926210895305]
[null,1500,800,0.43559999999999999,1242,1363,1.506,54.088494014418309]
[null,1500,820,0.44700000000000001,1253,1377,1.5169999999999999,54.644061817941314]
[null,1500,840,0.45810000000000001,1263,1390,1.528,55.159946206926961]
[null,1500,860,0.46899999999999997,1273,1403,1.538,55.675830595912615]
[null,1500,880,0.47970000000000002,1283,1416,1.5469999999999999,56.191714984898262]
[null,1500,900,0.49020000000000002,1293,1429,1.5569999999999999,{"$f":"F1846/$E$22*18","v":56.707599373883909}]
[null,1500,920,0.50049999999999994,1303,1442,1.5660000000000001,57.223483762869556]
[null,1500,940,0.51060000000000005,1312,1454,1.575,57.699684737317845]
[null,1500,960,0.52070000000000005,1322,1466,1.5840000000000001,58.175885711766135]
[null,1500,980,0.53059999999999996,1331,1479,1.5920000000000001,58.691770100751782]
[null,1500,1000,0.5403,1341,1491,1.601,59.167971075200072]
[null,1500,1020,0.55000000000000004,1350,1503,1.609,59.644172049648361]
[null,1500,1040,0.55959999999999999,1360,1515,1.617,60.120373024096658]
[null,1500,1060,0.56910000000000005,1369,1527,1.625,60.59657399854494]
[null,1500,1080,0.57850000000000001,1378,1539,1.633,61.07277497299323]
[null,1500,1100,0.58779999999999999,1387,1551,1.64,61.548975947441527]
[null,1500,1120,0.59709999999999996,1397,1562,1.6479999999999999,61.985493507352459]
[null,1500,1140,0.60629999999999995,1406,1574,1.655,62.461694481800748]
[null,1500,1160,0.61539999999999995,1415,1586,1.663,62.937895456249038]
[null,1500,1180,0.62450000000000006,1424,1598,1.67,63.414096430697327]
[null,1500,1200,0.63349999999999995,1433,1609,1.677,63.850613990608267]
[null,1500,1220,0.64249999999999996,1443,1621,1.6839999999999999,64.326814965056542]
[null,1500,1240,0.65149999999999997,1452,1633,1.6910000000000001,64.803015939504846]
[null,1500,1260,0.66039999999999999,1461,1644,1.698,65.239533499415771]
[null,1500,1280,0.66920000000000002,1470,1656,1.704,65.71573447386406]
[null,1500,1300,0.67800000000000005,1479,1668,1.7110000000000001,66.191935448312364]
[null,1500,1320,0.68679999999999997,1489,1679,1.718,66.628453008223289]
[null,1500,1340,0.6956,1498,1691,1.724,67.104653982671579]
[null,1500,1360,0.70430000000000004,1507,1703,1.7310000000000001,67.580854957119868]
[null,1500,1380,0.71299999999999997,1517,1714,1.7370000000000001,68.017372517030807]
[null,1500,1400,0.72170000000000001,1526,1726,1.7430000000000001,68.493573491479097]
[null,1500,1420,0.73029999999999995,1535,1738,1.75,68.969774465927387]
[null,1500,1440,0.7389,1544,1750,1.756,69.445975440375676]
[null,1500,1460,0.74750000000000005,1554,1761,1.762,69.882493000286601]
[null,1500,1480,0.75609999999999999,1563,1773,1.768,70.358693974734891]
[null,1500,1500,0.76459999999999995,1573,1785,1.774,70.834894949183195]
[null,"Source: Knovel Steam Tables - Table: 2b. Compressed Water and Superheated Steam  - English Units"]