{"text_format":"1","workbook":"xlsx","n_sheets":29,"sheets":["Introduction","How to use","Model coverage","Inputs","Results","Energy Consumption","GHG Emissions","Active Field","Exploration","Drilling & Development","Production & Extraction","Surface Processing","Maintenance","Waste Disposal","Transport","Gas Balance","Venting & Fugitives","Steam Generation","Upgrading","Flaring","Electricity","Drivers","Fuel Cycle","Emissions Factors","Embodied Emissions","Compressors","Fuel Specs","Input Data","Change Log"],"not_rendered":{"charts":8,"images":0,"macros":1,"external_links":0,"defined_names":23,"comments":0,"pivot_tables":0},"unopened":[],"bounds":{"document_bytes":16777216,"sheet_cells":100000,"rows_first":2000,"rows_last":500,"rows_between":2000,"halvings":0,"cell_chars":16384,"cell_head_chars":4096},"cells_cut":0,"cells_raw":0,"read":"whole","date_system":"1900"}

{"sheet":"Introduction","index":0,"n_rows":88,"n_cols":7,"rows_kept":88,"cut":false,"hidden":false,"merged":[]}
["Oil Production Greenhouse gas Emissions Estimator (OPGEE)"]
[]
["Model version:",null,"2.0b",null,"Model date:",null,"July 17th, 2017"]
[]
[]
["Authors"]
[]
[null,"Hassan M. El-Houjeiri",null,null,"Formerly of: Department of Energy Resources Engineering, Stanford University"]
[null,"Kourosh Vafi",null,null,"Formerly of: Department of Energy Resources Engineering, Stanford University"]
[null,"Mohammad  S.Masnadi",null,null,"Department of Energy Resources Engineering, Stanford University"]
[null,"James Duffy",null,null,"California Air Resources Board"]
[null,"Scott McNally",null,null,"Formerly of: Department of Energy Resources Engineering, Stanford University"]
[null,"Sylvia Sleep",null,null,"Department of Civil and Environmental Engineering, University of Toronto"]
[null,"Diana Pacheco",null,null,"Department of Civil and Environmental Engineering, University of Toronto"]
[null,"Zainab Dashnadi",null,null,"Department of Chemical and Petroleum Engineering, University of Calgary"]
[null,"Andrea Orellana",null,null,"Department of Chemical and Petroleum Engineering, University of Calgary"]
[null,"Heather MacLean",null,null,"Department of Civil and Environmental Engineering, University of Toronto"]
[null,"Scott McNally",null,null,"Formerly of: Department of Energy Resources Engineering, Stanford University"]
[null,"Jacob Englander",null,null,"Department of Energy Resources Engineering, Stanford University"]
[null,"Joule Bergerson",null,null,"Department of Chemical and Petroleum Engineering, University of Calgary"]
[null,"Adam R. Brandt",null,null,"Department of Energy Resources Engineering, Stanford University"]
[]
[]
["Overview"]
[]
[null,"This model computes the greenhouse gas emissions from conventional and unconventional upstream oil operations, including all major upstream processes."]
[null,"Large process stages included:"]
[null,null,"Exploration"]
[null,null,"Drilling and development"]
[null,null,"Production and extraction"]
[null,null,"Separations and surface operations"]
[null,null,"Treatment and waste disposal"]
[null,null,"Transport"]
[]
[]
["Acknowledgements"]
[]
[null,"Primary funding for OPGEE development has been provided by:"]
[null,null," California Air Resouces Board"]
[null,null,null,"Funding provided by Sponsored Research Agreements 10-418, 13-408"]
[null,"Additional support for OPGEE development and applications has been provided by:"]
[null,null,"Carnegie Endowment for International Peace"]
[null,null,null,"Gifts to Adam Brandt through Stanford University, with primary funding from Carnegie Endowment for International Peace, Blue Moon Fund, Oak Foundation, William and Flora Hewlett Foundation, Energy Foundation, ClimateWorks Foundation, Rockefeller Family Fund, and Sloan Foundation"]
[null,null,"Ford Motor Company"]
[null,null,null,"Gifts to Adam Brandt through Stanford University through University Research Partnership program"]
[null,null,"Stanford University School of Earth Sciences"]
[null,null,null,"Faculty and student support funds"]
[]
[null,"OPGEE is an open-source project which has benefitted from feedback, discussion, and constructive comments from many model users.  We acknowledge these contributions."]
[null,null,"In particular, we would like to acknowledge significant contributions from:"]
[null,null,"Trevor Demayo",null,"Chevron, Inc."]
[null,null,"Deborah Gordon",null,"Carnegie Endowment for International Peace"]
[null,null,"Chris Malins",null,"International Council on Clean Transportation"]
[]
[null,"Any errors or omissions of course remain the responsibility of model authors"]
[]
[]
[]
["Copyright statement"]
[]
[null,"Copyright © 2012-2017 The Board of Trustees of the Leland Stanford Junior University"]
[null,"All rights reserved."]
[]
[null,"The Oil Production Greenhouse Gas Emissions Estimator (OPGEE) Program (Software), source code, binary files, and operating manuals are being provided free of charge.  Software may be downloaded, modified and redistributed freely under the following terms and conditions: "]
[]
[null,"Redistributions of any of the following: Software's source code, executables, and any other materials provided must"]
[null,null,"* retain the above copyright notice"]
[null,null,"* require that the source and executable with any modifications be made publicly available under these same terms and conditions and"]
[null,null,"* be sent to: Adam Brandt, Department of Energy Resources Engineering, Stanford University, abrandt@stanford.edu"]
[null,null,"* include this entire Agreement with any redistribution"]
[]
[null,"Neither the name of Stanford University nor the names of the contributors may be used to endorse or promote products derived from this Software without specific prior written permission."]
[]
[null,"Software is being provided “AS IS” and With All Faults. Users acknowledge that Stanford or contributors will not provide any maintenance or support for Software."]
[]
[null,"Stanford makes no representations and extends no warranties of any kind, either express or implied."]
[]
[null,"Stanford disclaims any express or implied warranty of merchantability, or fitness for a particular purpose, of non-infringement, or arising out of any course of dealing."]
[]
[null,"Stanford is not liable for any special, consequential, lost profits, expectation, punitive or other indirect damages in connection with any claim arising out of or related to the use of Software whether grounded in tort (including negligence), strict liability, contract, or otherwise; and,"]
[]
[null,"Users will indemnify, hold harmless and defend Stanford against any claim of any kind arising out of or related to the exercise of any rights in this Agreement."]
[]
[]
[]
["Internal model version"]
[]
[null,"Internal model version v133, July 17th, 2017"]

{"sheet":"How to use","index":1,"n_rows":54,"n_cols":3,"rows_kept":54,"cut":false,"hidden":false,"merged":[]}
["How to use OPGEE"]
[]
["1. Quick start"]
[]
["1. Input data for fields to be modeled on the \"Inputs\" sheet.  The Inputs sheet includes the most important parameters governing emissions from oil production operations."]
["2. Any data that you do not enter for a field will be filled with a reasonable default value."]
[null,"* Some data are entered as a single static default value for all fields."]
[null,"* Some data are entered using \"smart default\" values that depend on values of other entered datapoints."]
["3. Enter the number of fields to be modeled in the \"Inputs\" sheet, top left (Inputs C2)"]
["4. Press the \"Run assessment\" button"]
["5. Results are presented on the \"Results\" tab for each modeled field"]
[null,"* The top section of the Results sheet (called \"Complete Inputs\") contains the final values used in modeling each field"]
[null,"* Some input values that were entered by the user or filled as default are later changed during a variety of algorithmic adjustments. These are labeled using colors (see below)."]
[null,"* The bottom section (\"Outputs\") presents resulting energy intensity and emissions estimates."]
[null,"* Row 185 presents results of error checking process for each field"]
[]
[]
["2. Detailed user guide"]
[]
["2.1 Adjusted data inputs"]
[]
["As noted above, some input values are changed during algorithmic analysis or error checking. These cells are colored for ease of debugging."]
[]
["The resulting color scheme is outlined below:"]
[]
[null,1234,"Cell has been changed to a value using OPGEE default or \"smart default\" relationships. See model documentation for more description of data sources and assumptions used in smart defaults."]
[null,1234,"Cell value has been adjusted using VBA macros to correct for physically inconsistent or out-of-specification data inputs.  See model documentation for adjustment process."]
[null,1234,"Cell value is outside of the range normally encountered in petroleum engineering literature. Proceed with caution and check data integrity."]
[]
[]
["2.2 Debugging using the \"Active Field\" sheet"]
[]
["At the bottom of the \"Results\" sheets, you will find a series of error checks for each field assessed. These can be helpful in model debugging."]
["The \"Active Field\" sheet is the sheet where the current field under assessment is stored. The foumulas in the Active Field sheet should not be changed by the user, or unpredictable model results may occur. "]
["At any point in the assessment of multiple fields, the Active Field sheet gives more insight into the settings and results for the particular field being modeled at a given time."]
["If debugging is required for a field, follow steps below: "]
[null,"* Note the number of the field which is causing problems (\"Inputs\" row 5)"]
[null,"* Set \"Inputs\" C2 equal to the number of the problematic field and press \"Run assessment\" button."]
[null,"* After the macro runs, all model sheets will contain data and results for the field of interest."]
[null,"* The \"Energy Consumption\" and \"GHG Emissions\" sheets offer summary results on energy use and emissions.  "]
[null,"* Detailed computations can be tracked on the red (process stage) and blue (supplemental) worksheets."]
["Use the error checks at the bottom of the \"Active Field\" sheet to facilitate debugging."]
[]
["2.3 Changing detailed model calculations"]
[]
["Any OPGEE worksheet can be changed as desired by the user.  However, some caution is to be excercised in changing computations on red and blue worksheets."]
[]
["Input cells are colored according to whether they should be treated by the user as a free cell to change, or a cell that holds a forumla dependent on other cells:"]
[null,"User free","A user input cell that can be freely changed."]
[null,"Default free","A default input cell that holds the default value of an input. This should generally be left as populated in OPGEE."]
[null,"User dependent","A cell that involves a calculation based on user or default inputs. Should not be changed without proper attention to implications."]
[null,"Default dependent","A cell that involves a calculation using default vlaues. This should generally be left as populated in OPGEE."]
[]
["Note that any cell changed in one of the red or blue detailed calculations worksheets will propogate to ALL fields entered in the \"Inputs\" sheet."]

{"sheet":"Model coverage","index":2,"n_rows":172,"n_cols":9,"rows_kept":172,"cut":false,"hidden":false,"merged":[[47,1,76,1],[66,3,70,3],[71,3,75,3],[47,2,57,2],[58,2,65,2],[66,2,70,2],[71,2,76,2],[47,3,53,3],[54,3,57,3],[42,3,43,3],[19,1,43,1],[19,2,25,2],[26,2,37,2],[38,2,43,2],[19,3,22,3],[23,3,25,3],[26,3,33,3],[34,3,37,3],[38,3,40,3],[84,3,86,3],[58,3,61,3],[63,3,65,3],[99,3,101,3],[116,3,120,3],[110,3,111,3],[105,3,108,3],[81,3,83,3],[87,3,89,3],[90,3,95,3],[96,3,98,3],[127,3,129,3],[124,3,126,3],[112,2,115,2],[167,3,171,3],[158,3,160,3],[154,3,157,3],[161,3,164,3],[165,3,166,3],[112,3,113,3],[114,3,115,3],[136,3,138,3],[136,2,138,2],[116,2,120,2],[124,2,129,2],[139,3,141,3],[142,3,144,3],[145,3,146,3],[147,3,149,3],[154,1,171,1],[154,2,160,2],[161,2,166,2],[81,1,101,1],[139,2,144,2],[167,2,171,2],[87,2,101,2],[81,2,86,2],[136,1,149,1],[105,1,120,1],[124,1,130,1],[105,2,108,2],[110,2,111,2],[145,2,149,2]]}
["Model coverage"]
[]
[null,"This sheet provides an overview of the model stages and outlines which sub-processes are included or excluded from each model stage"]
[null,"Some emissions sources have the potential to reduce effective emissions through offsets. These are marked with [-]."]
[]
[]
["1 Emissions magnitude estimation"]
[]
["Importance code",null,"Estimated size",null,"Degree of treatment"]
["*",null,0.01,"g/MJ","Generally excluded"]
["**",null,0.1,"g/MJ","Included with defaults or excluded"]
["***",null,1,"g/MJ","Included with ease of customization"]
["****",null,10,"g/MJ","Included with significant treatment and uncertainty analysis"]
[]
[]
["2 Inclusion and exclusion in current model version"]
[]
[]
[null,"Main stage","Process","Sub-process","Emissions source","Variants","Sensitivity code","Estimated magnitude (gCO2 eq./MJ)","Included?"]
[null,"Exploration","Seismic exploration","Terrestrial seismic","Vehicular emissions","-","*",{"$f":"IF(G20=\"*\",\"<= 0.01 g\",IF(G20=\"**\",\"~ 0.1   g\",IF(G20=\"***\",\"~ 1 g\",IF(G20=\"****\",\"~ 10 g\",\"Error\"))))","v":"<= 0.01 g"},1]
[null,null,null,null,"Data processing","-","*","<= 0.01 g",0]
[null,null,null,null,"Consumed materials (charges etc.)","-","*","<= 0.01 g",0]
[null,null,null,null,"Land use impacts","-","*","<= 0.01 g",0]
[null,null,null,"Oceanic seismic","Ship emissions","-","*","<= 0.01 g",1]
[null,null,null,null,"Data processing","-","*","<= 0.01 g",0]
[null,null,null,null,"Consumed materials","-","*","<= 0.01 g",0]
[null,null,"Exploratory drilling","Terrestrial drilling","Prime mover emissions","-","*","<= 0.01 g",1]
[null,null,null,null,"Land clearing and construction","-","*","<= 0.01 g",0]
[null,null,null,null,"Vents and upset emissions","-","*","<= 0.01 g",0]
[null,null,null,null,"Drilling flares","-","*","<= 0.01 g",0]
[null,null,null,null,"Casing and cement","-","*","<= 0.01 g",0]
[null,null,null,null,"Other material consumption (e.g., frac sand)","-","*","<= 0.01 g",0]
[null,null,null,null,"Land use impacts","-","*","<= 0.01 g",0]
[null,null,null,null,"Indirect land use impacts (opening of inaccessible land)","-","*","<= 0.01 g",0]
[null,null,null,"Offshore drilling","Prime mover emissions","-","*","<= 0.01 g",1]
[null,null,null,null,"Drilling flares","-","*","<= 0.01 g",0]
[null,null,null,null,"Vents and upset emissions","-","*","<= 0.01 g",0]
[null,null,null,null,"Casing and cement","-","*","<= 0.01 g",0]
[null,null,"Waste handling and disposal","Mud and fluid handling","Energy consumption (other than prime mover)","-","*","<= 0.01 g",0]
[null,null,null,null,"Fugitives from mud","-","*","<= 0.01 g",0]
[null,null,null,null,"Disposal of mud","-","*","<= 0.01 g",0]
[null,null,null,"Fracturing fluid disposal","Processing and disposal of fracturing fluid","-","*","<= 0.01 g",0]
[null,null,null,"Produced water disposal","Processing of produced water","-","*","<= 0.01 g",0]
[null,null,null,null,"Disposal of produced water (remote or on-site reinjection)","-","*","<= 0.01 g",0]
[]
[]
[null,"Main stage","Process","Sub-process","Emissions source","Variants","Sensitivity code","Estimated magnitude","Included?"]
[null,"Drilling and development","Developmental drilling","Terrestrial drilling","Prime mover emissions","-","**",{"$f":"IF(G48=\"*\",\"<= 0.01 g\",IF(G48=\"**\",\"~ 0.1   g\",IF(G48=\"***\",\"~ 1 g\",IF(G48=\"****\",\"~ 10 g\",\"Error\"))))","v":"~ 0.1   g"},1]
[null,null,null,null,"Drilling flares","-","*","<= 0.01 g",0]
[null,null,null,null,"Vents and upset emissions","-","**","~ 0.1   g",0]
[null,null,null,null,"Land use impacts","-","**","~ 0.1   g",1]
[null,null,null,null,"Clearing and construction","-","*","<= 0.01 g",0]
[null,null,null,null,"Casing and cement embodied emissions","-","*","<= 0.01 g",1]
[null,null,null,null,"Other materials consumption (e.g., frac sand)","-","*","<= 0.01 g",1]
[null,null,null,"Oceanic drilling","Prime mover emissions","-","**","~ 0.1   g",1]
[null,null,null,null,"Drilling flares","-","*","<= 0.01 g",0]
[null,null,null,null,"Vents and upset emissions","-","**","~ 0.1   g",0]
[null,null,null,null,"Casing and cement embodied emissions","-","*","<= 0.01 g",1]
[null,null,"Processing capital investment","Oil/gas/water separators","Separator assembly","-","*","<= 0.01 g",0]
[null,null,null,null,"Separator fabrication","-","*","<= 0.01 g",1]
[null,null,null,null,"Separator transport","-","*","<= 0.01 g",1]
[null,null,null,null,"Raw materials manufacture","-","*","<= 0.01 g",1]
[null,null,null,"Water reinjection wells","Various drilling emissions from reinjection wells (see above)","-","*","<= 0.01 g",1]
[null,null,null,"Pumps","Pump assembly","-","*","<= 0.01 g",0]
[null,null,null,null,"Pump fabrication and raw materials manufacture","-","*","<= 0.01 g",1]
[null,null,null,null,"Pump transport","-","*","<= 0.01 g",1]
[null,null,"Storage capital investment","Storage capital investment","Tank assembly","-","*","<= 0.01 g",0]
[null,null,null,null,"Tank fabrication","-","*","<= 0.01 g",1]
[null,null,null,null,"Tank transport","-","*","<= 0.01 g",1]
[null,null,null,null,"Raw materials manufacture","-","*","<= 0.01 g",1]
[null,null,null,null,"Land use impacts","-","*","<= 0.01 g",1]
[null,null,"Transport capital investment","Pipeline capital investment","Pipeline assembly","-","*","<= 0.01 g",0]
[null,null,null,null,"Pipe fabrication","-","*","<= 0.01 g",1]
[null,null,null,null,"Pipe transport","-","*","<= 0.01 g",1]
[null,null,null,null,"Raw materials manufacture","-","*","<= 0.01 g",1]
[null,null,null,null,"Land use impacts","-","*","<= 0.01 g",1]
[null,null,null,"Other transport capital investment","Other infrastructure fabrication and assembly","-","*","<= 0.01 g",1]
[]
[]
[]
[null,"Main stage","Process","Sub-process","Emissions source","Variants","Sensitivity code","Estimated magnitude","Included?"]
[null,"Production and extraction","Lifting","Pumping","Combustion for pump driver","-","***",{"$f":"IF(G82=\"*\",\"<= 0.01 g\",IF(G82=\"**\",\"~ 0.1   g\",IF(G82=\"***\",\"~ 1 g\",IF(G82=\"****\",\"~ 10 g\",\"Error\"))))","v":"~ 1 g"},1]
[null,null,null,null,"Electricity for pump driver","-","***","~ 1 g",1]
[null,null,null,null,"Casing and wellhead fugitive emissions","-","***","~ 1 g",1]
[null,null,null,"Gas lift","Compressor prime mover emissions","-","***","~ 1 g",1]
[null,null,null,null,"Compression electricity emissions","-","***","~ 1 g",1]
[null,null,null,null,"Casing and wellhead fugitive emissions","-","***","~ 1 g",1]
[null,null,"Injection","Gas injection","External gas processing (e.g., N2 production)","-","**","~ 0.1   g",0]
[null,null,null,null,"Gas compression energy",null,"***",{"$f":"IF(G89=\"*\",\"<= 0.01 g\",IF(G89=\"**\",\"~ 0.1   g\",IF(G89=\"***\",\"~ 1 g\",IF(G89=\"****\",\"~ 10 g\",\"Error\"))))","v":"~ 1 g"},1]
[null,null,null,null,"[-] Gas sequestration credit (CO2 flood)","-","***","~ 1 g",1]
[null,null,null,"Steam injection","Water pre-treatment","-","*","<= 0.01 g",0]
[null,null,null,null,"OTSG fuel combustion","NG, produced oil","****","~ 10 g",1]
[null,null,null,null,"Turbine gas consumption (combined cycle) ","Low, med, high efficiency","****","~ 10 g",1]
[null,null,null,null,"HRSG duct firing (combined cycle)","-","***","~ 1 g",1]
[null,null,null,null,"[-] Electricity co-production offsets (combined cycle)","Grid mix variation","****","~ 10 g",1]
[null,null,null,null,"Steam pumping energy (if any)","-","*","<= 0.01 g",0]
[null,null,null,"Polymer flood","Polymer embodied energy","-","*","<= 0.01 g",0]
[null,null,null,null,"Polymer mixing","-","*","<= 0.01 g",0]
[null,null,null,null,"Polymer/water mixture pumping energy","-","*","<= 0.01 g",0]
[null,null,null,"Surfactant/other injection","Surfactant/other embodied energy","-","*","<= 0.01 g",0]
[null,null,null,null,"Surfactant/other mixing","-","*","<= 0.01 g",0]
[null,null,null,null,"Surfactant/other mixture pumping energy","-","*","<= 0.01 g",0]
[]
[]
[null,"Main stage","Process","Sub-process","Emissions source","Variants","Sensitivity code","Estimated magnitude","Included?"]
[null,"Separation and surface processing","Fluid separation","Oil-water-gas separation","Oil-water-gas separation ","-","**",{"$f":"IF(G106=\"*\",\"<= 0.01 g\",IF(G106=\"**\",\"~ 0.1   g\",IF(G106=\"***\",\"~ 1 g\",IF(G106=\"****\",\"~ 10 g\",\"Error\"))))","v":"~ 0.1   g"},1]
[null,null,null,null,"Oil-water-gas separation with heater-treaters","-","**","~ 0.1   g",1]
[null,null,null,null,"Associated gas venting","Variations in flare efficiency","****","~ 10 g",1]
[null,null,null,null,"Associated gas flaring","Variations in flare efficiency","****","~ 10 g",1]
[null,null,"Solid/fluid separation","Solid separation from fluids","Solids removal from separation","-","*","<= 0.01 g",0]
[null,null,"Gas treatment","Gas treatment","Produced gas dehydration","-","*","<= 0.01 g",1]
[null,null,null,null,"Produced gas venting and flaring","-","***","~ 1 g",1]
[null,null,"Water treatment and disposal","Water treatment","Produced water cleanup","-","**","~ 0.1   g",1]
[null,null,null,null,"Produced water handling and pumping","-","**","~ 0.1   g",1]
[null,null,null,"Water reinjection and disposal","Produced water reinjection","-","***","~ 1 g",1]
[null,null,null,null,"Produced water disposal","-","**","~ 0.1   g",1]
[null,null,"Storage (as part of separation)","Storage","Storage pumping energy","-","*","<= 0.01 g",0]
[null,null,null,null,"Tank assembly and installation","-","*","<= 0.01 g",1]
[null,null,null,null,"Evaporative and fugitive emissions","-","**","~ 0.1   g",1]
[null,null,null,null,"Tank materials manufacture","-","*","<= 0.01 g",1]
[null,null,null,null,"Land use impacts","-","*","<= 0.01 g",1]
[]
[]
[null,"Main stage","Process","Sub-process","Emissions source","Variants","Sensitivity code","Estimated magnitude","Included?"]
[null,"Maintenance and workovers","Well workover","Terrestrial well workover","Workover rig energy use","-","*",{"$f":"IF(G125=\"*\",\"<= 0.01 g\",IF(G125=\"**\",\"~ 0.1   g\",IF(G125=\"***\",\"~ 1 g\",IF(G125=\"****\",\"~ 10 g\",\"Error\"))))","v":"<= 0.01 g"},0]
[null,null,null,null,"Fugitive emissions during workover","-","**","~ 0.1   g",1]
[null,null,null,null,"Embodied energy in consumed replacement parts","-","*","<= 0.01 g",0]
[null,null,null,"Offshore well workover","Workover rig energy use","-","*","<= 0.01 g",0]
[null,null,null,null,"Fugitive emissions during workover","-","**","~ 0.1   g",1]
[null,null,null,null,"Embodied energy in consumed replacement parts",null,"*","<= 0.01 g",0]
[null,null,"Other maintenance","Other maintenance","Solids removal from separation","-","*","<= 0.01 g",0]
[]
[]
[]
[]
[null,"Main stage","Process","Sub-process","Emissions source","Variants","Sensitivity code","Estimated magnitude","Included?"]
[null,"Waste treatment and disposal","Water processing waste","Water treatment waste disposal","Subsurface disposal of concentrated WW residuals","-","*",{"$f":"IF(G137=\"*\",\"<= 0.01 g\",IF(G137=\"**\",\"~ 0.1   g\",IF(G137=\"***\",\"~ 1 g\",IF(G137=\"****\",\"~ 10 g\",\"Error\"))))","v":"<= 0.01 g"},0]
[null,null,null,null,"Surface disposal of separated solids","-","*","<= 0.01 g",0]
[null,null,null,null,"Surface disposal of concentrated WW residuals","-","*","<= 0.01 g",0]
[null,null,"Other waste separation and disposal","Other waste separation and processing","Other waste separation and processing","-","*","<= 0.01 g",0]
[null,null,null,null,"Other waste storage","-","*","<= 0.01 g",0]
[null,null,null,null,"Spills and other upsets","-","*","<= 0.01 g",0]
[null,null,null,"Other waste disposal","Other waste transport","-","*","<= 0.01 g",0]
[null,null,null,null,"Other waste disposal (non-hazardous)","-","*","<= 0.01 g",0]
[null,null,null,null,"Other waste disposal (hazardous)","-","*","<= 0.01 g",0]
[null,null,"Solid waste disposal and project decommissioning","Solid waste disposal","Solid waste separation and processing","-","*","<= 0.01 g",0]
[null,null,null,null,"Solid waste transport and disposal","-","*","<= 0.01 g",0]
[null,null,null,"End of life and decommissioning","Demolition and decommissioning","-","*","<= 0.01 g",0]
[null,null,null,null,"Scrap and waste disposal","-","*","<= 0.01 g",0]
[null,null,null,null,"[-] Credit for waste recycling (embodied energy)","-","*","<= 0.01 g",0]
[]
[]
[]
[null,"Main stage","Process","Sub-process","Emissions source","Variants","Sensitivity code","Estimated magnitude","Included?"]
[null,"Crude product transport","Pipeline transport","Pipeline transport","Combustion for pump prime mover","-","***",{"$f":"IF(G155=\"*\",\"<= 0.01 g\",IF(G155=\"**\",\"~ 0.1   g\",IF(G155=\"***\",\"~ 1 g\",IF(G155=\"****\",\"~ 10 g\",\"Error\"))))","v":"~ 1 g"},1]
[null,null,null,null,"Electricity for pump use","-","***","~ 1 g",1]
[null,null,null,null,"Process upsets (one-time events)","-","*","<= 0.01 g",1]
[null,null,null,null,"Leaks (pipeline losses)","-","***","~ 1 g",1]
[null,null,null,"Pipeline construction","Construction equipment energy use","-","*","<= 0.01 g",0]
[null,null,null,null,"Embodied energy in pipeline materials (cement and steel)","-","*","<= 0.01 g",1]
[null,null,null,null,"Land use impacts","-","*","<= 0.01 g",1]
[null,null,"Tanker transport","Tanker transport","Combustion in tanker prime mover (bunker fuels)","-","***","~ 1 g",1]
[null,null,null,null,"Loading and unloading pumping","-","*","<= 0.01 g",1]
[null,null,null,null,"Flares","-","*","<= 0.01 g",1]
[null,null,null,null,"Vents, leaks and upsets","-","*","<= 0.01 g",1]
[null,null,null,"Tanker construction","Embodied energy in tanker materials (steel)","-","*","<= 0.01 g",0]
[null,null,null,null,"Construction energy","-","*","<= 0.01 g",0]
[null,null,"Storage (as part of transport)","Storage","Storage pumping energy","-","*","<= 0.01 g",0]
[null,null,null,null,"Tank assembly and installation","-","*","<= 0.01 g",1]
[null,null,null,null,"Evaporative and fugitive emissions","-","**","~ 0.1   g",1]
[null,null,null,null,"Tank materials manufacture","-","*","<= 0.01 g",1]
[null,null,null,null,"Land use impacts","-","*","<= 0.01 g",0]

{"sheet":"Inputs","index":3,"n_rows":115,"n_cols":517,"rows_kept":115,"cut":false,"hidden":false,"merged":[[4,0,4,3]]}
["Data inputs","Start field:","End field:"]
["Fields:",1,1]
["1 Inputs",null," "]
[]
["Variables",null,null,null,"Unit",null,"Default","Field 1","Field 2","Field 3","Field 4","Field 5","Field 6","Field 7","Field 8","Field 9","Field 10","Field 11","Field 12","Field 13","Field 14","Field 15","Field 16","Field 17","Field 18","Field 19","Field 20","Field 21","Field 22","Field 23","Field 24","Field 25","Field 26","Field 27","Field 28","Field 29","Field 30","Field 31","Field 32","Field 33","Field 34","Field 35","Field 36","Field 37","Field 38","Field 39","Field 40","Field 41","Field 42","Field 43","Field 44","Field 45","Field 46","Field 47","Field 48","Field 49","Field 50","Field 51","Field 52","Field 53","Field 54","Field 55","Field 56","Field 57","Field 58","Field 59","Field 60","Field 61","Field 62","Field 63","Field 64","Field 65","Field 66","Field 67","Field 68","Field 69","Field 70","Field 71","Field 72","Field 73","Field 74","Field 75","Field 76","Field 77","Field 78","Field 79","Field 80","Field 81","Field 82","Field 83","Field 84","Field 85","Field 86","Field 87","Field 88","Field 89","Field 90","Field 91","Field 92","Field 93","Field 94","Field 95","Field 96","Field 97","Field 98","Field 99","Field 100","Field 101","Field 102","Field 103","Field 104","Field 105","Field 106","Field 107","Field 108","Field 109","Field 110","Field 111","Field 112","Field 113","Field 114","Field 115","Field 116","Field 117","Field 118","Field 119","Field 120","Field 121","Field 122","Field 123","Field 124","Field 125","Field 126","Field 127","Field 128","Field 129","Field 130","Field 131","Field 132","Field 133","Field 134","Field 135","Field 136","Field 137","Field 138","Field 139","Field 140","Field 141","Field 142","Field 143","Field 144","Field 145","Field 146","Field 147","Field 148","Field 149","Field 150","Field 151","Field 152","Field 153","Field 154","Field 155","Field 156","Field 157","Field 158","Field 159","Field 160","Field 161","Field 162","Field 163","Field 164","Field 165","Field 166","Field 167","Field 168","Field 169","Field 170","Field 171","Field 172","Field 173","Field 174","Field 175","Field 176","Field 177","Field 178","Field 179","Field 180","Field 181","Field 182","Field 183","Field 184","Field 185","Field 186","Field 187","Field 188","Field 189","Field 190","Field 191","Field 192","Field 193","Field 194","Field 195","Field 196","Field 197","Field 198","Field 199","Field 200","Field 201","Field 202","Field 203","Field 204","Field 205","Field 206","Field 207","Field 208","Field 209","Field 210","Field 211","Field 212","Field 213","Field 214","Field 215","Field 216","Field 217","Field 218","Field 219","Field 220","Field 221","Field 222","Field 223","Field 224","Field 225","Field 226","Field 227","Field 228","Field 229","Field 230","Field 231","Field 232","Field 233","Field 234","Field 235","Field 236","Field 237","Field 238","Field 239","Field 240","Field 241","Field 242","Field 243","Field 244","Field 245","Field 246","Field 247","Field 248","Field 249","Field 250","Field 251","Field 252","Field 253","Field 254","Field 255","Field 256","Field 257","Field 258","Field 259","Field 260","Field 261","Field 262","Field 263","Field 264","Field 265","Field 266","Field 267","Field 268","Field 269","Field 270","Field 271","Field 272","Field 273","Field 274","Field 275","Field 276","Field 277","Field 278","Field 279","Field 280","Field 281","Field 282","Field 283","Field 284","Field 285","Field 286","Field 287","Field 288","Field 289","Field 290","Field 291","Field 292","Field 293","Field 294","Field 295","Field 296","Field 297","Field 298","Field 299","Field 300","Field 301","Field 302","Field 303","Field 304","Field 305","Field 306","Field 307","Field 308","Field 309","Field 310","Field 311","Field 312","Field 313","Field 314","Field 315","Field 316","Field 317","Field 318","Field 319","Field 320","Field 321","Field 322","Field 323","Field 324","Field 325","Field 326","Field 327","Field 328","Field 329","Field 330","Field 331","Field 332","Field 333","Field 334","Field 335","Field 336","Field 337","Field 338","Field 339","Field 340","Field 341","Field 342","Field 343","Field 344","Field 345","Field 346","Field 347","Field 348","Field 349","Field 350","Field 351","Field 352","Field 353","Field 354","Field 355","Field 356","Field 357","Field 358","Field 359","Field 360","Field 361","Field 362","Field 363","Field 364","Field 365","Field 366","Field 367","Field 368","Field 369","Field 370","Field 371","Field 372","Field 373","Field 374","Field 375","Field 376","Field 377","Field 378","Field 379","Field 380","Field 381","Field 382","Field 383","Field 384","Field 385","Field 386","Field 387","Field 388","Field 389","Field 390","Field 391","Field 392","Field 393","Field 394","Field 395","Field 396","Field 397","Field 398","Field 399","Field 400","Field 401","Field 402","Field 403","Field 404","Field 405","Field 406","Field 407","Field 408","Field 409","Field 410","Field 411","Field 412","Field 413","Field 414","Field 415","Field 416","Field 417","Field 418","Field 419","Field 420","Field 421","Field 422","Field 423","Field 424","Field 425","Field 426","Field 427","Field 428","Field 429","Field 430","Field 431","Field 432","Field 433","Field 434","Field 435","Field 436","Field 437","Field 438","Field 439","Field 440","Field 441","Field 442","Field 443","Field 444","Field 445","Field 446","Field 447","Field 448","Field 449","Field 450","Field 451","Field 452","Field 453","Field 454","Field 455","Field 456","Field 457","Field 458","Field 459","Field 460","Field 461","Field 462","Field 463","Field 464","Field 465","Field 466","Field 467","Field 468","Field 469","Field 470","Field 471","Field 472","Field 473","Field 474","Field 475","Field 476","Field 477","Field 478","Field 479","Field 480","Field 481","Field 482","Field 483","Field 484","Field 485","Field 486","Field 487","Field 488","Field 489","Field 490","Field 491","Field 492","Field 493","Field 494","Field 495","Field 496","Field 497","Field 498","Field 499","Field 500","Field 501","Field 502","Field 503","Field 504","Field 505","Field 506","Field 507","Field 508","Field 509","Field 510"]
[null,null,null,null,null,null,{"$f":"IF(G21=\"\",\"NA\",G21)","v":"Generic"},{"$f":"IF(H21=\"\",\"NA\",H21)","v":"NA"},{"$f":"IF(I21=\"\",\"NA\",I21)","v":"NA"},"NA","NA","NA","NA","NA","NA","NA","NA","NA","NA","NA","NA","NA","NA","NA","NA","NA","NA","NA","NA","NA","NA","NA","NA","NA","NA","NA","NA","NA","NA","NA","NA","NA","NA","NA","NA","NA","NA","NA","NA","NA","NA","NA","NA","NA","NA","NA","NA","NA","NA","NA","NA","NA","NA","NA","NA","NA","NA","NA","NA","NA","NA",{"$f":"IF(BT21=\"\",\"NA\",BT21)","v":"NA"},"NA","NA",{"$f":"IF(BW21=\"\",\"NA\",BW21)","v":"NA"},"NA",{"$f":"IF(BY21=\"\",\"NA\",BY21)","v":"NA"},"NA","NA","NA","NA","NA","NA","NA","NA","NA","NA","NA","NA","NA","NA","NA","NA","NA","NA","NA","NA","NA","NA","NA","NA","NA","NA","NA","NA","NA","NA","NA","NA","NA","NA","NA","NA","NA","NA","NA","NA",null,"NA","NA","NA","NA","NA","Diluent Test 0%","Diluent Test 25%","Diluent Test 50%","Diluent Test 75%","Diluent Test 100%","Oil sands test: Mine, DC, integrated","Oil sands test: Mine, DC, non-integrated","Oil sands test: Mine, HC, integrated","Oil sands test: Mine, HC, non-integrated","Oil sands test: Mine, HCFC, integrated","Oil sands test: Mine, HCFC, non-integrated","NA","NA","NA","NA","NA","NA",{"$f":"IF(EK21=\"\",\"NA\",EK21)","v":"NA"},"NA","NA","NA","NA","NA","NA","NA","NA","NA","NA","NA","NA","NA","NA","NA","NA","NA","NA","NA","NA","NA","NA","NA","NA","NA","NA","NA","NA","NA","NA","NA","NA","NA","NA","NA","NA","NA","NA","NA","NA","NA","NA","NA","NA","NA","NA","NA","NA","NA","NA","NA","NA","NA","NA","NA","NA","NA","NA","NA","NA","NA","NA","NA",{"$f":"IF(GW21=\"\",\"NA\",GW21)","v":"NA"},"NA","NA","NA","NA","NA","NA","NA","NA","NA","NA","NA","NA","NA","NA","NA","NA","NA","NA","NA","NA","NA","NA","NA","NA","NA","NA","NA","NA","NA","NA","NA","NA","NA","NA","NA","NA","NA","NA","NA","NA","NA","NA","NA","NA","NA","NA","NA","NA","NA","NA","NA","NA","NA","NA","NA","NA","NA","NA","NA","NA","NA","NA","NA",{"$f":"IF(JI21=\"\",\"NA\",JI21)","v":"NA"},"NA","NA","NA","NA","NA","NA","NA","NA","NA","NA","NA","NA","NA","NA","NA","NA","NA","NA","NA","NA","NA","NA","NA","NA","NA","NA","NA","NA","NA","NA","NA","NA","NA","NA","NA","NA","NA","NA","NA","NA","NA","NA","NA","NA","NA","NA","NA","NA","NA","NA","NA","NA","NA","NA","NA","NA","NA","NA","NA","NA","NA","NA","NA",{"$f":"IF(LU21=\"\",\"NA\",LU21)","v":"NA"},"NA","NA","NA","NA","NA","NA","NA","NA","NA","NA","NA","NA","NA","NA","NA","NA","NA","NA","NA","NA","NA","NA","NA","NA","NA","NA","NA","NA","NA","NA","NA","NA","NA","NA","NA","NA","NA","NA","NA","NA","NA","NA","NA","NA","NA","NA","NA","NA","NA","NA","NA","NA","NA","NA","NA","NA","NA","NA","NA","NA","NA","NA","NA",{"$f":"IF(OG21=\"\",\"NA\",OG21)","v":"NA"},"NA","NA","NA","NA","NA","NA","NA","NA","NA","NA","NA","NA","NA","NA","NA","NA","NA","NA","NA","NA","NA","NA","NA","NA","NA","NA","NA","NA","NA","NA","NA","NA","NA","NA","NA","NA","NA","NA","NA","NA","NA","NA","NA","NA","NA","NA","NA","NA","NA","NA","NA","NA","NA","NA","NA","NA","NA","NA","NA","NA","NA","NA","NA",{"$f":"IF(QS21=\"\",\"NA\",QS21)","v":"NA"},"NA","NA","NA","NA","NA","NA","NA","NA","NA","NA","NA","NA","NA","NA","NA","NA","NA","NA","NA","NA","NA","NA","NA","NA","NA","NA","NA","NA","NA","NA","NA","NA","NA","NA","NA","NA","NA","NA","NA","NA","NA","NA","NA","NA","NA","NA","NA","NA","NA","NA","NA","NA","NA","NA","NA","NA"]
["1.1   Production methods"]
["Notes: Enter \"1\" where applicable and \"0\" where not applicable"]
[null,"1.1.1   Downhole pump",null,null,"NA",null,1,null,null,null,null,null,null,null,null,null,null,null,null,null,null,null,null,null,null,null,null,null,null,null,null,null,null,null,null,null,null,null,null,null,null,null,null,null,null,null,null,null,null,null,null,null,null,null,null,null,null,null,null,null,null,null,null,null,null,null,null,null,null,null,null,null,null,null,null,null,null,null,null,null,null,null,null,null,null,null,null,null,null,null,null,null,null,null,null,null,null,null,null,null,null,null,null,null,null,null,null,null,null,null,null,null,null,null,null,null,null,null,null,null,null,null,null,null,null,null,null,null,0,0,0,0,0,0]
[null,"1.1.2   Water reinjection ",null,null,"NA",null,1,null,null,null,null,null,null,null,null,null,null,null,null,null,null,null,null,null,null,null,null,null,null,null,null,null,null,null,null,null,null,null,null,null,null,null,null,null,null,null,null,null,null,null,null,null,null,null,null,null,null,null,null,null,null,null,null,null,null,null,null,null,null,null,null,null,null,null,null,null,null,null,null,null,null,null,null,null,null,null,null,null,null,null,null,null,null,null,null,null,null,null,null,null,null,null,null,null,null,null,null,null,null,null,null,null,null,null,null,null,null,null,null,null,null,null,null,0,0,0,0,0,0,0,0,0,0,0]
[null,"1.1.3   Natural gas reinjection",null,null,"NA",null,1,null,null,null,null,null,null,null,null,null,null,null,null,null,null,null,null,null,null,null,null,null,null,null,null,null,null,null,null,null,null,null,null,null,null,null,null,null,null,null,null,null,null,null,null,null,null,null,null,null,null,null,null,null,null,null,null,null,null,null,null,null,null,null,null,null,null,null,null,null,null,null,null,null,null,null,null,null,null,null,null,null,null,null,null,null,null,null,null,null,null,null,null,null,null,null,null,null,null,null,null,null,null,null,null,null,null,null,null,null,null,null,null,null,null,null,null,0,0,0,0,0,0,0,0,0,0,0]
[null,"1.1.4   Water flooding",null,null,"NA",null,0,null,null,null,null,null,null,null,null,null,null,null,null,null,null,null,null,null,null,null,null,null,null,null,null,null,null,null,null,null,null,null,null,null,null,null,null,null,null,null,null,null,null,null,null,null,null,null,null,null,null,null,null,null,null,null,null,null,null,null,null,null,null,null,null,null,null,null,null,null,null,null,null,null,null,null,null,null,null,null,null,null,null,null,null,null,null,null,null,null,null,null,null,null,null,null,null,null,null,null,null,null,null,null,null,null,null,null,null,null,null,null,null,null,null,null,null,null,null,null,null,null,0,0,0,0,0,0]
[null,"1.1.5   Gas lifting",null,null,"NA",null,0,null,null,null,null,null,null,null,null,null,null,null,null,null,null,null,null,null,null,null,null,null,null,null,null,null,null,null,null,null,null,null,null,null,null,null,null,null,null,null,null,null,null,null,null,null,null,null,null,null,null,null,null,null,null,null,null,null,null,null,null,null,null,null,null,null,null,null,null,null,null,null,null,null,null,null,null,null,null,null,null,null,null,null,null,null,null,null,null,null,null,null,null,null,null,null,null,null,null,null,null,null,null,null,null,null,null,null,null,null,null,null,null,null,null,null,null,null,null,null,null,null,0,0,0,0,0,0]
[null,"1.1.6   Gas flooding",null,null,"NA",null,0,null,null,null,null,null,null,null,null,null,null,null,null,null,null,null,null,null,null,null,null,null,null,null,null,null,null,null,null,null,null,null,null,null,null,null,null,null,null,null,null,null,null,null,null,null,null,null,null,null,null,null,null,null,null,null,null,null,null,null,null,null,null,null,null,null,null,null,null,null,null,null,null,null,null,null,null,null,null,null,null,null,null,null,null,null,null,null,null,null,null,null,null,null,null,null,null,null,null,null,null,null,null,null,null,null,null,null,null,null,null,null,null,null,null,null,null,null,null,null,null,null,0,0,0,0,0,0]
[null,"1.1.7   Steam flooding",null,null,"NA",null,0,null,null,null,null,null,null,null,null,null,null,null,null,null,null,null,null,null,null,null,null,null,null,null,null,null,null,null,null,null,null,null,null,null,null,null,null,null,null,null,null,null,null,null,null,null,null,null,null,null,null,null,null,null,null,null,null,null,null,null,null,null,null,null,null,null,null,null,null,null,null,null,null,null,null,null,null,null,null,null,null,null,null,null,null,null,null,null,null,null,null,null,null,null,null,null,null,null,null,null,null,null,null,null,null,null,null,null,null,null,null,null,null,null,null,null,null,1,1,1,1,1,0,0,0,0,0,0]
[null,"1.1.8   Oil sands mine (integrated with upgrader)",null,null,"NA",null,0,null,null,null,null,null,null,null,null,null,null,null,null,null,null,null,null,null,null,null,null,null,null,null,null,null,null,null,null,null,null,null,null,null,null,null,null,null,null,null,null,null,null,null,null,null,null,null,null,null,null,null,null,null,null,null,null,null,null,null,null,null,null,null,null,null,null,null,null,null,null,null,null,null,null,null,null,null,null,null,null,null,null,null,null,null,null,null,null,null,null,null,null,null,null,null,null,null,null,null,null,null,null,null,null,null,null,null,null,null,null,null,null,null,null,null,null,null,null,null,null,null,1,0,1,0,1,0]
[null,"1.1.9   Oil sands mine (non-integrated with upgrader)",null,null,"NA",null,0,null,null,null,null,null,null,null,null,null,null,null,null,null,null,null,null,null,null,null,null,null,null,null,null,null,null,null,null,null,null,null,null,null,null,null,null,null,null,null,null,null,null,null,null,null,null,null,null,null,null,null,null,null,null,null,null,null,null,null,null,null,null,null,null,null,null,null,null,null,null,null,null,null,null,null,null,null,null,null,null,null,null,null,null,null,null,null,null,null,null,null,null,null,null,null,null,null,null,null,null,null,null,null,null,null,null,null,null,null,null,null,null,null,null,null,null,null,null,null,null,null,0,1,0,1,0,1]
[]
["1.2    Field properties"]
[null,"1.2.1   Field location (Country)",null,null,"NA",null,"Generic",null,null,null,null,null,null,null,null,null,null,null,null,null,null,null,null,null,null,null,null,null,null,null,null,null,null,null,null,null,null,null,null,null,null,null,null,null,null,null,null,null,null,null,null,null,null,null,null,null,null,null,null,null,null,null,null,null,null,null,null,null,null,null,null,null,null,null,null,null,null,null,null,null,null,null,null,null,null,null,null,null,null,null,null,null,null,null,null,null,null,null,null,null,null,null,null,null,null,null,null,null,null,null,null,null,null,null,null,null,null,null,null,null,null,null,null,null,null,null,null,null,"Canada","Canada","Canada","Canada","Canada","Canada"]
[null,"1.2.2   Field name",null,null,"NA",null,"Generic",null,null,null,null,null,null,null,null,null,null,null,null,null,null,null,null,null,null,null,null,null,null,null,null,null,null,null,null,null,null,null,null,null,null,null,null,null,null,null,null,null,null,null,null,null,null,null,null,null,null,null,null,null,null,null,null,null,null,null,null,null,null,null,null,null,null,null,null,null,null,null,null,null,null,null,null,null,null,null,null,null,null,null,null,null,null,null,null,null,null,null,null,null,null,null,null,null,null,null,null,null,null,null,null,null,null,null,null,null,null,null,null,null,null,null,null,"Diluent Test 0%","Diluent Test 25%","Diluent Test 50%","Diluent Test 75%","Diluent Test 100%","Oil sands test: Mine, DC, integrated","Oil sands test: Mine, DC, non-integrated","Oil sands test: Mine, HC, integrated","Oil sands test: Mine, HC, non-integrated","Oil sands test: Mine, HCFC, integrated","Oil sands test: Mine, HCFC, non-integrated"]
[null,"1.2.3   Field age",null,null,"yr.",null,35]
[null,"1.2.4   Field depth",null,null,"ft",null,7240,null,null,null,null,null,null,null,null,null,null,null,null,null,null,null,null,null,null,null,null,null,null,null,null,null,null,null,null,null,null,null,null,null,null,null,null,null,null,null,null,null,null,null,null,null,null,null,null,null,null,null,null,null,null,null,null,null,null,null,null,null,null,null,null,null,null,null,null,null,null,null,null,null,null,null,null,null,null,null,null,null,null,null,null,null,null,null,null,null,null,null,null,null,null,null,null,null,null,null,null,null,null,null,null,null,null,null,null,null,null,null,null,null,null,null,null,2000,2000,2000,2000,2000]
[null,"1.2.5   Oil production volume",null,null,"bbl/d",null,1500]
[null,"1.2.6   Number of producing wells",null,null,"[-]",null,8]
[null,"1.2.7   Number of water injecting wells",null,null,"[-]",null,5]
[null,"1.2.8   Production tubing diameter",null,null,"in",null,2.7749999999999999]
[null,"1.2.9   Productivity index",null,null,"bbl/psi-d",null,3]
[null,"1.2.10   Reservoir pressure",null,null,"psi",null,1556.6]
[null,"1.2.11   Reservoir temperature",null,null,"◦F",null,150]
[null,"1.2.12   Offshore?",null,null,"[0-1]",null,0]
[]
["1.3   Fluid properties"]
[null,"1.3.1   API gravity",null,null,"deg. API",null,30,null,null,null,null,null,null,null,null,null,null,null,null,null,null,null,null,null,null,null,null,null,null,null,null,null,null,null,null,null,null,null,null,null,null,null,null,null,null,null,null,null,null,null,null,null,null,null,null,null,null,null,null,null,null,null,null,null,null,null,null,null,null,null,null,null,null,null,null,null,null,null,null,null,null,null,null,null,null,null,null,null,null,null,null,null,null,null,null,null,null,null,null,null,null,null,null,null,null,null,null,null,null,null,null,null,null,null,null,null,null,null,null,null,null,null,null,15,15,15,15,15,32,32,32,32,32,32]
[null,"1.3.2   Gas composition"]
[null,null,"N2",null,"mol%",null,2]
[null,null,"CO2",null,"mol%",null,6]
[null,null,"C1",null,"mol%",null,84]
[null,null,"C2",null,"mol%",null,4]
[null,null,"C3",null,"mol%",null,2]
[null,null,"C4+",null,"mol%",null,1]
[null,null,"H2S",null,"mol%",null,1]
[]
["1.4   Production practices"]
["Notes: Enter \"NA\" where not applicable"]
[null,"1.4.1   Gas-to-oil ratio (GOR)",null,null,"scf/bbl oil",null,908,null,null,null,null,null,null,null,null,null,null,null,null,null,null,null,null,null,null,null,null,null,null,null,null,null,null,null,null,null,null,null,null,null,null,null,null,null,null,null,null,null,null,null,null,null,null,null,null,null,null,null,null,null,null,null,null,null,null,null,null,null,null,null,null,null,null,null,null,null,null,null,null,null,null,null,null,null,null,null,null,null,null,null,null,null,null,null,null,null,null,null,null,null,null,null,null,null,null,null,null,null,null,null,null,null,null,null,null,null,null,null,null,null,null,null,null,0,0,0,0,0]
[null,"1.4.2   Water-to-oil ratio (WOR)",null,null,"bbl water/bbl oil",null,4.3083690574453417,null,null,null,null,null,null,null,null,null,null,null,null,null,null,null,null,null,null,null,null,null,null,null,null,null,null,null,null,null,null,null,null,null,null,null,null,null,null,null,null,null,null,null,null,null,null,null,null,null,null,null,null,null,null,null,null,null,null,null,null,null,null,null,null,null,null,null,null,null,null,null,null,null,null,null,null,null,null,null,null,null,null,null,null,null,null,null,null,null,null,null,null,null,null,null,null,null,null,null,null,null,null,null,null,null,null,null,null,null,null,null,null,null,null,null,null,0,0,0,0,0]
[null,"1.4.3   Water injection ratio",null,null,"bbl water/bbl oil",null,5.3083690574453417]
[null,"1.4.4   Gas lifting injection ratio",null,null,"scf/bbl liquid",null,1500]
[null,"1.4.5   Gas flooding injection ratio",null,null,"scf/bbl oil",null,1362]
[null,"1.4.6   Flood gas ",null,null,"NA",null,1]
[null,null,"1=   Natural gas"]
[null,null,"2=   Nitrogen (N2)"]
[null,null,"3=   Carbon Dioxide (CO2)"]
[]
[]
[null,"1.4.7   Carbon dioxide flooding and sequestration parameters"]
[null,null,"1.4.7.1   Percentage of newly acquired CO2 (total injected CO2 includes both new and recycled)",null,"%",null,41]
[null,null,"1.4.7.2   Source of CO2",null,"NA",null,1]
[null,null,null,"1=   Natural subsurface reservoir"]
[null,null,null,"2=   Anthropogenic"]
[null,null,"1.4.7.3   Percentage of sequestration credit assigned to the oilfield",null,"%",null,0]
[null,"1.4.8   Steam-to-oil ratio (SOR)",null,null,"bbl steam/bbl oil",null,3]
[null,"1.4.9   Fraction of required electricity generated onsite",null,null,"[-]",null,0]
[null,"1.4.10   Fraction of remaining natural gas reinjected",null,null,"[-]",null,0]
[null,"1.4.11   Fraction of produced water reinjected",null,null,"[-]",null,1]
[null,"1.4.12   Fraction of steam generation via cogeneration ",null,null,"[-]",null,0]
[null,"1.4.13   Fraction of steam generation via solar thermal",null,null,"[-]",null,0]
["1.5   Processing practices"]
[null,"1.5.1   Heater/treater",null,null,"NA",null,0]
[null,"1.5.2   Stabilizer column",null,null,"NA",null,1]
[null,"1.5.3   Upgrader type",null,null,null,null,0,null,null,null,null,null,null,null,null,null,null,null,null,null,null,null,null,null,null,null,null,null,null,null,null,null,null,null,null,null,null,null,null,null,null,null,null,null,null,null,null,null,null,null,null,null,null,null,null,null,null,null,null,null,null,null,null,null,null,null,null,null,null,null,null,null,null,null,null,null,null,null,null,null,null,null,null,null,null,null,null,null,null,null,null,null,null,null,null,null,null,null,null,null,null,null,null,null,null,null,null,null,null,null,null,null,null,null,null,null,null,null,null,null,null,null,null,null,null,null,null,null,1,1,2,2,3,3]
[null,null,"0 = None"]
[null,null,"1 = Delayed coking"]
[null,null,"2 = Hydroconversion"]
[null,null,"3 = Combined hydroconversion and fluid coking"]
[null,"1.5.3   Associated Gas Processing Path",null,null,"NA",null,5]
[null,null,"1=   None"]
[null,null,"2=   Minimal: Dehydrator"]
[null,null,"3=   Acid Gas: Dehydrator + Amine Process"]
[null,null,"4=   Wet Gas: Dehydrator + Demethanizer"]
["Notes: Choose paths 6-8 only if gas flooding is ON and CO2 is the flood gas",null,"5=   Acid Wet Gas: Dehydrator + Amine Process + Demethanizer"]
[null,null,"6=   Sour gas reinjection, dehydration then direct injection of sour CO2-rich stream"]
[null,null,"7=   CO2-EOR Membrane: Dehydrator + Compressor + Membrane + Amine Process + Demethanizer"]
[null,null,"8=   CO2-EOR Ryan Holmes: Dehydrator + Ryan Holmes Process (Demethanizer Included)"]
[null,"1.5.4   Flaring-to-oil ratio",null,null,"scf/bbl oil",null,181.52809179284083,null,null,null,null,null,null,null,null,null,null,null,null,null,null,null,null,null,null,null,null,null,null,null,null,null,null,null,null,null,null,null,null,null,null,null,null,null,null,null,null,null,null,null,null,null,null,null,null,null,null,null,null,null,null,null,null,null,null,null,null,null,null,null,null,null,null,null,null,null,null,null,null,null,null,null,null,null,null,null,null,null,null,null,null,null,null,null,null,null,null,null,null,null,null,null,null,null,null,null,null,null,null,null,null,null,null,null,null,null,null,null,null,null,null,null,null,0,0,0,0,0,0,0,0,0,0,0]
[null,"1.5.5   Venting-to-oil ratio",null,null,"scf/bbl oil",null,0,null,null,null,null,null,null,null,null,null,null,null,null,null,null,null,null,null,null,null,null,null,null,null,null,null,null,null,null,null,null,null,null,null,null,null,null,null,null,null,null,null,null,null,null,null,null,null,null,null,null,null,null,null,null,null,null,null,null,null,null,null,null,null,null,null,null,null,null,null,null,null,null,null,null,null,null,null,null,null,null,null,null,null,null,null,null,null,null,null,null,null,null,null,null,null,null,null,null,null,null,null,null,null,null,null,null,null,null,null,null,null,null,null,null,null,null,null,null,null,null,null,0,0,0,0,0,0]
[null,"1.5.6   Volume fraction of diluent",null,null,"[-]",null,0,null,null,null,null,null,null,null,null,null,null,null,null,null,null,null,null,null,null,null,null,null,null,null,null,null,null,null,null,null,null,null,null,null,null,null,null,null,null,null,null,null,null,null,null,null,null,null,null,null,null,null,null,null,null,null,null,null,null,null,null,null,null,null,null,null,null,null,null,null,null,null,null,null,null,null,null,null,null,null,null,null,null,null,null,null,null,null,null,null,null,null,null,null,null,null,null,null,null,null,null,null,null,null,null,null,null,null,null,null,null,null,null,null,null,null,null,0,0.25,0.5,0.75,1]
[]
["1.6   Land use impacts"]
[null,"1.6.1   Crude ecosystem carbon richness"]
[null,null,"1.6.1.1   Low carbon richness (semi-arid grasslands)",null,"NA",null,0]
[null,null,"1.6.1.2   Moderate carbon richness (mixed)",null,"NA",null,1]
[null,null,"1.6.1.3   High carbon richness (forested)",null,"NA",null,0]
[null,"1.6.2   Field development intensity"]
[null,null,"1.6.2.1   Low intensity development and low oxidation",null,"NA",null,0]
[null,null,"1.6.2.2   Moderate intensity development and moderate oxidation",null,"NA",null,1,null,null,null,null,null,null,null,null,null,null,null,null,null,null,null,null,null,null,null,null,null,null,null,null,null,null,null,null,null,null,null,null,null,null,null,null,null,null,null,null,null,null,null,null,null,null,null,null,null,null,null,null,null,null,null,null,null,null,null,null,null,null,null,null,null,null,null,null,null,null,null,null,null,null,null,null,null,null,null,null,null,null,null,null,null,null,null,null,null,null,null,null,null,null,null,null,null,null,null,null,null,null,null,null,null,null,null,null,null,null,null,null,null,null,null,null,null,null,null,null,null,0,0,0,0,0,0]
[null,null,"1.6.2.3   High intensity development and high oxidation",null,"NA",null,0,null,null,null,null,null,null,null,null,null,null,null,null,null,null,null,null,null,null,null,null,null,null,null,null,null,null,null,null,null,null,null,null,null,null,null,null,null,null,null,null,null,null,null,null,null,null,null,null,null,null,null,null,null,null,null,null,null,null,null,null,null,null,null,null,null,null,null,null,null,null,null,null,null,null,null,null,null,null,null,null,null,null,null,null,null,null,null,null,null,null,null,null,null,null,null,null,null,null,null,null,null,null,null,null,null,null,null,null,null,null,null,null,null,null,null,null,null,null,null,null,null,1,1,1,1,1,1]
[]
["1.7   Crude oil transport"]
[null,"1.7.1   Fraction of oil transported by each mode"]
[null,null,"1.7.1.1   Ocean tanker",null,"[-]",null,1]
[null,null,"1.7.1.2   Barge",null,"[-]",null,0]
[null,null,"1.7.1.3   Pipeline",null,"[-]",null,1]
[null,null,"1.7.1.4   Rail",null,"[-]",null,0]
[null,null,"1.7.1.5   Truck",null,null,null,0]
[null,"1.7.2   Transport distance (one way)"]
[null,null,"1.7.2.1   Ocean tanker",null,"Mile",null,5082]
[null,null,"1.7.2.2   Barge",null,"Mile",null,500]
[null,null,"1.7.2.3   Pipeline",null,"Mile",null,750]
[null,null,"1.7.2.4   Rail",null,"Mile",null,800]
[null,null,"1.7.2.5 Truck",null,null,null,100]
[null,"1.7.3   Ocean tanker size, if applicable",null,null,"Ton",null,250000]
[]
["1.8   Small sources emissions",null,null,null,"gCO2eq/MJ",null,0.5]

{"sheet":"Results","index":4,"n_rows":185,"n_cols":512,"rows_kept":185,"cut":false,"hidden":false,"merged":[[4,0,4,3],[124,0,124,3]]}
["Results","Start field:","End field:"]
["Fields:",1,1,null,null,null,"Key:",null,"= Changed to OPGEE default",null,null,null," = Adjusted using bulk assessment macro",null,null,null,null,"= Outside of literature range"]
["1 Complete Inputs"]
[]
["Output variables",null,null,null,"Unit",null,"Default","Field 1","Field 2","Field 3","Field 4","Field 5","Field 6","Field 7","Field 8","Field 9","Field 10","Field 11","Field 12","Field 13","Field 14","Field 15","Field 16","Field 17","Field 18","Field 19","Field 20","Field 21","Field 22","Field 23","Field 24","Field 25","Field 26","Field 27","Field 28","Field 29","Field 30","Field 31","Field 32","Field 33","Field 34","Field 35","Field 36","Field 37","Field 38","Field 39","Field 40","Field 41","Field 42","Field 43","Field 44","Field 45","Field 46","Field 47","Field 48","Field 49","Field 50","Field 51","Field 52","Field 53","Field 54","Field 55","Field 56","Field 57","Field 58","Field 59","Field 60","Field 61","Field 62","Field 63","Field 64","Field 65","Field 66","Field 67","Field 68","Field 69","Field 70","Field 71","Field 72","Field 73","Field 74","Field 75","Field 76","Field 77","Field 78","Field 79","Field 80","Field 81","Field 82","Field 83","Field 84","Field 85","Field 86","Field 87","Field 88","Field 89","Field 90","Field 91","Field 92","Field 93","Field 94","Field 95","Field 96","Field 97","Field 98","Field 99","Field 100","Field 101","Field 102","Field 103","Field 104","Field 105","Field 106","Field 107","Field 108","Field 109","Field 110","Field 111","Field 112","Field 113","Field 114","Field 115","Field 116","Field 117","Field 118","Field 119","Field 120","Field 121","Field 122","Field 123","Field 124","Field 125","Field 126","Field 127","Field 128","Field 129","Field 130","Field 131","Field 132","Field 133","Field 134","Field 135","Field 136","Field 137","Field 138","Field 139","Field 140","Field 141","Field 142","Field 143","Field 144","Field 145","Field 146","Field 147","Field 148","Field 149","Field 150","Field 151","Field 152","Field 153","Field 154","Field 155","Field 156","Field 157","Field 158","Field 159","Field 160","Field 161","Field 162","Field 163","Field 164","Field 165","Field 166","Field 167","Field 168","Field 169","Field 170","Field 171","Field 172","Field 173","Field 174","Field 175","Field 176","Field 177","Field 178","Field 179","Field 180","Field 181","Field 182","Field 183","Field 184","Field 185","Field 186","Field 187","Field 188","Field 189","Field 190","Field 191","Field 192","Field 193","Field 194","Field 195","Field 196","Field 197","Field 198","Field 199","Field 200","Field 201","Field 202","Field 203","Field 204","Field 205","Field 206","Field 207","Field 208","Field 209","Field 210","Field 211","Field 212","Field 213","Field 214","Field 215","Field 216","Field 217","Field 218","Field 219","Field 220","Field 221","Field 222","Field 223","Field 224","Field 225","Field 226","Field 227","Field 228","Field 229","Field 230","Field 231","Field 232","Field 233","Field 234","Field 235","Field 236","Field 237","Field 238","Field 239","Field 240","Field 241","Field 242","Field 243","Field 244","Field 245","Field 246","Field 247","Field 248","Field 249","Field 250","Field 251","Field 252","Field 253","Field 254","Field 255","Field 256","Field 257","Field 258","Field 259","Field 260","Field 261","Field 262","Field 263","Field 264","Field 265","Field 266","Field 267","Field 268","Field 269","Field 270","Field 271","Field 272","Field 273","Field 274","Field 275","Field 276","Field 277","Field 278","Field 279","Field 280","Field 281","Field 282","Field 283","Field 284","Field 285","Field 286","Field 287","Field 288","Field 289","Field 290","Field 291","Field 292","Field 293","Field 294","Field 295","Field 296","Field 297","Field 298","Field 299","Field 300","Field 301","Field 302","Field 303","Field 304","Field 305","Field 306","Field 307","Field 308","Field 309","Field 310","Field 311","Field 312","Field 313","Field 314","Field 315","Field 316","Field 317","Field 318","Field 319","Field 320","Field 321","Field 322","Field 323","Field 324","Field 325","Field 326","Field 327","Field 328","Field 329","Field 330","Field 331","Field 332","Field 333","Field 334","Field 335","Field 336","Field 337","Field 338","Field 339","Field 340","Field 341","Field 342","Field 343","Field 344","Field 345","Field 346","Field 347","Field 348","Field 349","Field 350","Field 351","Field 352","Field 353","Field 354","Field 355","Field 356","Field 357","Field 358","Field 359","Field 360","Field 361","Field 362","Field 363","Field 364","Field 365","Field 366","Field 367","Field 368","Field 369","Field 370","Field 371","Field 372","Field 373","Field 374","Field 375","Field 376","Field 377","Field 378","Field 379","Field 380","Field 381","Field 382","Field 383","Field 384","Field 385","Field 386","Field 387","Field 388","Field 389","Field 390","Field 391","Field 392","Field 393","Field 394","Field 395","Field 396","Field 397","Field 398","Field 399","Field 400","Field 401","Field 402","Field 403","Field 404","Field 405","Field 406","Field 407","Field 408","Field 409","Field 410","Field 411","Field 412","Field 413","Field 414","Field 415","Field 416","Field 417","Field 418","Field 419","Field 420","Field 421","Field 422","Field 423","Field 424","Field 425","Field 426","Field 427","Field 428","Field 429","Field 430","Field 431","Field 432","Field 433","Field 434","Field 435","Field 436","Field 437","Field 438","Field 439","Field 440","Field 441","Field 442","Field 443","Field 444","Field 445","Field 446","Field 447","Field 448","Field 449","Field 450","Field 451","Field 452","Field 453","Field 454","Field 455","Field 456","Field 457","Field 458","Field 459","Field 460","Field 461","Field 462","Field 463","Field 464","Field 465","Field 466","Field 467","Field 468","Field 469","Field 470","Field 471","Field 472","Field 473","Field 474","Field 475","Field 476","Field 477","Field 478","Field 479","Field 480","Field 481","Field 482","Field 483","Field 484","Field 485","Field 486","Field 487","Field 488","Field 489","Field 490","Field 491","Field 492","Field 493","Field 494","Field 495","Field 496","Field 497","Field 498","Field 499","Field 500","Field 501","Field 502","Field 503","Field 504","Field 505"]
[null,null,null,null,null,null,{"$f":"IF(G21=\"\",\"NA\",G21)","v":"NA"},{"$f":"IF(H21=\"\",\"NA\",H21)","v":"Generic"},"NA","NA","NA","NA","NA","NA","NA","NA","NA","NA","NA","NA","NA","NA","NA","NA","NA","NA","NA","NA","NA","NA","NA","NA","NA","NA","NA","NA","NA","NA","NA","NA","NA","NA","NA","NA","NA","NA","NA","NA","NA","NA","NA","NA","NA","NA","NA","NA","NA","NA","NA","NA","NA","NA","NA","NA","NA","NA","NA","NA","NA","NA","NA",{"$f":"IF(BT21=\"\",\"NA\",BT21)","v":"NA"},"NA","NA","NA","NA","NA","NA","NA","NA","NA","NA","NA","NA","NA","NA","NA","NA","NA","NA","NA","NA","NA","NA","NA","NA","NA","NA","NA","NA","NA","NA","NA","NA","NA","NA","NA","NA","NA","NA","NA","NA","NA","NA","NA","NA","NA","NA","NA","NA","NA","NA","NA","NA","NA","NA","NA","NA","NA","NA","NA","NA","NA","NA","NA",{"$f":"IF(EF21=\"\",\"NA\",EF21)","v":"NA"},"NA","NA","NA","NA","NA","NA","NA","NA","NA","NA","NA","NA","NA","NA","NA","NA","NA","NA","NA","NA","NA","NA","NA","NA","NA","NA","NA","NA","NA","NA","NA","NA","NA","NA","NA","NA","NA","NA","NA","NA","NA","NA","NA","NA","NA","NA","NA","NA","NA","NA","NA","NA","NA","NA","NA","NA","NA","NA","NA","NA","NA","NA","NA",{"$f":"IF(GR21=\"\",\"NA\",GR21)","v":"NA"},"NA","NA","NA","NA","NA","NA","NA","NA","NA","NA","NA","NA","NA","NA","NA","NA","NA","NA","NA","NA","NA","NA","NA","NA","NA","NA","NA","NA","NA","NA","NA","NA","NA","NA","NA","NA","NA","NA","NA","NA","NA","NA","NA","NA","NA","NA","NA","NA","NA","NA","NA","NA","NA","NA","NA","NA","NA","NA","NA","NA","NA","NA","NA",{"$f":"IF(JD21=\"\",\"NA\",JD21)","v":"NA"},"NA","NA","NA","NA","NA","NA","NA","NA","NA","NA","NA","NA","NA","NA","NA","NA","NA","NA","NA","NA","NA","NA","NA","NA","NA","NA","NA","NA","NA","NA","NA","NA","NA","NA","NA","NA","NA","NA","NA","NA","NA","NA","NA","NA","NA","NA","NA","NA","NA","NA","NA","NA","NA","NA","NA","NA","NA","NA","NA","NA","NA","NA","NA",{"$f":"IF(LP21=\"\",\"NA\",LP21)","v":"NA"},"NA","NA","NA","NA","NA","NA","NA","NA","NA","NA","NA","NA","NA","NA","NA","NA","NA","NA","NA","NA","NA","NA","NA","NA","NA","NA","NA","NA","NA","NA","NA","NA","NA","NA","NA","NA","NA","NA","NA","NA","NA","NA","NA","NA","NA","NA","NA","NA","NA","NA","NA","NA","NA","NA","NA","NA","NA","NA","NA","NA","NA","NA","NA",{"$f":"IF(OB21=\"\",\"NA\",OB21)","v":"NA"},"NA","NA","NA","NA","NA","NA","NA","NA","NA","NA","NA","NA","NA","NA","NA","NA","NA","NA","NA","NA","NA","NA","NA","NA","NA","NA","NA","NA","NA","NA","NA","NA","NA","NA","NA","NA","NA","NA","NA","NA","NA","NA","NA","NA","NA","NA","NA","NA","NA","NA","NA","NA","NA","NA","NA","NA","NA","NA","NA","NA","NA","NA","NA",{"$f":"IF(QN21=\"\",\"NA\",QN21)","v":"NA"},"NA","NA","NA","NA","NA","NA","NA","NA","NA","NA","NA","NA","NA","NA","NA","NA","NA","NA","NA","NA","NA","NA","NA","NA","NA","NA","NA","NA","NA","NA","NA","NA","NA","NA","NA","NA","NA","NA","NA","NA","NA","NA","NA","NA","NA","NA","NA","NA","NA","NA","NA","NA","NA","NA","NA","NA"]
["1.1   Production methods"]
["Notes: Enter \"1\" where applicable and \"0\" where not applicable"]
[null,"1.1.1   Downhole pump",null,null,"NA",null,null,1]
[null,"1.1.2   Water reinjection ",null,null,"NA",null,null,1]
[null,"1.1.3   Natural gas reinjection",null,null,"NA",null,null,1]
[null,"1.1.4   Water flooding",null,null,"NA",null,null,0]
[null,"1.1.5   Gas lifting",null,null,"NA",null,null,0]
[null,"1.1.6   Gas flooding",null,null,"NA",null,null,0]
[null,"1.1.7   Steam flooding",null,null,"NA",null,null,0]
[null,"1.1.8   Oil sands mine (integrated with upgrader)",null,null,"NA",null,null,0]
[null,"1.1.9   Oil sands mine (non-integrated with upgrader)",null,null,"NA",null,null,0]
[]
["1.2    Field properties"]
[null,"1.2.1   Field location (Country)",null,null,"NA",null,null,"Generic"]
[null,"1.2.2   Field name",null,null,"NA",null,null,"Generic"]
[null,"1.2.3   Field age",null,null,"yr.",null,null,35]
[null,"1.2.4   Field depth",null,null,"ft",null,null,7240]
[null,"1.2.5   Oil production volume",null,null,"bbl/d",null,null,1500]
[null,"1.2.6   Number of producing wells",null,null,"[-]",null,null,8]
[null,"1.2.7   Number of water injecting wells",null,null,"[-]",null,null,5]
[null,"1.2.8   Production tubing diameter",null,null,"in",null,null,2.7749999999999999]
[null,"1.2.9   Productivity index",null,null,"bbl/psi-d",null,null,3]
[null,"1.2.10   Reservoir pressure",null,null,"psi",null,null,1556.6]
[null,"1.2.11   Reservoir temperature",null,null,"◦F",null,null,200.32]
[null,"1.2.12   Offshore?",null,null,"[0-1]",null,null,0]
[]
["1.3   Fluid properties"]
[null,"1.3.1   API gravity",null,null,"deg. API",null,null,30]
[null,"1.3.2   Gas composition"]
[null,null,"N2",null,"mol%",null,null,2]
[null,null,"CO2",null,"mol%",null,null,6]
[null,null,"C1",null,"mol%",null,null,84]
[null,null,"C2",null,"mol%",null,null,4]
[null,null,"C3",null,"mol%",null,null,2]
[null,null,"C4+",null,"mol%",null,null,1]
[null,null,"H2S",null,"mol%",null,null,1]
[]
["1.4   Production practices"]
["Notes: Enter \"NA\" where not applicable"]
[null,"1.4.1   Gas-to-oil ratio (GOR)",null,null,"scf/bbl oil",null,null,908]
[null,"1.4.2   Water-to-oil ratio (WOR)",null,null,"bbl water/bbl oil",null,null,4.3083690574453417]
[null,"1.4.3   Water injection ratio",null,null,"bbl water/bbl oil",null,null,5.3083690574453417]
[null,"1.4.4   Gas lifting injection ratio",null,null,"scf/bbl liquid",null,null,1500]
[null,"1.4.5   Gas flooding injection ratio",null,null,"scf/bbl oil",null,null,1362]
[null,"1.4.6   Flood gas ",null,null,"NA",null,null,1]
[null,null,"1)   Natural gas"]
[null,null,"2)   Nitrogen (N2)"]
[null,null,"3)   Carbon Dioxide (CO2)"]
[]
[]
[null,"1.4.7   Carbon dioxide flooding and sequestration parameters"]
[null,null,"1.4.7.1   Percentage of newly acquired CO2 (total injected CO2 includes both new and recycled)",null,"%",null,null,41]
[null,null,"1.4.7.2   Source of CO2",null,"NA",null,null,1]
[null,null,null,"1)   Natural subsurface reservoir"]
[null,null,null,"2)   Anthropogenic"]
[null,null,"1.4.7.3   Percentage of sequestration credit assigned to the oilfield",null,"%",null,null,0]
[null,"1.4.8   Steam-to-oil ratio (SOR)",null,null,"bbl steam/bbl oil",null,null,3]
[null,"1.4.9   Fraction of required electricity generated onsite",null,null,"[-]",null,null,0]
[null,"1.4.10   Fraction of remaining natural gas reinjected",null,null,"[-]",null,null,0]
[null,"1.4.11   Fraction of produced water reinjected",null,null,"[-]",null,null,1]
[null,"1.4.12   Fraction of steam generation via cogeneration ",null,null,"[-]",null,null,0]
[null,"1.4.13   Fraction of steam generation via solar thermal",null,null,"[-]",null,null,0]
["1.5   Processing practices"]
[null,"1.5.1   Heater/treater",null,null,"NA",null,null,0]
[null,"1.5.2   Stabilizer column",null,null,"NA",null,null,1]
[null,"1.5.3   Upgrader type",null,null,null,null,null,0]
[null,null,"0 = None"]
[null,null,"1 = Delayed coking"]
[null,null,"2 = Hydroconversion"]
[null,null,"3 = Combined hydroconversion and fluid coking"]
[null,"1.5.3   Associated Gas Processing Path",null,null,"NA",null,null,5]
[null,null,"1=   None"]
[null,null,"2=   Minimal: Dehydrator"]
[null,null,"3=   Acid Gas: Dehydrator + Amine Process"]
[null,null,"4=   Wet Gas: Dehydrator + Demethanizer"]
[null,null,"5=   Acid Wet Gas: Dehydrator + Amine Process + Demethanizer"]
[null,null,"6=   Sour gas reinjection, dehydration then direct injection of sour CO2-rich stream"]
[null,null,"7=   CO2-EOR Membrane: Dehydrator + Compressor + Membrane + Amine Process + Demethanizer"]
[null,null,"8=   CO2-EOR Ryan Holmes: Dehydrator + Ryan Holmes Process (Demethanizer Included)"]
[null,"1.5.4   Flaring-to-oil ratio",null,null,"scf/bbl oil",null,null,154.71696179696221]
[null,"1.5.5   Venting-to-oil ratio",null,null,"scf/bbl oil",null,null,0]
[null,"1.5.6   Volume fraction of diluent",null,null,"[-]",null,null,0]
[]
["1.6   Land use impacts"]
[null,"1.6.1   Crude ecosystem carbon richness"]
[null,null,"1.6.1.1   Low carbon richness (semi-arid grasslands)",null,"NA",null,null,0]
[null,null,"1.6.1.2   Moderate carbon richness (mixed)",null,"NA",null,null,1]
[null,null,"1.6.1.3   High carbon richness (forested)",null,"NA",null,null,0]
[null,"1.6.2   Field development intensity"]
[null,null,"1.6.2.1   Low intensity development and low oxidation",null,"NA",null,null,0]
[null,null,"1.6.2.2   Moderate intensity development and moderate oxidation",null,"NA",null,null,1]
[null,null,"1.6.2.3   High intensity development and high oxidation",null,"NA",null,null,0]
[]
["1.7   Crude oil transport"]
[null,"1.7.1   Fraction of oil transported by each mode"]
[null,null,"1.7.1.1   Ocean tanker",null,"[-]",null,null,1]
[null,null,"1.7.1.2   Barge",null,"[-]",null,null,0]
[null,null,"1.7.1.3   Pipeline",null,"[-]",null,null,1]
[null,null,"1.7.1.4   Rail",null,"[-]",null,null,0]
[null,null,"1.7.1.5   Truck",null,"[-]",null,null,0]
[null,"1.7.2   Transport distance (one way)"]
[null,null,"1.7.2.1   Ocean tanker",null,"Mile",null,null,5082]
[null,null,"1.7.2.2   Barge",null,"Mile",null,null,500]
[null,null,"1.7.2.3   Pipeline",null,"Mile",null,null,750]
[null,null,"1.7.2.4   Rail",null,"Mile",null,null,800]
[null,null,"1.7.2.5   Truck",null,"Mile",null,null,100]
[null,"1.7.3   Ocean tanker size, if applicable",null,null,"Ton",null,null,250000]
[]
["1.8   Small sources emissions",null,null,null,"gCO2eq/MJ",null,null,0.5]
[]
[]
[]
[]
[]
[]
["2 Outputs"]
[]
[]
["Output variables",null,null,null,"Unit",null,"Default","Field 1","Field 2","Field 3","Field 4","Field 5","Field 6","Field 7","Field 8","Field 9","Field 10","Field 11","Field 12","Field 13","Field 14","Field 15","Field 16","Field 17","Field 18","Field 19","Field 20","Field 21","Field 22","Field 23","Field 24","Field 25","Field 26","Field 27","Field 28","Field 29","Field 30","Field 31","Field 32","Field 33","Field 34","Field 35","Field 36","Field 37","Field 38","Field 39","Field 40","Field 41","Field 42","Field 43","Field 44","Field 45","Field 46","Field 47","Field 48","Field 49","Field 50","Field 51","Field 52","Field 53","Field 54","Field 55","Field 56","Field 57","Field 58","Field 59","Field 60","Field 61","Field 62","Field 63","Field 64","Field 65","Field 66","Field 67","Field 68","Field 69","Field 70","Field 71","Field 72","Field 73","Field 74","Field 75","Field 76","Field 77","Field 78","Field 79","Field 80","Field 81","Field 82","Field 83","Field 84","Field 85","Field 86","Field 87","Field 88","Field 89","Field 90","Field 91","Field 92","Field 93","Field 94","Field 95","Field 96","Field 97","Field 98","Field 99","Field 100","Field 101","Field 102","Field 103","Field 104","Field 105","Field 106","Field 107","Field 108","Field 109","Field 110","Field 111","Field 112","Field 113","Field 114","Field 115","Field 116","Field 117","Field 118","Field 119","Field 120","Field 121","Field 122","Field 123","Field 124","Field 125","Field 126","Field 127","Field 128","Field 129","Field 130","Field 131","Field 132","Field 133","Field 134","Field 135","Field 136","Field 137","Field 138","Field 139","Field 140","Field 141","Field 142","Field 143","Field 144","Field 145","Field 146","Field 147","Field 148","Field 149","Field 150","Field 151","Field 152","Field 153","Field 154","Field 155","Field 156","Field 157","Field 158","Field 159","Field 160","Field 161","Field 162","Field 163","Field 164","Field 165","Field 166","Field 167","Field 168","Field 169","Field 170","Field 171","Field 172","Field 173","Field 174","Field 175","Field 176","Field 177","Field 178","Field 179","Field 180","Field 181","Field 182","Field 183","Field 184","Field 185","Field 186","Field 187","Field 188","Field 189","Field 190","Field 191","Field 192","Field 193","Field 194","Field 195","Field 196","Field 197","Field 198","Field 199","Field 200","Field 201","Field 202","Field 203","Field 204","Field 205","Field 206","Field 207","Field 208","Field 209","Field 210","Field 211","Field 212","Field 213","Field 214","Field 215","Field 216","Field 217","Field 218","Field 219","Field 220","Field 221","Field 222","Field 223","Field 224","Field 225","Field 226","Field 227","Field 228","Field 229","Field 230","Field 231","Field 232","Field 233","Field 234","Field 235","Field 236","Field 237","Field 238","Field 239","Field 240","Field 241","Field 242","Field 243","Field 244","Field 245","Field 246","Field 247","Field 248","Field 249","Field 250","Field 251","Field 252","Field 253","Field 254","Field 255","Field 256","Field 257","Field 258","Field 259","Field 260","Field 261","Field 262","Field 263","Field 264","Field 265","Field 266","Field 267","Field 268","Field 269","Field 270","Field 271","Field 272","Field 273","Field 274","Field 275","Field 276","Field 277","Field 278","Field 279","Field 280","Field 281","Field 282","Field 283","Field 284","Field 285","Field 286","Field 287","Field 288","Field 289","Field 290","Field 291","Field 292","Field 293","Field 294","Field 295","Field 296","Field 297","Field 298","Field 299","Field 300","Field 301","Field 302","Field 303","Field 304","Field 305","Field 306","Field 307","Field 308","Field 309","Field 310","Field 311","Field 312","Field 313","Field 314","Field 315","Field 316","Field 317","Field 318","Field 319","Field 320","Field 321","Field 322","Field 323","Field 324","Field 325","Field 326","Field 327","Field 328","Field 329","Field 330","Field 331","Field 332","Field 333","Field 334","Field 335","Field 336","Field 337","Field 338","Field 339","Field 340","Field 341","Field 342","Field 343","Field 344","Field 345","Field 346","Field 347","Field 348","Field 349","Field 350","Field 351","Field 352","Field 353","Field 354","Field 355","Field 356","Field 357","Field 358","Field 359","Field 360","Field 361","Field 362","Field 363","Field 364","Field 365","Field 366","Field 367","Field 368","Field 369","Field 370","Field 371","Field 372","Field 373","Field 374","Field 375","Field 376","Field 377","Field 378","Field 379","Field 380","Field 381","Field 382","Field 383","Field 384","Field 385","Field 386","Field 387","Field 388","Field 389","Field 390","Field 391","Field 392","Field 393","Field 394","Field 395","Field 396","Field 397","Field 398","Field 399","Field 400","Field 401","Field 402","Field 403","Field 404","Field 405","Field 406","Field 407","Field 408","Field 409","Field 410","Field 411","Field 412","Field 413","Field 414","Field 415","Field 416","Field 417","Field 418","Field 419","Field 420","Field 421","Field 422","Field 423","Field 424","Field 425","Field 426","Field 427","Field 428","Field 429","Field 430","Field 431","Field 432","Field 433","Field 434","Field 435","Field 436","Field 437","Field 438","Field 439","Field 440","Field 441","Field 442","Field 443","Field 444","Field 445","Field 446","Field 447","Field 448","Field 449","Field 450","Field 451","Field 452","Field 453","Field 454","Field 455","Field 456","Field 457","Field 458","Field 459","Field 460","Field 461","Field 462","Field 463","Field 464","Field 465","Field 466","Field 467","Field 468","Field 469","Field 470","Field 471","Field 472","Field 473","Field 474","Field 475","Field 476","Field 477","Field 478","Field 479","Field 480","Field 481","Field 482","Field 483","Field 484","Field 485","Field 486","Field 487","Field 488","Field 489","Field 490","Field 491","Field 492","Field 493","Field 494","Field 495","Field 496","Field 497","Field 498","Field 499","Field 500","Field 501","Field 502","Field 503","Field 504","Field 505"]
[]
["Field name",null,null,null,null,null,null,"Generic"]
[]
["2.1   Exploration (e)"]
[null,"2.1.1   Total energy consumption",null,null,"MJ/MJ",null,null,4.1220371822170955E-5]
[null,"2.1.2   Total GHG emissions",null,null,"gCO2eq/MJ",null,null,0]
[null,null,"2.1.2.1   Combustion/land use",null,"gCO2eq/MJ",null,null,3.079596382066673E-3]
[null,null,"2.1.2.2   VFF",null,"gCO2eq/MJ",null,null,0]
[]
["2.2   Drilling & Development (d)"]
[null,"2.2.1   Total energy consumption",null,null,"MJ/MJ",null,null,1.1165859261583213E-4]
[null,"2.2.2   Total GHG emissions",null,null,"gCO2eq/MJ",null,null,1.2633068476753935]
[null,null,"2.2.2.1   Combustion/land use",null,"gCO2eq/MJ",null,null,1.2633068476753935]
[null,null,"2.2.2.2   VFF",null,"gCO2eq/MJ",null,null,0]
[]
["2.3   Crude production & extraction (p)"]
[null,"2.3.1   Total energy consumption",null,null,"MJ/MJ",null,null,1.431299103505799E-2]
[null,"2.3.2   Total GHG emissions",null,null,"gCO2eq/MJ",null,null,0.94244483402265811]
[null,null,"2.3.2.1   Combustion/land use",null,"gCO2eq/MJ",null,null,0.92512599965038933]
[null,null,"2.3.2.2   VFF",null,"gCO2eq/MJ",null,null,1.7318834372268721E-2]
[]
["2.4   Surface processing (s)"]
[null,"2.4.1   Total energy consumption",null,null,"MJ/MJ",null,null,1.265802968173442E-2]
[null,"2.4.2   Total GHG emissions",null,null,"gCO2eq/MJ",null,null,5.2217615318883617]
[null,null,"2.4.2.1   Combustion/land use",null,"gCO2eq/MJ",null,null,0.70499333482712923]
[null,null,"2.4.2.2   VFF",null,"gCO2eq/MJ",null,null,4.5167681970612321]
[]
["2.5   Maintenance (m)"]
[null,"2.5.1   Total energy consumption",null,null,"MJ/MJ",null,null,0]
[null,"2.5.2   Total GHG emissions",null,null,"gCO2eq/MJ",null,null,7.7063118740114345E-2]
[null,null,"2.5.2.1   Combustion/land use",null,"gCO2eq/MJ",null,null,0]
[null,null,"2.5.2.2   VFF",null,"gCO2eq/MJ",null,null,7.7063118740114345E-2]
[]
["2.6   Waste disposal (w)"]
[null,"2.6.1   Total energy consumption",null,null,"MJ/MJ",null,null,0]
[null,"2.6.2   Total GHG emissions",null,null,"gCO2eq/MJ",null,null,0]
[null,null,"2.6.2.1   Combustion\\land use",null,"gCO2eq/MJ",null,null,0]
[null,null,"2.6.2.2   VFF",null,"gCO2eq/MJ",null,null,0]
[]
["2.7   Crude transport (t)"]
[null,"2.7.1   Total energy consumption",null,null,"MJ/MJ",null,null,1.2592916586361299E-2]
[null,"2.7.2   Total GHG emissions",null,null,"gCO2eq/MJ",null,null,0.94315780854113362]
[null,"2.7.3   Loss factor",null,null,"NA",null,null,1.000062]
[]
["2.8   Other small sources",null,null,null,"gCO2eq/MJ",null,null,0.5]
[]
["2.9   Offsite emissions credit/debit",null,null,null,"gCO2eq/MJ",null,null,-0.76979261234923846]
[]
["2.10   Lifecycle energy consumption",null,null,null,"MJ/MJ",null,null,3.9718497949371948E-2]
[]
["2.11   Carbon dioxide sequestration"]
[null,"2.11.1   Total CO2 sequestered",null,null,"gCO2/MJ",null,null,0]
[]
["2.12   Lifecycle GHG emissions",null,null,null,"gCO2eq/MJ",null,null,8.1783900851090632]
[]
[]
[]
["2.13   FIELD-BY-FIELD CHECK",null,null,null,null,null,null,"OK"]
[]
["2.14   OVERALL CHECK:",null,"OK"]

{"sheet":"Energy Consumption","index":5,"n_rows":83,"n_cols":16,"rows_kept":83,"cut":false,"hidden":false,"merged":[[77,1,77,3],[81,1,81,3],[82,1,82,3],[67,1,67,5],[69,1,69,3],[20,1,20,5],[22,1,22,3],[76,1,76,3],[60,1,60,3],[54,1,54,5],[56,1,56,3],[57,1,57,3],[58,1,58,3],[59,1,59,3]]}
["Energy consumption compilation sheet",null,null,null,null,null,null,"Active field:",null,{"$f":"'Active Field'!C9","v":"Generic"}]
[]
["This sheet compiles results on energy consumption from all other sheets for use in the \"User inputs & Results\" sheet."]
[]
[null,"Table 1: Energy consumption by process stage"]
[null,"Process stage",null,null,null,null,null,"Natural gas","Upgrader process gas","NGL","Crude oil","Diesel","Residual fuel","Petroleum coke","Electricity","Total"]
[null,null,null,null,null,null,null,"MMBtu/d","MMBtu/d","MMBtu/d","MMBtu/d","MMBtu/d","MMBtu/d","MMBtu/d","kWh/d","MMBtu/d"]
[null,"Exploration",null,null,null,null,null,{"$f":"Exploration!M42","v":0},{"$f":"Exploration!N42","v":0},{"$f":"Exploration!O42","v":0},{"$f":"Exploration!P42","v":0},{"$f":"Exploration!Q42","v":0.3409707936758159},{"$f":"Exploration!R42","v":0},{"$f":"Exploration!S42","v":0},{"$f":"Exploration!T42","v":0},{"$f":"SUM(H8:N8)+O8*'Input Data'!$E$53/1000000","v":0.3409707936758159}]
[null,"Drilling & Development",null,null,null,null,null,{"$f":"'Drilling & Development'!M131","v":0},{"$f":"'Drilling & Development'!N131","v":0},{"$f":"'Drilling & Development'!O131","v":0},{"$f":"'Drilling & Development'!P131","v":0},{"$f":"'Drilling & Development'!Q131","v":0.92362871225890175},{"$f":"'Drilling & Development'!R131","v":0},{"$f":"'Drilling & Development'!S131","v":0},{"$f":"'Drilling & Development'!T131","v":0},{"$f":"SUM(H9:N9)+O9*'Input Data'!$E$53/1000000","v":0.92362871225890175}]
[null,"Production & Extraction",null,null,null,null,null,{"$f":"'Production & Extraction'!M328","v":118.39563054289619},{"$f":"'Production & Extraction'!N328","v":0},{"$f":"'Production & Extraction'!O328","v":0},{"$f":"'Production & Extraction'!P328","v":0},{"$f":"'Production & Extraction'!Q328","v":0},{"$f":"'Production & Extraction'!R328","v":0},{"$f":"'Production & Extraction'!S328","v":0},{"$f":"'Production & Extraction'!T328","v":0},{"$f":"SUM(H10:N10)+O10*'Input Data'!$E$53/1000000","v":118.39563054289619}]
[null,"Surface Processing",null,null,null,null,null,{"$f":"'Surface Processing'!M539+'Surface Processing'!M540+'Surface Processing'!M541+'Surface Processing'!M542+'Surface Processing'!M543+'Surface Processing'!M544+'Surface Processing'!M545+'Surface Processing'!M546+'Surface Processing'!M547","v":101.93990720819195},{"$f":"'Surface Processing'!N539+'Surface Processing'!N540+'Surface Processing'!N541+'Surface Processing'!N542+'Surface Processing'!N543+'Surface Processing'!N544+'Surface Processing'!N545+'Surface Processing'!N546+'Surface Processing'!N547","v":0},{"$f":"'Surface Processing'!O539+'Surface Processing'!O540+'Surface Processing'!O541+'Surface Processing'!O543+'Surface Processing'!O544+'Surface Processing'!O545+'Surface Processing'!O546+'Surface Processing'!O547","v":0},{"$f":"'Surface Processing'!P539+'Surface Processing'!P540+'Surface Processing'!P541+'Surface Processing'!P542+'Surface Processing'!P543+'Surface Processing'!P544+'Surface Processing'!P545+'Surface Processing'!P546+'Surface Processing'!P547","v":0},{"$f":"'Surface Processing'!Q539+'Surface Processing'!Q540+'Surface Processing'!Q541+'Surface Processing'!Q542+'Surface Processing'!Q543+'Surface Processing'!Q544+'Surface Processing'!Q545+'Surface Processing'!Q546+'Surface Processing'!Q547","v":0},{"$f":"'Surface Processing'!R539+'Surface Processing'!R540+'Surface Processing'!R541+'Surface Processing'!R542+'Surface Processing'!R543+'Surface Processing'!R544+'Surface Processing'!R545+'Surface Processing'!R546+'Surface Processing'!R547","v":0},{"$f":"'Surface Processing'!S539+'Surface Processing'!S540+'Surface Processing'!S541+'Surface Processing'!S542+'Surface Processing'!S543+'Surface Processing'!S544+'Surface Processing'!S545+'Surface Processing'!S546+'Surface Processing'!S547","v":0},{"$f":"'Surface Processing'!T539+'Surface Processing'!T540+'Surface Processing'!T541+'Surface Processing'!T542+'Surface Processing'!T543+'Surface Processing'!T544+'Surface Processing'!T545+'Surface Processing'!T546+'Surface Processing'!T547","v":810.64430193357839},{"$f":"SUM(H11:N11)+O11*'Input Data'!$E$53/1000000","v":104.70595572433895}]
[null,"Maintenance",null,null,null,null,null,0,0,0,0,0,0,0,0,{"$f":"SUM(H12:N12)+O12*'Input Data'!$E$53/1000000","v":0}]
[null,"Waste disposal",null,null,null,null,null,0,0,0,0,0,0,0,0,{"$f":"SUM(H13:N13)+O13*'Input Data'!$E$53/1000000","v":0}]
[null,"Transport",null,null,null,null,null,{"$f":"Transport!M124","v":23.994142927815787},{"$f":"Transport!N124","v":0},{"$f":"Transport!O124","v":0},{"$f":"Transport!P124","v":0},{"$f":"Transport!Q124","v":19.631633486394737},{"$f":"Transport!R124","v":60.541570296511509},{"$f":"Transport!S124","v":0},{"$f":"Transport!T124","v":0},{"$f":"SUM(H14:N14)+O14*'Input Data'!$E$53/1000000","v":104.16734671072203}]
[null,"Other",null,null,null,null,null,0,0,0,0,0,0,0,0,{"$f":"SUM(H15:N15)+O15*'Input Data'!$E$53/1000000","v":0}]
[null,"Fuel consumed for electricity generation",null,null,null,null,null,{"$f":"Electricity!M81","v":0},{"$f":"Electricity!N81","v":0},{"$f":"Electricity!O81","v":0},{"$f":"Electricity!P81","v":0},{"$f":"Electricity!Q81","v":0},{"$f":"Electricity!R81","v":0},{"$f":"Electricity!S81","v":0},{"$f":"Electricity!T81","v":0},{"$f":"SUM(H16:N16)+O16*'Input Data'!$E$53/1000000","v":0}]
[null,null,null,null,null,null,"Total =",{"$f":"H8+H9+H10+H11+H12+H13+H14+H15+H16","v":244.32968067890391},{"$f":"I8+I9+I10+I11+I12+I13+I14+I15+I16","v":0},0,0,20.896232992329455,60.541570296511509,0,{"$f":"SUM(O8:O16)","v":810.64430193357839},{"$f":"SUM(P8:P16)","v":328.53353248389186}]
[null,null,null,null,null,null,null,null,null,"Do not include NGLs used as diluent in this column, as they are not consumed"]
[]
[null,"Table 2: Gross energy consumption by fuel type"]
[null,"Gross energy consumption by fuel type"]
[null,null,null,null,"Total","Unit"]
[null,"Natural gas",null,null,{"$f":"SUM(H8:H16)","v":244.32968067890391},"MMBtu/d",null,null,null,{"$f":"1790/4","v":447.5}]
[null,"NGL",null,null,{"$f":"SUM(J8:J16)","v":0},"MMBtu/d"]
[null,"Upgrader process gas",null,null,{"$f":"SUM(I8:I16)","v":0},"MMBtu/d"]
[null,"Diesel",null,null,{"$f":"SUM(L8:L16)","v":20.896232992329455},"MMBtu/d"]
[null,"Electricity",null,null,{"$f":"SUM(O8:O16)*'Input Data'!E53/1000000","v":2.7660485161469905},"MMBtu/d"]
[null,"Crude oil",null,null,{"$f":"SUM(K8:K16)","v":0},"MMBtu/d"]
[null,"Residual fuel",null,null,{"$f":"SUM(M8:M16)","v":60.541570296511509},"MMBtu/d"]
[null,"Petroleum coke",null,null,{"$f":"SUM(N8:N16)","v":0},"MMBtu/d"]
[null,null,null,"Total =",{"$f":"SUM(E23:E30)","v":328.53353248389186},"MMBtu/d"]
[]
[]
[null,"Table 3: Energy exports/imports by fuel type"]
[null,"Energy exports/imports by fuel type"]
[null,null,null,null,"Total","Unit"]
[null,"Natural gas",null,null,{"$f":"E23+(IF(AND('Production & Extraction'!M19=1,'Active Field'!J90=1),'Production & Extraction'!M49/1000-IF(OR('Active Field'!J116=1,'Active Field'!J116=2,'Active Field'!J116=3,'Active Field'!J116=4,'Active Field'!J116=5),'Gas Balance'!CT57,IF('Active Field'!J116=7,'Gas Balance'!EP151,'Gas Balance'!CL269)),0)-IF('Active Field'!J116=6,0,IF('Active Field'!J116=7,'Gas Balance'!EP129,IF('Active Field'!J116=8,'Gas Balance'!CL249,'Gas Balance'!CT42)))*IF('Active Field'!J116=6,0,IF('Active Field'!J116=7,'Gas Balance'!DT117/'Gas Balance'!DS119,IF('Active Field'!J116=8,'Gas Balance'!BB234/'Gas Balance'!BA236,'Gas Balance'!CA33/'Gas Balance'!BZ35))+(('Venting & Fugitives'!I280-'Venting & Fugitives'!I294)/365)))","v":-607.85077502611921},"MMBtu/d","NG consumed minus NG remaining as process fuel (equal to zero when flooding --> 100% remaining reinjected) + flooding makeup NG + recovered gas"]
[null,"NGL",null,null,{"$f":"E24-'Gas Balance'!F9*'Surface Processing'!M127","v":-152.28101206122187},"MMBtu/d","NGL consumed minus NGL exported as stand-alone product stream"]
[null,"Diluent (NGL)",null,null,{"$f":"'Surface Processing'!O542","v":0},"MMBtu/d","NGL imported for dilution"]
[null,"Upgrader process gas",null,null,{"$f":"-'Surface Processing'!K246*'Fuel Specs'!B254","v":0},"MMBtu/d"]
[null,"Diesel",null,null,{"$f":"E26","v":20.896232992329455},"MMBtu/d"]
[null,"Electricity",null,null,{"$f":"E27-Electricity!M77-'Production & Extraction'!M310","v":2.7660485161469905},"MMBtu/d","Electricity consumed minus electricity generated onsite minus electricity co-generated in steam generation "]
[null,"Crude oil",null,null,{"$f":"-IF('Active Field'!J111=0,('Active Field'!J63*'Fuel Specs'!M16*(1-'Active Field'!J127)+'Surface Processing'!O542+'Gas Balance'!F9*'Surface Processing'!M128),('Surface Processing'!M242*'Fuel Specs'!M16+'Surface Processing'!O542+'Gas Balance'!F9*'Surface Processing'!M128))","v":-8271.9},"MMBtu/d","Crude oil plus any NGLs blended into crude stream (either through dilution or simple blending of demethanizer output)"]
[null,"Residual fuel",null,null,{"$f":"E29","v":60.541570296511509},"MMBtu/d"]
[null,"Petroleum coke",null,null,{"$f":"-'Surface Processing'!I273*1000*'Input Data'!E18/2000*'Fuel Specs'!E346/1000000","v":0},"MMBtu/d"]
[null,"   Total (imports) =",null,null,{"$f":"IF(E37>0,E37,0)+IF(E38>0,E38,0)+E41+IF(E42>0,E42,0)","v":23.662281508476447},"MMBtu/d"]
[null,"   Total (exports) =",null,null,{"$f":"IF(E37<0,E37,0)+IF(E38<0,E38,0)+IF(E42<0,E42,0)+E43","v":-9032.0317870873405},"MMBtu/d"]
[null,"   Total non-primary fuel exports",null,null,{"$f":"IF(E37<0,E37,0)+IF(E38<0,E38,0)+IF(E42<0,E42,0)","v":-760.13178708734108},"MMBtu/d"]
[null,"Note(s): "]
[null,"Positive value is import (subject to debit)"]
[null,"Negative value is export (subject to credit)"]
[]
[]
[null,"Table 4: Indirect energy consumption"]
[null,"Energy for fuel supply/export",null,null,null,null,"Note(s):"]
[null,null,null,null,"Total","Unit"]
[null,"Energy for natural gas supply/export",null,null,{"$f":"E37*IF(E37<0,IF('Fuel Cycle'!F10=1,'Fuel Cycle'!E37,0),'Fuel Cycle'!D57)","v":-46.711180779674692},"MMBtu/d"]
[null,"Energy for NGL supply/export",null,null,{"$f":"E38*IF(E38<0,IF('Fuel Cycle'!F10=1,'Fuel Cycle'!E37,0),'Fuel Cycle'!D57)","v":-11.702256830054882},"MMBtu/d"]
[null,"Energy for Diesel supply/export",null,null,{"$f":"E41*'Fuel Cycle'!D58","v":4.4027971323338564},"MMBtu/d","No diesel export"]
[null,"Energy for electricity supply/export",null,null,{"$f":"'Energy Consumption'!E42*IF('Energy Consumption'!E42<0,IF('Fuel Cycle'!F10=1,'Fuel Cycle'!E39,0),'Fuel Cycle'!D59)","v":6.0298876697540305},"MMBtu/d"]
[null,"Energy for crude oil supply/export",null,null,{"$f":"E43","v":-8271.9},"MMBtu/d","The upstream energy consumption is accounted by subtracting this amount from the crude oil output"]
[null,"Energy for residual fuel supply",null,null,{"$f":"'Energy Consumption'!E44*IF('Energy Consumption'!E44<0,IF('Fuel Cycle'!F10=1,'Fuel Cycle'!E39,0),'Fuel Cycle'!D59)","v":131.97847619353979},"MMBtu/d"]
[null,null,null,"Total =",{"$f":"SUM(E57:E62)","v":-8187.9022766141015},"MMBtu/d"]
[null,"Negative (-) value is an energy credit from exported fuel"]
[]
[]
[null,"Table 5: Embodied energy consumption"]
[null,"Energy for fuel supply/export",null,null,null,null,"Note(s):"]
[null,null,null,null,"Total","Unit"]
[null,"Embodied energy in oilfield materials",null,null,{"$f":"IF('Embodied Emissions'!M7=1,'Embodied Emissions'!M664*'Active Field'!J63,0)","v":0},"MMBtu/d"]
[null,null,null,"Total =",{"$f":"SUM(E70:E70)","v":0},"MMBtu/d"]
[null,"By default, embodied emissions are not included. See sheet \"Embodied emissions\""]
[]
[]
[null,"Table 6: Summary results for further calculation"]
[null,null,null,null,"MMBtu/d","MJ/d"]
[null,"Total primary product output",null,null,{"$f":"-E43","v":8271.9},{"$f":"E77*'Input Data'!$E$46","v":8727268.0949999988}]
[null,"Total secondary product output",null,null,{"$f":"E48","v":-760.13178708734108},{"$f":"E78*'Input Data'!$E$46","v":-801977.04196649918}]
[null,"   - Natural gas",null,null,{"$f":"IF(E37<0,E37,0)","v":-607.85077502611921},{"$f":"E79*'Input Data'!$E$46","v":-641312.96019130701}]
[null,"   - NGL",null,null,{"$f":"+IF(E38<0,E38,0)","v":-152.28101206122187},{"$f":"E80*'Input Data'!$E$46","v":-160664.08177519214}]
[null,"   - Electricity",null,null,{"$f":"+IF(E42<0,E42,0)","v":0},{"$f":"E81*'Input Data'!$E$46","v":0}]
[null,"Effective output energy stream",null,null,{"$f":"E77-E79*(1-'Fuel Cycle'!L11)-E80*(1-'Fuel Cycle'!L12)-E81*(1-'Fuel Cycle'!L13)","v":8271.9},{"$f":"E82*'Input Data'!$E$46","v":8727268.0949999988}]
[null,"Denominator for computing CI",null,null,null,{"$f":"IF('Fuel Cycle'!F10=1,F77,IF(OR('Fuel Cycle'!F10=2,'Fuel Cycle'!F10=3),F82,\"ERROR\"))","v":8727268.0949999988}]

{"sheet":"GHG Emissions","index":6,"n_rows":61,"n_cols":14,"rows_kept":61,"cut":false,"hidden":false,"merged":[[6,9,6,11],[5,1,5,13],[45,1,45,5],[34,1,34,5],[36,1,36,5],[37,1,37,5],[38,1,38,5],[39,1,39,5],[40,1,40,5],[41,1,41,5],[43,1,43,5],[44,1,44,5],[35,1,35,5],[42,1,42,5],[22,1,22,5],[31,1,31,5],[59,1,59,5],[60,1,60,5],[23,1,23,5],[24,1,24,5],[25,1,25,5],[27,1,27,5],[28,1,28,5],[26,1,26,5],[29,1,29,5],[56,1,56,5],[55,1,55,5],[54,1,54,5],[50,1,50,5],[47,1,47,5],[48,1,48,5],[49,1,49,5]]}
["GHG emissions compilation sheet",null,null,null,null,null,null,"Active field:",null,{"$f":"'Active Field'!C9","v":"Generic"}]
[]
["This sheet compiles emissions quantities from the various pages for use in the \"User Inputs & Results\" sheet."]
[]
[null,"Table 1: GHG emissions panel"]
[null,"GHG emissions panel"]
[null,null,null,null,null,null,null,"Combustion","Land use","VFF",null,null,"Total","Unit"]
[null,null,null,null,null,null,null,null,null,"Venting","Flaring","Fugitives"]
[null,"Exploration",null,null,null,null,null,{"$f":"SUMPRODUCT('Energy Consumption'!H8:N8,'Emissions Factors'!C36:I36)/1000000","v":2.6876463250687904E-2},0,0,0,0,{"$f":"SUM(H9:L9)","v":2.6876463250687904E-2},"tonne CO2eq/d"]
[null,"Drilling & Development",null,null,null,null,null,{"$f":"SUMPRODUCT('Energy Consumption'!H9:N9,'Emissions Factors'!C37:I37)/1000000","v":7.2496086687484071E-2},{"$f":"'Drilling & Development'!M134/1000000","v":10.952721459225},0,0,0,{"$f":"SUM(H10:L10)","v":11.025217545912485},"tonne CO2eq/d"]
[null,"Production & Extraction",null,null,null,null,null,{"$f":"SUMPRODUCT('Energy Consumption'!H10:N10,'Emissions Factors'!C38:I38)/1000000","v":8.0738226206038224},0,{"$f":"'Venting & Fugitives'!F287*1000000/365/1000000","v":0},{"$f":"Flaring!F80*1000000/365/1000000","v":0},{"$f":"'Venting & Fugitives'!F291*1000000/365/1000000","v":0.15114611065969014},8.2249687312635125,"tonne CO2eq/d"]
[null,"Surface Processing",null,null,null,null,null,{"$f":"SUMPRODUCT('Energy Consumption'!H11:N11,'Emissions Factors'!C39:I39)/1000000","v":6.1526658382244568},0,{"$f":"'Venting & Fugitives'!F288*1000000/365/1000000","v":18.828034563954031},{"$f":"(Flaring!F81*1000000/365+'Surface Processing'!K250*'Fuel Specs'!B254/1000*'Emissions Factors'!D17)/1000000","v":18.112667987359508},{"$f":"'Venting & Fugitives'!F292*1000000/365/1000000","v":2.4783444274096227},45.571712816947624,"tonne CO2eq/d"]
[null,"Maintenance",null,null,null,null,null,{"$f":"SUMPRODUCT('Energy Consumption'!H12:N12,'Emissions Factors'!C40:I40)/1000000","v":0},0,{"$f":"'Venting & Fugitives'!F289*1000000/365/1000000","v":0.67255049748179641},{"$f":"Flaring!F82*1000000/365/1000000","v":0},{"$f":"'Venting & Fugitives'!F293*1000000/365/1000000","v":0},0.67255049748179641,"tonne CO2eq/d"]
[null,"Waste disposal",null,null,null,null,null,{"$f":"SUMPRODUCT('Energy Consumption'!H13:N13,'Emissions Factors'!C41:I41)/1000000","v":0},0,0,0,0,0,"tonne CO2eq/d"]
[null,"Transport",null,null,null,null,null,{"$f":"SUMPRODUCT('Energy Consumption'!H14:N14,'Emissions Factors'!C42:I42)/1000000","v":8.2311910510311534},0,0,0,0,8.2311910510311534,"tonne CO2eq/d"]
[null,"Other",null,null,null,null,null,{"$f":"SUMPRODUCT('Energy Consumption'!H15:N15,'Emissions Factors'!C43:I43)/1000000","v":0},0,0,0,0,0,"tonne CO2eq/d"]
[null,null,"Electricity generation",null,null,null,null,{"$f":"Electricity!M83","v":0},0,0,0,0,0,"tonne CO2eq/d"]
[null,"Total =",null,null,null,null,null,{"$f":"H9+H10+H11+H12+H13+H14+H15+H16","v":22.557052059797606},{"$f":"I9+I10+I11+I12+I13+I14+I15+I16","v":10.952721459225},{"$f":"J9+J10+J11+J12+J13+J14+J15+J16","v":19.500585061435828},{"$f":"K9+K10+K11+K12+K13+K14+K15+K16","v":18.112667987359508},{"$f":"L9+L10+L11+L12+L13+L14+L15+L16","v":2.6294905380693128},73.75251710588725,"tonne CO2eq/d"]
[null,"Note:"]
[null,"NGL emissions factor is assumed the same as natural gas"]
[]
[null,"Table 2: Indirect GHG emissions"]
[null,"GHG emissions from fuel supply/export"]
[null,null,null,null,null,null,"Total","Unit"]
[null,"GHG emissions from natural gas supply/export",null,null,null,null,{"$f":"'Energy Consumption'!E37*IF('Energy Consumption'!E37>0,'Fuel Cycle'!D70,IF(OR('Fuel Cycle'!F10=1,'Fuel Cycle'!F10=3),'Fuel Cycle'!L11*'Fuel Cycle'!D47,0))/1000000","v":-6.8257331242759243},"tonne CO2eq/d"]
[null,"GHG emissions from NGL supply/export",null,null,null,null,{"$f":"'Energy Consumption'!E38*IF('Energy Consumption'!E38>0,'Fuel Cycle'!D70,IF(OR('Fuel Cycle'!F10=1,'Fuel Cycle'!F10=3),'Fuel Cycle'!L12*'Fuel Cycle'!D47,0))/1000000","v":-1.7100077698837837},"tonne CO2eq/d"]
[null,"GHG emissions from diluent supply",null,null,null,null,{"$f":"'Energy Consumption'!E39*'Fuel Cycle'!D70/1000000","v":0},"tonne CO2eq/d"]
[null,"GHG emissions from diesel supply/export",null,null,null,null,{"$f":"'Energy Consumption'!E41*IF('Energy Consumption'!E41>0,'Fuel Cycle'!D71,IF('Fuel Cycle'!F10=1,'Fuel Cycle'!D48,0))/1000000","v":0.41001340563208649},"tonne CO2eq/d"]
[null,"GHG emissions from electricity supply/export",null,null,null,null,{"$f":"'Energy Consumption'!E42*IF('Energy Consumption'!E42>0,'Fuel Cycle'!D72,IF(OR('Fuel Cycle'!F10=1,'Fuel Cycle'!F10=3),'Fuel Cycle'!L13*'Fuel Cycle'!D49,0))/1000000","v":0.44490304366777467},"tonne CO2eq/d"]
[null,"GHG emissions from crude oil supply/export",null,null,null,null,"NA","tonne CO2eq/d","Crude oil is the main product"]
[null,"GHG emissions from residual fuel supply/export",null,null,null,null,{"$f":"'Energy Consumption'!E44*IF('Energy Consumption'!E44>0,'Fuel Cycle'!D74,IF('Fuel Cycle'!F10=1,'Fuel Cycle'!D51,0))/1000000","v":0.96263793933763619},"tonne CO2eq/d"]
[null,"Total =",null,null,null,null,{"$f":"SUM(G25:G31)","v":-6.718186505522211},"tonne CO2eq/d"]
[]
[null,"Table 3: CO2 balance from CO2 flooding and CCS"]
[null,"CO2 balance"]
[null,null,null,null,null,null,"Total","Unit"]
[null,"CO2 injected (gross)",null,null,null,null,{"$f":"IF(AND('Active Field'!J53=1, 'Active Field'!J90=3), 'Production & Extraction'!M49*1000*'Input Data'!D83, 0)/1000000","v":0},"tonne CO2eq/d"]
[null,"CO2 sequestered (net CO2 injection)",null,null,null,null,{"$f":"IF(AND('Active Field'!J53=1, 'Active Field'!J90=3), 'Production & Extraction'!M297, 0)/1000000","v":0},"tonne CO2eq/d","It is assumed that all CO2 injected into the reservoir is sequestered either immediately or following production-separation-reinjection"]
[null,"CO2 lost from long-term leakage",null,null,null,null,{"$f":"IF(AND('Active Field'!J53=1, 'Active Field'!J90=3), G38*'Production & Extraction'!M104/100, 0)","v":0},"tonne CO2eq/d","The estimated 100-year leakage rate is applied to the daily sequestration rate"]
[null,"CO2 lost from post-production blow-down",null,null,null,null,{"$f":"IF(AND('Active Field'!J53=1, 'Active Field'!J90=3), G38*'Production & Extraction'!M105/100, 0)","v":0},"tonne CO2eq/d"]
[null,"CO2 lost from venting and fugitives in CO2 recycling",null,null,null,null,{"$f":"IF(AND('Active Field'!J53=1, 'Active Field'!J90=3), 'Venting & Fugitives'!E186+'Venting & Fugitives'!E261, 0)/1000000","v":0},"tonne CO2eq/d"]
[null,"CO2 emitted from work of separation and injection",null,null,null,null,{"$f":"IF(AND('Active Field'!J53=1, 'Active Field'!J90=3), ('Production & Extraction'!M293*'Emissions Factors'!$H$16+'Production & Extraction'!N293*Electricity!M73), 0)/1000000","v":0},"tonne CO2eq/d","Currently only work of flood gas injection compressor"]
[null,"CO2 emitted during drilling and production of purpose-drilled anthropogenic CO2",null,null,null,null,{"$f":"G38/44/'Input Data'!E38*'Fuel Specs'!B254/1000000*'Fuel Cycle'!D76","v":0},"tonne CO2eq/d","Assume that CO2 drilling, production, and transport emits the same amount of CO2 per SCF handled as natural gas"]
[null,"CO2 contained as carbon in produced oil",null,null,null,null,{"$f":"IF(AND('Active Field'!J53=1, 'Active Field'!J90=3), 'Active Field'!J63*'Input Data'!E29*'Input Data'!E31*VLOOKUP('Active Field'!J73,'Fuel Specs'!B24:O65,2)*VLOOKUP('Active Field'!J73,'Fuel Specs'!B73:Q114,3)/100*1000*44/12, 0)/1000000","v":0},"tonne CO2eq/d"]
[null,"CO2 sequestration credited to the oilfield",null,null,null,null,{"$f":"IF(AND('Active Field'!J53=1, 'Active Field'!J90=3), IF('Active Field'!J98=1, 0, 'Active Field'!J101/100*(G38-G39-G40)), 0)","v":0},"tonne CO2eq/d"]
[]
[null,"Table 4: Embodied emissions"]
[null,"GHG emissions from from purchasing of material inputs"]
[null,null,null,null,null,null,"Total","Unit"]
[null,"Embodied emissions in oilfield material",null,null,null,null,{"$f":"IF('Embodied Emissions'!M7=1,'Embodied Emissions'!M652*'Active Field'!J63,0)/1000000","v":0},"tonne CO2eq/d"]
[null,"Total =",null,null,null,null,{"$f":"SUM(G50:G50)","v":0},"tonne CO2eq/d"]
[]
[]
[null,"Table 5: Diluent adjustment factor"]
[null,"Adjustment to account for diluent volumes",null,null,null,null,"Value","Unit"]
[null,"Diluent adjustment factor",null,null,null,null,{"$f":" (1+IF('Active Field'!J127=1,0,('Surface Processing'!M128*('Gas Balance'!F9/'Fuel Specs'!M16)/('Active Field'!J63/(1-'Active Field'!J127))))-'Active Field'!J127)","v":1},"MJ crude/MJ diluent"]
[null,"Offsite emissions less diluent emissions",null,null,null,null,{"$f":"G32-G27","v":-6.718186505522211},"tonne CO2eq/d"]
[]
[null,"Table 6: Summary offsite emissions credit"]
[null,"Adjustment for output stream-specific emissions credit",null,null,null,null,"Value","Unit"]
[null,"Summary offsite emissions credit",null,null,null,null,{"$f":"('GHG Emissions'!G27+'GHG Emissions'!G56*(IF(G25>0,G25,G25*'Fuel Cycle'!L11)+IF(G26>0,G26,G26*'Fuel Cycle'!L12)+G28+IF(G29>0,G29,G29*'Fuel Cycle'!L13)+G31+G43+G51))","v":-6.718186505522211},"tonne CO2eq/d"]

{"sheet":"Active Field","index":7,"n_rows":256,"n_cols":14,"rows_kept":256,"cut":false,"hidden":false,"merged":[]}
["Active field working sheet - DO NOT MODIFY",null,null,null,null,null,null,"Active field:",null,{"$f":"'Active Field'!C9","v":"Generic"}]
[]
["1 Summary results"]
[]
[null,"Model error check:",null,{"$f":"J158","v":"OK"}]
[null,null,null,null,null,null,"Figure 1.1: Summary GHG emissions"]
[null,"Table 1.1: Summary GHG emissions"]
[null,"GHG emissions [gCO2eq/MJ]"]
[null,"Active field",{"$f":"J60","v":"Generic"}]
[null,"Exploration",{"$f":"(G171)*G207","v":3.0797873170423612E-3}]
[null,"Drilling",{"$f":"(G177)*G207","v":1.2633851726999494}]
[null,"Production",{"$f":"(G183)*G207","v":0.92518335746236768}]
[null,"Processing",{"$f":"(G189)*G207","v":0.70503704441388848}]
[null,"Maintenance",{"$f":"(G195)*G207","v":0}]
[null,"Waste",{"$f":"(G201)*G207","v":0}]
[null,"VFF",{"$f":"(G172+G178+G184+G190+G196+G202)*G207","v":4.6114360414829259}]
[null,"Misc.",{"$f":"(G209)*G207","v":0.500031}]
[null,"Transport",{"$f":"G206","v":0.94315780854113362}]
[null,"Offsite emissions",{"$f":"G211*G207","v":-0.76984033949120412}]
[null,"CO2 Sequestration",{"$f":"G216","v":0}]
[null,"Net lifecycle emissions",{"$f":"G218","v":8.1783900851090632}]
[]
[]
[null,null,null,null,null,null,"Figure 1.2: Summary energy consumption"]
[]
[null,"Table 1.2: Summary energy consumption"]
[null,"Energy consumption [MJ/MJ]"]
[null,null,{"$f":"J60","v":"Generic"}]
[null,"Exploration",{"$f":"G169*G207","v":4.122292748522393E-5}]
[null,"Drilling",{"$f":"G175*G207","v":1.1166551544857432E-4}]
[null,"Production",{"$f":"G181*G207","v":1.4313878440502165E-2}]
[null,"Processing",{"$f":"G187*G207","v":1.2658814479574688E-2}]
[null,"Maintenance",{"$f":"G193*G207","v":0}]
[null,"Waste",{"$f":"G199*G207","v":0}]
[null,"Transport",{"$f":"G205","v":1.2592916586361299E-2}]
[null,"Total",{"$f":"G213","v":3.9718497949371948E-2}]
[]
[]
[]
[]
["2 Active field working sheet"]
[]
[]
[]
[]
[null,null,null,null,null,null,null,null,null,"Inputs","Default","Unit",null,"Notes"]
["2.1   Production methods"]
[null,"2.1.1   Downhole pump",null,null,null,null,null,null,null,1,1,"NA",null,"If gas lifting applies then \"0\""]
[null,"2.1.2   Water reinjection ",null,null,null,null,null,null,null,1,1,"NA",null,"If water flooding applies then \"0\""]
[null,"2.1.3   Natural gas reinjection",null,null,null,null,null,null,null,1,1,"NA",null,"If gas flooding applies then \"0\""]
[null,"2.1.4   Water flooding",null,null,null,null,null,null,{"$f":"IF(AND(J49=1,J51=1),\"ERROR\",\"OK\")","v":"OK"},0,0,"NA",null,"This is used for injecting amounts of water larger than the amount of produced water"]
[null,"2.1.5   Gas lifting",null,null,null,null,null,null,{"$f":"IF(AND(J48=1,J52=1),\"ERROR\",\"OK\")","v":"OK"},0,0,"NA",null,"This is used for gas lifting. If downhole pump applies then \"0\""]
[null,"2.1.6   Gas flooding",null,null,null,null,null,null,{"$f":"IF(AND(J50=1,J53=1, J90=1),\"ERROR\",\"OK\")","v":"OK"},0,0,"NA",null,"This is used for injecting a different type of gas (e.g. N2) or amounts of gas larger than the amount of produced gas"]
[null,"2.1.7   Steam flooding",null,null,null,null,null,{"$f":"IF(J54=1,IF(AND(J55=1,J56=1),\"ERROR\",\"OK\"),\"OK\")","v":"OK"},{"$f":"IF(J70=1,IF(J54=1,\"ERROR\",\"OK\"),\"OK\")","v":"OK"},0,0,"NA",null,"This is used for injecting steam"]
[null,"2.1.8   Oil sands mine (integrated with upgrader)",null,null,null,null,null,null,{"$f":"IF(J55=1,IF(J111=0,\"ERROR\",\"OK\"),\"OK\")","v":"OK"},0,0,"NA"]
[null,"2.1.9   Oil sands mine (non-integrated with upgrader)",null,null,null,null,null,null,null,0,0,"NA"]
[]
["2.2   Field properties"]
[null,"2.2.1   Field location (Country)",null,null,null,null,null,null,{"$f":"IF(ISNA(MATCH(J59,Flaring!C93:C171,0))=TRUE,\"ERROR\",\"OK\")","v":"OK"},"Generic","Generic","NA",null,{"$f":"IF(I59=\"ERROR\",\"Check the spelling of the field location (The location name must be spelled exactly the same as in the 'Flaring' sheet, Table 4.1)\",\"\")","v":""}]
[null,"2.2.2   Field name",null,null,null,null,null,null,null,"Generic","Generic","NA"]
[null,"2.2.3   Field age",null,null,null,null,null,null,null,35,35,"yr"]
[null,"2.2.4   Field depth",null,null,null,null,null,null,null,7240,7240,"ft"]
[null,"2.2.5   Oil production volume",null,null,null,null,null,null,null,1500,1500,"bbl/d",null,"Raw crude production volume before upgrading or dilution"]
[null,"2.2.6   Number of producing wells",null,null,null,null,null,null,null,8,{"$f":"IF(ROUND(J63/183,0)<1,1,ROUND(J63/183,0))","v":8},"[-]"]
[null,"2.2.7   Number of water injecting wells",null,null,null,null,null,null,null,5,{"$f":"IFERROR(ROUNDUP(IF((J63/J64)<10,0.143*J64,IF((J63/J64)<100,0.254*J64,IF((J63/J64)<1000,0.532*J64,0.831*J64))),0),0)","v":5},"[-]"]
[null,"2.2.8   Well diameter",null,null,null,null,null,null,null,2.7749999999999999,{"$f":"(1.05+4.5)/2","v":2.7749999999999999},"in"]
[null,"2.2.9   Productivity index",null,null,null,null,null,null,null,3,3,"bbl/psi-d"]
[null,"2.2.10   Average reservoir pressure",null,null,null,null,null,null,null,1556.6,{"$f":"0.5*(J62*0.43)","v":1556.6},"psi",null,{"$f":"IF(AND((('Production & Extraction'!M56+'Production & Extraction'!M146)-('Production & Extraction'!M31-(1+'Production & Extraction'!M44)*('Production & Extraction'!M26/'Production & Extraction'!M27)/'Production & Extraction'!M30))>0,J48=0),\"Warning ! Downhole pump off : Insufficient pressure for natural flow.\",(IF(J48,\"Downhole pump on\",\"Downhole pump off\")))","v":"Downhole pump on"}]
[null,"2.2.11   Average reservoir temperature",null,null,null,null,null,null,null,200.32,{"$f":" 70+1.8*J62/100","v":200.32},"◦F"]
[null,"2.2.12   Offshore?",null,null,null,null,null,null,null,0,0]
[]
["2.3   Fluid properties"]
[null,"2.3.1   API gravity of produced crude",null,null,null,null,null,null,null,30,30,"deg. API"]
[null,"2.3.2   Associated gas composition"]
[null,null,null,null,null,null,null,null,"N2",2,2,"mol%",null,"Composition on dry basis"]
[null,null,null,null,null,null,null,null,"CO2",6,6,"mol%"]
[null,null,null,null,null,null,null,null,"C1",84,84,"mol%"]
[null,null,null,null,null,null,null,null,"C2",4,4,"mol%"]
[null,null,null,null,null,null,null,null,"C3",2,2,"mol%"]
[null,null,null,null,null,null,null,null,"C4+",1,1,"mol%"]
[null,null,null,null,null,null,null,null,"H2S",1,1,"mol%"]
[null,null,null,null,null,null,null,null,{"$f":"SUM(J75:J81)","v":100}]
["2.4   Production practices"]
[]
[null,"2.4.1   Gas-to-oil ratio (GOR)",null,null,null,null,null,null,null,908,{"$f":"IF(J73<20,227,IF(AND(J73>=20,J73<=30),908,1297))","v":908},"scf/bbl oil",null,"In the case of gas lift, the gas oil ratio should include produced gas from the reservoir as well as injected lift gas."]
[null,"2.4.2   Water-to-oil ratio (WOR)",null,null,null,null,null,null,null,4.3083690574453417,{"$f":"1.706*EXP(0.036*J61)-1.706","v":4.3083690574453417},"bbl water/bbl oil"]
[null,"2.4.3   Water injection ratio",null,null,null,null,null,null,{"$f":"IF(AND(J87=\"NA\",J51=1),\"ERROR\",\"OK\")","v":"OK"},5.3083690574453417,{"$f":"J86+1","v":5.3083690574453417},"bbl water/bbl oil"]
[null,"2.4.4   Gas lifting injection ratio",null,null,null,null,null,null,{"$f":"IF(AND(J88=\"NA\",J52=1),\"ERROR\",\"OK\")","v":"OK"},1500,1500,"scf/bbl liquid",null,"Gas lifting injection (does not include gas reinjected into the reservoir)"]
[null,"2.4.5   Gas flooding injection ratio",null,null,null,null,null,null,{"$f":"IF(AND(J89=\"NA\",J53=1),\"ERROR\",\"OK\")","v":"OK"},1362,{"$f":"IF('Active Field'!J90=1, 1.5*J85, IF('Active Field'!J90=2, 1200,  IF('Active Field'!J90=3, 10000,  1.5*J85)))","v":1362},"scf/bbl oil"]
[null,"2.4.6   Flood gas ",null,null,null,null,null,null,null,1,1,"NA"]
[null,null,"1)   Natural gas"]
[null,null,"2)   Nitrogen (N2)"]
[null,null,"3)   Carbon Dioxide (CO2)"]
[]
[]
[null,"2.4.7   Carbon dioxide flooding and sequestration parameters"]
[null,null,"2.4.7.1   Percentage of newly acquired CO2 (total injected CO2 includes both new and recycled)",null,null,null,null,null,null,41,41,"%"]
[null,null,"2.4.7.2   Source of CO2",null,null,null,null,null,null,1,1,"NA"]
[null,null,null,"1)   Natural subsurface reservoir"]
[null,null,null,"2)   Anthropogenic"]
[null,null,"2.4.7.3   Percentage of sequestration credit assigned to the oilfield",null,null,null,null,null,null,0,0,"%"]
[null,"2.4.8   Steam-to-oil ratio (SOR)",null,null,null,null,null,null,{"$f":"IF(AND(J102=\"NA\",J54=1),\"ERROR\",\"OK\")","v":"OK"},3,3,"bbl steam/bbl oil"]
[null,"2.4.9   Fraction of required electricity generated onsite",null,null,null,null,null,null,{"$f":"IF(J70=1,IF(J103<>1,\"ERROR\",\"OK\"),\"OK\")","v":"OK"},0,{"$f":"IF(J70=1,1,0)","v":0},"[-]"]
[null,"2.4.10   Fraction of remaining gas reinjected",null,null,null,null,null,null,{"$f":"'Gas Balance'!DH35","v":"OK"},0,0,"[-]",null,"1.0 if gas flooding applies (Note: Do not enter NA at all times)"]
[null,"2.4.11   Fraction of water produced that is reinjected",null,null,null,null,null,null,null,1,1,"[-]",null,"1.0 if water flooding applies (Note: Do not enter NA at all times)"]
[null,"2.4.12   Fraction of steam generation via co-generation",null,null,null,null,null,null,null,0,0,"[-]"]
[null,"2.4.13   Fraction of steam generation via solar thermal",null,null,null,null,null,null,null,0,0]
["2.5   Processing practices"]
[null,"2.5.1   Heater/treater",null,null,null,null,null,null,null,0,{"$f":"IF(J73<18,1,0)","v":0},"NA"]
[null,"2.5.2   Stabilizer column",null,null,null,null,null,null,null,1,{"$f":"IF(J85<=500,0,1)","v":1},"NA"]
[null,"2.5.3   Upgrader type",null,null,null,null,null,null,null,0,0]
[null,null,"0 = None"]
[null,null,"1 = Delayed coking"]
[null,null,"2 = Hydroconversion"]
[null,null,"3 = Combined hydroconversion and fluid coking"]
[null,"2.5.3   Associated Gas Processing Path",null,null,null,null,null,null,{"$f":"IF(J53=1,IF(J90=3,IF(J116<6,\"ERROR\",\"OK\"),\"OK\"),\"OK\")","v":"OK"},5,5]
[null,null,"1)   None"]
[null,null,"2)   Minimal: Dehydrator"]
[null,null,"3)   Acid Gas: Dehydrator + Amine Process"]
[null,null,"4)   Wet Gas: Dehydrator + Demethanizer"]
[null,null,"5)   Acid Wet Gas: Dehydrator + Amine Process + Demethanizer"]
["Notes: Choose paths 6-8 only if gas flooding is ON and CO2 is the flood gas",null,"6)   Sour gas reinjection, dehydration then direct injection of sour CO2-rich stream"]
[null,null,"7)   CO2-EOR Membrane: Dehydrator + Compressor + Membrane + Amine Process + Demethanizer"]
[null,null,"8)   CO2-EOR Ryan Holmes: Dehydrator + Ryan Holmes Process (Demethanizer Included)"]
[null,"2.5.4   Ratio of flaring to oil production",null,null,null,null,null,null,null,154.71696179696221,{"$f":"1000000*(Flaring!N15/'Production & Extraction'!M26)","v":154.71696179696221},"scf/bbl",null,"Default calculated based on satellite data from NOAA"]
[null,"2.5.5   Ratio of venting to oil production",null,null,null,null,null,null,null,0,0,"scf/bbl",null,"This is the ratio of venting used as a disposal mechanism (does not include operational venting / default leaks -- this is venting as a substitute for flaring)"]
[null,"2.5.6   Volume fraction of diluent in diluted crude",null,null,null,null,null,null,{"$f":"IF(J127<K127,\"ERROR\",\"OK\")","v":"OK"},0,0,"[-]"]
[]
["2.6   Land use impacts"]
[null,"2.6.1   Crude ecosystem carbon richness"]
[null,null,"2.6.1.1   Low carbon richness (semi-arid grasslands)",null,null,null,null,null,null,0,{"$f":"IF(J70=1,1,0)","v":0},"NA"]
[null,null,"2.6.1.2   Moderate carbon richness (mixed)",null,null,null,null,null,null,1,{"$f":"IF(J70=1,0,1)","v":1},"NA"]
[null,null,"2.6.1.3   High carbon richness (forested)",null,null,null,null,null,null,0,{"$f":"IF(J70=1,0,0)","v":0},"NA"]
[null,"2.6.2   Field development intensity"]
[null,null,"2.6.2.1   Low intensity development and low oxidation",null,null,null,null,null,null,0,{"$f":"IF(J70=1,1,0)","v":0},"NA"]
[null,null,"2.6.2.2   Moderate intensity development and moderate oxidation",null,null,null,null,null,null,1,{"$f":"IF(J70=1,0,1)","v":1},"NA"]
[null,null,"2.6.2.3   High intensity development and high oxidation",null,null,null,null,null,null,0,{"$f":"IF(J70=1,0,0)","v":0},"NA"]
[]
["2.7   Crude oil transport"]
[null,"2.7.1   Fraction of oil transported by each mode",null,null,null,null,null,null,null,null,null,null,null,"The total fraction of all modes may exceed 1.0 because more than one transportation leg may be involved for transporting the oil"]
[null,null,"2.7.1.1   Ocean tanker",null,null,null,null,null,null,1,1,"[-]"]
[null,null,"2.7.1.2   Barge",null,null,null,null,null,null,0,0,"[-]"]
[null,null,"2.7.1.3   Pipeline",null,null,null,null,null,null,1,1,"[-]"]
[null,null,"2.7.1.4   Rail",null,null,null,null,null,null,0,0,"[-]"]
[null,null,"2.7.1.4  Truck",null,null,null,null,null,null,0,0,"[-]"]
[null,"2.7.2   Transport distance (one way)"]
[null,null,"2.7.2.1   Ocean tanker",null,null,null,null,null,null,5082,5082,"Miles"]
[null,null,"2.7.2.2   Barge",null,null,null,null,null,null,500,500,"Miles"]
[null,null,"2.7.2.3   Pipeline",null,null,null,null,null,null,750,750,"Miles"]
[null,null,"2.7.2.4   Rail",null,null,null,null,null,null,800,800,"Miles"]
[null,null,"2.7.2.4  Truck",null,null,null,null,null,null,100,100,"Miles"]
[null,"2.7.3   Ocean tanker size, if applicable",null,null,null,null,null,null,null,250000,250000,"Tons"]
[]
["2.8   Small sources emissions",null,null,null,null,null,null,null,null,0.5,0.5,"gCO2 eq/MJ",null,"Assumption to account for numerous small sources not included in current version of OPGEE (see `Model organization' sheet for list of sources not explicitly modeled)"]
[]
[]
[null,null,null,null,null,null,null,null,null,"Status"]
["2.9   Overall error check",null,null,null,null,null,null,null,null,{"$f":"IF(OR(J227=\"ERROR\",J228=\"ERROR\",J229=\"ERROR\",J230=\"ERROR\",J231=\"ERROR\",J232=\"ERROR\",J233=\"ERROR\",J234=\"ERROR\",J235=\"ERROR\",J236=\"ERROR\",J237=\"ERROR\",J238=\"ERROR\",J239=\"ERROR\",J240=\"ERROR\",J241=\"ERROR\",J242=\"ERROR\",J243=\"ERROR\",J244=\"ERROR\",J245=\"ERROR\",J246=\"ERROR\",J247=\"ERROR\",J248=\"ERROR\",J249=\"ERROR\",J250=\"ERROR\",J251=\"ERROR\",J252=\"ERROR\",J253=\"ERROR\",J254=\"ERROR\",J255=\"ERROR\",J256=\"ERROR\"),\"ERROR\",\"OK\")","v":"OK"},null,null,null,"For specific error checks see section 7 below"]
[]
[]
[]
[]
["3 Summary results"]
[]
["These results are derived from calculations in following sheets"]
[]
[null,null,null,null,null,null,"Value","Unit",null,"Notes"]
["3.1   Exploration"]
[null,"3.1.1   Total energy consumption",null,null,null,null,{"$f":"'Energy Consumption'!P8/(-'Energy Consumption'!E43)","v":4.1220371822170955E-5},"MJ/MJ",null,"MJ of all energy types consumed per MJ crude oil produced"]
[null,"3.1.2   Total GHG emissions",null,null,null,null,0,"gCO2eq/MJ",null,"g CO2 eq. per MJ of crude oil produced"]
[null,null,"3.1.2.1   Combustion/land use",null,null,null,{"$f":"(1+IF(J127=1,0,('Surface Processing'!M128*('Gas Balance'!F9/'Fuel Specs'!M16)/(J63/(1-J127))))-J127)*('GHG Emissions'!H9+'GHG Emissions'!I9)/'Energy Consumption'!F83*1000000","v":3.079596382066673E-3},"gCO2eq/MJ",null,"g CO2 eq. per MJ of crude oil produced"]
[null,null,"3.1.2.2   VFF",null,null,null,0,"gCO2eq/MJ",null,"g CO2 eq. per MJ of crude oil produced"]
[]
["3.2   Drilling & Development"]
[null,"3.2.1   Total energy consumption",null,null,null,null,{"$f":"'Energy Consumption'!P9/(-'Energy Consumption'!E43)","v":1.1165859261583213E-4},"MJ/MJ"]
[null,"3.2.2   Total GHG emissions",null,null,null,null,{"$f":"SUM(G177:G178)","v":1.2633068476753935},"gCO2eq/MJ"]
[null,null,"3.2.2.1   Combustion/land use",null,null,null,{"$f":" 'GHG Emissions'!G56 * ('GHG Emissions'!H10+'GHG Emissions'!I10)  / 'Energy Consumption'!F83*1000000","v":1.2633068476753935},"gCO2eq/MJ"]
[null,null,"3.2.2.2   VFF",null,null,null,0,"gCO2eq/MJ"]
[]
["3.3   Crude production & extraction"]
[null,"3.3.1   Total energy consumption",null,null,null,null,{"$f":"'Energy Consumption'!P10/(-'Energy Consumption'!E43)","v":1.431299103505799E-2},"MJ/MJ"]
[null,"3.3.2   Total GHG emissions",null,null,null,null,{"$f":"(G183+G184)","v":0.94244483402265811},"gCO2eq/MJ",null,"MJ of crude output"]
[null,null,"3.3.2.1   Combustion/land use",null,null,null,{"$f":"'GHG Emissions'!G56*(('GHG Emissions'!H11+'GHG Emissions'!I11)+('Energy Consumption'!H10/('Energy Consumption'!H10+'Energy Consumption'!H11))*'GHG Emissions'!H16)/'Energy Consumption'!F83*1000000","v":0.92512599965038933},"gCO2eq/MJ"]
[null,null,"3.3.2.2   VFF",null,null,null,{"$f":"'GHG Emissions'!G56*('GHG Emissions'!J11+'GHG Emissions'!K11+'GHG Emissions'!L11)/'Energy Consumption'!F83*1000000","v":1.7318834372268721E-2},"gCO2eq/MJ"]
[]
["3.4   Surface processing"]
[null,"3.4.1   Total energy consumption",null,null,null,null,{"$f":"'Energy Consumption'!P11/(-'Energy Consumption'!E43)","v":1.265802968173442E-2},"MJ/MJ"]
[null,"3.4.2   Total GHG emissions",null,null,null,null,{"$f":"(G189+G190)","v":5.2217615318883617},"gCO2eq/MJ",null,"MJ of crude output"]
[null,null,"3.4.2.1   Combustion/land use ",null,null,null,{"$f":"'GHG Emissions'!G56*(('GHG Emissions'!H12+'GHG Emissions'!I12)+('Energy Consumption'!H11/('Energy Consumption'!H10+'Energy Consumption'!H11))*'GHG Emissions'!H16)/'Energy Consumption'!F83*1000000","v":0.70499333482712923},"gCO2eq/MJ"]
[null,null,"3.4.2.2   VFF ",null,null,null,{"$f":"'GHG Emissions'!G56*('GHG Emissions'!J12+'GHG Emissions'!K12+'GHG Emissions'!L12)/'Energy Consumption'!F83*1000000","v":4.5167681970612321},"gCO2eq/MJ"]
[]
["3.5   Maintenance"]
[null,"3.5.1   Total energy consumption",null,null,null,null,{"$f":"'Energy Consumption'!P12/(-'Energy Consumption'!E43)","v":0},"MJ/MJ"]
[null,"3.5.2   Total GHG emissions",null,null,null,null,{"$f":"(G195+G196)","v":7.7063118740114345E-2},"gCO2eq/MJ",null,"MJ of crude output"]
[null,null,"3.5.2.1   Combustion/land use ",null,null,null,0,"gCO2eq/MJ"]
[null,null,"3.5.2.2   VFF ",null,null,null,{"$f":"'GHG Emissions'!G56*('GHG Emissions'!J13+'GHG Emissions'!K13+'GHG Emissions'!L13)/'Energy Consumption'!F83*1000000","v":7.7063118740114345E-2},"gCO2eq/MJ"]
[]
["3.6   Waste disposal"]
[null,"3.6.1   Total energy consumption",null,null,null,null,{"$f":"'Energy Consumption'!P13/(-'Energy Consumption'!E43)","v":0},"MJ/MJ",null,"Waste disposal energy use is not included in the current version of the model"]
[null,"3.6.2   Total GHG emissions",null,null,null,null,0,"gCO2eq/MJ",null,"Waste disposal emissions are not included in the current version of the model"]
[null,null,"3.6.2.1   Combustion/land use",null,null,null,0,"gCO2eq/MJ"]
[null,null,"3.6.2.2   VFF",null,null,null,0,"gCO2eq/MJ"]
[]
["3.7   Crude transport"]
[null,"3.7.1   Total energy consumption",null,null,null,null,{"$f":"'Energy Consumption'!P14/(-'Energy Consumption'!E43)","v":1.2592916586361299E-2},"MJ/MJ"]
[null,"3.7.2   Total GHG emissions",null,null,null,null,{"$f":"IF('GHG Emissions'!G56>1,'GHG Emissions'!G56,1)*('GHG Emissions'!H15+'GHG Emissions'!I15)  /'Energy Consumption'!F83*1000000","v":0.94315780854113362},"gCO2eq/MJ",null,"MJ of crude transported"]
[null,"3.7.3   Loss factor",null,null,null,null,{"$f":"(Transport!M58/1000000)+1","v":1.000062},"NA",null,"Calculated from crude oil losses"]
[]
["3.8   Other small sources",null,null,null,null,null,{"$f":"'GHG Emissions'!G56*J154","v":0.5},"gCO2eq/MJ",null,"See sheet \"Model Organization\" for list of all sources not explicitly modeled in OPGEE. These sources are included here as \"other small sources\" and assigned default value of 0.5 gCO2 eq./MJ"]
[]
["3.9   Offsite emissions credit/debit",null,null,null,null,null,{"$f":"'GHG Emissions'!G61/'Energy Consumption'!F83*1000000","v":-0.76979261234923846},"gCO2eq/MJ",null,"Credits (negative emissions) from fuels export + debts (positive emissions) from fuels import. If analysis boundaries include embodied emissions from oilfield infrastructure construction, these are added to offsite emissions."]
[]
["3.10   Lifecycle energy consumption",null,null,null,null,null,{"$f":"(G169+G175+G181+G187+G193+G199)*G207+G205","v":3.9718497949371948E-2},"MJ/MJ"]
[]
["3.11   Carbon dioxide sequestration",null,null,null,null,null,null,null,null,"See sheet \"GHG Emissions\" for detailed calculations"]
[null,"3.11.1   Total CO2 sequestered ",null,null,null,null,{"$f":"-1*'GHG Emissions'!G45 /'Energy Consumption'!F83*1000000","v":0},"gCO2/MJ"]
[]
["3.12   Lifecycle GHG emissions",null,null,null,null,null,{"$f":"(G170+G176+G182+G188+G194+G200+G209+G211+G216)*G207+G206","v":8.1783900851090632},"gCO2eq/MJ",null,"MJ of crude at refinery gate"]
[]
[]
[]
["4 Error check"]
[]
[]
[null,null,null,null,null,"Sheet",null,null,"Cell","Status","Notes"]
["4.1   Specific error checks"]
[null,"4.1.1   Production methods",null,null,null,"Active Field",null,null,"I51,I52, I53, I54, I55, I56",{"$f":"IF(AND(I51=\"OK\",I52=\"OK\",I53=\"OK\",I54=\"OK\",I55=\"OK\",H54=\"OK\"),\"OK\",\"ERROR\")","v":"OK"}]
[null,"4.1.2   Water injection ratio",null,null,null,"Active Field",null,null,"I87",{"$f":"I87","v":"OK"}]
[null,"4.1.3   Gas injection volume",null,null,null,"Active Field",null,null,"I88",{"$f":"I88","v":"OK"}]
[null,"4.1.4   N2 injection ratio",null,null,null,"Active Field",null,null,"I89",{"$f":"I89","v":"OK"}]
[null,"4.1.5   Steam-to-oil ratio (SOR)",null,null,null,"Active Field",null,null,"I102",{"$f":"I102","v":"OK"}]
[null,"4.1.6   Field location",null,null,null,"Active Field",null,null,"I59",{"$f":"I59","v":"OK"},{"$f":"N59","v":""}]
[null,"4.1.7   Power generation in offshore field",null,null,null,"Active Field",null,null,"I103",{"$f":"I103","v":"OK"}]
[null,"4.1.8   Volume fraction of diluent ",null,null,null,"Active Field",null,null,"I127",{"$f":"I127","v":"OK"}]
[null,"4.1.9   Gas processing path error with CO2 EOR",null,null,null,"Active Field",null,null,"I116",{"$f":"I116","v":"OK"},{"$f":"IF(J235=\"ERROR\",\"If CO2 EOR is selected, gas processing path of 6 or 7 should be selected to separate and reinject produced CO2\",\"\")","v":""}]
[null,"4.1.10   Crude ecosystem carbon richness",null,null,null,"Drilling & Development",null,null,"M23",{"$f":"'Drilling & Development'!M23","v":"OK"}]
[null,"4.1.11  Field development intensity",null,null,null,"Drilling & Development",null,null,"M28",{"$f":"'Drilling & Development'!M27","v":"OK"}]
[null,"4.1.12   Gas composition (I)",null,null,null,"Production & Extraction",null,null,"M42",{"$f":"IF('Production & Extraction'!M42=\"OK\",\"OK\",\"ERROR\")","v":"OK"}]
[null,"4.1.13   Gas composition (II)",null,null,null,"Gas Balance",null,null,"M56",{"$f":"IF('Gas Balance'!M56=\"OK\",\"OK\",\"ERROR\")","v":"OK"}]
[null,"4.1.14   Fraction of gas to reinjection",null,null,null,"Production & Extraction",null,null,"L45",{"$f":"'Production & Extraction'!L47","v":"OK"},{"$f":"IF(J240=\"ERROR\",\"In the case of CH4 gas flooding, fraction of gas to reinjection must be 1.0\",\"\")","v":""}]
[null,"4.1.15   Fraction of water to reinjection",null,null,null,"Production & Extraction",null,null,"L46",{"$f":"'Production & Extraction'!L48","v":"OK"}]
[null,"4.1.16   Number of producing wells",null,null,null,"Production & Extraction",null,null,"L26",{"$f":"'Production & Extraction'!L27","v":"OK"}]
[null,"4.1.17   Productivity index",null,null,null,"Production & Extraction",null,null,"L29",{"$f":"'Production & Extraction'!L30","v":"OK"}]
[null,"4.1.18   Ratio of specific heats",null,null,null,"Production & Extraction",null,null,"L103",{"$f":"'Production & Extraction'!L111","v":"OK"}]
[null,"4.1.19   Amine solution K value  ",null,null,null,"Surface Processing",null,null,"N101",{"$f":"'Surface Processing'!L102","v":"OK"},{"$f":"IF(N101=\"ERROR\",\"Please enter K value of amine solution in cell O101\",\"\")","v":""}]
[null,"4.1.20   NGL use",null,null,null,"Surface Processing",null,null,"N127",{"$f":"'Surface Processing'!L128","v":"OK"}]
[null,"4.1.21   Stage 1 water treatment",null,null,null,"Surface Processing",null,null,"N161",{"$f":"IF(AND('Surface Processing'!I161=\"OK\",'Surface Processing'!K161=\"OK\"),\"OK\",\"ERROR\")","v":"OK"}]
[null,"4.1.22   Stage 2 water treatment",null,null,null,"Surface Processing",null,null,"N164, P164",{"$f":"IF(AND('Surface Processing'!I164=\"OK\",'Surface Processing'!K164=\"OK\"),\"OK\",\"ERROR\")","v":"OK"}]
[null,"4.1.23   Stage 3 water treatment",null,null,null,"Surface Processing",null,null,"N173, P173",{"$f":"IF(AND('Surface Processing'!I173=\"OK\",'Surface Processing'!K173=\"OK\"),\"OK\",\"ERROR\")","v":"OK"}]
[null,"4.1.24   Stage 4 water treatment",null,null,null,"Surface Processing",null,null,"N181, P181",{"$f":"IF(AND('Surface Processing'!I181=\"OK\",'Surface Processing'!K181=\"OK\"),\"OK\",\"ERROR\")","v":"OK"}]
[null,"4.1.25   Lifting natural gas volume",null,null,null,"Gas Balance",null,null,"DH28",{"$f":"'Gas Balance'!DH28","v":"OK"}]
[null,"4.1.26   Remaining natural gas volume",null,null,null,"Gas Balance",null,null,"CM40",{"$f":"'Gas Balance'!CM40","v":"OK"}]
[null,"4.1.27   Steam generation mass and energy balances",null,null,null,"Steam generation",null,null,"C4",{"$f":"'Steam Generation'!C4","v":"OK"}]
[null,"4.1.28   Offsite electricity fuel mix",null,null,null,"Electricity",null,null,"D32, F32",{"$f":"IF(AND(Electricity!D32=\"OK\",Electricity!F32=\"OK\"),\"OK\",\"ERROR\")","v":"OK"}]
[null,"4.1.29   Remaining gas > Fuel gas demand  ",null,null,null,"Gas Balance",null,null,"M56",{"$f":"'Gas Balance'!M56","v":"OK"}]
[null,"4.1.30   Fuel-wise adherance to co-product treatment",null,null,null,"Fuel Cycle",null,null,"M11-M!3",{"$f":"IF(AND('Fuel Cycle'!M11=\"OK\",'Fuel Cycle'!M12=\"OK\",'Fuel Cycle'!M13=\"OK\"),\"OK\",\"ERROR\")","v":"OK"}]

{"sheet":"Exploration","index":8,"n_rows":45,"n_cols":25,"rows_kept":45,"cut":false,"hidden":false,"merged":[]}
["Exploration",null,null,null,null,null,null,"Active field:",null,{"$f":"'Active Field'!C9","v":"Generic"}]
[]
["1   Inputs"]
[]
["1.1   Key inputs (to be entered on \"Inputs\" sheet)",null,null,null,null,null,null,null,null,null,null,null,"User","Default","Units",null,"User reference",null,"Default reference",null,null,null,null,null,"Notes"]
[null,"1.1.1   Field depth",null,null,null,null,null,null,null,null,null,null,{"$f":"'Active Field'!J62","v":7240},{"$f":"'Active Field'!K62","v":7240},"ft",null,null,null,null,null,null,null,null,null,"Assume dry holes and exploratory/scientific wells are same average depth as field"]
[null,"1.1.2   Is field offshore? (0-1)",null,null,null,null,null,null,null,null,null,null,{"$f":"'Active Field'!J70","v":0},{"$f":"'Active Field'!K70","v":0},"[0-1]"]
[null,"1.1.3   Field production rate",null,null,null,null,null,null,null,null,null,null,{"$f":"'Active Field'!J63","v":1500},{"$f":"'Active Field'!K63","v":1500},"bbl/d"]
[]
["1.2   Secondary inputs (to be entered on this sheet)"]
[null,"1.2.1   Distance of travel for survey",null,null,null,null,null,null,null,null,null,null,{"$f":"N11","v":10000},10000,"mi",null,null,null,null,null,null,null,null,null,"Estimate accounting for long-distance travel of specialized equipment"]
[null,"1.2.2   Weight of land survey vehicle",null,null,null,null,null,null,null,null,null,null,{"$f":"N12","v":25},25,"tons",null,null,null,null,null,null,null,null,null,"Assume 25 tons for heavy-duty truck, 100 tons for siesmic survey ship"]
[null,"1.2.3   Weight of ocean survey vehicle",null,null,null,null,null,null,null,null,null,null,{"$f":"N13","v":100},100,"tons"]
[null,"1.2.4   Number of dry wells drilled per field found",null,null,null,null,null,null,null,null,null,null,{"$f":"N14","v":1},1,"wells"]
[null,"1.2.5   Number of exploratory/scientific wells drilled after field discovery",null,null,null,null,null,null,null,null,null,null,{"$f":"N15","v":3},3,"wells"]
[]
["1.3   Data from other sheets"]
[null,"1.3.1   Energy density of produced crude",null,null,null,null,null,null,null,null,null,null,{"$f":"'Fuel Specs'!M16","v":5.5145999999999997},{"$f":"'Fuel Specs'!N16","v":5.5145999999999997},"MMBtu/bbl"]
[null,"1.3.1   Energy intensity per well",null,null,null,null,null,null,null,null,null,null,{"$f":"'Drilling & Development'!M113/'Drilling & Development'!M18","v":303.13967992087032},{"$f":"'Drilling & Development'!N113/'Drilling & Development'!N18","v":0},"MMBtu/well",null,null,null,null,null,null,null,null,null,"Use same energy intensity of completed field wells"]
[null,"1.3.2   Expected lifetime field productivity (bbl)",null,null,null,null,null,null,null,null,null,null,{"$f":"'Drilling & Development'!M104","v":6400000},{"$f":"'Drilling & Development'!N104","v":0},"bbl crude/field",null,null,null,null,null,null,null,null,null,"Source: Yeh et al. (2010) for California. Cumulative production to date in California is 25.99 Gbbl.  Known wells total approximately 200,000 (although early wells are missing from this dataset).  Therefore per-well lifetime productivity is ~130,000 bbl/well."]
[null,"1.3.3   Expected liftetime field productivity (MMBtu)",null,null,null,null,null,null,null,null,null,null,{"$f":"'Drilling & Development'!M106","v":35293440},{"$f":"'Drilling & Development'!N106","v":0},"MMBtu crude/field"]
[null,"1.3.4   Heavy-duty truck energy intensity (diesel)",null,null,null,null,null,null,null,null,null,null,{"$f":"Transport!M101","v":969},{"$f":"Transport!M94","v":969},"Btu/ton-mi"]
[null,"1.3.5   Large ship energy intensity (diesel)",null,null,null,null,null,null,null,null,null,null,{"$f":"Transport!M98","v":307.14382857456775},{"$f":"Transport!M98","v":307.14382857456775},"Btu/ton-mi"]
[null,"1.3.6   Emissions factors heavy-duty truck",null,null,null,null,null,null,null,null,null,null,{"$f":"'Emissions Factors'!M28","v":78651.298255760077},{"$f":"'Emissions Factors'!M28","v":78651.298255760077},"gCO2eq./MMBtu"]
[null,"1.3.7   Emissions factor large diesel ship",null,null,null,null,null,null,null,null,null,null,{"$f":"'Emissions Factors'!C28","v":78900.836713097655},{"$f":"'Emissions Factors'!C28","v":78900.836713097655},"gCO2eq./MMBtu"]
[]
["2   Calculations"]
[]
["2.1   Energy consumption",null,null,null,null,null,null,null,null,null,null,null,null,null," "]
[null,"2.1.1   Survey vehicle energy consumption",null,null,null,null,null,null,null,null,null,null,{"$f":"IF(M7=0,M22*M12*M11,IF(M7=1,M23*M13*M11,\"ERROR\"))/1000000","v":242.25},null,"MMBtu"]
[null,"2.1.2   Drilling energy consumption",null,null,null,null,null,null,null,null,null,null,{"$f":"(M14+M15)*M19","v":1212.5587196834813},null,"MMBtu"]
[null,"2.1.3   Fractional energy consumption",null,null,null,null,null,null,null,null,null,null,{"$f":"IFERROR((M30+M31)/M21,0)","v":4.1220371822170955E-5},null,"MMBtu/MMBtu crude"]
[]
["2.2   GHG emissions"]
[null,"2.2.1 GHG emissions from exploration",null,null,null,null,null,null,null,null,null,null,{"$f":"IF(M7=0,M32*M24,IF(M7=1,M32*M25,\"ERROR\"))","v":3.2420357583988961},null,"gCO2 eq./MMBtu crude"]
[]
[]
["Outputs"]
[]
["3.1   Tabulated outputs: Energy consumption by fuel (per day)",null,null,null,null,null,null,null,null,null,null,null,"Natural gas","Upgrader process gas","NGL","Crude oil","Diesel","Residual fuel","Petroleum coke","Electricity"]
[null,null,null,null,null,null,null,null,null,null,null,null,"MMBtu/d","MMBtu/d","MMBtu/d","MMBtu/d","MMBtu/d","MMBtu/d","MMBtu/d","kWh/d"]
[null,null,null,null,null,null,null,null,null,null,null,null,0,0,0,0,{"$f":"M32*M8*M18","v":0.3409707936758159},0,0,0]
[]
["3.2   Tabulated outputs: Non-combustion emissions (per day)",null,null,null,null,null,null,null,null,null,null,null,"Land use CO2","Venting","Flaring","Fugitives"]
[null,null,null,null,null,null,null,null,null,null,null,null,0,0,0,0,"gCO2 eq./d"]

{"sheet":"Drilling & Development","index":9,"n_rows":134,"n_cols":26,"rows_kept":134,"cut":false,"hidden":false,"merged":[[65,2,65,6],[65,7,65,11],[65,12,65,16],[42,4,42,7],[42,8,42,11],[42,12,42,15],[58,2,58,6],[58,7,58,11],[58,12,58,16]]}
["Drilling & development",null,null,null,null,null,null,"Active field:",null,{"$f":"'Active Field'!C9","v":"Generic"}]
[]
["Estimation of GHG emissions from drilling and field development"]
[]
[]
["1 Inputs"]
[]
["1.1   Key inputs (to be entered on \"Inputs\" sheet)",null,null,null,null,null,null,null,null,null,null,null,"User","Default","Units",null,"User reference",null,"Default reference"]
[null,"1.1.1   Field country",null,null,null,null,null,null,null,null,null,null,{"$f":"'Active Field'!J59","v":"Generic"},"USA","[-]"]
[null,"1.1.2   Field name",null,null,null,null,null,null,null,null,null,null,{"$f":"'Active Field'!J60","v":"Generic"},"Generic","[-]"]
[null,"1.1.3   Well-based production",null,null,null,null,null,null,null,null,null,null,{"$f":"IF(OR('Active Field'!J55=1,'Active Field'!J56=1),0,1)","v":1},{"$f":"IF(OR('Active Field'!K55=1,'Active Field'!K56=1),0,1)","v":1},"[0-1]"]
[null,"1.1.4   Mining-based production",null,null,null,null,null,null,null,null,null,null,{"$f":"IF(OR('Active Field'!J55=1,'Active Field'!J56=1),1,0)","v":0},{"$f":"IF(OR('Active Field'!K55=1,'Active Field'!K56=1),1,0)","v":0},"[0-1]"]
[null,"1.1.5   Production rate",null,null,null,null,null,null,null,null,null,null,{"$f":"'Active Field'!J63","v":1500},{"$f":"'Active Field'!K63","v":1500},"bbl/d"]
[null,"1.1.5   Field depth",null,null,null,null,null,null,null,null,null,null,{"$f":"'Active Field'!J62","v":7240},{"$f":"'Active Field'!K62","v":7240},"ft"]
[null,"1.1.6   API gravity",null,null,null,null,null,null,null,null,null,null,{"$f":"'Active Field'!J73","v":30},{"$f":"'Active Field'!K73","v":30},"deg. API"]
[null,"1.1.7   Number of producer wells",null,null,null,null,null,null,null,null,null,null,{"$f":"'Active Field'!J64","v":8},{"$f":"'Active Field'!K64","v":8},"No. wells"]
[null,"1.1.8   Number of injector wells",null,null,null,null,null,null,null,null,null,null,{"$f":"'Active Field'!J65","v":5},{"$f":"'Active Field'!K65","v":5},"No. wells"]
[null,"1.1.9   Number of producing and injecting wells",null,null,null,null,null,null,null,null,null,null,{"$f":"'Active Field'!J64+'Active Field'!J65","v":13},{"$f":"'Active Field'!K64+'Active Field'!K65","v":13},"No. wells"]
[null,"1.1.10  Crude ecosystem carbon richness"]
[null,null,"1.1.10.1","Low carbon richness (semi-arid grasslands)",null,null,null,null,null,null,null,null,{"$f":"'Active Field'!J131","v":0},{"$f":"'Active Field'!K131","v":0},"NA",null,null,null,"Yeh et al. (2010)",null,null,null,null,null,"Corresponds to Yeh et al. (2010) California Marginal case (Table 3)"]
[null,null,"1.1.10.2","Moderate carbon richness (mixed)",null,null,null,null,null,null,null,null,{"$f":"'Active Field'!J132","v":1},{"$f":"'Active Field'!K132","v":1},"NA",null,null,null,"Yeh et al. (2010)",null,null,null,null,null,"Corresponds to mixed ecosystem"]
[null,null,"1.1.10.3","High carbon richness (forested)",null,null,null,null,null,null,null,null,{"$f":"'Active Field'!J133","v":0},{"$f":"'Active Field'!K133","v":0},"NA",null,null,null,"Yeh et al. (2010)",null,null,null,null,null,"Corresponds to Yeh et al. (2010) Alberta Marginal case"]
[null,"1.1.11   Field development intensity",null,null,null,null,null,null,null,null,null,"Check:",{"$f":"IF(SUM(M20:M22)=1,\"OK\",\"ERROR\")","v":"OK"}]
[null,null,"1.1.11.1","Low intensity development and low oxidation",null,null,null,null,null,null,null,null,{"$f":"'Active Field'!J135","v":0},{"$f":"'Active Field'!K135","v":0},"NA",null,null,null,"Yeh et al. (2010)",null,null,null,null,null,"Corresponds to Yeh et al. (2010) low end of range (Table 3)"]
[null,null,"1.1.11.2","Moderate intensity development and moderate oxidation",null,null,null,null,null,null,null,null,{"$f":"'Active Field'!J136","v":1},{"$f":"'Active Field'!K136","v":1},"NA",null,null,null,"Yeh et al. (2010)",null,null,null,null,null,"Corresponds to Yeh et al. (2010) representative value (Table 3)"]
[null,null,"1.1.11.3","High intensity development and high oxidation",null,null,null,null,null,null,null,null,{"$f":"'Active Field'!J137","v":0},{"$f":"'Active Field'!K137","v":0},"NA",null,null,null,"Yeh et al. (2010)",null,null,null,null,null,"Corresponds to Yeh et al. (2010) high end of range (Table 3)"]
[null,null,null,null,null,null,null,null,null,null,null,"Check:",{"$f":"IF(SUM(M24:M26)=1,\"OK\",\"ERROR\")","v":"OK"}]
["1.2   Secondary inputs (to be entered on this sheet)"]
[null,"1.2.1   Rig efficiency",null,null,null,null,null,null,null,null,null,null,"Med","Med","[-]"]
[null,null,"1 = Low: Mud pump 60%, Rotary table 40%",null,null,null,null,"Low"]
[null,null,"2 = Med: Mud pump 65%, Rotary table 45%",null,null,null,null,"Med"]
[null,null,"3 = High: Mud pump 70%, Rotary table 50%",null,null,null,null,"High"]
[null,"1.2.1   Well complexity",null,null,null,null,null,null,null,null,null,{"$f":"IF(M14>15000,IF(M33<>\"Complex\",\"Warning\",\"\"),\"\")","v":""},"Moderate","Moderate","[-]",null,null,null,"If a very deep field, suggest using complex well design."]
[null,null,"1 = Simple: Surface casing plus production casing"]
[null,null,"2 = Moderate: Surface casing, Intermediate casing, Production casing"]
[null,null,"3 = Complex: Surface casing, Intermediate casing 1, Intermediate casing 2, Production casing"]
[null,"1.2.3  Hole size",null,null,null,null,null,null,null,null,null,null,"Med","Med","[-]"]
[null,null,"1 = Small"]
[null,null,"2 = Med"]
[null,null,"3 = Large"]
[null,null,"4 = Extra-large"]
[null,"1.2.4  Hole size reference table"]
[null,null,null,null,"Simple",null,null,null,"Moderate",null,null,null,"Complex"]
[null,null,null,null,"Small","Med","Large ","Extra-large","Small","Med","Large ","Extra-large","Small","Med","Large ","Extra-large"]
[null,null,"Conductor casing",null,"-","-","-","-","-","-","-","-","-","-","-","-"]
[null,null,"Surface casing",null,12.25,12.25,14.75,14.75,12.25,14.75,14.75,14.75,14.375,14.375,17.5,17.5,"in."]
[null,null,"Intermediate casing 1",null,5.875,6.125,6.5,7.875,8.75,10.625,10.625,12.25,10.625,10.625,12.25,14.75,"in."]
[null,null,"Intermediate casing 2",null,5.875,6.125,6.5,7.875,5.875,5.875,6.125,7.875,6.5,7.875,9.5,12.25,"in."]
[null,null,"Production casing",null,5.875,6.125,6.5,7.875,5.875,5.875,6.125,7.875,5.875,6.5,7.875,9.5,"in."]
[null,null,"Notes:"]
[null,null,"Conductor casing is assumed inserted by drive or auger, not conventional drilling system. Conducor casing placement not modeled in GHGfrack"]
[null,null,"To customize drilling design further, please use the GHGfrack model."]
[]
[null,"1.2.5   Horizontal well?",null,null,null,null,null,null,null,null,null,null,0,0,"Fraction of wells horizontal"]
[null,null,"0 = All wells vertical; 1 = All wells horizontal; (0 -> 1): Fraction of wells that are horizontal"]
[null,"1.2.6   Length of lateral",null,null,null,null,null,null,null,null,null,null,5000,5000,"ft"]
[null,"1.2.7   Drilling energy intensity reference tables"]
[null,null,"Vertical drilling"]
[null,null,"Low efficiency",null,null,null,null,"Med efficiency",null,null,null,null,"High efficiency"]
[null,null,null,"Small","Med","Large","Extra-large",null,"Small","Med","Large","Extra-large",null,"Small","Med","Large","Extra-large"]
[null,null,"Simple",0.34318980976540819,0.33689357288040728,0.4508989914372758,0.42329283462095746,"Simple",0.31212567750888648,0.30612972158263169,0.41118696603361243,0.38690632841963968,"Simple",0.28639609644279357,0.280681938322212,0.3779574987439871,0.35650336393583193,"gal diesel fuel/ft"]
[null,null,"Moderate",0.35357953689170885,0.35865925637031298,0.49968553871412552,0.43899620685307539,"Moderate",0.32237612504101548,0.32596435606097168,0.45877119434052843,0.40199879908422831,"Moderate",0.29641363205196436,0.31197768672317699,0.42297938907735166,0.37096701650180697,"gal diesel fuel/ft"]
[null,null,"Complex",0.64769665230220841,0.48702293961238641,0.63542074787879554,0.72757620316462612,"Complex",0.59684022445217166,0.44599762095391426,0.5707533634580424,0.67051178903136821,"Complex",0.55363985962743556,0.40357612247678964,0.52952733714031885,0.62199870403345769,"gal diesel fuel/ft"]
[]
[null,null,"Horizontal drilling"]
[null,null,"Low efficiency",null,null,null,null,"Med efficiency",null,null,null,null,"High efficiency"]
[null,null,null,"Small","Med","Large","Extra-large",null,"Small","Med","Large","Extra-large",null,"Small","Med","Large","Extra-large"]
[null,null,"Simple",0.23970848301598502,0.23294573909977054,0.23198830446351271,0.27202806393546258,"Simple",0.22071756390877575,0.21440572507674274,0.2134877929706204,0.58032041488045383,"Simple",0.20457296637716538,0.19865681126853138,0.19777726808359131,0.23245575003655092,"gal additional diesel fuel/ft lateral"]
[null,null,"Moderate",0.32305115244501337,0.32305115244501326,0.30401142448745927,0.31306098448783304,"Moderate",0.29824037295748435,0.29824037295748435,0.28048166235089594,0.27865383521279619,"Moderate",0.27702891056432571,0.27702891056432571,0.26039256689524864,0.2681979362021068,"gal additional diesel fuel/ft lateral"]
[null,null,"Complex",0.51608124107322728,0.42920082993849618,0.40876766430600042,0.49904124271329781,"Complex",0.47814066726628446,0.39696089216393154,0.37803479224408992,0.46243124783713835,"Complex",0.44544710808428267,0.36928392042512997,0.35165817592601206,0.43087555704743813,"gal additional diesel fuel/ft lateral"]
[]
[]
[null,"1.2.8   Field productivity category (Low = USA, Med = Global average, High = OPEC)",null,null,null,null,null,null,null,null,null,null,"Med","Med","[-]",null,null,null,null,null,null,null,null,"Low","Med","High"]
[null,"1.2.9   Fraction of wells fractured",null,null,null,null,null,null,null,null,null,null,0,0,"Fraction of wells fractured"]
[null,"1.2.10  Fracturing fluid injection volume",null,null,null,null,null,null,null,null,null,null,3,3,"million gallons fluid"]
[null,"1.2.11  Fracturing pressure gradient (rock strength)",null,null,null,null,null,null,null,null,null,null,0.7,0.7,"psi/ft"]
[null,"1.2.12   Fracuring rig energy consumption table"]
[null,null,"psi/ft","a","b","c",null,null,null,null,null,null,"<--Change to left"]
[null,null,0.6,588.54999999999995,-488.77,1184.5,"[-]",null,null,null,null,"a",{"$f":"VLOOKUP(M76,C79:F87,2)","v":511.3},{"$f":"VLOOKUP(N76,C79:F87,2)","v":511.3},"[-]"]
[null,null,0.65,599.49,-246.27,1349.2,"[-]",null,null,null,null,"b",{"$f":"VLOOKUP(M76,C79:F87,3)","v":575.63},{"$f":"VLOOKUP(N76,C79:F87,3)","v":575.63},"[-]"]
[null,null,0.7,511.3,575.63,964.32,"[-]",null,null,null,null,"c",{"$f":"VLOOKUP(M76,C79:F87,4)","v":964.32},{"$f":"VLOOKUP(N76,C79:F87,4)","v":964.32},"[-]"]
[null,null,0.75,499.47,924.06,1012.5,"[-]"]
[null,null,0.8,566.77,1090.4000000000001,1101.5999999999999,"[-]"]
[null,null,0.85,570.17999999999995,1378.2,1162.5999999999999,"[-]"]
[null,null,0.9,523.66999999999996,1882.7,1233.9000000000001,"[-]"]
[null,null,0.95,664.49,1512.6,1922.7,"[-]"]
[null,null,1,477.57,3025.4,752.02,"[-]"]
[]
[null,"1.2.13   Timeframe of land use analysis (1 = 30 years, 2 = 150 years)",null,null,null,null,null,null,null,null,null,null,1,1,"[-]",null,null,null,null,null,null,null,null,null,"If default timeframe of 30 years is chosen, modified versions of Yeh et al. (2010) calculations are used. See documenation for calculation differences."]
[]
["1.3   Input data from other sheets (change on other sheets)"]
[null,"1.3.1   Crude oil heating value",null,null,null,null,null,null,null,null,null,null,{"$f":"VLOOKUP(M15,'Fuel Specs'!B24:O65,5)","v":5.5145999999999997},{"$f":"VLOOKUP(N15,'Fuel Specs'!B24:O65,5)","v":5.5145999999999997},"MMBtu LHV/bbl"]
[null,"1.3.2   Land use emissions code",null,null,null,null,null,null,null,null,null,null,{"$f":"IF('Active Field'!J70=1,0,(IF(M11=1,(M20*M24*1+M20*M25*2+M20*M26*3+M21*M24*4+M21*M25*5+M21*M26*6+M22*M24*7+M22*M25*8+M22*M26*9),IF(M12=1,(M24*10+M25*11+M26*12)))))","v":5},{"$f":"IF(N11=1,(N20*N24*1+N20*N25*2+N20*N26*3+N21*N24*4+N21*N25*5+N21*N26*6+N22*N24*7+N22*N25*8+N22*N26*9),IF(N12=1,(N24*10+N25*11+N26*12)))","v":5},"[-]"]
[null,"1.3.3   Land use emissions intensities"]
[null,null,"1.3.3.1   Soil carbon emissions",null,null,null,null,null,null,null,null,null,{"$f":"IF(M$93=0,0,HLOOKUP($M$93,IF($M$89=1,'Emissions Factors'!$D$169:$O$172,IF($M$89=2,'Emissions Factors'!$D$159:$O$162,\"ERROR\")),2,TRUE))","v":0.57000000000000006},{"$f":"IF(N$93=0,0,HLOOKUP($N$93,IF($N$89=1,'Emissions Factors'!$D$169:$O$172,IF($N$89=2,'Emissions Factors'!$D$159:$O$162,\"ERROR\")),2,TRUE))","v":0.57000000000000006},"gCO2eq/MJ",null,null,null,"Yeh et al. (2010)",null,null,null,null,null,"See above."]
[null,null,"1.3.3.2   Biomass carbon emissions",null,null,null,null,null,null,null,null,null,{"$f":"IF(M$93=0,0,HLOOKUP($M$93,IF($M$89=1,'Emissions Factors'!$D$169:$O$172,IF($M$89=2,'Emissions Factors'!$D$159:$O$162,\"ERROR\")),3,TRUE))","v":0.68},{"$f":"IF(N$93=0,0,HLOOKUP($N$93,IF($N$89=1,'Emissions Factors'!$D$169:$O$172,IF($N$89=2,'Emissions Factors'!$D$159:$O$162,\"ERROR\")),3,TRUE))","v":0.68},"gCO2eq/MJ",null,null,null,"Yeh et al. (2010)",null,null,null,null,null,"See above."]
[null,null,"1.3.3.3   Foregone sequestration emissions",null,null,null,null,null,null,null,null,null,{"$f":"IF(M$93=0,0,HLOOKUP($M$93,IF($M$89=1,'Emissions Factors'!$D$169:$O$172,IF($M$89=2,'Emissions Factors'!$D$159:$O$162,\"ERROR\")),4,TRUE))","v":5.0000000000000001E-3},{"$f":"IF(N$93=0,0,HLOOKUP($N$93,IF($N$89=1,'Emissions Factors'!$D$169:$O$172,IF($N$89=2,'Emissions Factors'!$D$159:$O$162,\"ERROR\")),4,TRUE))","v":5.0000000000000001E-3},"gCO2eq/MJ",null,null,null,"Yeh et al. (2010)",null,null,null,null,null,"See above."]
[]
[]
["2 Calculations"]
[]
["2.1  Cumulative production per well",null,null,null,null,null,null,null,null,null,null,null,"User"]
[null,"2.1.1   Cumulative production per well (bbl)",null,null,null,null,null,null,null,null,null,null,{"$f":"IF(M73=\"Low\",150000,IF(M73=\"Med\",800000,IF(M73=\"High\",7000000,\"ERROR\")))","v":800000},null,"bbl/well",null,null,null,"Brandt 2015"]
[null,"2.1.2   Cumulative production per field (bbl)",null,null,null,null,null,null,null,null,null,null,{"$f":"M103*M16","v":6400000},null,"bbl/field"]
[null,"2.1.3   Cumulative energy production per well (MMBtu)",null,null,null,null,null,null,null,null,null,null,{"$f":"M103*M92","v":4411680},null,"MMBtu/well"]
[null,"2.1.4   Cumulative energy production per field (MMBtu)",null,null,null,null,null,null,null,null,null,null,{"$f":"M104*M92","v":35293440},null,"MMBtu/field"]
[]
["2.2   Drilling and fracturing energy use"]
[null,"2.2.1   Vertical drilling intensity",null,null,null,null,null,null,null,null,null,null,{"$f":"IF(M29=\"Low\",VLOOKUP(M33,C61:G63,IF(M37=\"Small\",2,IF(M37=\"Med\",3,IF(M37=\"Large\",4,5))),FALSE),IF(M29=\"Med\",VLOOKUP(M33,H61:L63,IF(M37=\"Small\",2,IF(M37=\"Med\",3,IF(M37=\"Large\",4,5))),FALSE),IF(M29=\"High\",VLOOKUP(M33,M61:Q63,IF(M37=\"Small\",2,IF(M37=\"Med\",3,IF(M37=\"Large\",4,5))),FALSE))))","v":0.32596435606097168},null,"gal diesel fuel/ft vertical"]
[null,"2.2.2   Horizontal drilling intensity",null,null,null,null,null,null,null,null,null,null,{"$f":"M109+IF(M29=\"Low\",VLOOKUP(M33,C68:G70,IF(M37=\"Small\",2,IF(M37=\"Med\",3,IF(M37=\"Large\",4,5))),FALSE),IF(M29=\"Med\",VLOOKUP(M33,H68:L70,IF(M37=\"Small\",2,IF(M37=\"Med\",3,IF(M37=\"Large\",4,5))),FALSE),IF(M29=\"High\",VLOOKUP(M33,M68:Q70,IF(M37=\"Small\",2,IF(M37=\"Med\",3,IF(M37=\"Large\",4,5))),FALSE))))","v":0.62420472901845603},null,"gal diesel fuel/ft lateral"]
[]
[null,"2.2.3   Drilling fuel consumption (gal diesel)",null,null,null,null,null,null,null,null,null,null,{"$f":"M109*M14*M18+M18*M54*M56*M110","v":30679.765192458653},null,"gal diesel fuel/field"]
[null,"2.2.4   Drilling energy consumption (MMBtu)",null,null,null,null,null,null,null,null,null,null,{"$f":"M112*'Fuel Specs'!E336/1000000","v":3940.815838971314},null,"MMBtu diesel fuel/field"]
[null,"2.2.5   Drilling energy intensity per unit of oil produced (lifetime)",null,null,null,null,null,null,null,null,null,null,{"$f":"IFERROR(M113/M106,0)","v":1.1165859261583212E-4},null,"MMBtu diesel fuel consumed per MMBtu crude oil produced"]
[]
[null,"2.2.6   Fracturing fuel consumption (gal diesel)",null,null,null,null,null,null,null,null,null,null,{"$f":"M74*M18*(M79*M75^2+M80*M75+M81)","v":0},null,"gal diesel fuel/field"]
[null,"2.2.7   Fracturing energy consumption (MMBtu)",null,null,null,null,null,null,null,null,null,null,{"$f":"M116*'Fuel Specs'!E336/1000000","v":0},null,"MMBtu diesel fuel/field"]
[null,"2.2.8   Fracturing energy intensity per unit of oil rpoduced (lifetime)",null,null,null,null,null,null,null,null,null,null,{"$f":"IFERROR(M117/M106,0)","v":0},null,"MMBtu diesel fuel consumed per MMBtu crude oil produced"]
[]
["2.3   Total field development energy"]
[null,"2.3.1   Total development energy for field",null,null,null,null,null,null,null,null,null,null,{"$f":"M113+M117","v":3940.815838971314},null,"MMBtu/field"]
[null,"2.3.2   Development energy intensity (lifetime)",null,null,null,null,null,null,null,null,null,null,{"$f":"M121/M104","v":6.1575247483926785E-4},null,"MMBtu diesel fuel consumed per bbl crude oil produced"]
[null,"2.3.3   Development energy intensity (lifetime)",null,null,null,null,null,null,null,null,null,null,{"$f":"M121/M106","v":1.1165859261583212E-4},null,"MMBtu diesel per MMBtu crude oil produced"]
[]
[]
["3 Outputs"]
[]
[]
["3.1   Tabulated outputs: Energy consumption by fuel (per day)",null,null,null,null,null,null,null,null,null,null,null,"Natural gas","Upgrader process gas","NGL","Crude oil","Diesel","Residual fuel","Petroleum coke","Electricity"]
[null,null,null,null,null,null,null,null,null,null,null,null,"MMBtu/d","MMBtu/d","MMBtu/d","MMBtu/d","MMBtu/d","MMBtu/d","MMBtu/d","kWh/d"]
[null,null,null,null,null,null,null,null,null,null,null,null,0,0,0,0,{"$f":"M122*M13","v":0.92362871225890175},0,0,0]
[]
["3.2   Tabulated outputs: Non-combustion emissions (per day)",null,null,null,null,null,null,null,null,null,null,null,"Land use CO2","Venting","Flaring","Fugitives"]
[null,null,null,null,null,null,null,null,null,null,null,null,{"$f":"SUM(M95:M97)*'Input Data'!E48*M13*M92","v":10952721.459224999},0,0,0,"gCO2 eq./d"]

{"sheet":"Production & Extraction","index":10,"n_rows":331,"n_cols":47,"rows_kept":331,"cut":false,"hidden":false,"merged":[]}
["Crude Extraction",null,null,null,null,null,null,"Active field:",null,{"$f":"'Active Field'!C9","v":"Generic"}]
[]
["Calculation of GHG emissions from crude oil extraction using different techniques."]
["1. Oil recovery stages: Primary, secondary and tertiary"]
["2. Artificial lifting methods: Downhole pump (e.g. Sucker-rod pump, submersible motor pump); Water flooding; Gas flooding (e.g., N2 flooding); Gas lifting; Steam flooding"]
["3. Non-traditional recovery methods: Oil sands mining (integrated with upgrader); 3.2   Oil sands mining (non-integrated with upgrader)"]
[]
[]
[]
["1 Inputs"]
[]
["1.1   Key inputs (to be entered on \"Inputs\" sheet)",null,null,null,null,null,null,null,null,null,null,null,"User","Default","Units",null,"User reference",null,"Default reference",null,null,null,null,null,"Notes"]
[null,"1.1.1   Production methods"]
[null,null,"1.1.1.1   Downhole pump",null,null,null,null,null,null,null,null,null,{"$f":"'Active Field'!J48","v":1},{"$f":"'Active Field'!K48","v":1}]
[null,null,"1.1.1.2   Water reinjection",null,null,null,null,null,null,null,null,null,{"$f":"'Active Field'!J49","v":1},{"$f":"'Active Field'!K49","v":1}]
[null,null,"1.1.1.3   Natural Gas Reinjection",null,null,null,null,null,null,null,null,null,{"$f":"'Active Field'!J50","v":1},{"$f":"'Active Field'!K50","v":1}]
[null,null,"1.1.1.4   Water flooding",null,null,null,null,null,null,null,null,null,{"$f":"'Active Field'!J51","v":0},{"$f":"'Active Field'!K51","v":0}]
[null,null,"1.1.1.5   Gas lifting",null,null,null,null,null,null,null,null,null,{"$f":"'Active Field'!J52","v":0},{"$f":"'Active Field'!K52","v":0}]
[null,null,"1.1.1.6   Gas flooding",null,null,null,null,null,null,null,null,null,{"$f":"'Active Field'!J53","v":0},{"$f":"'Active Field'!K53","v":0}]
[null,null,"1.1.1.7   Steam flooding",null,null,null,null,null,null,null,null,null,{"$f":"'Active Field'!J54","v":0},{"$f":"'Active Field'!K54","v":0}]
[null,null,"1.1.1.8   Oil sands mine (integrated with upgrader)",null,null,null,null,null,null,null,null,null,{"$f":"'Active Field'!J55","v":0},{"$f":"'Active Field'!K55","v":0}]
[null,null,"1.1.1.9   Oil sands mine (non-integrated with upgrader)",null,null,null,null,null,null,null,null,null,{"$f":"'Active Field'!J56","v":0},{"$f":"'Active Field'!K56","v":0}]
[]
[null,"1.1.2   Field properties"]
[null,null,"1.1.2.1   Depth",null,null,null,null,null,null,null,null,null,{"$f":"'Active Field'!J62","v":7240},{"$f":"'Active Field'!K62","v":7240},"ft"]
[null,null,"1.1.2.2   Production volume",null,null,null,null,null,null,null,null,null,{"$f":"'Active Field'!J63","v":1500},{"$f":"'Active Field'!K63","v":1500},"bbl/d",null,null,null,null,null,null,null,null,null,null,null,null,null,null,null,null,null,null,null,null,null,null,null,null,null,null,null,null,null,null,null,{"$f":"M40*AT26/100","v":0}]
[null,null,"1.1.2.3   Number of producing wells",null,null,null,null,null,null,null,null,{"$f":"IF(M27>0,\"OK\",IF(SUM(M21:M22)=1,\"OK\",\"ERROR\"))","v":"OK"},{"$f":"'Active Field'!J64","v":8},{"$f":"'Active Field'!K64","v":8},"[-]"]
[null,null,"1.1.2.4   Number of water injecting wells",null,null,null,null,null,null,null,null,null,{"$f":"'Active Field'!J65","v":5},{"$f":"'Active Field'!K65","v":5},"[-]"]
[null,null,"1.1.2.5   Diameter",null,null,null,null,null,null,null,null,null,{"$f":"'Active Field'!J66","v":2.7749999999999999},{"$f":"'Active Field'!K66","v":2.7749999999999999},"in"]
[null,null,"1.1.2.6   Productivity index",null,null,null,null,null,null,null,null,{"$f":"IF(SUM(M21:M22)=1,\"OK\",IF((M31-((M26+M26*M44)/M27)/M30)>=0,\"OK\",\"ERROR\"))","v":"OK"},{"$f":"'Active Field'!J67","v":3},{"$f":"'Active Field'!K67","v":3},"bbl/psi-d"]
[null,null,"1.1.2.7   Average reservoir pressure",null,null,null,null,null,null,null,null,null,{"$f":"'Active Field'!J68","v":1556.6},{"$f":"'Active Field'!K68","v":1556.6},"psi"]
[]
[null,"1.1.3  Fluids properties"]
[null,null,"1.1.3.1   API gravity",null,null,null,null,null,null,null,null,null,{"$f":"'Active Field'!J73","v":30},{"$f":"'Active Field'!K73","v":30},"deg. API",null,null,null,null,null,null,null,null,null,null,null,null,null,null,null,null,null,null,null,null,null,null,null,null,null,null,null,null,null,null,"Mr","Mr%"]
[null,null,"1.1.3.2   Gas composition",null,null,null,null,null,null,null,null,"N2",{"$f":"'Active Field'!J75","v":2},2,"mol%",null,null,null,null,null,null,null,null,null,null,null,null,null,null,null,null,null,null,null,null,null,null,null,null,null,null,null,null,null,null,"lb/lbmol","lb/lbmol"]
[null,null,null,null,null,null,null,null,null,null,null,"CO2",{"$f":"'Active Field'!J76","v":6},6,"mol%",null,null,null,null,null,null,null,null,null,null,null,null,null,null,null,null,null,null,null,null,null,null,null,null,null,null,null,null,null,"N2",{"$f":"'Fuel Specs'!E151","v":28},{"$f":"AT36*M35/100","v":0.56000000000000005}]
[null,null,null,null,null,null,null,null,null,null,null,"C1",{"$f":"'Active Field'!J77","v":84},84,"mol%",null,null,null,null,null,null,null,null,null,null,null,null,null,null,null,null,null,null,null,null,null,null,null,null,null,null,null,null,null,"CO2",{"$f":"'Fuel Specs'!E153","v":44},{"$f":"AT37*M36/100","v":2.64}]
[null,null,null,null,null,null,null,null,null,null,null,"C2",{"$f":"'Active Field'!J78","v":4},4,"mol%",null,null,null,null,null,null,null,null,null,null,null,null,null,null,null,null,null,null,null,null,null,null,null,null,null,null,null,null,null,"C1",{"$f":"'Fuel Specs'!E155","v":16},13.44]
[null,null,null,null,null,null,null,null,null,null,null,"C3",{"$f":"'Active Field'!J79","v":2},2,"mol%",null,null,null,null,null,null,null,null,null,null,null,null,null,null,null,null,null,null,null,null,null,null,null,null,null,null,null,null,null,"C2",{"$f":"'Fuel Specs'!E156","v":30},1.2]
[null,null,null,null,null,null,null,null,null,null,null,"C4+",{"$f":"'Active Field'!J80","v":1},1,"mol%",null,null,null,null,null,null,null,null,null,null,null,null,null,null,null,null,null,null,null,null,null,null,null,null,null,null,null,null,null,"C3",{"$f":"'Fuel Specs'!E157","v":44},0.88]
[null,null,null,null,null,null,null,null,null,null,null,"H2S",{"$f":"'Active Field'!J81","v":1},1,"mol%",null,null,null,null,null,null,null,null,null,null,null,null,null,null,null,null,null,null,null,null,null,null,null,null,null,null,null,null,null,"C4",{"$f":"'Fuel Specs'!E158","v":58},0.57999999999999996]
[null,"1.1.4  Production practices",null,null,null,null,null,null,null,null,null,null,{"$f":"IF(SUM(M35:M41)=100,\"OK\",\"ERROR\")","v":"OK"},null,null,null,null,null,null,null,null,null,null,null,null,null,null,null,null,null,null,null,null,null,null,null,null,null,null,null,null,null,null,null,"H2S",{"$f":"'Fuel Specs'!E161","v":34},0.34]
[null,null,"1.1.4.1   Gas-oil ratio (GOR)",null,null,null,null,null,null,null,null,null,{"$f":"'Active Field'!J85","v":908},{"$f":"'Active Field'!K85","v":908},"scf/bbl",null,null,null,null,null,null,null,null,null,null,null,null,null,null,null,null,null,null,null,null,null,null,null,null,null,null,null,null,null,"Gas",{"$f":"SUM(AU36:AU42)","v":19.639999999999997}]
[null,null,"1.1.4.2   Water oil ratio (WOR)",null,null,null,null,null,null,null,null,null,{"$f":"'Active Field'!J86","v":4.3083690574453417},{"$f":"'Active Field'!K86","v":4.3083690574453417},"bbl water/bbl oil"]
[null,null,"1.1.4.3   Water injection ratio",null,null,null,null,null,null,null,null,null,{"$f":"'Active Field'!J87","v":5.3083690574453417},{"$f":"'Active Field'!K87","v":5.3083690574453417},"bbl water/bbl oil"]
[null,null,"1.1.4.4   Steam oil ratio (SOR)",null,null,null,null,null,null,null,null,null,{"$f":"IF(M20=0,3,'Active Field'!J102)","v":3},{"$f":"IF(N20=0,3,'Active Field'!K102)","v":3},"bbl steam/bbl oil"]
[null,null,"1.1.4.5   Fraction of remaining gas to reinjection",null,null,null,null,null,null,null,null,{"$f":"IF(AND(AND(M19=1,'Active Field'!J90=1),NOT(M47=100)),\"ERROR\",\"OK\")","v":"OK"},{"$f":"IF('Active Field'!J104=-1,0,'Active Field'!J104*100)","v":0},{"$f":"'Active Field'!K104*100","v":0},"%"]
[null,null,"1.1.4.6   Fraction of water to reinjection/flooding",null,null,null,null,null,null,null,null,{"$f":"IF(AND(M17=1,NOT(M48=100)),\"ERROR\",\"OK\")","v":"OK"},{"$f":"'Active Field'!J105*100","v":100},{"$f":"'Active Field'!K105*100","v":100},"%"]
[null,null,"1.1.4.7   Flood gas volumetric injection rate",null,null,null,null,null,null,null,null,null,{"$f":"IF(M19=1,'Active Field'!J89*M26/1000,\"NA\")","v":"NA"},{"$f":"IF(M19=1,'Active Field'!K89*N26/1000, \"NA\")","v":"NA"},"Mscf/d",null,null,null,"Kuo, J.C. et al. (2001)",null,null,null,null,null,"Default N2 injection volume is 1200 scf/bbl oil, from Cantarell field in Mexico. <http://www.bechtel.com/assets/files/PDF/BHTSWebsite/cantarell2.pdf>"]
[]
["1.2  Secondary inputs (to be entered on this sheet)"]
[null,"1.2.1   Produced water properties"]
[null,null,"1.2.1.1   Concentration of dissolved solids (TDS)",null,null,null,null,null,null,null,null,null,5000,5000,"mg/L",null,null,null,"Vlasopoulos et al. (2006)"]
[]
[null,"1.2.2   Well description"]
[null,null,"1.2.2.1   Well head pressure",null,null,null,null,null,null,null,null,null,1000,1000,"psi",null,null,null,"Manning, F., and Thompson, R. (1991)"]
[null,null,"1.2.2.2   Injectivity index",null,null,null,null,null,null,null,null,null,{"$f":"N57","v":3},{"$f":"M30","v":3},"bbl/psi-d"]
[null,null,"1.2.2.3   Friction factor",null,null,null,null,null,null,null,null,null,0.02,0.02,"[-]"]
[]
[null,"1.2.3   Downhole pump characteristics"]
[null,null,"1.2.3.1   Pump efficiency",null,null,null,null,null,null,null,null,null,65,65,"%"]
[null,null,"1.2.3.2   Prime mover type",null,null,"1 = NG engine, 2 = Electric motor, 3 = Diesel engine, 4 = NG turbine",null,null,null,null,null,null,1,1,"NA"]
[]
[null,"1.2.4   Water reinjection pump characteristics"]
[null,null,"1.2.4.1   Suction pressure",null,null,null,null,null,null,null,null,null,0,0,"psi",null,null,null,null,null,null,null,null,null,"Assumed 90% of maximum allowed pressure and 50 psi of friction loss"]
[null,null,"1.2.4.2   Discharge pressure",null,null,null,null,null,null,null,null,null,{"$f":"N66","v":0},{"$f":"IF(M28=0, \"NA\", IF(M31+M164+M165-0.43*M25>0,M31+M164+M165-0.43*M25,0))","v":0},"psi"]
[null,null,"1.2.4.3   Pump efficiency ",null,null,null,null,null,null,null,null,null,65,65,"%"]
[null,null,"1.2.4.4   Prime mover type",null,null,"1 = NG engine, 2 = Electric motor, 3 = Diesel engine, 4 = NG turbine",null,null,null,null,null,null,1,1,"NA"]
[]
[null,"1.2.5   Water flooding injection pump characteristics"]
[null,null,"1.2.5.1   Suction pressure",null,null,null,null,null,null,null,null,null,0,0,"psi"]
[null,null,"1.2.5.2   Discharge pressure",null,null,null,null,null,null,null,null,null,{"$f":"N72","v":0},{"$f":"IF(M28=0, \"NA\", IF(M31+M178+M179-0.43*M25>0,M31+M178+M179-0.43*M25,0))","v":0},"psi"]
[null,null,"1.2.5.3   Pump efficiency",null,null,null,null,null,null,null,null,null,65,65,"%"]
[null,null,"1.2.5.4   Prime mover type",null,null,"1 = NG engine, 2 = Electric motor, 3 = Diesel engine, 4 = NG turbine",null,null,null,null,null,null,1,1,"NA"]
[]
[null,"1.2.6   Natural gas reinjection compressor parameters (1-5 stages)"]
[null,null,"1.2.6.1   Suction pressure",null,null,null,null,null,null,null,null,null,125,125,"psia"]
[null,null,"1.2.6.2   Discharge pressure",null,null,null,null,null,null,null,null,null,{"$f":"N78","v":2071.2999999999997},{"$f":"M31+500+14.7","v":2071.2999999999997},"psia"]
[null,null,"1.2.6.3   Stage 1 inlet temperature",null,null,null,null,null,null,null,null,null,196.7,196.7,"◦F"]
[null,null,"1.2.6.4   Ratio of specific heats ",null,null,null,null,null,null,null,null,null,1.28,1.28,"[-]",null,null,null,"McAllister, E. W. (2009)",null,null,null,null,null,"Typical Cp/Cv ratios in oil-producing operations: 1.16, 1.28, 1.40"]
[null,null,"1.2.6.5   Compressor efficiency ",null,null,null,null,null,null,null,null,null,75,75,"%"]
[null,null,"1.2.6.6  Prime mover type",null,null,"1 = Electric motor, 2 = NG engine",null,null,null,null,null,null,2,2,"NA"]
[]
[null,"1.2.7   Gas lifting compressor parameters (1-5 stages)"]
[null,null,"1.2.7.1   Suction pressure",null,null,null,null,null,null,null,null,null,125,125,"psia"]
[null,null,"1.2.7.2   Discharge pressure",null,null,null,null,null,null,null,null,null,{"$f":"N86","v":893},{"$f":"(M31/2)+100+14.7","v":893},"psia"]
[null,null,"1.2.7.3   Stage 1 inlet temperature",null,null,null,null,null,null,null,null,null,196.7,196.7,"◦F"]
[null,null,"1.2.7.4   Ratio of specific heats",null,null,null,null,null,null,null,null,null,1.28,1.28,"[-]",null,null,null,"McAllister, E. W. (2009)",null,null,null,null,null,"Typical Cp/Cv ratios in oil-producing operations: 1.16, 1.28, 1.40"]
[null,null,"1.2.7.5   Compressor efficiency",null,null,null,null,null,null,null,null,null,75,75,"%"]
[null,null,"1.2.7.6   Prime mover type",null,null,"1 = Electric motor, 2 = NG engine",null,null,null,null,null,null,2,2,"NA"]
[]
[null,"1.2.8   Gas flooding gas composition",null,null,null,null,null,null,null,null,null,"N2",2,2,"mol%",null,null,null,null,null,null,null,null,null,"Composition on dry basis"]
[null,null,"Notes: This composition is used only if natural gas is the flood gas",null,null,null,null,null,null,null,null,"CO2",6,6,"mol%",null,null,null,null,null,null,null,null,null,"This composition is used if gas flooding is applied and if natural gas is the selected flooding gas"]
[null,null,null,null,null,null,null,null,null,null,null,"C1",84,84,"mol%"]
[null,null,null,null,null,null,null,null,null,null,null,"C2",4,4,"mol%"]
[null,null,null,null,null,null,null,null,null,null,null,"C3",2,2,"mol%"]
[null,null,null,null,null,null,null,null,null,null,null,"C4+",1,1,"mol%"]
[null,null,null,null,null,null,null,null,null,null,null,"H2S",1,1,"mol%"]
[null,"1.2.8   Gas flooding air separation unit (cryogenic N2 gas production)"]
[null,null,"1.2.8.1   Electricity consumption",null,null,null,null,null,null,null,null,null,{"$f":"N100","v":4.1567164179104471E-3},{"$f":"(500500/1200-185)/1000000*'Input Data'!E59*24/1","v":4.1567164179104471E-3},"kWh/scf",null,null,null,"Kuo, J.C. et al. (2001) p. 41 ",null,null,null,null,null,"In Cantarell field, generation of 1200 MMSCFD nitrogen requires 500500 hp compression power. This includes both compression of air to the required feed pressure and compression of the nitrogen product "]
[]
[null,"1.2.9   Carbon Dioxide Flooding and Sequestration  "]
[null,null,"1.2.9.1   CO2 Minimum miscibility pressure",null,null,null,null,null,null,null,null,null,{"$f":"N103","v":1700},{"$f":"IF('Active Field'!J73 <=27, 4000, IF(AND('Active Field'!J73>27, 'Active Field'!J73<30), 3000, 1200)) + IF('Active Field'!J69<=120, 0, IF(AND('Active Field'!J69>120, 'Active Field'!J69<150), 200, IF(AND('Active Field'!J69>150, 'Active Field'!J69<200), 350, 500)))","v":1700},"psi",null,null,null,"National Petroleum Council (1976)"]
[null,null,"1.2.9.2   Long-term leakage rate of sequestered carbon from reservoir",null,null,null,null,null,null,null,null,null,0.5,0.5,"%",null,null,null,"DOE/NETL (2013)",null,null,null,null,null,"The estimated 100-year leakage rate"]
[null,null,"1.2.9.3   Proportion of sequestered CO2 released from reservoir during post-production blow-down",null,null,null,null,null,null,null,null,null,0,0,"%"]
[]
[null,"1.2.10   Gas flooding compressor parameters (1-5 stages)",null,null,null,null,null,null,null,null,null,null,null,null,null,null,null,null,null,null,null,null,null,null,"to 1685 psia to be routed 53 miles offshore through pipelines to injection wells. The required pumping power for cooling water is not included. "]
[null,null,"1.2.10.1   Suction pressure",null,null,null,null,null,null,null,null,null,125,125,"psia",null,null,null,null,null,null,null,null,null,"The estimated compression power requirement for cryogenic generation of nitrogen is then  (500500hp)/1200 MMSCFD - 185 hp/MMSCFD"]
[null,null,"1.2.10.2   Discharge pressure",null,null,null,null,null,null,null,null,null,{"$f":"N109","v":2071.2999999999997},{"$f":"IF('Active Field'!J90=3, MAX(M31+500+14.7, 'Production & Extraction'!N103), M31+500+14.7)","v":2071.2999999999997},"psia",null,null,null,null,null,null,null,null,null,"This is about 0.15 kWh/m3 STP nitrogen"]
[null,null,"1.2.10.3   Stage 1 inlet temperature",null,null,null,null,null,null,null,null,null,196.7,196.7,"◦F"]
[null,null,"1.2.10.4   Ratio of specific heats",null,null,null,null,null,null,null,null,{"$f":"IF(AND(AND(M19=1,'Active Field'!J90=2),NOT(M111=1.4)),\"ERROR\",\"OK\")","v":"OK"},{"$f":"IF(OR('Active Field'!J90=1, 'Active Field'!J90=3),1.28,1.4)","v":1.28},{"$f":"IF(OR('Active Field'!K90=1, 'Active Field'!K90=3),1.28,1.4)","v":1.28},"[-]",null,null,null,"McAllister, E. W. (2009)",null,null,null,null,null,"Typical Cp/Cv ratios in oil-producing operations: 1.16, 1.28, 1.40"]
[null,null,"1.2.10.5   Compressor efficiency",null,null,null,null,null,null,null,null,null,75,75,"%"]
[null,null,"1.2.10.6   Prime mover type",null,null,"1 = Electric motor, 2 = NG engine",null,null,null,null,null,null,2,2,"NA"]
[]
[null,"1.2.11  Oil sands mining (non-integrated mine, separation via parrafinic froth treatment)"]
[null,null,"1.2.11.1   Diesel fuel consumed per bbl bitumen",null,null,null,null,null,null,null,null,null,0.52,0.52,"gal diesel/bbl bitumen"]
[null,null,"1.2.11.2   Natural gas consumed per bbl bitumen",null,null,null,null,null,null,null,null,null,415,415,"scf/bbl bitumen"]
[null,null,"1.2.11.3   Electricity consumed per bbl bitumen",null,null,null,null,null,null,null,null,null,{"$f":"N118","v":19.873412500000001},{"$f":"125*'Input Data'!E34","v":19.873412500000001},"kWh/bbl bitumen"]
[null,null,"1.2.11.4   Electricity generated per bbl bitumen",null,null,null,null,null,null,null,null,null,{"$f":"N119","v":12.2420221},{"$f":"77*'Input Data'!E34","v":12.2420221},"kWh/bbl bitumen"]
[null,null,"1.2.11.5   Net electricity imported (or exported, negative number) per bbl bitumen",null,null,null,null,null,null,null,null,null,{"$f":"M118-M119","v":7.6313904000000008},{"$f":"N118-N119","v":7.6313904000000008},"kWh/bbl bitumen"]
[]
[]
[null,"1.2.12   Oil sands mining (integrated mine, separation via naphthenic froth treatment)"]
[null,null,"1.2.12.1   Diesel fuel consumed per bbl bitumen",null,null,null,null,null,null,null,null,null,0.46,0.46,"gal diesel/bbl bitumen"]
[null,null,"1.2.12.2   Natural gas consumed per bbl bitumen",null,null,null,null,null,null,null,null,null,304,304,"scf/bbl bitumen"]
[null,null,"1.2.12.3   Electricity consumed per bbl bitumen",null,null,null,null,null,null,null,null,null,{"$f":"N126","v":17.9655649},{"$f":"113*'Input Data'!E34","v":17.9655649},"kWh/bbl bitumen"]
[null,null,"1.2.12.4   Electricity generated per bbl bitumen",null,null,null,null,null,null,null,null,null,{"$f":"N127","v":18.1245522},{"$f":"114*'Input Data'!E34","v":18.1245522},"kWh/bbl bitumen"]
[null,null,"1.2.12.5   Net electricity imported (or exported, negative number) per bbl bitumen",null,null,null,null,null,null,null,null,null,{"$f":"M126-M127","v":-0.15898729999999972},{"$f":"N126-N127","v":-0.15898729999999972},"kWh/bbl bitumen"]
[]
["1.3   Inputs from other sheets"]
[]
[]
[]
[]
[]
[]
["2 Calculations"]
[null,null,null,null,null,null,null,null,null,null,null,null,"Value","Unit",null,null,"User reference",null,"Default reference",null,null,null,null,null,"Notes"]
["2.1   Fluid properties",null,null,null,null,null,null,null,null,null,null,null,null,null,null,null,null,null,null,null,null,null,null,null,null,null,null,null,null,null,null,null,null,null,null,null,null,null,null,null,null,null,null,null,null,"lb/lbmol","lb/lbmol"]
[null,"2.1.1   Crude specific gravity",null,null,null,null,null,null,null,null,null,null,{"$f":"141.5/(M34+131.5)","v":0.87616099071207432},"[-]",null,null,null,null,"Manning, F., and Thompson, R. (1995), p. 20",null,null,null,null,null,null,null,null,null,null,null,null,null,null,null,null,null,null,null,null,null,null,null,null,"C2",{"$f":"'Fuel Specs'!E156","v":30},{"$f":"M38*AS140/100","v":1.2}]
[null,"2.1.2   Water specific gravity",null,null,null,null,null,null,null,null,null,null,{"$f":"1+M53*0.695*10^-6","v":1.0034749999999999},"[-]",null,null,null,null,"Fanchi, J.R. (2007), p.-490"]
[null,"2.1.3   Density of water at standard conditions",null,null,null,null,null,null,null,null,null,null,{"$f":"M141*62.4","v":62.616839999999989},"lbm/ft3"]
[null,"2.1.4   Gas specific gravity",null,null,null,null,null,null,null,null,null,null,{"$f":"(14.7*AT43)/(10.73*(60+460))/0.0764","v":0.67727086593307928},"[-]"]
[]
["2.2   Downhole pump"]
[null,"2.2.1   Pressure traverse",null,null,null,null,null,null,null,null,null,null,{"$f":"SUM(M147:M148)","v":3070.8278985606171},"psi"]
[null,null,"2.2.1.1   Elevation component",null,null,null,null,null,null,null,null,null,{"$f":"M25*((M140*1/(M44+1)+1*M44/(M44+1))/2.31)","v":3061.0813627160251},"psi"]
[null,null,"2.2.1.2   Friction component",null,null,null,null,null,null,null,null,null,{"$f":"IF(SUM(M21:M22)=0,((M58*M25*((((1+M44)*M26/M27)*('Input Data'!E35/(24*60*60))/(3.142*(M29/24)^2))^2))/(2*(M29/12)*32.2))*((M140*1/(M44+1)+1*M44/(M44+1))/2.31),0)","v":9.7465358445920316},"psi"]
[null,"2.2.2   Pressure for lifting",null,null,null,null,null,null,null,null,null,null,{"$f":"IF(SUM(M21:M22)=0,IF(((M56+M146)-(M31-(1+M44)*(M26/M27)/M30))<0,0,((M56+M146)-(M31-(1+M44)*(M26/M27)/M30))),0)","v":2846.0009646509511},"psi"]
[null,"2.2.3   Brake horse power (BHP)",null,null,null,null,null,null,null,null,null,null,{"$f":"IF(M14=0,\"NA\",1.05*(M151*M149*1.701*10^-5)/(M152/100))","v":77.835492915983082},"bhp",null,null,null,null,"Rose et al., p.27, eq. (5.2)"]
[null,null,"2.2.3.1   Liquid flow rate",null,null,null,null,null,null,null,null,null,{"$f":"IF(M14=0,\"NA\",M26/M27+M44*M26/M27)","v":995.3191982710016},"bpd"]
[null,null,"2.2.3.2   Pump efficiency",null,null,null,null,null,null,null,null,null,{"$f":"IF(M14=0,\"NA\",M61)","v":65},"%"]
[null,"2.2.4   Prime mover fuel use"]
[null,null,null,null,null,null,null,null,null,null,null,null,"NG - Engine","Electricity","Diesel","NG - Turbine"]
[null,null,null,null,null,null,null,null,null,null,null,null,{"$f":"HLOOKUP(M150,Drivers!C35:AE36,2,TRUE)","v":7922.4},{"$f":"HLOOKUP(M150,Drivers!C136:W137,2,TRUE)/'Input Data'!E53","v":0.81041342598086996},{"$f":"HLOOKUP(M150,Drivers!C105:AG106,2,TRUE)","v":7235.4},{"$f":"HLOOKUP(M150,Drivers!C66:AS67,2,TRUE)","v":9219.6}]
[null,null,null,null,null,null,null,null,null,null,null,null,"Btu/bhp-hr","kWh/bhp-hr","Btu/bhp-hr","Btu/bhp-hr"]
[]
[null,"2.2.5   Energy consumption",null,null,null,null,null,null,null,null,null,null,"NG - Engine","Electricity","Diesel","NG - Turbine"]
[null,null,"2.2.5.1   Total fuel use (for all producing wells)",null,null,null,null,null,null,null,null,null,{"$f":"IFERROR(M150*M27*IF(M62=1,M155*24/1000000,0),0)","v":118.39563054289619},{"$f":"IFERROR(M150*M27*IF(M62=2,N155*24,0),0)","v":0},{"$f":"IFERROR(M150*M27*IF(M62=3,O155*24/1000000,0),0)","v":0},{"$f":"IFERROR(M150*M27*IF(M62=4,P155*24/1000000,0),0)","v":0}]
[null,null,null,null,null,null,null,null,null,null,null,null,"MMBtu/d","kWh/d","MMBtu/d","MMBtu/d"]
["2.3   Water reinjection pump"]
[null,"2.3.1   Water reinjection volume",null,null,null,null,null,null,null,null,null,null,{"$f":"IF(M15=0,\"NA\",(M48/100)*'Surface Processing'!T495/M28)","v":1292.5107172336025},"bbl/d-well"]
[null,"2.3.2   Pumping pressure",null,null,null,null,null,null,null,null,null,null,{"$f":"IF(M15=0,\"NA\",M66-M65)","v":0},"psia"]
[null,null,"2.3.2.1   Friction loss",null,null,null,null,null,null,null,null,null,{"$f":"IF(M28=0, \"NA\", ((M58*M25*(((M48/100)*'Surface Processing'!T495/M28*('Input Data'!E35/(24*60*60))/(3.142*(M29/24)^2))^2))/(2*(M29/12)*32.2))*0.43)","v":16.715754206239307},"psi"]
[null,null,"2.3.2.2   Differential pressure",null,null,null,null,null,null,null,null,null,{"$f":"IF(M28=0, \"NA\", ((M48/100)*'Surface Processing'!T495/M28)/M57)","v":430.83690574453414},"psi"]
[null,"2.3.3   Brake horse power (BHP)",null,null,null,null,null,null,null,null,null,null,{"$f":"IF(M15=0,\"NA\",(1.05*M162*M163*1.701*10^-5)/(M167/100))","v":0},"bhp"]
[null,null,"2.3.3.1   Pump efficiency",null,null,null,null,null,null,null,null,null,{"$f":"IF(M15=0,\"NA\",M67)","v":65},"%"]
[]
[null,"2.3.4   Prime mover fuel use",null,null,null,null,null,null,null,null,null,null,"NG - Engine","Electricity","Diesel","NG - Turbine"]
[null,null,null,null,null,null,null,null,null,null,null,null,{"$f":"HLOOKUP(M166,Drivers!C35:AE36,2,TRUE)","v":7922.4},{"$f":"HLOOKUP(M166,Drivers!C136:W137,2,TRUE)/'Input Data'!E53","v":0.8903449722222222},{"$f":"HLOOKUP(M166,Drivers!C105:AG106,2,TRUE)","v":7235.4},{"$f":" (HLOOKUP(M166,Drivers!C66:AS67,2,TRUE))","v":9219.6}]
[null,null,null,null,null,null,null,null,null,null,null,null,"Btu/bhp-hr","kWh/bhp-hr","Btu/bhp-hr","Btu/bhp-hr"]
[null,"2.2.4   Energy consumption"]
[null,null,null,null,null,null,null,null,null,null,null,null,"NG - Engine","Electricity","Diesel","NG - Turbine"]
[null,null,"2.2.4.1   Total fuel use (for N number of injecting wells)",null,null,null,null,null,null,null,null,null,{"$f":"IFERROR(M166*M28*IF(M68=1,M170*24/1000000,0),0)","v":0},{"$f":"IFERROR(M166*M28*IF(M68=2,N170*24,0),0)","v":0},{"$f":"IFERROR(M166*M28*IF(M68=3,O170*24/1000000,0),0)","v":0},{"$f":"IFERROR(M166*M28*IF(M68=4,P170*24/1000000,0),0)","v":0}]
[null,null,null,null,null,null,null,null,null,null,null,null,"MMBtu/d","kWh/d","MMBtu/d","MMBtu/d"]
["2.4   Water flooding pump"]
[null,"2.4.1   Water injection volume",null,null,null,null,null,null,null,null,null,null,{"$f":"M45*M26","v":7962.5535861680128},"bbl/d"]
[null,"2.4.2   Friction loss",null,null,null,null,null,null,null,null,null,null,{"$f":"IF(M28=0, \"NA\", ((M58*M25*(((M177/M28)*('Input Data'!E35/(24*60*60))/(3.142*(M29/24)^2))^2))/(2*(M29/12)*32.2))*0.43)","v":25.375955160179434},"psi"]
[null,"2.4.3   Differential pressure",null,null,null,null,null,null,null,null,null,null,{"$f":"IF(M28=0, \"NA\", (M177/M28)/M57)","v":530.83690574453419},"psi"]
[null,"2.4.4  Pumping pressure",null,null,null,null,null,null,null,null,null,null,{"$f":"IF(M17=0,\"NA\",M72-M71)","v":"NA"},"psia"]
[null,"2.5.5   Brake horse power (BHP)",null,null,null,null,null,null,null,null,null,null,{"$f":"IF(M17=0,\"NA\",(1.05*M182*M180*1.701*10^-5)/(M183/100))","v":"NA"},"bhp"]
[null,null,"2.5.5.1   Water flow rate",null,null,null,null,null,null,null,null,null,{"$f":"IF(M17=0,\"NA\",M177/M28)","v":"NA"},"bbl/well-d"]
[null,null,"2.5.5.2   Pump efficiency",null,null,null,null,null,null,null,null,null,{"$f":"IF(M17=0,\"NA\",M73)","v":"NA"},"%"]
[null,"2.5.6   Prime mover fuel use"]
[null,null,null,null,null,null,null,null,null,null,null,null,"NG - Engine","Electricity","Diesel","NG - Turbine"]
[null,null,"2.5.6.1   Natural gas engine",null,null,null,null,null,null,null,null,null,{"$f":"HLOOKUP(M181,Drivers!C35:AE36,2,TRUE)","v":{"$error":"#N/A"}},{"$f":"HLOOKUP(M181,Drivers!C136:W137,2,TRUE)/'Input Data'!E53","v":{"$error":"#N/A"}},{"$f":"HLOOKUP(M181,Drivers!C105:AG106,2,TRUE)","v":{"$error":"#N/A"}},{"$f":"HLOOKUP(M181,Drivers!C66:AS67,2,TRUE)","v":{"$error":"#N/A"}}]
[null,null,"2.5.6.2   Electric motor",null,null,null,null,null,null,null,null,null,"Btu/bhp-hr","kWh/bhp-hr","Btu/bhp-hr","Btu/bhp-hr"]
[null,null,"2.5.6.3   Diesel-fired engine"]
[null,null,"2.5.6.4   NG-fired turbine"]
[null,"2.5.7   Energy consumption"]
[null,null,null,null,null,null,null,null,null,null,null,null,"NG - Engine","Electricity","Diesel","NG - Turbine"]
[null,null,"2.5.7.1   Total fuel use (for N number of injecting wells)",null,null,null,null,null,null,null,null,null,{"$f":"IFERROR(M181*M28*IF(M74=1,M186*24/1000000,0),0)","v":0},{"$f":"IFERROR(M181*M28*IF(M74=2,N186*24,0),0)","v":0},{"$f":"IFERROR(M181*M28*IF(M74=3,O186*24/1000000,0),0)","v":0},{"$f":"IFERROR(M181*M28*IF(M74=4,P186*24/1000000,0),0)","v":0}]
[null,null,null,null,null,null,null,null,null,null,null,null,"MMBtu/d","kWh/d","MMBtu/d","MMBtu/d"]
[]
["2.5   Natural Gas reinjection compressor"]
[null,"2.5.1   Compression ratio",null,null,null,null,null,null,null,null,null,null,{"$f":"IF(M16=0,\"NA\",IF(M78/M77<5, M78/M77, IF((M78/M77)^(1/2)<5, (M78/M77)^(1/2), IF((M78/M77)^(1/3)<5, (M78/M77)^(1/3),IF((M78/M77)^(1/4)<5, (M78/M77)^(1/4), (M78/M77)^(1/5))))))","v":4.0706756195992817},"[-]"]
[null,"2.5.2   Number of stages",null,null,null,null,null,null,null,null,null,null,{"$f":"IF(M16=0,\"NA\",IF(M78/M77=M196,1,IF((M78/M77)^(1/2)=M196, 2, IF((M78/M77)^(1/3)=M196,3,IF((M78/M77)^(1/4)=M196,4,5)))))","v":2},"[-]"]
[null,"2.5.3   Inlet temperatures"]
[null,null,"2.5.3.1   Stage 1 inlet temperature",null,null,null,null,null,null,null,null,null,{"$f":"M79","v":196.7}]
[null,null,"2.5.3.2   Stage 2 inlet temperature",null,null,null,null,null,null,null,null,null,{"$f":"IF(M16=0,\"NA\",IF(M197>1,((((M79+460)*(M196^(Compressors!K43*(M80-1)/M80)))-460)-M79)*0.2+M79,\"NA\"))","v":243.52524206598187},"◦F",null,null,null,null,"Jarrell, P. M. (2002)",null,null,null,null,"Assumed 80% cooling (imperfect cooling); discharge temperature calculated using eq. (5.7), SPE monopgraph volume 22"]
[null,null,"2.5.3.3   Stage 3 inlet temperature",null,null,null,null,null,null,null,null,null,{"$f":"IF(M16=0,\"NA\",IF(M197>2,((((M200+460)*(M196^(Compressors!K44*(M80-1)/M80)))-460)-M200)*0.2+M200,\"NA\"))","v":"NA"},"◦F"]
[null,null,"2.5.3.4   Stage 4 inlet temperature",null,null,null,null,null,null,null,null,null,{"$f":"IF(M16=0,\"NA\",IF(M197>3,((((M201+460)*(M196^(Compressors!K45*(M80-1)/M80)))-460)-M201)*0.2+M201,\"NA\"))","v":"NA"},"◦F"]
[null,null,"2.5.3.5   Stage 5 inlet temperature",null,null,null,null,null,null,null,null,null,{"$f":"IF(M16=0,\"NA\",IF(M197>4,((((M202+460)*(M196^(Compressors!K46*(M80-1)/M80)))-460)-M202)*0.2+M202,\"NA\"))","v":"NA"},"◦F"]
[null,"2.5.4   Discharge pressure"]
[null,null,"2.5.4.1   Stage 1",null,null,null,null,null,null,null,null,null,{"$f":"IF(M16=0,\"NA\",M77*M196)","v":508.8344524499102},"psia"]
[null,null,"2.5.4.2   Stage 2",null,null,null,null,null,null,null,null,null,{"$f":"IF(M16=0,\"NA\",IF(M197>1,M205*M196,\"NA\"))","v":2071.2999999999993},"psia"]
[null,null,"2.5.4.3   Stage 3",null,null,null,null,null,null,null,null,null,{"$f":"IF(M16=0,\"NA\",IF(M197>2,M206*M196,\"NA\"))","v":"NA"},"psia"]
[null,null,"2.5.4.4   Stage 4",null,null,null,null,null,null,null,null,null,{"$f":"IF(M16=0,\"NA\",IF(M197>3,M207*M196,\"NA\"))","v":"NA"},"psia"]
[null,null,"2.5.4.5   Stage 5",null,null,null,null,null,null,null,null,null,{"$f":"IF(M16=0,\"NA\",IF(M197>4,M208*M196,\"NA\"))","v":"NA"},"psia"]
[null,"2.5.5   Adiabatic work of compression"]
[null,null,"2.5.5.1   Stage 1",null,null,null,null,null,null,null,null,null,{"$f":"IF(M16=0,\"NA\",(M80/(M80-1))*(3.027*14.7/(60+460))*(M79+460)*((M196^Compressors!K43)^((M80-1)/M80)-1))","v":91.585851151023675},"hp/MMscf/d"]
[null,null,"2.5.5.2   Stage 2",null,null,null,null,null,null,null,null,null,{"$f":"IF(M16=0,\"NA\",IF(M197>1,(M80/(M80-1))*(3.027*14.7/(60+460))*(M200+460)*((M196^Compressors!K44)^((M80-1)/M80)-1),\"NA\"))","v":96.820327933306615},"hp/MMscf/d"]
[null,null,"2.5.5.3   Stage 3",null,null,null,null,null,null,null,null,null,{"$f":"IF(M16=0,\"NA\",IF(M197>2,(M80/(M80-1))*(3.027*14.7/(60+460))*(M201+460)*((M196^Compressors!K45)^((M80-1)/M80)-1),\"NA\"))","v":"NA"},"hp/MMscf/d"]
[null,null,"2.5.5.4   Stage 4",null,null,null,null,null,null,null,null,null,{"$f":"IF(M16=0,\"NA\",IF(M197>3,(M80/(M80-1))*(3.027*14.7/(60+460))*(M202+460)*((M196^Compressors!K46)^((M80-1)/M80)-1),\"NA\"))","v":"NA"},"hp/MMscf/d"]
[null,null,"2.5.5.5   Stage 5",null,null,null,null,null,null,null,null,null,{"$f":"IF(M16=0,\"NA\",IF(M197>4,(M80/(M80-1))*(3.027*14.7/(60+460))*(M203+460)*((M196^Compressors!K47)^((M80-1)/M80)-1),\"NA\"))","v":"NA"},"hp/MMscf/d"]
[null,"2.5.6  Total adiabatic work of compression",null,null,null,null,null,null,null,null,null,null,{"$f":"IF(M16=0,\"NA\",IF(M197=1,M211,IF(M197=2,M211+M212,IF(M197=3,SUM(M211:M213),IF(M197=4,SUM(M211:M214),SUM(M211:M215))))))","v":188.40617908433029},"hp/MMscf/d"]
[null,"2.5.7  Output horsepower from compressor",null,null,null,null,null,null,null,null,null,null,{"$f":"IF(M16=0,\"NA\",M216*IF(OR('Active Field'!J116=1, 'Active Field'!J116=2, 'Active Field'!J116=3, 'Active Field'!J116=4, 'Active Field'!J116=5), 'Gas Balance'!CT57, IF('Active Field'!J116=6, 'Gas Balance'!EP151, 'Gas Balance'!CL269)))","v":0},"hp"]
[null,"2.5.8   Brake horse power (BHP)",null,null,null,null,null,null,null,null,null,null,{"$f":"IF(M16=0,\"NA\",M217/(M81/100))","v":0},"bhp"]
[]
[null,null,"2.5.8.1   Prime mover fuel use",null,null,null,null,null,null,null,null,null,"NG - Engine","Electricity"]
[null,null,null,null,null,null,null,null,null,null,null,null,{"$f":"HLOOKUP(M218,Drivers!C35:AE36,2,TRUE)","v":7922.4},{"$f":"HLOOKUP(M218,Drivers!C136:W137,2,TRUE)/'Input Data'!E53","v":0.8903449722222222}]
[null,null,null,null,null,null,null,null,null,null,null,null,"Btu/bhp-hr","kWh/bhp-hr"]
[null,"2.5.9  Energy consumption"]
[null,null,"2.5.9.1   Total fuel use",null,null,null,null,null,null,null,null,null,"NG - Engine","Electricity"]
[null,null,null,null,null,null,null,null,null,null,null,null,{"$f":"IF(M82=2,IF(M16=1,M218*M221*24/1000000,0),0)","v":0},{"$f":"IF(M82=1,IF(M16=1,M218*N221*24,0),0)","v":0}]
[null,null,null,null,null,null,null,null,null,null,null,null,"MMBtu/d","kWh/d"]
[]
["2.6   Gas lifting compressor"]
[null,"2.6.1   Gas lifting injection volume",null,null,null,null,null,null,null,null,null,null,{"$f":"IF(M18=1,'Active Field'!J88*(M26+M44*M26)/1000,\"NA\")","v":"NA"},"Mscf/d",null,null,null,"Takacs (2005), p. 269",null,null,null,null,null,"Default for gas lifting injection volume is 1500 scf/bbl liquid"]
[null,null,"2.6.1.1   Compression ratio",null,null,null,null,null,null,null,null,null,{"$f":"IF(M18=0,\"NA\",IF(M86/M85<5, M86/M85, IF((M86/M85)^(1/2)<5, (M86/M85)^(1/2), IF((M86/M85)^(1/3)<5, (M86/M85)^(1/3),IF((M86/M85)^(1/4)<5, (M86/M85)^(1/4), (M86/M85)^(1/5))))))","v":"NA"},"[-]"]
[null,null,"2.6.1.2   Number of stages",null,null,null,null,null,null,null,null,null,{"$f":"IF(M18=0,\"NA\",IF(M86/M85=M230,1,IF((M86/M85)^(1/2)=M230, 2, IF((M86/M85)^(1/3)=M230,3,IF((M86/M85)^(1/4)=M230,4,5)))))","v":"NA"},"[-]"]
[null,"2.6.2   Inlet temperatures"]
[null,null,"2.6.2.1   Stage 1 inlet temperature",null,null,null,null,null,null,null,null,null,{"$f":"M87","v":196.7},"◦F"]
[null,null,"2.6.2.2   Stage 2 inlet temperature",null,null,null,null,null,null,null,null,null,{"$f":"IF(M18=0,\"NA\",IF(M231>1,((((M87+460)*(M230^(Compressors!K53*(M88-1)/M88)))-460)-M87)*0.2+M87,\"NA\"))","v":"NA"},"◦F"]
[null,null,"2.6.2.3   Stage 3 inlet temperature",null,null,null,null,null,null,null,null,null,{"$f":"IF(M18=0,\"NA\",IF(M231>2,((((M234+460)*(M230^(Compressors!K54*(M88-1)/M88)))-460)-M234)*0.2+M234,\"NA\"))","v":"NA"},"◦F"]
[null,null,"2.6.2.4   Stage 4 inlet temperature",null,null,null,null,null,null,null,null,null,{"$f":"IF(M18=0,\"NA\",IF(M231>3,((((M235+460)*(M230^(Compressors!K55*(M88-1)/M88)))-460)-M235)*0.2+M235,\"NA\"))","v":"NA"},"◦F"]
[null,null,"2.6.2.5   Stage 5 inlet temperature",null,null,null,null,null,null,null,null,null,{"$f":"IF(M18=0,\"NA\",IF(M231>4,((((M236+460)*(M230^(Compressors!K56*(M88-1)/M88)))-460)-M236)*0.2+M236,\"NA\"))","v":"NA"},"◦F"]
[null,"2.6.3   Discharge pressure"]
[null,null,"2.6.3.1   Stage 1",null,null,null,null,null,null,null,null,null,{"$f":"IF(M18=0,\"NA\",M85*M230)","v":"NA"},"psia"]
[null,null,"2.6.3.2   Stage 2",null,null,null,null,null,null,null,null,null,{"$f":"IF(M18=0,\"NA\",IF(M231>1,M239*M230,\"NA\"))","v":"NA"},"psia"]
[null,null,"2.6.3.3   Stage 3",null,null,null,null,null,null,null,null,null,{"$f":"IF(M18=0,\"NA\",IF(M231>2,M240*M230,\"NA\"))","v":"NA"},"psia"]
[null,null,"2.6.3.4   Stage 4",null,null,null,null,null,null,null,null,null,{"$f":"IF(M18=0,\"NA\",IF(M231>3,M241*M230,\"NA\"))","v":"NA"},"psia"]
[null,null,"2.6.3.5   Stage 5",null,null,null,null,null,null,null,null,null,{"$f":"IF(M18=0,\"NA\",IF(M231>4,M242*M230,\"NA\"))","v":"NA"},"psia"]
[null,"2.6.4   Adiabatic work of compression"]
[null,null,"2.6.4.1   Stage 1",null,null,null,null,null,null,null,null,null,{"$f":"IF(M18=0,\"NA\",(M88/(M88-1))*(3.027*14.7/(60+460))*(M87+460)*((M230^Compressors!K53)^((M88-1)/M88)-1))","v":"NA"},"hp/MMscf/d"]
[null,null,"2.6.4.2   Stage 2",null,null,null,null,null,null,null,null,null,{"$f":"IF(M18=0,\"NA\",IF(M231>1,(M88/(M88-1))*(3.027*14.7/(60+460))*(M234+460)*((M230^Compressors!K54)^((M88-1)/M88)-1),\"NA\"))","v":"NA"},"hp/MMscf/d"]
[null,null,"2.6.4.3   Stage 3",null,null,null,null,null,null,null,null,null,{"$f":"IF(M18=0,\"NA\",IF(M231>2,(M88/(M88-1))*(3.027*14.7/(60+460))*(M235+460)*((M230^Compressors!K55)^((M88-1)/M88)-1),\"NA\"))","v":"NA"},"hp/MMscf/d"]
[null,null,"2.6.4.4   Stage 4",null,null,null,null,null,null,null,null,null,{"$f":"IF(M18=0,\"NA\",IF(M231>3,(M88/(M88-1))*(3.027*14.7/(60+460))*(M236+460)*((M230^Compressors!K56)^((M88-1)/M88)-1),\"NA\"))","v":"NA"},"hp/MMscf/d"]
[null,null,"2.6.4.5   Stage 5",null,null,null,null,null,null,null,null,null,{"$f":"IF(M18=0,\"NA\",IF(M231>4,(M88/(M88-1))*(3.027*14.7/(60+460))*(M237+460)*((M230^Compressors!K57)^((M88-1)/M88)-1),\"NA\"))","v":"NA"},"hp/MMscf/d"]
[null,"2.6.5   Total adiabatic work of compression",null,null,null,null,null,null,null,null,null,null,{"$f":"IF(M18=0,\"NA\",IF(M231=1,M245,IF(M231=2,M245+M246,IF(M231=3,SUM(M245:M247),IF(M231=4,SUM(M245:M248),SUM(M245:M249))))))","v":"NA"},"hp/MMscf/d"]
[null,"2.6.6   Output horsepower from compressor",null,null,null,null,null,null,null,null,null,null,{"$f":"IF(M18=0,\"NA\",M250*M229/1000)","v":"NA"},"hp"]
[null,"2.6.7   Brake horse power (BHP",null,null,null,null,null,null,null,null,null,null,{"$f":"IF(M18=0,\"NA\",M251/(M89/100))","v":"NA"},"bhp"]
[]
[null,null,"2.6.7.1   Prime mover fuel use",null,null,null,null,null,null,null,null,null,"NG - Engine","Electricity"]
[null,null,null,null,null,null,null,null,null,null,null,null,{"$f":"HLOOKUP(M252,Drivers!C35:AE36,2,TRUE)","v":{"$error":"#N/A"}},{"$f":"HLOOKUP(M252,Drivers!C136:W137,2,TRUE)/'Input Data'!E53","v":{"$error":"#N/A"}}]
[null,null,null,null,null,null,null,null,null,null,null,null,"Btu/bhp-hr","kWh/bhp-hr"]
[null,"2.6.8   Energy consumption"]
[null,null,"2.6.8.1   Total fuel use",null,null,null,null,null,null,null,null,null,"NG - Engine","Electricity"]
[null,null,null,null,null,null,null,null,null,null,null,null,{"$f":"IF(M90=2,IF(M18=1,M252*M255*24/1000000,0),0)","v":0},{"$f":"IF(M90=1,IF(M18=1,M252*N255*24,0),0)","v":0}]
[null,null,null,null,null,null,null,null,null,null,null,null,"MMBtu/d","kWh/d"]
[]
["2.7   Gas flooding compressor"]
[null,"2.7.1  Compression ratio",null,null,null,null,null,null,null,null,null,null,{"$f":"IF(M19=0,\"NA\",IF(M109/M108<5, M109/M108, IF((M109/M108)^(1/2)<5, (M109/M108)^(1/2), IF((M109/M108)^(1/3)<5, (M109/M108)^(1/3),IF((M109/M108)^(1/4)<5, (M109/M108)^(1/4), (M109/M108)^(1/5))))))","v":"NA"},"[-]",null,null,null,null,null,null,null,null,null,"According to The ULLMANN's Encyclopedia of Industrial Chemistry, the specific power consumption for the production of nitrogen gas for single- and double-column process (for standard purities) are 0.25 and  0.22 kWh/m3 (STP) N2 respectively."]
[null,"2.7.2   Number of stages",null,null,null,null,null,null,null,null,null,null,{"$f":"IF(M19=0,\"NA\",IF(M109/M108=M263,1,IF((M109/M108)^(1/2)=M263, 2, IF((M109/M108)^(1/3)=M263,3,IF((M109/M108)^(1/4)=M263,4,5)))))","v":"NA"},"[-]"]
[null,"2.7.3   Inlet temperatures"]
[null,null,"2.7.3.1   Stage 1 inlet temperature",null,null,null,null,null,null,null,null,null,{"$f":"M110","v":196.7},"◦F"]
[null,null,"2.7.3.2  Stage 2 inlet temperature",null,null,null,null,null,null,null,null,null,{"$f":"IF($M$19=0,\"NA\",IF(AND($M$264>1, 'Active Field'!$J$90=1), Compressors!B94, IF(AND($M$264>1, 'Active Field'!$J$90=2),Compressors!B106, IF(AND($M$264>1, 'Active Field'!$J$90=3), Compressors!B114, IF(AND($M$264>1, 'Active Field'!$J$90=4), Compressors!B122, IF(AND($M$264>1, 'Active Field'!$J$90=5), Compressors!B130, \"NA\"))))))","v":"NA"},"◦F"]
[null,null,"2.7.3.3   Stage 3 inlet temperature",null,null,null,null,null,null,null,null,null,{"$f":"IF($M$19=0,\"NA\",IF(AND($M$264>2, 'Active Field'!$J$90=1), Compressors!B95, IF(AND($M$264>2, 'Active Field'!$J$90=2),Compressors!B107, IF(AND($M$264>2, 'Active Field'!$J$90=3), Compressors!B115, IF(AND($M$264>2, 'Active Field'!$J$90=4), Compressors!B123, IF(AND($M$264>2, 'Active Field'!$J$90=5), Compressors!B131, \"NA\"))))))","v":"NA"},"◦F"]
[null,null,"2.7.3.4   Stage 4 inlet temperature",null,null,null,null,null,null,null,null,null,{"$f":"IF($M$19=0,\"NA\",IF(AND($M$264>3, 'Active Field'!$J$90=1), Compressors!B96, IF(AND($M$264>3, 'Active Field'!$J$90=2),Compressors!B108, IF(AND($M$264>3, 'Active Field'!$J$90=3), Compressors!B116, IF(AND($M$264>3, 'Active Field'!$J$90=4), Compressors!B124, IF(AND($M$264>3, 'Active Field'!$J$90=5), Compressors!B132, \"NA\"))))))","v":"NA"},"◦F"]
[null,null,"2.7.3.5   Stage 5 inlet temperature",null,null,null,null,null,null,null,null,null,{"$f":"IF($M$19=0,\"NA\",IF(AND($M$264>4, 'Active Field'!$J$90=1), Compressors!B97, IF(AND($M$264>4, 'Active Field'!$J$90=2),Compressors!B109, IF(AND($M$264>4, 'Active Field'!$J$90=3), Compressors!B117, IF(AND($M$264>4, 'Active Field'!$J$90=4), Compressors!B125, IF(AND($M$264>4, 'Active Field'!$J$90=5), Compressors!B133, \"NA\"))))))","v":"NA"},"◦F"]
[null,"2.7.4   Discharge pressure"]
[null,null,"2.7.4.1   Stage 1",null,null,null,null,null,null,null,null,null,{"$f":"IF($M$19=0,\"NA\", $M$108*$M$263)","v":"NA"},"psia"]
[null,null,"2.7.4.2   Stage 2",null,null,null,null,null,null,null,null,null,{"$f":"IF($M$19=0,\"NA\",IF($M$264>1, $M$272*$M$263, \"NA\"))","v":"NA"},"psia"]
[null,null,"2.7.4.3   Stage 3",null,null,null,null,null,null,null,null,null,{"$f":"IF($M$19=0,\"NA\",IF($M$264>2, $M$273*$M$263, \"NA\"))","v":"NA"},"psia"]
[null,null,"2.7.4.4   Stage 4",null,null,null,null,null,null,null,null,null,{"$f":"IF($M$19=0,\"NA\",IF($M$264>3, $M$274*$M$263, \"NA\"))","v":"NA"},"psia"]
[null,null,"2.7.4.5   Stage 5",null,null,null,null,null,null,null,null,null,{"$f":"IF($M$19=0,\"NA\",IF($M$264>4, $M$275*$M$263, \"NA\"))","v":"NA"},"psia"]
[null,"2.7.5   Adiabatic work of compression"]
[null,null,"2.7.5.1   Stage 1",null,null,null,null,null,null,null,null,null,{"$f":"IF($M$19=0,\"NA\",IF('Active Field'!$J$90=1, Compressors!L93, IF('Active Field'!$J$90=2, Compressors!H105, IF('Active Field'!$J$90=3, Compressors!H113, IF('Active Field'!$J$90=4, Compressors!H121, IF('Active Field'!$J$90=5, Compressors!H129, \"NA\"))))))","v":"NA"},"hp/MMscf/d"]
[null,null,"2.7.5.2   Stage 2",null,null,null,null,null,null,null,null,null,{"$f":"IF($M$19=0,\"NA\",IF(AND($M$264>1, 'Active Field'!$J$90=1), Compressors!L94, IF(AND($M$264>1, 'Active Field'!$J$90=2),Compressors!H106, IF(AND($M$264>1, 'Active Field'!$J$90=3), Compressors!H114, IF(AND($M$264>1, 'Active Field'!$J$90=4), Compressors!H122, IF(AND($M$264>1, 'Active Field'!$J$90=5), Compressors!H130, \"NA\"))))))","v":"NA"},"hp/MMscf/d"]
[null,null,"2.7.5.3   Stage 3",null,null,null,null,null,null,null,null,null,{"$f":"IF($M$19=0,\"NA\",IF(AND($M$264>2, 'Active Field'!$J$90=1), Compressors!L95, IF(AND($M$264>2, 'Active Field'!$J$90=2), Compressors!H107, IF(AND($M$264>2, 'Active Field'!$J$90=3), Compressors!H115, IF(AND($M$264>2, 'Active Field'!$J$90=4), Compressors!H123, IF(AND($M$264>2, 'Active Field'!$J$90=5), Compressors!H131, \"NA\"))))))","v":"NA"},"hp/MMscf/d"]
[null,null,"2.7.5.4   Stage 4",null,null,null,null,null,null,null,null,null,{"$f":"IF($M$19=0,\"NA\",IF(AND($M$264>3, 'Active Field'!$J$90=1), Compressors!L96, IF(AND($M$264>3, 'Active Field'!$J$90=2),Compressors!H108, IF(AND($M$264>3, 'Active Field'!$J$90=3), Compressors!H116, IF(AND($M$264>3, 'Active Field'!$J$90=4), Compressors!H124, IF(AND($M$264>3, 'Active Field'!$J$90=5), Compressors!H132, \"NA\"))))))","v":"NA"},"hp/MMscf/d"]
[null,null,"2.7.5.5   Stage 5",null,null,null,null,null,null,null,null,null,{"$f":"IF($M$19=0,\"NA\",IF(AND($M$264>4, 'Active Field'!$J$90=1), Compressors!L97, IF(AND($M$264>4, 'Active Field'!$J$90=2), Compressors!H109, IF(AND($M$264>4, 'Active Field'!$J$90=3), Compressors!H117, IF(AND($M$264>4, 'Active Field'!$J$90=4), Compressors!H125, IF(AND($M$264>4, 'Active Field'!$J$90=5), Compressors!H133, \"NA\"))))))","v":"NA"},"hp/MMscf/d"]
[null,"2.7.6   Total adabiatic work of compression",null,null,null,null,null,null,null,null,null,null,{"$f":"IF(M19=0,\"NA\",IF(M264=1,M278,IF(M264=2,M278+M279,IF(M264=3,SUM(M278:M280),IF(M264=4,SUM(M278:M281),SUM(M278:M282))))))","v":"NA"},"hp/MMscf/d"]
[null,"2.7.7   Flood gas injection rate",null,null,null,null,null,null,null,null,null,null,{"$f":"IF('Active Field'!J90=1,M49/1000,IF('Active Field'!J90=2,M49/1000,IF('Active Field'!J90=3,IF('Active Field'!J116=6,'Gas Balance'!CL85,IF('Active Field'!J116=7,'Gas Balance'!DI168,IF('Active Field'!J116=8,'Gas Balance'!BP208))))))","v":{"$error":"#VALUE!"}},"MMscf/d"]
[null,"2.7.7   Output horsepower from compressor",null,null,null,null,null,null,null,null,null,null,{"$f":"IF(M19=0,\"NA\",M283*M284)","v":"NA"},"hp"]
[null,"2.7.8   Brake horse power (BHP)",null,null,null,null,null,null,null,null,null,null,{"$f":"IF(M19=0,\"NA\",M285/(M112/100))","v":"NA"},"bhp"]
[]
[null,null,"2.7.8.1   Prime mover fuel use",null,null,null,null,null,null,null,null,null,"NG - Engine","Electricity"]
[null,null,null,null,null,null,null,null,null,null,null,null,{"$f":"HLOOKUP(M286,Drivers!C35:AE36,2,TRUE)","v":{"$error":"#N/A"}},{"$f":"HLOOKUP(M286,Drivers!C136:W137,2,TRUE)/'Input Data'!E53","v":{"$error":"#N/A"}}]
[null,null,null,null,null,null,null,null,null,null,null,null,"Btu/bhp-hr","kWh/bhp-hr"]
[null,"2.7.9   Energy consumption"]
[null,null,"2.7.9.1   Total fuel use",null,null,null,null,null,null,null,null,null,"NG - Engine","Electricity"]
[null,null,null,null,null,null,null,null,null,null,null,null,{"$f":"IF(M113=2,IF(M19=1,M286*M289*24/1000000,0),0)","v":0},{"$f":"IF(M113=1,IF(M19=1,M286*N289*24,0),0)","v":0}]
[null,null,null,null,null,null,null,null,null,null,null,null,"MMBtu/d","kWh/d"]
[]
[null,"2.7.10   Effective daily CO2 sequestration rate",null,null,null,null,null,null,null,null,null,null,{"$f":"IF(AND(M19=1, 'Active Field'!J90=3), M49*'Active Field'!J97/100*1000*'Input Data'!C83, \"NA\")","v":"NA"},"lbCO2/d",null,null,null,null,null,null,null,null,null,"If carbon dioxide is the flood gas, then it is assumed that all CO2 will eventually be sequestered within the reservoir. No final stage blowdown."]
[null,"2.7.11   Effective daily CO2 sequestration rate",null,null,null,null,null,null,null,null,null,null,{"$f":"IF(AND(M19=1, 'Active Field'!J90=3), M296*'Input Data'!E22, \"NA\")","v":"NA"},"gCO2/d",null,null,null,null,null,null,null,null,null,"If carbon dioxide is the flood gas, then it is assumed that all CO2 will eventually be sequestered within the reservoir. No final stage blowdown."]
[]
["2.8   Gas flooding gas separation"]
[null,"2.8.1   Gas flooding separation energy for producing flooding N2",null,null,null,null,null,null,null,null,null,null,{"$f":"IF('Active Field'!J90=2,M100*M49*1000,0)","v":0},"kWh/d"]
[]
[]
["2.9   Steam injection"]
[null,"2.9.1   Steam injection rate",null,null,null,null,null,null,null,null,null,null,{"$f":"M46*M26","v":4500},"bbl CWE/d"]
[null,"2.9.2   Energy consumption"]
[null,null,"2.9.2.1   Gas in once-through steam generator (OTSG)",null,null,null,null,null,null,null,null,null,{"$f":"'Steam Generation'!D215","v":0},"MMBtu/d"]
[null,null,"2.9.2.2   Gas in combined heat and power (GT + HRSG)",null,null,null,null,null,null,null,null,null,{"$f":"'Steam Generation'!M347","v":0},"MMBtu/d"]
[null,null,"2.9.2.3   Crude oil burned in once-through steam generator (OTSG)",null,null,null,null,null,null,null,null,null,{"$f":"'Steam Generation'!E215","v":0},"MMBtu/d"]
[null,null,"2.9.2.4   Electricity in OTSG for blowers etc.",null,null,null,null,null,null,null,null,null,{"$f":"('Steam Generation'!M218+'Steam Generation'!M219)","v":0},"kWh/d"]
[null,"2.9.3   CHP electricity net generation",null,null,null,null,null,null,null,null,null,null,{"$f":"'Steam Generation'!M350","v":0},"mmBtu/d"]
[]
[]
["2.10   Oil sands mine"]
[null,"2.10.1   Natural gas consumption",null,null,null,null,null,null,null,null,null,null,{"$f":"(M21*M26*M125+M22*M26*M117)*'Fuel Specs'!B254/1000000","v":0},"MMBtu/d"]
[null,"2.10.2   Diesel fuel consumption",null,null,null,null,null,null,null,null,null,null,{"$f":"(M21*M26*M124+M22*M26*M116)*'Fuel Specs'!E336/1000000","v":0},"MMBtu/d"]
[null,"2.10.3   Gross electricity consumption",null,null,null,null,null,null,null,null,null,null,{"$f":"(M21*M26*M126+M22*M26*M118)","v":0},"kWh/d"]
[]
["2.11   Fraction of gas consumed in different types of NG engines and turbines"]
[null,"2.11.1   Fraction consumed in NG engines",null,null,null,null,null,null,null,null,null,null,{"$f":"IFERROR((M159+M174+M192+M225+M259+M293)/(M159+P159+M174+P174+M192+P192+M225+M259+M293+M306+M307+M314),0)","v":1}]
[null,"2.11.2   Fraction consumed in NG turbines",null,null,null,null,null,null,null,null,null,null,{"$f":"IFERROR((P159+P174+P192+M307)/(M159+P159+M174+P174+M192+P192+M225+M259+M293+M306+M307+M314),0)","v":0}]
[null,"2.11.3   Fraction consumed in NG boilers",null,null,null,null,null,null,null,null,null,null,{"$f":"IFERROR((M306+M314)/(M159+P159+M174+P174+M192+P192+M225+M259+M293+M306+M307+M314),0)","v":0}]
[]
["3 Outputs"]
[]
[]
["3.1   Tabulated outputs: Energy consumption by fuel (per day)",null,null,null,null,null,null,null,null,null,null,null,"Natural gas","Upgrader process gas","NGL","Crude oil","Diesel","Residual fuel","Petroleum coke","Electricity"]
[null,null,null,null,null,null,null,null,null,null,null,null,"MMBtu/d","MMBtu/d","MMBtu/d","MMBtu/d","MMBtu/d","MMBtu/d","MMBtu/d","kWh/d"]
[null,null,null,null,null,null,null,null,null,null,null,null,{"$f":"M159+M174+M192+M225+M259+M293+M306+M307+M314","v":118.39563054289619},0,0,{"$f":"M308","v":0},{"$f":"O159+O174+O192+M315","v":0},0,0,{"$f":"N159+N174+N192+N225+N259+N293+M300+M309+M316","v":0}]
[]
["3.2   Tabulated outputs: Non-combustion emissions (per day)",null,null,null,null,null,null,null,null,null,null,null,"Land use CO2","Venting","Flaring","Fugitives"]
[null,null,null,null,null,null,null,null,null,null,null,null,0,"See VFF sheet","See VFF sheet","See VFF sheet"]

{"sheet":"Surface Processing","index":11,"n_rows":550,"n_cols":27,"rows_kept":550,"cut":false,"hidden":false,"merged":[[324,8,324,9],[371,11,371,12],[364,12,364,13],[494,3,494,4],[494,9,494,10],[494,13,494,14],[307,4,307,7],[308,19,308,20],[313,4,313,7],[317,4,317,7],[323,8,323,9],[507,3,507,4],[507,9,507,10],[507,13,507,14],[507,17,507,18],[494,17,494,18]]}
["Surface processing",null,null,null,null,null,null,"Active field:",null,{"$f":"'Active Field'!C9","v":"Generic"}]
[]
["Calculation of GHG emissions from field oil, gas and water processing."]
[]
[]
["1 Inputs"]
[]
["1.1   Crude oil processing"]
[]
["1.1.1  Key inputs (to be entered on \"Inputs\" sheet)",null,null,null,null,null,null,null,null,null,null,null,"User","Default","Units",null,"User reference",null,"Default reference",null,null,null,null,null,"Notes"]
[]
[null,"1.1.1.1   Production volume",null,null,null,null,null,null,null,null,null,null,{"$f":"'Active Field'!J63","v":1500},{"$f":"'Active Field'!K63","v":1500},"bbl/d"]
[null,"1.1.1.2   Fraction of electricity generated from cogen",null,null,null,null,null,null,null,null,null,null,{"$f":"'Active Field'!J103","v":0},{"$f":"'Active Field'!K103","v":0},"[0-1]"]
[null,"1.1.1.3   Heater/treater",null,null,null,null,null,null,null,null,null,null,{"$f":"'Active Field'!J109","v":0},0,"[0 or 1]"]
[null,"1.1.1.4   Stabilizer column",null,null,null,null,null,null,null,null,null,null,{"$f":"'Active Field'!J110","v":1},{"$f":"'Active Field'!K110","v":1},"[0 or 1]"]
[null,"1.1.1.5   Upgrader type",null,null,null,null,null,null,null,null,null,null,{"$f":"'Active Field'!J111","v":0},{"$f":"'Active Field'!K111","v":0},"[-]"]
[null,null,"0 = None"]
[null,null,"1 = Delayed coking"]
[null,null,"2 = Hydroconversion"]
[null,null,"3 = Combined hydroconversion and fluid coking"]
[null,"1.1.1.6  Volume fraction of dilbit as diluent",null,null,null,null,null,null,null,null,null,null,{"$f":"'Active Field'!J127","v":0},{"$f":"'Active Field'!K127","v":0},"bbl diluent/bbl dilbit",null,null,null,"COSIA template"]
[]
["1.1.2   Secondary inputs (to be entered on this sheet)"]
[]
[null,"1.1.2.1   Heater/treater parameters"]
[null,null,"1.1.2.1.1   Entrained water as a fraction of oil emulsion",null,null,null,null,null,null,null,null,null,14,14,"%",null,null,null,"Manning, F. and Thompson, R. (1991)"]
[null,null,"1.1.2.1.2   Feed temperature",null,null,null,null,null,null,null,null,null,90,90,"◦F",null,null,null,"Manning, F. and Thompson, R. (1991)"]
[null,null,"1.1.2.1.3   Treating temperature",null,null,null,null,null,null,null,null,null,165,165,"◦F",null,null,null,"Manning, F. and Thompson, R. (1991)"]
[null,null,"1.1.2.1.4   Specific heat of oil",null,null,null,null,null,null,null,null,null,150,150,"Btu/bbl-◦F",null,null,null,"Manning, F. and Thompson, R. (1991)"]
[null,null,"1.1.2.1.5   Specific heat of water",null,null,null,null,null,null,null,null,null,350,350,"Btu/bbl-◦F",null,null,null,"Manning, F. and Thompson, R. (1991)"]
[null,null,"1.1.2.1.6   Heat loss",null,null,null,null,null,null,null,null,null,2,2,"%",null,null,null,"Manning, F. and Thompson, R. (1991)"]
[null,null,"1.1.2.1.7   Type of heater",null,null,null,null,"1= Gas fired","2= Electric",null,null,null,1,1,"[-]"]
[null,null,"1.1.2.1.9   Heater fuel use",null,null,null,null,null,null,null,null,null,{"$f":"N33","v":1.25},{"$f":"1/0.8","v":1.25},"Btu/Btu",null,null,null,"EPA (2008)",null,null,null,null,null,"Nominal heater efficiency (80%) <http://www.epa.gov/climateleadership/documents/resources/draft_reforestation_offset_protocol.pdf>"]
[null,null,null,null,null,null,null,null,null,null,null,null,{"$f":"N34","v":0.36633680555555553},{"$f":"(N42/'Input Data'!$E$54)","v":0.36633680555555553},"kWh/Btu"]
[null,"1.1.2.2   Reboiled stabilizer column"]
[null,null,"1.1.2.2.1   Reboiler pressure",null,null,null,null,null,null,null,null,null,100,100,"psi",null,null,null,null,null,null,null,null,null,"The higher the operating pressure, the higher is the oil yield"]
[null,null,"1.1.2.2.2   Feed temperature",null,null,null,null,null,null,null,null,null,120,120,"◦F"]
[null,null,"1.1.2.2.3   Process temperature",null,null,null,null,null,null,null,null,null,344,344,"◦F"]
[null,null,"1.1.2.2.4   Specific heat of crude oil",null,null,null,null,null,null,null,null,null,150,150,"Btu/bbl-◦F"]
[null,null,"1.1.2.2.5   Heat loss",null,null,null,null,null,null,null,null,null,2,2,"%"]
[null,null,"1.1.2.2.6   Type of heater",null,null,null,null,"1= Gas fired","2= Electric",null,null,null,1,1,"NA"]
[null,null,"1.1.2.2.7   Heater fuel use",null,null,null,null,null,null,null,null,null,{"$f":"N42","v":1.25},{"$f":"1/0.8","v":1.25},"Btu/Btu"]
[null,null,null,null,null,null,null,null,null,null,null,null,{"$f":"N43","v":0.36633680555555553},{"$f":"(N42/'Input Data'!$E$54)","v":0.36633680555555553},"kWh/Btu"]
[null,"1.1.2.3   Gas properties from separator"]
[null,null,"1.1.2.3.1   Pressure of gas exiting crude oil processing (bulk separation) and entering nas",null,null,null,null,null,null,null,null,null,{"$f":"N45","v":14.5},14.5,"psi",null,null,null,null,null,null,null,null,null,"Default assumption is that associated gas is at standard temperature and pressures before entering gas processing."]
[null,null,"1.1.2.3.2   Temperature of gas exiting crude oil processing (bulk separation)",null,null,null,null,null,null,null,null,null,{"$f":"N46","v":59},59,"◦F",null,null,null,null,null,null,null,null,null,"Default assumption is that associated gas is at standard temperature and pressures before entering gas processing."]
[]
[null,"1.1.2.4   Crude oil upgrading and dilution"]
[null,null,"1.1.2.4.1   Cogeneration in upgrading?",null,null,null,null,null,null,null,null,null,1,1,"[0-1]"]
[null,null,"1.1.2.4.2   Crude bitumen API gravity",null,null,null,null,null,null,null,null,null,8,8,"deg. API",null,null,null,null,null,null,null,null,null,"Default bitumen API gravity in GHGenius 4.0c"]
[null,null,"1.1.2.4.3   Diluent API gravity",null,null,null,null,null,null,null,null,null,{"$f":"'Fuel Specs'!D397","v":55.2},{"$f":"'Fuel Specs'!D397","v":55.2},"deg. API",null,null,null,"COSIA template"]
[]
[]
[]
["1.3   Inputs from other sheets"]
[]
[null,"1.3.1   Upgrading data table"]
[null,null,null,null,null,null,null,null,null,null,null,null,null,"Delayed coking","Hydroconversion","Hydroconversion and fluid coking"]
[null,null,null,null,null,null,null,null,null,"API gravity of resuling upgraded product output",null,null,null,{"$f":"33.2","v":33.200000000000003},31.1,31.1,"deg API",null,null,null,null,null,null,null,null,null,"See notes on \"Upgrading\" supplemental worksheet"]
[null,null,null,null,null,null,null,null,null,"Process gas (PG) yield per bbl SCO output",null,null,null,{"$f":"Upgrading!C31*'Input Data'!E39","v":500.54506188452552},{"$f":"Upgrading!C92*'Input Data'!E39","v":340.58803432215501},{"$f":"Upgrading!C151*'Input Data'!E39","v":649.52427980854952},"scf/bbl SCO","Check shares:"]
[null,null,null,null,null,null,null,null,null,"   - Fraction PG to self use - Heating (W/O cogen)",null,null,null,{"$f":"Upgrading!C46","v":0.65},{"$f":"Upgrading!C106","v":0.79999999999999993},{"$f":"Upgrading!C165","v":0.72469759053344684},"[0-1]",{"$f":"IF(SUM(N61:N64)=1,\"OK\",\"ERROR\")","v":"OK"},{"$f":"IF(SUM(O61:O64)=1,\"OK\",\"ERROR\")","v":"OK"},{"$f":"IF(SUM(P61:P64)=1,\"OK\",\"ERROR\")","v":"OK"}]
[null,null,null,null,null,null,null,null,null,"   - Fraction PG to self use - H2 gen",null,null,null,{"$f":"Upgrading!C45","v":0},{"$f":"Upgrading!C105","v":0},{"$f":"Upgrading!C164","v":0.21858728015899517},"[0-1]"]
[null,null,null,null,null,null,null,null,null,"   - Fraction PG exported",null,null,null,{"$f":"Upgrading!C47-N64","v":0.32499999999999996},{"$f":"Upgrading!C107-O64","v":0.1750000000000001},{"$f":"Upgrading!C166-P64","v":3.1715129307557974E-2},"[0-1]"]
[null,null,null,null,null,null,null,null,null,"   - Fraction PG flared",null,null,null,2.5000000000000001E-2,2.5000000000000001E-2,2.5000000000000001E-2,"[0-1]"]
[null,null,null,null,null,null,null,null,null,"Coke yield per bbl SCO output",null,null,null,{"$f":"Upgrading!C51","v":42.582220281656049},{"$f":"Upgrading!C109","v":0},{"$f":"Upgrading!C168","v":30.290549312157289},"kg/bbl SCO","Check shares:"]
[null,null,null,null,null,null,null,null,null,"   - Fraction coke to self use - Heating",null,null,null,{"$f":"Upgrading!C56","v":0.10599727271658618},{"$f":"Upgrading!C114","v":0},{"$f":"Upgrading!C173","v":0.20734722688001533},"[0-1]",{"$f":"IF(SUM(N66:N68)=1,\"OK\",\"ERROR\")","v":"OK"},{"$f":"IF(SUM(O66:O68)=1,\"OK\",\"ERROR\")","v":"OK"},{"$f":"IF(SUM(P66:P68)=1,\"OK\",\"ERROR\")","v":"OK"}]
[null,null,null,null,null,null,null,null,null,"   - Fraction coke exported",null,null,null,0,{"$f":"Upgrading!C116","v":0},0,"[0-1]"]
[null,null,null,null,null,null,null,null,null,"   - Fraction coke stockpiled",null,null,null,{"$f":"Upgrading!C57","v":0.8940027272834139},1,{"$f":"Upgrading!C174","v":0.79265277311998472},"[0-1]"]
[null,null,null,null,null,null,null,null,null,"Electricity intensity",null,null,null,{"$f":"Upgrading!C60","v":5.4511809924611656},{"$f":"Upgrading!C118","v":17.249722893729047},{"$f":"Upgrading!C177","v":19.976302772612872},"kWh/bbl SCO"]
[null,null,null,null,null,null,null,null,null,"   - Fraction electricity self generated W/ cogen",null,null,null,{"$f":"M13*M49","v":0},{"$f":"M49*M13","v":0},{"$f":"M49*M13","v":0},"[0-1]"]
[null,null,null,null,null,null,null,null,null,"   - Cogenerated heat as steam",null,null,null,{"$f":"N69*N70*'Input Data'!E53/N76*N77/1000","v":0},{"$f":"O69*O70*'Input Data'!E53/O76*O77/1000","v":0},{"$f":"P69*P70*'Input Data'!E53/P76*P77/1000","v":0},"mBtu/bbl SCO"]
[null,null,null,null,null,null,null,null,null,"   - NG to cogen unit",null,null,null,{"$f":"N69*N70*'Input Data'!E53/N76/'Fuel Specs'!B254","v":0},{"$f":"O69*O70*'Input Data'!E53/O76/'Fuel Specs'!B254","v":0},{"$f":"P69*P70*'Input Data'!E53/P76/'Fuel Specs'!B254","v":0},"scf/bbl SCO"]
[null,null,null,null,null,null,null,null,null,"Natural gas intensity (W/O cogen)",null,null,null,{"$f":"Upgrading!C24","v":336.86211409779946},{"$f":"Upgrading!C85","v":1078.9787383920489},{"$f":"Upgrading!C144","v":460.85431250040028},"scf NG per bbl SCO","Check shares:"]
[null,null,null,null,null,null,null,null,null,"    - Fraction NG - Heating (W/O cogen)",null,null,null,{"$f":"Upgrading!C29","v":0},{"$f":"Upgrading!C90","v":0.27511462021336197},{"$f":"Upgrading!C149","v":0},"[0-1]",{"$f":"IF(SUM(N74:N75)=1,\"OK\",\"ERROR\")","v":"OK"},{"$f":"IF(SUM(O74:O75)=1,\"OK\",\"ERROR\")","v":"OK"},{"$f":"IF(SUM(P74:P75)=1,\"OK\",\"ERROR\")","v":"OK"}]
[null,null,null,null,null,null,null,null,null,"    - Fraction NG - H2",null,null,null,{"$f":"Upgrading!C28","v":1},{"$f":"Upgrading!C89","v":0.72488537978663792},{"$f":"Upgrading!C148","v":1},"[0-1]"]
[null,null,null,null,null,null,null,null,null,"Cogen turbine efficiency",null,null,null,{"$f":"'Input Data'!$I$2301","v":0.30929238317494734},{"$f":"'Input Data'!$I$2301","v":0.30929238317494734},{"$f":"'Input Data'!$I$2301","v":0.30929238317494734},"Btu e- per Btu NG LHV"]
[null,null,null,null,null,null,null,null,null,"Cogeneration steam efficiency",null,null,null,{"$f":"0.4","v":0.4},{"$f":"0.4","v":0.4},{"$f":"0.4","v":0.4},"Btu steam enthalpy per Btu NG LHV"]
[null,null,null,null,null,null,null,null,null,"Steam boiler efficiency",null,null,null,0.8,0.8,0.8,"Btu steam enthalpy/Btu NG LHV"]
[null,null,null,null,null,null,null,null,null,"SCO/bitumen ratio",null,null,null,{"$f":"Upgrading!C66","v":0.83390233899943655},{"$f":"Upgrading!C124","v":1.024982672496197},{"$f":"Upgrading!C183","v":0.86480367814447356},"bbl SCO/bbl bitumen"]
[null,null,null,null,null,null,null,null,null,"Note: Data from OSTUM model (MacLean et al. 2016)"]
[]
[null,"1.3.2   Bitumen heating value",null,null,null,null,null,null,null,null,null,null,{"$f":"VLOOKUP(M50,'Fuel Specs'!B24:O65,5)","v":6.1009200000000003},{"$f":"VLOOKUP(N50,'Fuel Specs'!B24:O65,5)","v":6.1009200000000003},"MMBtu/bbl (LHV)"]
[null,"1.3.3   Diluent heating value",null,null,null,null,null,null,null,null,null,null,{"$f":"'Fuel Specs'!AB397","v":5.4975364640703237},{"$f":"'Fuel Specs'!AB397","v":5.4975364640703237},"MMBtu/bbl (LHV)",null,null,null,null,null,null,null,null,null,"See diluent composition table."]
[null,"1.3.4   H2S concentration in raw gas",null,null,null,null,null,null,null,null,null,null,{"$f":"N84","v":1},{"$f":"'Active Field'!K81","v":1},"mol %"]
[]
[]
[]
["1.2   Associated gas processing"]
[]
[null,null,null,null,null,null,null,null,null,null,null,null,"User","Default","Units",null,"User reference",null,"Default reference",null,null,null,null,null,"Notes"]
["1.2.1  Key inputs (to be entered on \"Inputs\" sheet)"]
[]
["1.2.2   Secondary inputs (to be entered on this sheet)",null,null,null,null,null,null,null,null,null,null,null,null,null,null,null,null,null,"Bahadori 2014 - Natural gas processing: Technology and engineering design. ",null,null,null,null,null,"Section 10.5.9 on p. 502 suggests use of DEA when H2S concentration is low, MDEA when H@S concentration is high. MEA not favored.  See also:"]
[null,"1.2.2.1   Amine treater ",null,null,null,null,null,null,null,null,null,null,null,null,null,null,null,null,null,null,null,null,null,null,"SPE 96742: MDEA used at Sliepner for 9% CO2 mixture."]
[null,null,"1.2.2.1.1   Amine solution",null,null,null,null,null,null,null,null,null,{"$f":"N95","v":2},{"$f":"IF(M84<=1,2,5)","v":2},"NA",null,null,null,null,null,null,null,null,null,"Mazetti et al. (2014): MDEA used due to reduced absorber size and higher pressure CO2 input."]
[null,null,null,"1= Monoethanolamine (MEA)",null,null,null,null,null,null,null,null,null,null,null,null,null,null,null,null,null,null,null,null,"IPTC 10735: MDEA used in Indian gas sweetening plants."]
[null,null,null,"2= Diethanolamine (DEA) - conventional (30 wt%)",null,null,null,null,null,null,null,null,null,null,null,null,null,null,null,null,null,null,null,null,"IPTC 18492: MDEA used for large gas plant associated with Quatar LNG, processing feed of ~2% CO2."]
[null,null,null,"3= Diethanolamine (DEA) - high load (35 wt%)",null,null,null,null,null,null,null,null,null,null,null,null,null,null,null,null,null,null,null,null,"NACE 00497: Switched from MEA to MDEA to reduce stress corrosion cracking. Saw reduced steam load for regeneration."]
[null,null,null,"4= Diglycolamine (DGA)",null,null,null,null,null,null,null,null,null,null,null,null,null,null,null,null,null,null,null,null,"NACE 07398: \"DEA and MDEA are generally applied for gas sweetening units\""]
[null,null,null,"5= Methyldiethanolamine (MDEA)",null,null,null,null,null,null,null,null,null,null,null,null,null,null,null,null,null,null,null,null,"OMC 2015-357: \"MDEA has become very popular within the past ten years because of its ability to remove H2S from natural gas\""]
[null,null,null,"6= Other",null,null,null,null,null,null,null,null,null,null,null,null,null,null,null,null,null,null,null,null,"SPE 12148 - TEA found cost advantageous compared to MEA"]
[null,null,"1.2.2.1.2   Amine solution K value",null,null,null,null,null,null,null,null,{"$f":"IF(AND(M95=6,M102=N102),\"ERROR\",\"OK\")","v":"OK"},{"$f":"N102","v":1.45},{"$f":"IF(M95=1,2.05, IF(M95=2,1.45,IF(M95=3,0.95,IF(M95=4,1.28,IF(M95=5,1.25,\"User\")))))","v":1.45},"gpm-d/100MMscf",null,null,null,"Manning, F. and Thompson, R. (1991), p.115",null,null,null,null,null,"SPE 17754 - MDEA followed by DEA used at Wasson field in TX."]
[null,null,"1.2.2.1.3   Operating pressure",null,null,null,null,null,null,null,null,null,350,350,"psi",null,null,null,"Manning, F. and Thompson, R. (1991), p.117, Figure 7-9",null,null,null,null,null,"Median of reported values"]
[null,null,"1.2.2.1.4   Reboiler Gas-fired heater fuel use",null,null,null,null,null,null,null,null,null,{"$f":"N104","v":1.25},{"$f":"1/0.8","v":1.25},"Btu/Btu"]
[null,"1.2.2.2   Glycol dehydrator"]
[null,null,"1.2.2.2.1   TEG concentration",null,null,null,null,null,null,null,null,null,99,99,"wt%",null,null,null,"Manning, F. and Thompson, R. (1991), p.155"]
[null,null,"1.2.2.2.2   TEG-to-water ratio",null,null,null,null,null,null,null,null,null,2,2,"gal TEG/lb H2O",null,null,null,"Manning, F. and Thompson, R. (1991), p.147"]
[null,null,"1.2.2.2.3   Operating pressure",null,null,null,null,null,null,null,null,null,786,786,"psi",null,null,null,"Manning, F. and Thompson, R. (1991), p.160"]
[null,null,"1.2.2.2.4  Glycol pump type",null,null,null,null,null,null,null,null,null,1,1,"NA"]
[null,null,null,"1= Reciprocating pump"]
[null,null,null,"2= Centrifugal pump"]
[null,null,"1.2.2.2.5  Glycol pump efficiency ",null,null,null,null,null,null,null,null,null,75,75,"%"]
[null,null,"1.2.2.2.6   Type of reboiler heater",null,null,null,null,null,null,null,null,null,1,1,"NA"]
[null,null,null,"1= Gas fired"]
[null,null,null,"2= Electric"]
[null,null,"1.2.2.2.7   Reboiler heater fuel use",null,null,null,null,null,null,null,null,null,{"$f":"N116","v":1.25},{"$f":"1/0.8","v":1.25},"Btu/Btu"]
[null,null,null,null,null,null,null,null,null,null,null,null,366.33680555555554,{"$f":"(N116/'Input Data'!$E$54)*1000","v":366.33680555555554},"kWh/MMBtu"]
[null,"1.2.2.3   Demethanizer"]
[null,null,"1.2.2.3.1   Fraction of gas condensed"]
[null,null,null,"1.2.4.1.1   C2H6",null,null,null,null,null,null,null,null,90.2,90.2,"%",null,null,null,"Nawaz, M. and Jobson, M. (2010)"]
[null,null,null,"1.2.4.1.2   C3H8",null,null,null,null,null,null,null,null,100,100,"%"]
[null,null,null,"1.2.4.1.3   C4H10",null,null,null,null,null,null,null,null,100,100,"%"]
[null,null,"1.2.2.3.2   Energy factors ",null,null,null,null,null,null,null,null,null,null,null,null,null,null,null,null,null,null,null,null,null,"Assume that reboiler duty is provided via heat exchanger from inlet stream."]
[null,null,null,"1.2.4.2.1   Refrigeration system power",null,null,null,null,null,null,null,null,{"$f":"N124","v":3.6345939131811611},3.6345939131811611,"bhp-hr/kmolCOND",null,null,null,"Nawaz, M. and Jobson, M. (2010)",null,null,null,null,null,"Compressor work happens up front to bring pressure up to assumed inlet pressure of Nawaz.  So all feed is compressed."]
[null,null,null,"1.2.4.2.2   Compressor system power",null,null,null,null,null,null,null,null,{"$f":"N125","v":0.58310991957104563},0.58310991957104563,"bhp-hr/kmolFEED",null,null,null,"Nawaz, M. and Jobson, M. (2010)",null,null,null,null,null,"Because heat recovery is used to recovery cold from outlet gas stream, assume the work of refrigeration is proportional to condensed stream, not full stream."]
[null,null,"1.2.2.3.3   NGL use"]
[null,null,null,"1= Export/process fuel",null,null,null,null,null,null,null,null,1,1,"fraction"]
[null,null,null,"2= Crude oil blend",null,null,null,null,null,null,null,{"$f":"IF(SUM(M127:M128)=1,\"OK\",\"ERROR\")","v":"OK"},0,0,"fraction"]
[]
[null,"1.2.2.4  CO2 separation"]
[null,null,"1.2.2.4.1   Ryan-Holmes separation process"]
[null,null,null,"1.2.2.4.1.1   Inlet temperature",null,null,null,null,null,null,null,null,{"$f":"N132","v":81},81,"◦F",null,null,null,"National Energy Technology Laboratory (2011)"]
[null,null,null,"1.2.2.4.1.2   Inlet pressure",null,null,null,null,null,null,null,null,200,200,"psi",null,null,null,"National Energy Technology Laboratory (2011)"]
[]
[null,null,"1.2.2.4.2   Chiller"]
[null,null,null,"1.2.2.4.2.1   Inlet temperature",null,null,null,null,null,null,null,null,{"$f":"N136","v":59},59,"◦F",null,null,null,"National Energy Technology Laboratory (2012)"]
[null,null,null,"1.2.2.4.2.2   Outlet temperature",null,null,null,null,null,null,null,null,{"$f":"N137","v":35},35,"◦F",null,null,null,"National Energy Technology Laboratory (2012)"]
[]
[null,null,"1.2.2.4.3   Pre-Membrane Compressor (1-5 stages)"]
[null,null,null,"1.2.2.4.3.1   Compressor parameters"]
[null,null,null,null,"1.2.2.4.3.1.1   Suction pressure",null,null,null,null,null,null,null,{"$f":"M45","v":14.5},{"$f":"N45","v":14.5},"psia"]
[null,null,null,null,"1.2.2.4.3.1.2   Discharge pressure",null,null,null,null,null,null,null,500,500,"psia",null,null,null,"NETL (2013)"]
[null,null,null,null,"1.2.2.4.3.1.3   First stage inlet temperature",null,null,null,null,null,null,null,196.7,196.7,"◦F"]
[null,null,null,null,"1.2.2.4.3.1.4   Ratio of specific heats ",null,null,null,null,null,null,null,1.28,1.28,"[-]",null,null,null,"McAllister, E. W. (2009)",null,null,null,null,null,"Typical Cp/Cv ratios in oil-producing operations: 1.16, 1.28, 1.40"]
[null,null,null,null,"1.2.2.4.3.1.5   Compressor efficiency ",null,null,null,null,null,null,null,75,75,"%"]
[null,null,null,"1.2.2.4.3.2  Prime mover"]
[null,null,null,null,"1.2.2.4.3.2.1   Prime mover type",null,null,"1 = Electric motor","2 = Natural gas engine",null,null,null,2,2,"NA"]
["1.2.3   Inputs from other sheets"]
[null,null,"1.2.3.1   Molar mass of gas entering Ryan-Holmes separation process",null,null,null,null,null,null,null,null,null,{"$f":"('Production & Extraction'!M35/100)*'Fuel Specs'!E151+('Production & Extraction'!M36/100)*'Fuel Specs'!E153+('Production & Extraction'!M37/100)*'Fuel Specs'!E155+('Production & Extraction'!M38/100)*'Fuel Specs'!E157+('Production & Extraction'!M39/100)*'Fuel Specs'!E159+('Production & Extraction'!M40/100)*'Fuel Specs'!E161+('Production & Extraction'!M41/100)*'Fuel Specs'!E163","v":19.3},{"$f":"('Production & Extraction'!N35/100)*'Fuel Specs'!E151+('Production & Extraction'!N36/100)*'Fuel Specs'!E153+('Production & Extraction'!N37/100)*'Fuel Specs'!E155+('Production & Extraction'!N38/100)*'Fuel Specs'!E157+('Production & Extraction'!N39/100)*'Fuel Specs'!E159+('Production & Extraction'!N40/100)*'Fuel Specs'!E161+('Production & Extraction'!N41/100)*'Fuel Specs'!E163","v":19.3},"g/mol"]
[null,null,"1.2.3.2   Molar mass of gas entering chiller",null,null,null,null,null,null,null,null,null,{"$f":"('Production & Extraction'!M35/100)*'Fuel Specs'!E151+('Production & Extraction'!M36/100)*'Fuel Specs'!E153+('Production & Extraction'!M37/100)*'Fuel Specs'!E155+('Production & Extraction'!M38/100)*'Fuel Specs'!E157+('Production & Extraction'!M39/100)*'Fuel Specs'!E159+('Production & Extraction'!M40/100)*'Fuel Specs'!E161+('Production & Extraction'!M41/100)*'Fuel Specs'!E163","v":19.3},{"$f":"('Production & Extraction'!N35/100)*'Fuel Specs'!E151+('Production & Extraction'!N36/100)*'Fuel Specs'!E153+('Production & Extraction'!N37/100)*'Fuel Specs'!E155+('Production & Extraction'!N38/100)*'Fuel Specs'!E157+('Production & Extraction'!N39/100)*'Fuel Specs'!E159+('Production & Extraction'!N40/100)*'Fuel Specs'!E161+('Production & Extraction'!N41/100)*'Fuel Specs'!E163","v":19.3},"g/mol"]
[]
[]
[]
["1.3   Water treatment"]
[]
["1.3.1   Secondary Input table: Water treatment technologies (enter on this sheet)"]
[null,null,null,null,null,null,null,null,"Produced water",null,"Imported water",null,null,null,null,null,null,null,"Enter \"1\" where applicable and \"0\" where not applicable"]
[null,null,null,null,null,null,null,null,"Apply","Apply","Apply","Apply","Code","Volume loss","Volume loss","EC","EC",null,"No more than one option is allowed in each treatment stage"]
[null,null,null,null,null,null,null,null,{"$f":"\"--\"","v":"--"},{"$f":"\"--\"","v":"--"},{"$f":"\"--\"","v":"--"},{"$f":"\"--\"","v":"--"},{"$f":"\"--\"","v":"--"},"%","%","kWh/bbl input","kWh/bbl input",null,"Categorization of treatment technologies is based on Vlasopoulos et al. (2006), originally from Dillon (2003)"]
[null,null,null,null,null,null,null,null,"User","Default","User","Default",{"$f":"\"--\"","v":"--"},"User","Default","User","Default",null,"Values of energy consumption can be changed in the user columns"]
[null,"1.3.1.1   Stage 1 of treatment",null,null,null,null,null,null,{"$f":"IF(OR(SUM(I162:I163)=0,SUM(I162:I163)=1),\"OK\",\"ERROR\")","v":"OK"},null,{"$f":"IF(OR(SUM(K162:K163)=0,SUM(K162:K163)=1),\"OK\",\"ERROR\")","v":"OK"}]
[null,null,"1.3.1.1.1   Dissolved air flotation",null,null,null,null,null,1,1,1,1,"DAF",0,0,3.5134580000000006E-2,{"$f":"0.221*0.15898","v":3.5134580000000006E-2},null,"Sources: Vlasopoulos, N. et al. (2006)"]
[null,null,"1.3.1.1.2   Hydrocyclones",null,null,null,null,null,0,0,0,0,"HYDRO",0,0,4.8806860000000001E-2,{"$f":"0.307*0.15898","v":4.8806860000000001E-2}]
[null,"1.3.1.2   Stage 2 of treatment",null,null,null,null,null,null,{"$f":"IF(OR(SUM(I165:I172)=0,SUM(I165:I172)=1),\"OK\",\"ERROR\")","v":"OK"},null,{"$f":"IF(OR(SUM(K165:K172)=0,SUM(K165:K172)=1),\"OK\",\"ERROR\")","v":"OK"}]
[null,null,"1.3.1.2.1   Rotating biological contactors",null,null,null,null,null,1,1,1,1,"RBC",0,0,3.4975600000000003E-2,{"$f":"0.22*0.15898","v":3.4975600000000003E-2}]
[null,null,"1.3.1.2.2   Absorbents",null,null,null,null,null,0,0,0,0,"ABS",0,0,1.7487800000000001E-2,{"$f":"0.11*0.15898","v":1.7487800000000001E-2}]
[null,null,"1.3.1.2.3   Activated sludge",null,null,null,null,null,0,0,0,0,"AS",0,0,0.14626160000000002,{"$f":"0.92*0.15898","v":0.14626160000000002}]
[null,null,"1.3.1.2.4   Trickling filters",null,null,null,null,null,0,0,0,0,"TF",0,0,3.6565400000000005E-2,{"$f":"0.23*0.15898","v":3.6565400000000005E-2}]
[null,null,"1.3.1.2.5   Air stripping",null,null,null,null,null,0,0,0,0,"AIR",0,0,0.10524476000000001,{"$f":"0.662*0.15898","v":0.10524476000000001}]
[null,null,"1.3.1.2.6   Aerated lagoons",null,null,null,null,null,0,0,0,0,"AL",0,0,9.5388000000000001E-2,{"$f":"0.6*0.15898","v":9.5388000000000001E-2}]
[null,null,"1.3.1.2.7   Wetlands",null,null,null,null,null,0,0,0,0,"CWL",26,26,2.22572E-3,{"$f":"0.014*0.15898","v":2.22572E-3}]
[null,null,"1.3.1.2.8   Microfiltration - used as a combined stage 1 and stage 2 technology",null,null,null,null,null,0,0,0,0,"MF",0,0,3.1796000000000005E-2,{"$f":"0.2*0.15898","v":3.1796000000000005E-2}]
[null,"1.3.1.3   Stage 3 of treatment",null,null,null,null,null,null,{"$f":"IF(OR(SUM(I174:I180)=0,SUM(I174:I180)=1),\"OK\",\"ERROR\")","v":"OK"},null,{"$f":"IF(OR(SUM(K174:K180)=0,SUM(K174:K180)=1),\"OK\",\"ERROR\")","v":"OK"}]
[null,null,"1.3.1.3.1   Dual media filtration",null,null,null,null,null,1,1,1,1,"DMF",0,0,4.2924600000000005E-3,{"$f":"0.027*0.15898","v":4.2924600000000005E-3}]
[null,null,"1.3.1.3.2   Granular activated carbon",null,null,null,null,null,0,0,0,0,"GAC",0,0,2.6072720000000004E-2,{"$f":"0.164*0.15898","v":2.6072720000000004E-2},null,null,null,null,null,null,"Side calculations for warm lime softener (WLS)"]
[null,null,"1.3.1.3.3   Slow sand filtration",null,null,null,null,null,0,0,0,0,"SSF",0,0,1.11286E-3,{"$f":"0.007*0.15898","v":1.11286E-3},null,null,null,null,null,null,"From COSIA 2014, flow rate in OTSG SAGD system of produced water into WLS is 856388 kg/h = "]
[null,null,"1.3.1.3.4   Ozone",null,null,null,null,null,0,0,0,0,"OZO",0,0,0.24323940000000002,{"$f":"1.53*0.15898","v":0.24323940000000002},null,null,null,null,null,null,{"$f":"856388/3.79/42/60/60","v":1.4944437464226386},"bbl/sec"]
[null,null,"1.3.1.3.5   Organoclay",null,null,null,null,null,0,0,0,0,"ORG",0,0,1.43082E-2,{"$f":"0.09*0.15898","v":1.43082E-2},null,null,null,null,null,null,"Power consumption rate is 0.5 MW for the WLS/evaporator"]
[null,null,"1.3.1.3.6   Ultrafiltration",null,null,null,null,null,0,0,0,0,"UF",0,0,3.1796000000000005E-2,{"$f":"0.2*0.15898","v":3.1796000000000005E-2},null,null,null,null,null,null,{"$f":"0.5*1000000/3600000","v":0.1388888888888889},"kWh/sec"]
[null,null,"1.3.1.3.7   Nanofiltration",null,null,null,null,null,0,0,0,0,"NF",0,0,8.7915940000000012E-2,{"$f":"0.553*0.15898","v":8.7915940000000012E-2},null,null,null,null,null,null,{"$f":"X179/X177","v":9.2936846382714364E-2},"kWh/bbl water treated"]
[null,"1.3.1.4   Stage 4 of treatment",null,null,null,null,null,null,{"$f":"IF(OR(SUM(I182:I183)=0,SUM(I182:I183)=1),\"OK\",\"ERROR\")","v":"OK"},null,{"$f":"IF(OR(SUM(K182:K183)=0,SUM(K182:K183)=1),\"OK\",\"ERROR\")","v":"OK"}]
[null,null,"1.3.1.4.1   Reverse osmosis",null,null,null,null,null,0,0,0,0,"RO",0,0,0.20190460000000002,{"$f":"1.27*0.15898","v":0.20190460000000002}]
[null,null,"1.3.1.4.2   Electrodialysis reversal",null,null,null,null,null,0,0,0,1,"EDR",0,0,0.47694000000000003,{"$f":"3*0.15898","v":0.47694000000000003}]
[null,null,"1.3.1.4.3   Warm lime softening",null,null,null,null,null,0,0,0,0,"WLS",0,0,{"$f":"X180","v":9.2936846382714364E-2},{"$f":"X180","v":9.2936846382714364E-2},null,"Souce: COSIA 2014"]
[]
[]
["2 Calculations"]
[]
["2.1   Crude oil processing"]
[]
[]
[]
[]
[null,null,null,null,null,null,null,null,null,null,null,null,null,null,"Heat",null,null,"Heat"]
[null,null,null,null,null,null,null,null,null,null,null,null,null,null,{"$f":"M209","v":"NA"},"MMBtu",null,{"$f":"M214","v":51.408000000000001},"MMBtu"]
[]
[]
[]
[null,null,{"$f":"'Production & Extraction'!M26","v":1500},"bopd",null,null,null,null,null,null,{"$f":"C199","v":1500},"bopd",null,null,null,null,{"$f":"C199","v":1500},"bopd",null,{"$f":"Q199","v":1500},"bopd"]
[null,null,{"$f":"'Production & Extraction'!M26*'Production & Extraction'!M43","v":1362000},"scf/d"]
[null,null,{"$f":"'Production & Extraction'!M26*'Production & Extraction'!M44","v":6462.5535861680128},"bwpd"]
[]
[]
[null,null,null,null,null,null,null,null,null,null,null,null,"User","Units","Equation",null,null,null,null,null,null,null,"Reference"]
[]
["2.1.1   Dehydration heater/treater"]
[null,"2.1.1.1   Volume of water heated",null,null,null,null,null,null,null,null,null,null,{"$f":"IF(M14=0,\"NA\",((M26/100)*C199)/(1-(M26/100)))","v":"NA"},"bwpd"]
[null,"2.1.1.2   Volume of oil heated",null,null,null,null,null,null,null,null,null,null,{"$f":"IF(M14=0,\"NA\",C199)","v":"NA"},"bopd"]
[null,"2.1.1.3   Heat duty",null,null,null,null,null,null,null,null,null,null,{"$f":"IF(M14=0,\"NA\",(((C199*M29)+(M207*M30))*(M28-M27)*(1+(M31/100)))/1000000)","v":"NA"},"MMBtu/d",null,null,null,null,null,null,null,null,"Manning, F. and Thompson, R. (1991), p.136"]
[null,"2.1.1.4   Dehydration heater NG consumption",null,null,null,null,null,null,null,null,null,null,{"$f":"IF(M14=0,0,M209*IF(M32=1,M33,0))","v":0},{"$f":"IF(M32=1,\"MMBtu/d\",\"kWh/d\")","v":"MMBtu/d"}]
[null,"2.1.1.5   Dehydration heater electricity consumption",null,null,null,null,null,null,null,null,null,null,{"$f":"IF(M14=0,0,M209*IF(M32=2,M34,0))","v":0},"kWh/d"]
["2.1.2   Stabilizer column"]
[null,"2.1.2.1   Volume of oil heated",null,null,null,null,null,null,null,null,null,null,{"$f":"IF(M15=0,\"NA\",C199)","v":1500},"bopd"]
[null,"2.1.2.2   Heat duty",null,null,null,null,null,null,null,null,null,null,{"$f":"IF(M15=0,\"NA\",Q199*M39*(M38-M37)*(1+(M40/100))/1000000)","v":51.408000000000001},"MMBtu/d",null,null,null,null,null,null,null,null,"Manning, F. and Thompson, R. (1991), p.136"]
[null,"2.1.2.3   Stabilizer column NG consumption",null,null,null,null,null,null,null,null,null,null,{"$f":"IF(M15=0,0,M214*IF(M41=1,M42,M43))","v":64.260000000000005},{"$f":"IF(M41=1,\"MMBtu/d\",\"kWh/d\")","v":"MMBtu/d"}]
[null,"2.1.2.4   Stabilizer column electricity consumption",null,null,null,null,null,null,null,null,null,null,{"$f":"IF(M15=0,0,M214*IF(M41=2,M43,0))","v":0},"kWh/d"]
[]
["2.1.3   Heavy oil or bitumen upgrading"]
[]
[null,"2.1.3.1 Selected modeling inputs for upgrading"]
[null,null,null,null,"Process gas (PG) yield per bbl SCO output",null,null,null,null,null,null,null,{"$f":"IF($M$16=1,N60,IF($M$16=2,O60,IF($M$16=3,P60,0)))","v":0},"scf/bbl SCO"]
[null,null,null,null,"   - Fraction PG to self use - Heating (W/O cogen)",null,null,null,null,null,null,null,0,"[0-1]"]
[null,null,null,null,"   - Fraction PG to self use - H2 gen",null,null,null,null,null,null,null,0,"[0-1]"]
[null,null,null,null,"   - Fraction PG exported",null,null,null,null,null,null,null,0,"[0-1]"]
[null,null,null,null,"   - Fraction PG flared",null,null,null,null,null,null,null,0,"[0-1]"]
[null,null,null,null,"Coke yield per bbl SCO output",null,null,null,null,null,null,null,0,"kg/bbl SCO"]
[null,null,null,null,"   - Fraction coke to self use - Heating",null,null,null,null,null,null,null,0,"[0-1]"]
[null,null,null,null,"   - Fraction coke exported",null,null,null,null,null,null,null,0,"[0-1]"]
[null,null,null,null,"   - Fraction coke stockpiled",null,null,null,null,null,null,null,0,"[0-1]"]
[null,null,null,null,"Electricity intensity",null,null,null,null,null,null,null,0,"kWh/bbl SCO"]
[null,null,null,null,"   - Fraction electricity self generated W/ cogen",null,null,null,null,null,null,null,0,"[0-1]"]
[null,null,null,null,"   - Cogenerated heat as steam",null,null,null,null,null,null,null,{"$f":"IF($M$16=1,N71,IF($M$16=2,O71,IF($M$16=3,P71,0)))","v":0},"mBtu/bbl SCO"]
[null,null,null,null,"   - NG to cogen unit",null,null,null,null,null,null,null,0,"scf/bbl SCO"]
[null,null,null,null,"Natural gas intensity (W/O cogen)",null,null,null,null,null,null,null,0,"scf NG per bbl SCO"]
[null,null,null,null,"    - Fraction NG - Heating (W/O cogen)",null,null,null,null,null,null,null,0,"[0-1]"]
[null,null,null,null,"    - Fraction NG - H2",null,null,null,null,null,null,null,0,"[0-1]"]
[null,null,null,null,"Cogen turbine efficiency",null,null,null,null,null,null,null,0,"Btu e- per Btu NG LHV"]
[null,null,null,null,"Cogeneration steam efficiency",null,null,null,null,null,null,null,0,"Btu steam enthalpy per Btu NG LHV"]
[null,null,null,null,"Steam boiler efficiency",null,null,null,null,null,null,null,0,"Btu steam enthalpy/Btu NG LHV"]
[null,null,null,null,"SCO/bitumen ratio",null,null,null,null,null,null,null,0,"bbl SCO/bbl heavy oil or bitumen"]
[]
[null,"2.1.3.2   Output of SCO",null,null,null,null,null,null,null,null,null,null,{"$f":"'Active Field'!J63*IF('Active Field'!J111<>0,M240,0)","v":0},"bbl SCO/d"]
[]
[]
[null,null,null,null,null,null,"Natural gas imp.",null,"Electricity import",null,"Process gas exports"]
[null,null,null,null,null,null,{"$f":"D250+G255+G258","v":0},null,{"$f":"IFERROR(K262*M230*(1-M231)/1000,0)","v":0},null,{"$f":"IFERROR(K262*M221*M224/1000,0)","v":0},"mscf/d"]
[null,null,null,null,null,null,"mscf/d",null,"MWh/d"]
[]
[null,null,null,"NG to cogen",null,null,null,null,null,null,"Process gas flared"]
[null,null,null,{"$f":"IFERROR(K262*M233/1000,0)","v":0},null,null,null,null,null,null,{"$f":"IFERROR(K262*M221*M225/1000,0)","v":0}]
[null,null,null,"mscf/d",null,null,null,null,"Proc. gas to H2"]
[null,null,null,null,"Cogen","H2 via SMR",null,null,{"$f":"IFERROR(K262*M221*M223/1000,0)","v":0},"mscf/d"]
[]
[null,null,null,null,null,null,"NG to H2"]
[null,null,null,null,null,null,{"$f":"IFERROR(K262*M234*M236/1000,0)","v":0},null,"Proc. gas to heat"]
[null,null,null,null,null,null,"mscf/d",null,{"$f":"IFERROR(K262*M221*M222/1000,0)","v":0},"mscf/d"]
[null,null,null,null,null,null,"NG to heat"]
[null,null,null,"e- from cogen",null,null,{"$f":"IFERROR(K262*M234*M235/1000,0)","v":0},null,null,null,"Process gas generation"]
[null,null,null,{"$f":"IFERROR(K262*M230*M231/1000,0)","v":0},null,null,"mscf/d",null,null,null,{"$f":"IFERROR(K262*M221/1000,0)","v":0},"mscf/d"]
[null,null,null,"MWh/d"]
[null,"Heavy oil or bitumen",null,null,null,null,null,null,null,null,"SCO output"]
[null,{"$f":"K262/M238","v":{"$error":"#DIV/0!"}},"bbl/d",null,null,null,null,"Upgrader",null,null,{"$f":"M242","v":0},"bbl/d"]
[]
[null,null,null,null,"Heat from cogen",null,null,null,null,null,"Coke generation"]
[null,null,null,null,{"$f":"D250*M238*'Fuel Specs'!B254","v":0},"mBtu/d",null,null,null,null,{"$f":"IFERROR(K262*M226/1000,0)","v":0},"tonne/d"]
[null,null,null,null,null,null,null,"Coke cons."]
[null,null,null,null,null,null,null,{"$f":"IFERROR(K262*M226*M227/1000,0)","v":0},"t/d"]
[]
[]
[]
[]
[null,null,null,null,null,null,null,null,"Coke to sales",null,"Coke to stockpile"]
[null,null,null,null,null,null,null,null,{"$f":"IFERROR(K262*M226*M228/1000,0)","v":0},"t/d",{"$f":"IFERROR(K262*M226*M229/1000,0)","v":0},"t/d"]
[]
[]
[null,null,null,null,null,null,null,null,null,null,null,"NG to engine",{"$f":"0","v":0},"MMBtu/d"]
[null,null,null,null,null,null,null,null,null,null,null,"NG to turbine",{"$f":"(D250)*'Fuel Specs'!B254/1000","v":0},"MMBtu/d"]
[null,null,null,null,null,null,null,null,null,null,null,"NG to boiler/heater",{"$f":"(G255+G258+I256+I252+K250)*'Fuel Specs'!B254/1000","v":0},"MMBtu/d"]
[]
[]
["2.1.4   Heavy oil or bitumen dilution"]
[null,null,null,null,null,null,null,null,null,null,null,null,"User","Units","Equation"]
[null,"2.1.4.1   Crude bitumen specific gravity",null,null,null,null,null,null,null,null,null,null,{"$f":"141.5/(131.5+M50)","v":1.0143369175627239},"sg"]
[null,"2.1.4.2   Diluent specific gravity",null,null,null,null,null,null,null,null,null,null,{"$f":"141.5/(M51+131.5)","v":0.75790037493304774},"sg"]
[null,"2.1.4.3   Volume fraction of dilbit as bitumen",null,null,null,null,null,null,null,null,null,null,{"$f":"1-M21","v":1},"bbl bitumen/bbl dilbit",null,null,null,null,null,null,null,null,null,"Moderate value from the literature.  Cited diluent blend percentages range from 20-40%"]
[null,"2.1.4.4   Dilbit heating value",null,null,null,null,null,null,null,null,null,null,{"$f":"M285*M82+M21*M83","v":6.1009200000000003},"MMBtu/bbl dilbit"]
[]
[null,null,null,null,null,null,null,null,"Diluent"]
[null,null,null,null,null,null,null,null,{"$f":"L297*M21","v":0},"bbl/d"]
[]
[]
[]
[]
[]
[]
[null,null,null,null,null,null,null,"Heavy oil or bitumen",null,null,null,"Diluted crude"]
[null,null,null,null,null,null,null,{"$f":"L297*M285","v":1500},"bbl/d",null,null,{"$f":"'Active Field'!J63","v":1500},"bopd"]
[]
[]
[]
[]
["2.2   Associated gas processing"]
[]
[]
["2.2.1   Amine process (Ball et al., 1988)"]
[]
[]
[null,null,null,null,"        Sweet gas"]
[null,null,null,null,null,null,null,null,null,null,null,null,null,null,null,null,null,null,null,"          Acid gas"]
[null,null,null,null,null,null,null,null,null,null,null,null,null,null,null,null,null,"    Power",null,null,{"$f":"IF(OR('Active Field'!J116=3, 'Active Field'!J116=5), 'Gas Balance'!BC41+'Gas Balance'!BC46, IF('Active Field'!J116=7, 'Gas Balance'!CS109+'Gas Balance'!CS114, 0))","v":7.7480080021992234E-2},"MMscf/d"]
[null,null,null,null,null,null,null,"Scrubber",null,null,null,null,null,null,null,null,null,{"$f":"M346","v":8.0889203542959898},"hp"]
[null,null,null,null,null,null,null,null,null,null,null,null,null,null,null,null,null,null,null,"Reflux"]
[null,null,null,null,null,null,null,null,null,null,null,null,null,null,null,null,null,"Reflux",null,"accum."]
[null,null,null,null,"       Rich amine",null,null,null,"    Power",null,"   Power",null,null,null,null,null,null,"cond."]
[null,null,null,null,null,null,null,null,{"$f":"M337","v":2.9209990168291071},"hp",{"$f":"M345","v":4.0444601771479949},"hp",null,null,"    Power"]
[null,null,null,null,null,null,null,null,null,null,null,null,null,null,{"$f":"M338","v":0.67407669619133237},"hp"]
[null,null,null,{"$f":"M103","v":350},{"$f":"M335","v":11.234611603188874},null,null,"gpm","Charge",null,"Amine",null,"Charcoal",null,null,null,null,null,"Reflux"]
[null,null,null,"psi","    Lean amine",null,null,null,"pump",null,"cooler",null,"filter",null,"Booster",null,null,null,"pump"]
[null,null,null,null,null,null,null,null,null,null,null,null,null,null,"pump",null,null,null,null,"Power"]
[null,null,null,"Contactor",null,null,null,null,null,null,null,null,null,null,null,null,"Still",null,null,{"$f":"M339","v":0.67407669619133237},"hp"]
[null,"Sour gas"]
[null,null,null,null,null,null,null,null,null,"Flashed gas",null,null,null,null,null,null,null,null,"Reboiler"]
[null,null,null,null,null,null,null,null,null,null,null,null,null,null,null,null,null,null,null,"Heat"]
[null,null,null,null,null,null,null,null,"Flash tank",null,null,null,null,null,null,null,null,null,null,{"$f":"M352","v":22.325420177856927},"MMBtu/d"]
[null,null,null,null,null,null,null,null,"Low pressure"]
[]
[null,null,null,null,null,null,null,null,null,null,null,null,"Solids"]
[null,null,null,null,null,null,null,null,null,null,null,null,"filter",null,"Heat"]
[null,null,null,null,null,null,null,null,null,null,null,null,null,null,"exchanger"]
[]
[]
[]
[null,null,null,null,null,null,null,null,null,null,null,null,"User","Unit","Equation",null,null,"Reference"]
[null,"2.2.1.1   Contact tower"]
[null,null,"2.2.1.1.1   Amine circulation rate",null,null,null,null,null,null,null,null,null,{"$f":"IF(OR('Active Field'!J116=3, 'Active Field'!J116=5,'Active Field'!J116=7), M102*U310*100, 0)","v":11.234611603188874},"gpm",null,null,null,"Manning, F. and Thompson, R. (1991), p.115; Khan and Manning (1985)"]
[null,"2.2.1.2   Pumps"]
[null,null,"2.2.1.2.1   Circulation pumps HP",null,null,null,null,null,null,null,null,null,{"$f":"M335*(D317+50)*0.00065","v":2.9209990168291071},"hp",null,null,null,"Manning, F. and Thompson, R. (1991), p.118; Jones and Perry (1973)"]
[null,null,"2.2.1.2.2   Booster pumps HP",null,null,null,null,null,null,null,null,null,{"$f":"M335*0.06","v":0.67407669619133237},"hp",null,null,null,"Manning, F. and Thompson, R. (1991), p.118; Jones and Perry (1973)"]
[null,null,"2.2.1.2.3   Reflux pumps HP",null,null,null,null,null,null,null,null,null,{"$f":"M335*0.06","v":0.67407669619133237},"hp",null,null,null,"Manning, F. and Thompson, R. (1991), p.118; Jones and Perry (1973)"]
[null,null,"2.2.1.2.4   Total pumping HP",null,null,null,null,null,null,null,null,null,{"$f":"SUM(M337:M339)","v":4.2691524092117721},"hp"]
[null,null,"2.2.1.2.5   Pumps energy intensity",null,null,null,null,null,null,null,null,null,{"$f":"IFERROR((Drivers!K123*M340^Drivers!K124)/'Input Data'!E53,0)","v":0.84711415262449741},"kWh/bhp-hr",null,null,null,null,null,null,null,null,null,null,null,"Assumed electric by default"]
[null,null,"2.2.1.2.6   Pumps energy usage per hp-d",null,null,null,null,null,null,null,null,null,{"$f":"M341*24","v":20.330739662987938},"kWh/hp-d"]
[null,null,"2.2.1.2.7   Total pumps energy usage",null,null,null,null,null,null,null,null,null,{"$f":"M342*M340","v":86.795026213302279},"kWh/d"]
[null,"2.2.1.3   Air coolers"]
[null,null,"2.2.1.3.1   Amine cooler HP",null,null,null,null,null,null,null,null,null,{"$f":"M335*0.36","v":4.0444601771479949},"hp"]
[null,null,"2.2.1.3.2   Reflux condenser HP",null,null,null,null,null,null,null,null,null,{"$f":"M345*2","v":8.0889203542959898},"hp"]
[null,null,"2.2.1.3.3   Total cooling HP",null,null,null,null,null,null,null,null,null,{"$f":"SUM(M345:M346)","v":12.133380531443985},"hp"]
[null,null,"2.2.1.3.4   Air-cooling fan driver energy intensity",null,null,null,null,null,null,null,null,null,{"$f":"IFERROR((Drivers!K123*M347^Drivers!K124)/'Input Data'!E53,0)","v":0.83133566910082135},"kWh/bhp-hr",null,null,null,null,null,null,null,null,null,null,null,"Assumed electric by default"]
[null,null,"2.2.1.3.5   Air coolers energy use per day",null,null,null,null,null,null,null,null,null,{"$f":"M348*24","v":19.952056058419714},"kWh/hp-d"]
[null,null,"2.2.1.3.6   Air coolers total energy consumption",null,null,null,null,null,null,null,null,null,{"$f":"M349*M347","v":242.08588854150875},"kWh/d"]
[null,"2.2.1.4   Reboiler"]
[null,null,"2.2.1.4.1   Reboiler heat duty",null,null,null,null,null,null,null,null,null,{"$f":"(24/1000000)*(M335*72000)*1.15","v":22.325420177856927},"MMBtu/d",null,null,null,"Manning, F. and Thompson, R. (1991), p. 117; Jones and Perry (1973)"]
[null,null,"2.2.1.4.2   Prime mover fuel intensity",null,null,null,null,null,null,null,null,null,{"$f":"M104","v":1.25},"MMBtu/MMBtu"]
[null,null,"2.2.1.4.3   Reboiler total fuel use",null,null,null,null,null,null,null,null,null,{"$f":"M353*M352","v":27.906775222321158},"MMBtu/d"]
[]
["2.2.2   Glycol dehydrator"]
[]
[null,null,null,null,null,null,null,null,null,null,null,null,null,null,"Water"]
[null,null,null,null,"Dry gas",null,null,null,null,null,null,null,null,null,{"$f":"IF(OR('Active Field'!J116=2,'Active Field'!J116=3,'Active Field'!J116=4,'Active Field'!J116=5,'Active Field'!J116=6,'Active Field'!J116=7),M386,0)","v":49.723983789996794},"lb H2O/d"]
[]
[null,null,null,null,null,null,null,null,null,null,null,null,null,"Stripping"]
[null,null,null,"Glycol to ",null,null,null,null,null,null,null,null,null,"column"]
[null,null,null,"gas exch."]
[]
[null,null,null,null,null,null,null,null,null,null,null,null,"Reboiler"]
[null,null,null,null,null,null,null,null,null,null,null,"Heat"]
[null,null,null,null,null,null,null,null,null,null,{"$f":"M391","v":0.14081832209327091},"MMBtu/d"]
[]
[]
[null,null,null,"Absorber"]
[null,null,null,{"$f":"M108","v":786}]
[null,null,null,"psi",null,null,null,null,null,null,null,"Accumulator"]
[null,null,"Wet gas"]
[null,null,null,null,null,null,null,null,"Glycol"]
[null,null,null,null,null,null,null,null,"pump"]
[null,null,null,null,null,null,null,null,null,"Power"]
[null,null,null,null,null,null,null,null,null,{"$f":"M398","v":4.2201761428503917E-2},"hp"]
[]
[null,null,null,null,null,null,null,null,null,null,null,null,"User","Unit"]
[null,"2.2.2.1   Prime mover fuel use",null,null,null,null,null,null,null,null,null,null,{"$f":"(Drivers!K123*M398^Drivers!K124)/'Input Data'!E53","v":0.9205176857952565},"kWh/bhp-hr",null,null,null,null,null,null,null,null,null,null,null,null,"Prime mover is electric by default"]
[null,null,null,null,null,null,null,null,null,null,null,null,null,null,null,null,"Equation",null,null,"Reference"]
[null,"2.2.2.2  Materials balance"]
[null,null,"2.2.2.2.1   Amount of water in inlet gas",null,null,null,null,null,null,null,null,null,52,"lb H2O/MMscf",null,null,null,null,null,"Manning, F. and Thompson, R. (1991), p. 160"]
[null,null,"2.2.2.2.2   Amount of water in outlet gas",null,null,null,null,null,null,null,null,null,7,"lb H2O/MMscf",null,null,null,null,null,"Manning, F. and Thompson, R. (1991), p. 160"]
[null,null,"2.2.2.2.3   Amount of water removed",null,null,null,null,null,null,null,null,null,{"$f":"IF(OR('Active Field'!J116=2,'Active Field'!J116=3,'Active Field'!J116=4,'Active Field'!J116=5,'Active Field'!J116=6,'Active Field'!J116=7), M383-M384, \"NA\")","v":45},"lb H2O/MMscf"]
[null,null,"2.2.2.2.4   Rate of water removal",null,null,null,null,null,null,null,null,null,{"$f":"IF(OR('Active Field'!J116=2,'Active Field'!J116=3,'Active Field'!J116=4,'Active Field'!J116=5,'Active Field'!J116=6,'Active Field'!J116=7), M385*'Gas Balance'!AM51, \"NA\")","v":49.723983789996794},"lb H2O/d"]
[null,null,"2.2.2.2.5   Rate of TEG circulation",null,null,null,null,null,null,null,null,null,{"$f":"IF(OR('Active Field'!J116=2,'Active Field'!J116=3,'Active Field'!J116=4,'Active Field'!J116=5,'Active Field'!J116=6,'Active Field'!J116=7),M107*M386,\"NA\")","v":99.447967579993588},"gal TEG/d"]
[]
[null,"2.2.2.3  Reboiler"]
[null,null,"2.2.2.3.1   Regenerator duty",null,null,null,null,null,null,null,null,null,{"$f":"900+966*M107","v":2832},"Btu/lb H2O",null,null,null,null,null,"Manning, F. and Thompson, R. (1991), p. 163"]
[null,null,"2.2.2.3.2   Reboiler heat duty",null,null,null,null,null,null,null,null,null,{"$f":"IF(OR('Active Field'!J116=2,'Active Field'!J116=3,'Active Field'!J116=4,'Active Field'!J116=5,'Active Field'!J116=6,'Active Field'!J116=7), M390*M386/1000000, \"NA\")","v":0.14081832209327091},"MMBtu/d"]
[null,null,"2.2.2.3.3   Reboiler NG consumption",null,null,null,null,null,null,null,null,null,{"$f":"IF(OR('Active Field'!J116=2,'Active Field'!J116=3,'Active Field'!J116=4,'Active Field'!J116=5,'Active Field'!J116=6,'Active Field'!J116=7), M391*IF(M113=1,M116,0), 0)","v":0.17602290261658865},{"$f":"IF(M113=1,\"MMBtu/d\",\"kWh/d\")","v":"MMBtu/d"}]
[null,null,"2.2.2.3.4   Reboiler electricity consumption",null,null,null,null,null,null,null,null,null,{"$f":"IF(OR('Active Field'!J116=2,'Active Field'!J116=3,'Active Field'!J116=4,'Active Field'!J116=5,'Active Field'!J116=6,'Active Field'!J116=7), M391*IF(M113=2,M117,0), 0)","v":0},"kWh/d"]
[]
[null,"2.2.2.4   Glycol pump"]
[null,null,"2.2.2.4.1   Glycol pump suction pressure",null,null,null,null,null,null,null,null,null,0,"psi"]
[null,null,"2.2.2.4.2   Glycol pump discharge pressure",null,null,null,null,null,null,null,null,null,{"$f":"M108","v":786},"psi"]
[null,null,"2.2.2.4.3   Glycol pump brake horsepower",null,null,null,null,null,null,null,null,null,{"$f":"IF(OR('Active Field'!J116=2,'Active Field'!J116=3,'Active Field'!J116=4,'Active Field'!J116=5,'Active Field'!J116=6,'Active Field'!J116=7), (M387*(1/1440)*(M397-M396))/(1715*(M112/100)), \"NA\")","v":4.2201761428503917E-2},"hp"]
[null,null,"2.2.2.4.4   Glycol pump energy consumption",null,null,null,null,null,null,null,null,null,{"$f":"IF(OR('Active Field'!J116=2,'Active Field'!J116=3,'Active Field'!J116=4,'Active Field'!J116=5,'Active Field'!J116=6,'Active Field'!J116=7), M380*24*M398, 0)","v":0.93233922639959865},"kWh/d"]
[]
[]
["2.2.3   Demethanizer"]
[null,"2.2.3.1   Molar amount of gas feed"]
[null,null,"Component","Molar fraction","Volume",null,null,"Weight","MW","Moles feed","Moles condensed"]
[null,null,null,"mol%","scf/d",null,null,"lbm/d","lbm/lb mol","kmol/d","kmol/d"]
[null,null,"N2",{"$f":"IF(OR('Active Field'!J116=4, 'Active Field'!J116=5), 'Gas Balance'!BP40, IF('Active Field'!J116=7, 'Gas Balance'!DF108, \"NA\"))","v":2.2037980594281019},{"$f":"IF(OR('Active Field'!$J$116=4, 'Active Field'!$J$116=5), 1000000*(D406/100)*'Gas Balance'!$BO$51, IF('Active Field'!$J$116=7, 1000000*(D406/100)*'Gas Balance'!$DE$119, \"NA\"))","v":22598.491146091135},null,null,{"$f":"IF(OR('Active Field'!J116=4, 'Active Field'!J116=5, 'Active Field'!J116=7), E406*'Input Data'!C81, \"NA\")","v":1668.6977549074797},28,{"$f":"IF(OR('Active Field'!J116=4, 'Active Field'!J116=5, 'Active Field'!J116=7), 0.001*453.592*H406/I406, \"NA\")","v":27.032426858714054},{"$f":"IF(OR('Active Field'!J116=4, 'Active Field'!J116=5, 'Active Field'!J116=7), J406*0, \"NA\")","v":0}]
[null,null,"CO2",{"$f":"IF(OR('Active Field'!J116=4, 'Active Field'!J116=5), 'Gas Balance'!BP41, IF('Active Field'!J116=7, 'Gas Balance'!DF109, \"NA\"))","v":0},{"$f":"IF(OR('Active Field'!$J$116=4, 'Active Field'!$J$116=5), 1000000*(D407/100)*'Gas Balance'!$BO$51, IF('Active Field'!$J$116=7, 1000000*(D407/100)*'Gas Balance'!$DE$119, \"NA\"))","v":0},null,null,{"$f":"IF(OR('Active Field'!J116=4, 'Active Field'!J116=5, 'Active Field'!J116=7), E407*'Input Data'!C83, \"NA\")","v":0},44,{"$f":"IF(OR('Active Field'!J116=4, 'Active Field'!J116=5, 'Active Field'!J116=7), 0.001*453.592*H407/I407, \"NA\")","v":0},{"$f":"IF(OR('Active Field'!J116=4, 'Active Field'!J116=5, 'Active Field'!J116=7), J407*0, \"NA\")","v":0}]
[null,null,"C1",{"$f":"IF(OR('Active Field'!J116=4, 'Active Field'!J116=5), 'Gas Balance'!BP42, IF('Active Field'!J116=7, 'Gas Balance'!DF110, \"NA\"))","v":90.265425511656062},{"$f":"IF(OR('Active Field'!$J$116=4, 'Active Field'!$J$116=5), 1000000*(D408/100)*'Gas Balance'!$BO$51, IF('Active Field'!$J$116=7, 1000000*(D408/100)*'Gas Balance'!$DE$119, \"NA\"))","v":925612.22227079375},null,null,{"$f":"IF(OR('Active Field'!J116=4, 'Active Field'!J116=5, 'Active Field'!J116=7), E408*'Input Data'!C84, \"NA\")","v":39207.142899213533},16,{"$f":"IF(OR('Active Field'!J116=4, 'Active Field'!J116=5, 'Active Field'!J116=7), 0.001*453.592*H408/I408, \"NA\")","v":1111.5028976212541},{"$f":"IF(OR('Active Field'!J116=4, 'Active Field'!J116=5, 'Active Field'!J116=7), J408*0, \"NA\")","v":0}]
[null,null,"C2",{"$f":"IF(OR('Active Field'!J116=4, 'Active Field'!J116=5), 'Gas Balance'!BP43, IF('Active Field'!J116=7, 'Gas Balance'!DF111, \"NA\"))","v":4.3033008165233362},{"$f":"IF(OR('Active Field'!$J$116=4, 'Active Field'!$J$116=5), 1000000*(D409/100)*'Gas Balance'!$BO$51, IF('Active Field'!$J$116=7, 1000000*(D409/100)*'Gas Balance'!$DE$119, \"NA\"))","v":44127.50296477064},null,null,{"$f":"IF(OR('Active Field'!J116=4, 'Active Field'!J116=5, 'Active Field'!J116=7), E409*'Input Data'!C85, \"NA\")","v":3526.3224482908195},30,{"$f":"IF(OR('Active Field'!J116=4, 'Active Field'!J116=5, 'Active Field'!J116=7), 0.001*453.592*H409/I409, \"NA\")","v":53.317055065504313},{"$f":"IF(OR('Active Field'!J116=4, 'Active Field'!J116=5, 'Active Field'!J116=7), J409*M120/100, \"NA\")","v":48.091983669084897}]
[null,null,"C3",{"$f":"IF(OR('Active Field'!J116=4, 'Active Field'!J116=5), 'Gas Balance'!BP44, IF('Active Field'!J116=7, 'Gas Balance'!DF112, \"NA\"))","v":2.1516504082616681},{"$f":"IF(OR('Active Field'!$J$116=4, 'Active Field'!$J$116=5), 1000000*(D410/100)*'Gas Balance'!$BO$51, IF('Active Field'!$J$116=7, 1000000*(D410/100)*'Gas Balance'!$DE$119, \"NA\"))","v":22063.75148238532},null,null,{"$f":"IF(OR('Active Field'!J116=4, 'Active Field'!J116=5, 'Active Field'!J116=7), E410*'Input Data'!C86, \"NA\")","v":2610.3664584623511},44,{"$f":"IF(OR('Active Field'!J116=4, 'Active Field'!J116=5, 'Active Field'!J116=7), 0.001*453.592*H410/I410, \"NA\")","v":26.910030514246696},{"$f":"IF(OR('Active Field'!J116=4, 'Active Field'!J116=5, 'Active Field'!J116=7), J410*M121/100, \"NA\")","v":26.910030514246696}]
[null,null,"C4",{"$f":"IF(OR('Active Field'!J116=4, 'Active Field'!J116=5), 'Gas Balance'!BP45, IF('Active Field'!J116=7, 'Gas Balance'!DF113, \"NA\"))","v":1.075825204130834},{"$f":"IF(OR('Active Field'!$J$116=4, 'Active Field'!$J$116=5), 1000000*(D411/100)*'Gas Balance'!$BO$51, IF('Active Field'!$J$116=7, 1000000*(D411/100)*'Gas Balance'!$DE$119, \"NA\"))","v":11031.87574119266},null,null,{"$f":"IF(OR('Active Field'!J116=4, 'Active Field'!J116=5, 'Active Field'!J116=7), E411*'Input Data'!C87, \"NA\")","v":1748.4446792397011},58,{"$f":"IF(OR('Active Field'!J116=4, 'Active Field'!J116=5, 'Active Field'!J116=7), 0.001*453.592*H411/I411, \"NA\")","v":13.673802050787836},{"$f":"IF(OR('Active Field'!J116=4, 'Active Field'!J116=5, 'Active Field'!J116=7), J411*M122/100, \"NA\")","v":13.673802050787835}]
[null,null,"H2S",{"$f":"IF(OR('Active Field'!J116=4, 'Active Field'!J116=5), 'Gas Balance'!BP46, IF('Active Field'!J116=7, 'Gas Balance'!DF114, \"NA\"))","v":0},{"$f":"IF(OR('Active Field'!$J$116=4, 'Active Field'!$J$116=5), 1000000*(D412/100)*'Gas Balance'!$BO$51, IF('Active Field'!$J$116=7, 1000000*(D412/100)*'Gas Balance'!$DE$119, \"NA\"))","v":0},null,null,{"$f":"IF(OR('Active Field'!J116=4, 'Active Field'!J116=5, 'Active Field'!J116=7), E412*'Input Data'!C82, \"NA\")","v":0},34,{"$f":"IF(OR('Active Field'!J116=4, 'Active Field'!J116=5, 'Active Field'!J116=7), 0.001*453.592*H412/I412, \"NA\")","v":0},{"$f":"IF(OR('Active Field'!J116=4, 'Active Field'!J116=5, 'Active Field'!J116=7), 0, \"NA\")","v":0}]
[null,null,"Total",{"$f":"IF(OR('Active Field'!J116=4, 'Active Field'!J116=5, 'Active Field'!J116=7), SUM(D406:D412), \"NA\")","v":100},{"$f":"IF(OR('Active Field'!J116=4, 'Active Field'!J116=5, 'Active Field'!J116=6), SUM(E406:E412), \"NA\")","v":1025433.8436052335},null,null,{"$f":"IF(OR('Active Field'!J116=4, 'Active Field'!J116=5, 'Active Field'!J116=7), SUM(H406:H412), \"NA\")","v":48760.974240113886},{"$f":"\"--\"","v":"--"},{"$f":"IF(OR('Active Field'!J116=4, 'Active Field'!J116=5, 'Active Field'!J116=7), SUM(J406:J412), \"NA\")","v":1232.4362121105069},{"$f":"IF(OR('Active Field'!J116=4, 'Active Field'!J116=5, 'Active Field'!J116=7), SUM(K406:K412), \"NA\")","v":88.675816234119424}]
[]
[null,"2.2.3.2   Refrigeration system BHP",null,null,null,null,null,null,null,null,null,null,{"$f":"IF(OR('Active Field'!J116=4, 'Active Field'!J116=5, 'Active Field'!J116=7), M124*K413/24, \"NA\")","v":13.42919091378757},"bhp"]
[null,"2.2.3.3   Compressor system BHP",null,null,null,null,null,null,null,null,null,null,{"$f":"IF(OR('Active Field'!J116=4, 'Active Field'!J116=5, 'Active Field'!J116=7), M125*J413/24,\"NA\")","v":29.943574188341742},"bhp"]
[null,"2.2.3.4   Fuel usage"]
[null,null,"2.2.3.4.1   Refrigeration system driver",null,null,null,null,null,null,null,null,null,{"$f":"IF('Active Field'!J116=8, \"NA\", (HLOOKUP(M415,Drivers!C66:AS67,2,TRUE)))","v":9219.6},"Btu/bhp-hr",null,null,null,null,null,null,null,null,null,null,null,"Driver is NG turbine by default"]
[null,null,"2.2.3.4.2   Compressor system driver",null,null,null,null,null,null,null,null,null,{"$f":"IF('Active Field'!J116=8, \"NA\", (HLOOKUP(M416,Drivers!C66:AS67,2,TRUE)))","v":9219.6},"Btu/bhp-hr",null,null,null,null,null,null,null,null,null,null,null,"Heater is NG-fired by default"]
[null,"2.2.3.5   Demethanizer energy consumption"]
[null,null,"2.2.3.5.1   Refrigeration and compression system energy consumption",null,null,null,null,null,null,null,null,null,{"$f":"IF(OR('Active Field'!J116=4, 'Active Field'!J116=5, 'Active Field'!J116=7), (M415*M418+M416*M419)*24/1000000,0)","v":9.5971090832541961},"MMBtu/d"]
[null,null,"2.2.3.5.2   Fractionation reboiler energy consumption",null,null,null,null,null,null,null,null,null,{"$f":"0","v":0},"MMBtu/d",null,null,null,null,null,null,null,"As noted above, assume reboiler duty comes from heat exchange with inlet stream."]
[]
["2.2.4   Ryan-Holmes Process"]
[null,"2.2.4.1      Volumetric flow rate of gas entering Ryan-Holmes process",null,null,null,null,null,null,null,null,null,null,{"$f":"'Gas Balance'!BB208","v":0},"MMscf/d"]
[null,"2.2.4.2      Turbine natural gas consumption rate",null,null,null,null,null,null,null,null,null,null,{"$f":"(M425/45)*25800*24/1000","v":0},"Mscf/d",null,null,null,null,null,"DOE/NETL 2010"]
[null,"2.2.4.3      Turbine energy consumption",null,null,null,null,null,null,null,null,null,null,{"$f":"1000*(M426)*'Fuel Specs'!G135/1000000","v":0},"MMbtu/d"]
[null,"2.2.4.4      Compressor natural gas consumption ",null,null,null,null,null,null,null,null,null,null,{"$f":"(M425/45)*110519*24/1000","v":0},"Mscf/d",null,null,null,null,null,"DOE/NETL 2010"]
[null,"2.2.4.5      Compressor energy consumption",null,null,null,null,null,null,null,null,null,null,{"$f":"1000*(M428)*'Fuel Specs'!G135/1000000","v":0},"MMbtu/d"]
[null,"2.2.4.6      Hot oil heater natural gas consumption ",null,null,null,null,null,null,null,null,null,null,{"$f":"(M425/45)*14589*24/1000","v":0},"Mscf/d",null,null,null,null,null,"DOE/NETL 2010"]
[null,"2.2.4.7      Hot oil heater energy consumption",null,null,null,null,null,null,null,null,null,null,{"$f":"1000*(M430)*'Fuel Specs'!G135/1000000","v":0},"MMbtu/d"]
[null,"2.2.4.8      Backup diesel engine daily usage ",null,null,null,null,null,null,null,null,null,null,2.63,"h/d",null,null,null,null,null,"DOE/NETL 2010"]
[null,"2.2.4.9      Backup diesel engine fuel consumption ",null,null,null,null,null,null,null,null,null,null,{"$f":"57*(M425/45)*M432/24","v":0},"gal/d",null,null,null,null,null,"DOE/NETL 2010"]
[null,"2.2.4.10    Backup diesel engine energy consumption",null,null,null,null,null,null,null,null,null,null,{"$f":"M433*'Fuel Specs'!E336/1000000","v":0},"MMbtu/d"]
[null,"2.2.4.11    Total Ryan-Holmes process energy consumption",null,null,null,null,null,null,null,null,null,null,{"$f":"1000*(M426+M428+M430)*'Fuel Specs'!G135/1000000+M433*'Fuel Specs'!E336/1000000","v":0},"MMbtu/d"]
[]
["2.2.5   Chiller"]
[null,"2.2.5.1   Volumetric flow rate of gas entering chiller",null,null,null,null,null,null,null,null,null,null,{"$f":"'Gas Balance'!BA119","v":0},"MMscf/d"]
[null,"2.2.5.2   Mass flow rate of gas entering chiller",null,null,null,null,null,null,null,null,null,null,{"$f":"IFERROR(((144*14.7*M438)/((1545/M150)*(M136+460)))*'Input Data'!E19,0)","v":0},"MMkg/d"]
[null,"2.2.5.3   Energy consumption",null,null,null,null,null,null,null,null,null,null,{"$f":"3.44*(M439/6.111072)*((((M136+459.67)*5/9)-((M137+459.67)*5/9))/56)*24000","v":0},"kWh/d",null,null,null,null,null,"National Energy Technology Laboratory (2012)"]
[]
["2.2.6   Pre-Membrane Compressor"]
[null,"2.2.6.1   General compressor properties"]
[null,null,"2.2.6.1.1   Compression ratio",null,null,null,null,null,null,null,null,null,{"$f":"IF('Active Field'!J116=7, IF(M142/M141<5, M142/M141, IF((M142/M141)^(1/2)<5, (M142/M141)^(1/2), IF((M142/M141)^(1/3)<5, (M142/M141)^(1/3),IF((M142/M141)^(1/4)<5, (M142/M141)^(1/4), (M142/M141)^(1/5))))), \"NA\")","v":"NA"},"[-]"]
[null,null,"2.2.6.1.2   Number of stages",null,null,null,null,null,null,null,null,null,{"$f":"IF('Active Field'!J116=7, IF(M142/M141=M444,1,IF((M142/M141)^(1/2)=M444, 2, IF((M142/M141)^(1/3)=M444,3,IF((M142/M141)^(1/4)=M444,4,5)))), \"NA\")","v":"NA"},"[-]"]
[null,"2.2.6.2   Compressor stage inlet temperatures"]
[null,null,"2.2.6.2.1   First stage inlet temperature",null,null,null,null,null,null,null,null,null,{"$f":"IF('Active Field'!J116=7,M143,\"NA\")","v":"NA"},"◦F"]
[null,null,"2.2.6.2.2   Second stage inlet temperature",null,null,null,null,null,null,null,null,null,{"$f":"Compressors!B174","v":"NA"},"◦F",null,null,null,"Jarrell, P. M. (2002)",null,null,null,null,null,"Assumed 80% cooling (imperfect cooling); discharge temperature calculated using eq. (5.7), SPE monopgraph volume 22"]
[null,null,"2.2.6.2.3   Third stage inlet temperature",null,null,null,null,null,null,null,null,null,{"$f":"Compressors!B175","v":"NA"},"◦F"]
[null,null,"2.2.6.2.4   Fourth stage inlet temperature",null,null,null,null,null,null,null,null,null,{"$f":"Compressors!B176","v":"NA"},"◦F"]
[null,null,"2.2.6.2.5   Fifth stage inlet temperature",null,null,null,null,null,null,null,null,null,{"$f":"Compressors!B177","v":"NA"},"◦F"]
[null,"2.2.6.3  Discharge pressure"]
[null,null,"2.2.6.3.1   Stage 1",null,null,null,null,null,null,null,null,null,{"$f":"IF('Active Field'!J116=7,M141*M444, \"NA\")","v":"NA"},"psia"]
[null,null,"2.2.6.3.2   Stage 2",null,null,null,null,null,null,null,null,null,{"$f":"IF('Active Field'!J116=7, IF(M445>1,M453*M444,\"NA\"), \"NA\")","v":"NA"},"psia"]
[null,null,"2.2.6.3.3   Stage 3",null,null,null,null,null,null,null,null,null,{"$f":"IF('Active Field'!J116=7, IF(M445>2,M454*M444,\"NA\"), \"NA\")","v":"NA"},"psia"]
[null,null,"2.2.6.3.4   Stage 4",null,null,null,null,null,null,null,null,null,{"$f":"IF('Active Field'!J116=7, IF(M445>3,M455*M444,\"NA\"), \"NA\")","v":"NA"},"psia"]
[null,null,"2.2.6.3.5   Stage 5",null,null,null,null,null,null,null,null,null,{"$f":"IF('Active Field'!J116=7, IF(M445>4,M456*M444,\"NA\"), \"NA\")","v":"NA"},"psia"]
[null,"2.2.6.4   Adiabatic work of compression"]
[null,null,"2.2.6.4.1   Stage 1",null,null,null,null,null,null,null,null,null,{"$f":"Compressors!L173","v":"NA"},"hp/MMscf/d"]
[null,null,"2.2.6.4.2   Stage 2",null,null,null,null,null,null,null,null,null,{"$f":"Compressors!L174","v":"NA"},"hp/MMscf/d"]
[null,null,"2.2.6.4.3   Stage 3",null,null,null,null,null,null,null,null,null,{"$f":"Compressors!L175","v":"NA"},"hp/MMscf/d"]
[null,null,"2.2.6.4.4   Stage 4",null,null,null,null,null,null,null,null,null,{"$f":"Compressors!L176","v":"NA"},"hp/MMscf/d"]
[null,null,"2.2.6.4.5   Stage 5",null,null,null,null,null,null,null,null,null,{"$f":"Compressors!L177","v":"NA"},"hp/MMscf/d"]
[null,"2.2.6.5   Total adiabatic work of compression",null,null,null,null,null,null,null,null,null,null,{"$f":"IF('Active Field'!J116=7, IF(M445=1,M459,IF(M445=2,M459+M460,IF(M445=3,SUM(M459:M461),IF(M445=4,SUM(M459:M462),SUM(M459:M463))))), \"NA\")","v":"NA"},"hp/MMscf/d"]
[null,"2.2.6.6   Output horsepower from compressor",null,null,null,null,null,null,null,null,null,null,{"$f":"IF('Active Field'!J116=7, M464*'Gas Balance'!BO119, \"NA\")","v":"NA"},"hp"]
[null,"2.2.6.7   Brake horse power (BHP)",null,null,null,null,null,null,null,null,null,null,{"$f":"IF('Active Field'!J116=7, M465/(M145/100), \"NA\")","v":"NA"},"bhp"]
[null,null," Electric motor",null,null,null,null,null,null,null,null,null,{"$f":"IF('Active Field'!J116=7,HLOOKUP(M466,Drivers!C136:W137,2,TRUE)/'Input Data'!E53,\"NA\")","v":"NA"},"kWh/bhp-hr"]
[null,null," Natural gas engine",null,null,null,null,null,null,null,null,null,{"$f":"IF('Active Field'!J116=7,HLOOKUP(M466,Drivers!C35:AE36,2,TRUE),\"NA\")","v":"NA"},"Btu/bhp-hr"]
[null,"2.2.6.8   Energy consumption"]
[null,null,"2.2.6.8.1   NG prime mover fuel use",null,null,null,null,null,null,null,null,null,{"$f":"IF('Active Field'!J116=7,M468*24/1000000,0)","v":0},"MMBtu/bhp-d"]
[null,null,"2.2.6.8.2   Electricity prime mover fuel use",null,null,null,null,null,null,null,null,null,{"$f":"IF('Active Field'!J116=7,M467*24,0)","v":0},"kWh/bhp-d"]
[null,null,"2.2.6.8.3   Total NG use",null,null,null,null,null,null,null,null,null,{"$f":"IF('Active Field'!J116=7, IF(M147=2,M470*M466, 0),0)","v":0},{"$f":"IF(M147=1,\"kWh/d\",\"MMBtu/d\")","v":"MMBtu/d"}]
[null,null,"2.2.6.8.4   Total electricity use",null,null,null,null,null,null,null,null,null,{"$f":"IF('Active Field'!J116=7, IF(M147=1,M471*M466, 0),0)","v":0},"kWh/d"]
[]
[]
[]
[]
[]
[]
[]
["2.3   Water treatment"]
[]
[null,null,null,null,null,null,null,null,null,null,null,null,"User","Unit","Equation",null,null,"Reference"]
[]
["2.3.1   Total electricity use",null,null,null,null,null,null,null,null,null,null,null,{"$f":"M486+M487","v":480.83104795236773},"kWh/d"]
[null,"2.3.1.1   Total electricity use in imported water treatment",null,null,null,null,null,null,null,null,null,null,{"$f":"E505+K505+O505+S505","v":0},"kWh/d"]
[null,"2.3.1.2   Total electricity use in produced water treatment",null,null,null,null,null,null,null,null,null,null,{"$f":"E492+K492+O492+S492","v":480.83104795236773},"kWh/d"]
[]
[]
[]
[]
[null,null,null,null,{"$f":"IF(SUM(I162:I163)=0,0,VLOOKUP(1,I162:Q163,8,FALSE)*B495)","v":227.05910597750699},null,null,"kWh/d",null,null,{"$f":"IF(SUM(I165:I172)=0,0,VLOOKUP(1,I165:Q172,8,FALSE)*H495)","v":226.03168920837797},"kWh/d",null,null,{"$f":"IF(SUM(I174:I180)=0,0,VLOOKUP(1,I174:Q180,8,FALSE)*L495)","v":27.740252766482751},"kWh/d",null,null,{"$f":"IF(SUM(I182:I183)=0,0,VLOOKUP(1,I182:Q183,8,FALSE)*P495)","v":0},"kWh/d"]
[]
[]
[null,{"$f":"'Production & Extraction'!M26*'Production & Extraction'!M44","v":6462.5535861680128},"bwpd",{"$f":"IF(SUM(I162:I163)=0,\"N/A\",VLOOKUP(1,I162:Q163,5,FALSE))","v":"DAF"},null,null,null,{"$f":"B495-E498","v":6462.5535861680128},"bwpd",{"$f":"VLOOKUP(1,I165:Q172,5,FALSE)","v":"RBC"},null,{"$f":"H495-K498","v":6462.5535861680128},"bwpd",{"$f":"IF(SUM(I174:I180)=0,\"N/A\",VLOOKUP(1,I174:Q180,5,FALSE))","v":"DMF"},null,{"$f":"L495-O498","v":6462.5535861680128},"bwpd",{"$f":"IF(SUM(I182:I183)=0,\"N/A\",VLOOKUP(1,I182:Q183,5,FALSE))","v":"N/A"},null,{"$f":"P495-S498","v":6462.5535861680128},"bwpd"]
["Produced water"]
[]
[null,null,null,null,{"$f":"IF(SUM(I162:I163)=0,0,VLOOKUP(1,I162:Q163,6,FALSE)*B495/100)","v":0},null,null,"bwpd",null,null,{"$f":"VLOOKUP(1,I165:Q172,6,FALSE)*H495/100","v":0},"bwpd",null,null,{"$f":"IF(SUM(I174:I180)=0,0,VLOOKUP(1,I174:Q180,6,FALSE)*L495/100)","v":0},"bwpd",null,null,{"$f":"IF(SUM(I182:I183)=0,0,VLOOKUP(1,I182:Q183,6,FALSE)*P495/100)","v":0},"bwpd"]
[]
[]
[]
[]
[]
[]
[null,null,null,null,{"$f":"IF('Production & Extraction'!M17=1,IF(SUM(K162:K163)=0,0,VLOOKUP(1,K162:Q163,6,FALSE)*B508),0)","v":0},null,null,"kWh/d",null,null,{"$f":"IF('Production & Extraction'!M17=1,IF(SUM(K165:K172)=0,0,VLOOKUP(1,K165:Q172,6,FALSE)*H508),0)","v":0},"kWh/d",null,null,{"$f":"IF('Production & Extraction'!M17=1,IF(SUM(K174:K180)=0,0,VLOOKUP(1,K174:Q180,6,FALSE)*L508),0)","v":0},"kWh/d",null,null,{"$f":"IF('Production & Extraction'!M17=1,IF(SUM(K182:K183)=0,0,VLOOKUP(1,K182:Q183,6,FALSE)*P508),0)","v":0},"kWh/d"]
[]
[]
[null,{"$f":"H508+E511","v":0},"bwpd",{"$f":"IF(SUM(K162:K163)=0,\"N/A\",VLOOKUP(1,K162:Q163,3,FALSE))","v":"DAF"},null,null,null,{"$f":"L508+K511","v":0},"bwpd",{"$f":"VLOOKUP(1,K165:Q172,3,FALSE)","v":"RBC"},null,{"$f":"P508+O511","v":0},"bwpd",{"$f":"IF(SUM(K174:K180)=0,\"N/A\",VLOOKUP(1,K174:Q180,3,FALSE))","v":"DMF"},null,{"$f":"T508+S511","v":0},"bwpd",{"$f":"IF(SUM(K182:K183)=0,\"N/A\",VLOOKUP(1,K182:Q183,3,FALSE))","v":"N/A"},null,{"$f":"IF('Production & Extraction'!M17=1,'Production & Extraction'!M177-T495,0)","v":0},"bwpd"]
["Imported water"]
[]
[null,null,null,null,0,null,null,"bwpd",null,null,0,"bwpd",null,null,{"$f":"IF(SUM(N188:N194)=0,0,VLOOKUP(1,N188:V194,6,FALSE)*L508/100)","v":0},"bwpd",null,null,0,"bwpd"]
[]
[]
[]
["Note(s): "]
["1. No complete data is available on the volume losses in each treatment stage. To avoid the error of circular reference the volume losses are left as user input in imported water treatment and the default is zero."]
["2. Volume losses are small except in the case of wetlands"]
["3. It is seen that the electricity consumption in water treatment is significant in the cases of sea water desalination for injection"]
[]
[]
[]
[]
["2.4   Energy consumption shares"]
[]
["2.4.1   Fraction of gas consumed in different types of NG engines and turbines",null,null,null,null,null,null,null,null,null,null,null,"User","Units"]
[null,"3.4.1.1   Fraction consumed in NG engines",null,null,null,null,null,null,null,null,null,null,{"$f":"(M276+M421+M429+M472)/(M210+M215+M276+M277+M278+M354+M392+M421+M422+M429+M427+M431+M472)","v":9.4144769659776251E-2},"[-]"]
[null,"3.4.1.2   Fraction consumed in NG turbines",null,null,null,null,null,null,null,null,null,null,{"$f":"(M277+M427)/(M210+M215+M276+M277+M278+M354+M392+M421+M422+M429+M427+M431+M472)","v":0},"[-]"]
[null,"3.4.1.3   Fraction consumed in NG boilers",null,null,null,null,null,null,null,null,null,null,{"$f":"(M215+M210+M278+M354+M392+M422+M431)/(M210+M215+M276+M277+M278+M354+M392+M421+M422+M429+M427+M431+M472)","v":0.90585523034022375},"[-]"]
[]
[]
[]
[]
[]
[]
["3 Outputs"]
[]
["3.1   Tabulated outputs: Energy consumption by fuel (per day)",null,null,null,null,null,null,null,null,null,null,null,"Natural gas","Upgr. process gas","NGL","Crude oil","Diesel","Residual fuel","Petroleum coke","Electricity"]
[null,null,null,null,null,null,null,null,null,null,null,null,"MMBtu/d","MMBtu/d","MMBtu/d","MMBtu/d","MMBtu/d","MMBtu/d","MMBtu/d","kWh/d"]
[null,null,null,null,null,null,null,null,null,null,null,"Heater/treater",{"$f":"IF(M14=0,0,M209*M33)","v":0},0,0,0,0,0,0,{"$f":"IF(M14=0,0,M209*IF(M32=2,M34,0))","v":0}]
[null,null,null,null,null,null,null,null,null,null,null,"Stabilizer",{"$f":"IF(M15=0,0,M214*M42)","v":64.260000000000005},0,0,0,0,0,0,{"$f":"IF(M15=0,0,M214*IF(M41=2,M43,0))","v":0}]
[null,null,null,null,null,null,null,null,null,null,null,"Upgrading",{"$f":"'Surface Processing'!G246*'Fuel Specs'!B254/1000","v":0},{"$f":"('Surface Processing'!I256+'Surface Processing'!I252)*'Fuel Specs'!B254/1000","v":0},0,0,0,0,{"$f":"'Surface Processing'!H267*1000*'Input Data'!E18/2000*'Fuel Specs'!E346/1000000","v":0},{"$f":"('Surface Processing'!I246)*1000","v":0}]
[null,null,null,null,null,null,null,null,null,null,null,"Dilution",0,0,{"$f":"I289*M83","v":0},0,0,0,0,0]
[null,null,null,null,null,null,null,null,null,null,null,"AGR",{"$f":"'Surface Processing'!M354","v":27.906775222321158},0,0,0,0,0,0,{"$f":"'Surface Processing'!M343+'Surface Processing'!M350","v":328.88091475481104}]
[null,null,null,null,null,null,null,null,null,null,null,"Gas dehydrator",{"$f":"'Surface Processing'!M392","v":0.17602290261658865},0,0,0,0,0,0,{"$f":"'Surface Processing'!M399","v":0.93233922639959865}]
[null,null,null,null,null,null,null,null,null,null,null,"Demethanizer",{"$f":"'Surface Processing'!M421+'Surface Processing'!M422","v":9.5971090832541961},0,0,0,0,0,0,0]
[null,null,null,null,null,null,null,null,null,null,null,"CO2 separation",{"$f":"'Surface Processing'!M427+'Surface Processing'!M429+'Surface Processing'!M431+'Surface Processing'!M472","v":0},0,0,0,{"$f":"'Surface Processing'!M434","v":0},0,0,{"$f":"M440+M473","v":0}]
[null,null,null,null,null,null,null,null,null,null,null,"Water treatment",0,0,0,0,0,0,0,{"$f":"'Surface Processing'!E492+'Surface Processing'!E505+'Surface Processing'!K492+'Surface Processing'!K505+'Surface Processing'!O492+'Surface Processing'!O505+'Surface Processing'!S492+'Surface Processing'!S505","v":480.83104795236773}]
[]
[]
["3.2   Tabulated outputs: Non-combustion emissions (per day)",null,null,null,null,null,null,null,null,null,null,null,"Land use CO2","Venting","Flaring","Fugitives"]

{"sheet":"Maintenance","index":12,"n_rows":3,"n_cols":10,"rows_kept":3,"cut":false,"hidden":false,"merged":[]}
["Maintenance",null,null,null,null,null,null,"Active field:",null,{"$f":"'Active Field'!C9","v":"Generic"}]
[]
["Maintenance is included in the current model version within the Venting & Fugitives and Flaring supplemental worksheet."]

{"sheet":"Waste Disposal","index":13,"n_rows":3,"n_cols":10,"rows_kept":3,"cut":false,"hidden":false,"merged":[]}
["Waste disposal",null,null,null,null,null,null,"Active field:",null,{"$f":"'Active Field'!C9","v":"Generic"}]
[]
["Waste disposal is not included in the current version of the model."]

{"sheet":"Transport","index":14,"n_rows":127,"n_cols":20,"rows_kept":127,"cut":false,"hidden":false,"merged":[]}
["Crude Transport",null,null,null,null,null,null,"Active field:",null,{"$f":"'Active Field'!C9","v":"Generic"}]
[]
["Estimation of GHG emissions from transport of crude oil to market.  "]
["Approach and data based largely on GREET model, Argonne National Laboratory"]
[]
[]
["1  Inputs"]
[]
["1.1   Key inputs (to be entered on \"Inputs\" sheet)",null,null,null,null,null,null,null,null,null,null,null,"User","Default","Units",null,"User reference",null,"Default reference"]
[null,"1.1.1   Crude oil API gravity",null,null,null,null,null,null,null,null,null,null,{"$f":"'Active Field'!J73","v":30},{"$f":"'Active Field'!K73","v":30},"deg. API"]
[null,"1.1.2   Crude oil production rate",null,null,null,null,null,null,null,null,null,null,{"$f":"'Active Field'!J63","v":1500},{"$f":"'Active Field'!K63","v":1500},"bbl/d"]
[null,"1.1.3   Fraction of oil transported by each mode"]
[null,null,"1.1.3.1   Ocean tanker",null,null,null,null,null,null,null,null,null,{"$f":"'Active Field'!J141","v":1},{"$f":"'Active Field'!K141","v":1},"[-]"]
[null,null,"1.1.3.2   Barge",null,null,null,null,null,null,null,null,null,{"$f":"'Active Field'!J142","v":0},{"$f":"'Active Field'!K142","v":0},"[-]"]
[null,null,"1.1.3.3   Pipeline",null,null,null,null,null,null,null,null,null,{"$f":"'Active Field'!J143","v":1},{"$f":"'Active Field'!K143","v":1},"[-]"]
[null,null,"1.1.3.4   Rail",null,null,null,null,null,null,null,null,null,{"$f":"'Active Field'!J144","v":0},{"$f":"'Active Field'!K144","v":0},"[-]"]
[null,null,"1.1.3.5   Truck",null,null,null,null,null,null,null,null,null,{"$f":"'Active Field'!J145","v":0},{"$f":"'Active Field'!K145","v":0},"[-]"]
[null,"1.1.4  Transport distance (one way)"]
[null,null,"1.1.4.1   Ocean tanker",null,null,null,null,null,null,null,null,null,{"$f":"'Active Field'!J147","v":5082},{"$f":"'Active Field'!K147","v":5082},"mi"]
[null,null,"1.1.4.2   Barge",null,null,null,null,null,null,null,null,null,{"$f":"'Active Field'!J148","v":500},{"$f":"'Active Field'!K148","v":500},"mi"]
[null,null,"1.1.4.3   Pipeline",null,null,null,null,null,null,null,null,null,{"$f":"'Active Field'!J149","v":750},{"$f":"'Active Field'!K149","v":750},"mi"]
[null,null,"1.1.4.4   Rail",null,null,null,null,null,null,null,null,null,{"$f":"'Active Field'!J150","v":800},{"$f":"'Active Field'!K150","v":800},"mi"]
[null,null,"1.1.4.5   Truck",null,null,null,null,null,null,null,null,null,{"$f":"'Active Field'!J151","v":100},{"$f":"'Active Field'!K151","v":100},"mi"]
[]
[null,"1.1.5  Ocean tanker size",null,null,null,null,null,null,null,null,null,null,{"$f":"'Active Field'!J152","v":250000},{"$f":"'Active Field'!K152","v":250000},"ton"]
[]
[]
["1.2   Secondary inputs (to be entered on this sheet)"]
[null,"1.2.1   Barge capacity",null,null,null,null,null,null,null,null,null,null,22500,22500,"ton"]
[null,"1.2.2   Water transport speed",null,null,null,null,null,null,null,null,null,null,18.52,18.52,"mi/hr"]
[null,null,"1.2.2.1   Ocean tanker speed",null,null,null,null,null,null,null,null,null,5,5,"mi/hr"]
[null,null,"1.2.2.2   Barge speed"]
[null,"1.2.3   Water transport load factors"]
[null,null,"1.2.3.1   Ocean tanker load factor (origin to destination)",null,null,null,null,null,null,null,null,null,0.8,0.8,"[-]"]
[null,null,"1.2.3.2   Barge load factor (origin to destination)",null,null,null,null,null,null,null,null,null,0.8,0.8,"[-]"]
[null,null,"1.2.3.1   Ocean tanker load factor (destination to origin)",null,null,null,null,null,null,null,null,null,0.7,0.7,"[-]"]
[null,null,"1.2.3.2   Barge load factor (destination to origin)",null,null,null,null,null,null,null,null,null,0.6,0.6,"[-]"]
[null,"1.2.4  Energy intensity of rail transport"]
[null,null,"1.2.4.1   Origin to destination",null,null,null,null,null,null,null,null,null,370,370,"Btu/ton-mi"]
[null,null,"1.2.4.1   Destination to origin",null,null,null,null,null,null,null,null,null,370,370,"Btu/ton-mi"]
[null,"1.2.5   Energy intensity of pipeline transport"]
[null,null,"1.2.5.1   Turbine powered",null,null,null,null,null,null,null,null,null,240,240,"Btu/ton-mi"]
[null,null,"1.2.5.2   Reciprocating enginer powered (current)",null,null,null,null,null,null,null,null,null,270,270,"Btu/ton-mi"]
[null,null,"1.2.5.3   Reciprocating engine powered (future)",null,null,null,null,null,null,null,null,null,260,260,"Btu/ton-mi"]
[null,"1.2.6   Fraction of power generation technologies for pipeline pumping and compression stations"]
[null,null,"1.2.6.1   Turbine powered",null,null,null,null,null,null,null,null,null,0.55000000000000004,0.55000000000000004,"[-]"]
[null,null,"1.2.6.2   Reciprocating enginer powered (current)",null,null,null,null,null,null,null,null,null,0.36,0.36,"[-]"]
[null,null,"1.2.6.3   Reciprocating engine powered (future)",null,null,null,null,null,null,null,null,null,0.09,0.09,"[-]"]
[]
[null,"1.2.7   Share of fuel inputs table"]
[null,null,null,null,null,null,null,null,null,null,"Diesel","Residual oil","Natural gas","Electricity"]
[null,null,null,null,null,null,null,null,{"$f":"IF(SUM(K52:N52)=1,\"OK\",\"ERROR\")","v":"OK"},"Ocean Tanker",0,1,0,0,"Btu/Btu"]
[null,null,null,null,null,null,null,null,{"$f":"IF(SUM(K53:N53)=1,\"OK\",\"ERROR\")","v":"OK"},"Barge",0,1,0,0,"Btu/Btu"]
[null,null,null,null,null,null,null,null,{"$f":"IF(SUM(K54:N54)=1,\"OK\",\"ERROR\")","v":"OK"},"Pipeline",0.45,0,0.55000000000000004,0,"Btu/Btu"]
[null,null,null,null,null,null,null,null,{"$f":"IF(SUM(K55:N55)=1,\"OK\",\"ERROR\")","v":"OK"},"Rail",1,0,0,0,"Btu/Btu"]
[null,null,null,null,null,null,null,null,{"$f":"IF(SUM(K56:N56)=1,\"OK\",\"ERROR\")","v":"OK"},"Truck",1,0,0,0,"Btu/Btu"]
[]
[null,"1.2.8   Feed losses: Btu/MMBtu fuel transported",null,null,null,null,null,null,null,null,null,null,62,62,"Btu/MMBtu transported"]
[]
[]
["1.3   Inputs from other sheets"]
[null,"1.3.1   Water transport energy consumption (Btu/hp-hr)"]
[null,null,"1.3.1.1   Ocean tanker (origin to destination)",null,null,null,null,null,null,null,null,null,{"$f":"(14.42/M34+150)*0.735*'Fuel Specs'!E339/'Fuel Specs'!G339","v":4619.7517108205893},{"$f":"(14.42/N34+150)*0.735*'Fuel Specs'!E339/'Fuel Specs'!G339","v":4619.7517108205893},"Btu/hp-hr"]
[null,null,"1.3.1.2   Barge (origin to destination)",null,null,null,null,null,null,null,null,null,{"$f":"(14.42/M35+350)*0.735*'Fuel Specs'!E339/'Fuel Specs'!G339","v":10118.637841837508},{"$f":"(14.42/N35+350)*0.735*'Fuel Specs'!E339/'Fuel Specs'!G339","v":10118.637841837508},"Btu/hp-hr"]
[null,null,"1.3.1.3   Ocean tanker (destination to origin)",null,null,null,null,null,null,null,null,null,{"$f":"(14.42/M36+150)*0.735*'Fuel Specs'!E339/'Fuel Specs'!G339","v":4690.5498697574321},{"$f":"(14.42/N36+150)*0.735*'Fuel Specs'!E339/'Fuel Specs'!G339","v":4690.5498697574321},"Btu/hp-hr"]
[null,null,"1.3.1.4   Barge (destination to origin)",null,null,null,null,null,null,null,null,null,{"$f":"(14.42/M37+350)*0.735*'Fuel Specs'!E339/'Fuel Specs'!G339","v":10283.833546023476},{"$f":"(14.42/N37+350)*0.735*'Fuel Specs'!E339/'Fuel Specs'!G339","v":10283.833546023476},"Btu/hp-hr"]
[]
[null,"1.3.2   Crude oil heating value",null,null,null,null,null,null,null,null,null,null,{"$f":"'Fuel Specs'!M16","v":5.5145999999999997},{"$f":"'Fuel Specs'!N16","v":5.5145999999999997},"MMBtu/bbl"]
[null,"1.3.3   Crude oil specific gravity",null,null,null,null,null,null,null,null,null,null,{"$f":"VLOOKUP(M10,'Fuel Specs'!B24:O65,2,TRUE)","v":0.87616099071207432},{"$f":"VLOOKUP(N10,'Fuel Specs'!B24:O65,2,TRUE)","v":0.87616099071207432},"kg/l"]
[null,"1.3.4   Density of fresh water",null,null,null,null,null,null,null,null,null,null,{"$f":"'Input Data'!E2385","v":350.43119999999999},{"$f":"'Input Data'!E2385","v":350.43119999999999},"lb/bbl"]
[]
[null,"1.3.5   Emissions factors table",null,null,null,null,null,null,null,null,"Diesel","Residual oil","Natural gas","Electricity"]
[null,null,null,null,null,null,null,null,null,"VOC (incl. bulk terminal)",{"$f":"'Emissions Factors'!C23","v":79.908003051108707},{"$f":"'Emissions Factors'!D23","v":79.908003051108707},{"$f":"'Emissions Factors'!E23","v":79.908003051108707},0,"g emitted per MMBtu (on site only)"]
[null,null,null,null,null,null,null,null,null,"CO",{"$f":"'Emissions Factors'!C24","v":181.59600634510556},{"$f":"'Emissions Factors'!D24","v":181.59600634510556},{"$f":"'Emissions Factors'!E24","v":90.798003172552782},0,"g emitted per MMBtu (on site only)"]
[null,null,null,null,null,null,null,null,null,"CH4 (incl. fugitive)",{"$f":"'Emissions Factors'!C25","v":4.5809998512268066},{"$f":"'Emissions Factors'!D25","v":4.5809998512268066},{"$f":"'Emissions Factors'!E25","v":91.619997024536133},0,"g emitted per MMBtu (on site only)"]
[null,null,null,null,null,null,null,null,null,"N2O",{"$f":"'Emissions Factors'!C26","v":2},{"$f":"'Emissions Factors'!D26","v":2},{"$f":"'Emissions Factors'!E26","v":2},0,"g emitted per MMBtu (on site only)"]
[null,null,null,null,null,null,null,null,null,"CO2",{"$f":"'Emissions Factors'!C27","v":77652.043297206372},{"$f":"'Emissions Factors'!D27","v":84534.221277893477},{"$f":"'Emissions Factors'!E27","v":58768.998087433873},0,"g emitted per MMBtu (on site only)"]
[null,null,null,null,null,null,null,null,null,"GHGs",{"$f":"'Emissions Factors'!C28","v":78900.836713097655},{"$f":"'Emissions Factors'!D28","v":85783.01469378476},{"$f":"'Emissions Factors'!E28","v":62048.489627581796},0,"g emitted per MMBtu (on site only)"]
[]
[]
["2  Calculations"]
[]
[]
["2.1   Horsepower requirements of water transport",null,null,null,null,null,null,null,null,null,null,null,"User","Units",null,null,"User reference",null,"Default reference"]
[null,"2.1.1  Ocean tanker horsepower",null,null,null,null,null,null,null,null,null,null,{"$f":"9070+0.101*M25","v":34320},"hp"]
[null,"2.1.2   Barge horsepower",null,null,null,null,null,null,null,null,null,null,{"$f":"5600/22500*M29","v":5600},"hp"]
[]
[]
["2.2   Energy intensity (origin to destination)"]
[null,"2.2.1   Ocean tanker",null,null,null,null,null,null,null,null,null,null,{"$f":"M63*M34*M85/M30/M25","v":27.39522742382076},"Btu/ton mi"]
[null,"2.2.2   Barge",null,null,null,null,null,null,null,null,null,null,{"$f":"M64*M35*M86/M29/M31","v":402.94664472384028},"Btu/ton mi"]
[null,"2.2.3   Pipeline",null,null,null,null,null,null,null,null,null,null,{"$f":"SUMPRODUCT(M42:M44,M46:M48)","v":252.6},"Btu/ton mi"]
[null,"2.2.4   Rail",null,null,null,null,null,null,null,null,null,null,{"$f":"M39","v":370},"Btu/ton mi"]
[null,"2.2.5   Truck",null,null,null,null,null,null,null,null,null,null,969,"Btu/ton mi"]
[]
["2.3   Energy intensity (back-haul, destination to origin)"]
[null,"2.3.1   Ocean tanker",null,null,null,null,null,null,null,null,null,null,{"$f":"M65*M36*M85/M25/M30","v":24.338179281004866},"Btu/ton mi"]
[null,"2.3.2   Barge",null,null,null,null,null,null,null,null,null,null,{"$f":"M66*M37*M86/M29/M31","v":307.14382857456775},"Btu/ton mi"]
[null,"2.3.3   Pipeline",null,null,null,null,null,null,null,null,null,null,0,"Btu/ton mi",null,null,null,null,"Pipeline has no back haul"]
[null,"2.3.4   Rail",null,null,null,null,null,null,null,null,null,null,200,"Btu/ton mi",null,null,null,null,"Assume that rail cars must return, but are less energy intensive to move"]
[null,"2.3.5   Truck",null,null,null,null,null,null,null,null,null,null,969,"Btu/ton mi",null,null,null,null,"Assume that trucks must return, but have similar energy consumption"]
[]
["2.4   Energy consumption (Btu/MMBtu-mi fuel transported)"]
[null,"2.4.1   Ocean tanker",null,null,null,null,null,null,null,null,null,null,{"$f":"(M90+M97)*(1/M68)*(M70*M69)*1/2000","v":1.4401699505022931},"Btu/MMBtu-mi transported"]
[null,"2.4.2   Barge",null,null,null,null,null,null,null,null,null,null,{"$f":"(M91+M98)*(1/M68)*(M70*M69)*1/2000","v":19.767709627499297},"Btu/MMBtu-mi transported"]
[null,"2.4.3   Pipeline",null,null,null,null,null,null,null,null,null,null,{"$f":"(M92+M99)*(1/M68)*(M70*M69)*1/2000","v":7.0319538702048341},"Btu/MMBtu-mi transported"]
[null,"2.4.4   Rail",null,null,null,null,null,null,null,null,null,null,{"$f":"(M93+M100)*(1/M68)*(M70*M69)*1/2000","v":15.867829398324446},"Btu/MMBtu-mi transported"]
[null,"2.4.5   Truck",null,null,null,null,null,null,null,null,null,null,{"$f":"(M94+M101)*(1/M68)*(M70*M69)*1/2000","v":53.950619954303122},"Btu/MMBtu-mi transported"]
[]
[null,null,null,null,null,null,null,"VOC (incl. bulk terminal)","CO","CH4 (incl. fugitive)","N2O","CO2","GHG"]
[null,null,null,null,null,null,"Ocean Tanker",{"$f":"M104/1000000*SUMPRODUCT($K$73:$N$73,K52:N52)","v":1.1508110479885231E-4},{"$f":"M104/1000000*SUMPRODUCT($K$74:$N$74,K52:N52)","v":2.6152911146944477E-4},{"$f":"M104/1000000*SUMPRODUCT($K$75:$N$75,K52:N52)","v":6.5974183289923221E-6},{"$f":"M104/1000000*SUMPRODUCT($K$76:$N$76,K52:N52)","v":2.8803399010045862E-6},{"$f":"M104/1000000*SUMPRODUCT($K$77:$N$77,K52:N52)","v":0.12174364527353375},{"$f":"M104/1000000*SUMPRODUCT($K$78:$N$78,K52:N52)","v":0.12354212002548548},"g/MMBtu-mi fuel transported"]
[null,null,null,null,null,null,"Barge",{"$f":"M105/1000000*SUMPRODUCT($K$73:$N$73,K53:N53)","v":1.5795982012276446E-3},{"$f":"M105/1000000*SUMPRODUCT($K$74:$N$74,K53:N53)","v":3.5897371229435663E-3},{"$f":"M105/1000000*SUMPRODUCT($K$75:$N$75,K53:N53)","v":9.0555874862668979E-5},{"$f":"M105/1000000*SUMPRODUCT($K$76:$N$76,K53:N53)","v":3.9535419254998591E-5},{"$f":"M105/1000000*SUMPRODUCT($K$77:$N$77,K53:N53)","v":1.6710479398081706},{"$f":"M105/1000000*SUMPRODUCT($K$78:$N$78,K53:N53)","v":1.6957337254382425},"g/MMBtu-mi fuel transported"]
[null,null,null,null,null,null,"Pipeline",{"$f":"M106/1000000*SUMPRODUCT($K$73:$N$73,K54:N54)","v":5.6190939131558365E-4},{"$f":"M106/1000000*SUMPRODUCT($K$74:$N$74,K54:N54)","v":9.2580668623334981E-4},{"$f":"M106/1000000*SUMPRODUCT($K$75:$N$75,K54:N54)","v":3.6884319680062223E-4},{"$f":"M106/1000000*SUMPRODUCT($K$76:$N$76,K54:N54)","v":1.4063907740409668E-5},{"$f":"M106/1000000*SUMPRODUCT($K$77:$N$77,K54:N54)","v":0.47301399982884185},{"$f":"M106/1000000*SUMPRODUCT($K$78:$N$78,K54:N54)","v":0.48964933406655115},"g/MMBtu-mi fuel transported"]
[null,null,null,null,null,null,"Rail",{"$f":"M107/1000000*SUMPRODUCT($K$73:$N$73,K55:N55)","v":1.2679665599757823E-3},{"$f":"M107/1000000*SUMPRODUCT($K$74:$N$74,K55:N55)","v":2.8815344481011788E-3},{"$f":"M107/1000000*SUMPRODUCT($K$75:$N$75,K55:N55)","v":7.2690524113016642E-5},{"$f":"M107/1000000*SUMPRODUCT($K$76:$N$76,K55:N55)","v":3.1735658796648893E-5},{"$f":"M107/1000000*SUMPRODUCT($K$77:$N$77,K55:N55)","v":1.2321693754713741},{"$f":"M107/1000000*SUMPRODUCT($K$78:$N$78,K55:N55)","v":1.2519850163484878},"g/MMBtu-mi fuel transported"]
[null,null,null,null,null,null,"Truck",{"$f":"M108/1000000*SUMPRODUCT($K$73:$N$73,K56:N56)","v":4.3110863039176597E-3},{"$f":"M108/1000000*SUMPRODUCT($K$74:$N$74,K56:N56)","v":9.7972171235440088E-3},{"$f":"M108/1000000*SUMPRODUCT($K$75:$N$75,K56:N56)","v":2.4714778198425656E-4},{"$f":"M108/1000000*SUMPRODUCT($K$76:$N$76,K56:N56)","v":1.0790123990860624E-4},{"$f":"M108/1000000*SUMPRODUCT($K$77:$N$77,K56:N56)","v":4.1893758766026723},{"$f":"M108/1000000*SUMPRODUCT($K$78:$N$78,K56:N56)","v":4.2567490555848586},"g/MMBtu-mi fuel transported"]
[]
["2.5   Energy production rate as crude oil",null,null,null,null,null,null,null,null,null,null,null,{"$f":"M11*M68","v":8271.9},"MMBtu/d"]
[]
[]
["3  Results"]
[]
["3.1   Tabulated outputs: Energy consumption by fuel (per day)",null,null,null,null,null,null,null,null,null,null,null,"Natural gas","Upgrader process gas","NGL","Crude oil","Diesel","Residual fuel","Petroleum coke","Electricity"]
[null,null,null,null,null,null,null,null,null,null,null,null,"MMBtu/d","MMBtu/d","MMBtu/d","MMBtu/d","MMBtu/d","MMBtu/d","MMBtu/d","kWh/d"]
[null,null,null,null,null,null,null,null,null,null,null,null,{"$f":"SUMPRODUCT(M104:M108,M52:M56,M19:M23,M13:M17)*M117/1000000","v":23.994142927815787},0,0,0,{"$f":"(SUMPRODUCT(M104:M108,K52:K56,M19:M23,M13:M17)*M117+M58)/1000000","v":19.631633486394737},{"$f":"SUMPRODUCT(M104:M108,L52:L56,M19:M23,M13:M17)*M117/1000000","v":60.541570296511509},0,{"$f":"SUMPRODUCT(M104:M108,N52:N56,M19:M23,M13:M17)*M117/1000000","v":0}]
[]
["3.2   Tabulated outputs: Non-combustion emissions (per day)",null,null,null,null,null,null,null,null,null,null,null,"Land use CO2","Venting","Flaring","Fugitives"]
[null,null,null,null,null,null,null,null,null,null,null,null,0,0,0,0,"gCO2 eq./d"]

{"sheet":"Gas Balance","index":15,"n_rows":269,"n_cols":160,"rows_kept":269,"cut":false,"hidden":false,"merged":[[34,22,34,24],[34,30,34,32],[35,30,35,32],[35,1,35,3],[35,14,35,16],[35,45,35,47],[35,59,35,61],[35,73,35,75],[35,22,35,24]]}
["Supplemental worksheet: Gas balance",null,null,null,null,null,null,"Active field:",null,{"$f":"'Active Field'!C9","v":"Generic"}]
[]
["This supplemental worksheet tracks the natural gas balance across process stages and ensures that natural gas is conserved in the system. "]
[]
["1  Natural gas balance flowsheet"]
[]
[]
[null,"Summary outputs:"]
[null,"Demethanizer heavy product output",null,null,null,{"$f":"IF('Active Field'!J116=7,DO139,IF('Active Field'!J116=8,BN230,BY53))","v":152.28101206122187},"MMBtu/d LHV"]
[]
[]
[null,null,null,null,null,null,null,null,null,null,null,null,null,null,null,null,null,null,null,null,null,null,null,null,null,null,null,null,null,null,null,null,null,null,null,null,null,null,null,null,null,null,null,null,null,null,null,null,null,null,null,null,null,null,null,null,null,null,null,"Note: AGR vents all remaining associated gas CO2 in non-CO2-EOR pathway"]
[]
[null,null,null,null,null,null,null,null,null,null,null,null,null,null,"Table 1.3: Flared Gas "]
[null,null,null,null,null,null,null,null,null,null,null,null,null,null,"Comp.","mol%","Vol",null,null,null,null,null,"Table 1.5 Gas Vented as a Substitute for Flaring",null,null,null,null,null,null,null,"Table 1.6 Other Fugitives and Operational Venting"]
[null,null,null,null,null,null,null,null,null,null,null,null,null,null,{"$f":"\"--\"","v":"--"},{"$f":"\"--\"","v":"--"},"MMscf/d",null,null,null,null,null,"Comp.","mol%","Vol",null,null,null,null,null,"Comp.","mol%","Vol",null,null,null,null,null,null,null,null,null,null,null,null,"Table 1.8: Dehydrator Vented and Fugitives",null,null,null,null,null,null,null,null,null,null,null,null,null,"Table 1.10: Amine Treater Vented and Fugitives"]
[null,null,null,null,null,null,null,null,null,null,null,null,null,null,"N2",{"$f":"H40","v":2},{"$f":"(P17/100)*$O$26","v":4.6415088539088663E-3},null,null,null,null,null,{"$f":"\"--\"","v":"--"},{"$f":"\"--\"","v":"--"},"MMscf/d",null,null,null,null,null,{"$f":"\"--\"","v":"--"},{"$f":"\"--\"","v":"--"},"MMscf/d",null,null,null,null,null,null,null,null,null,null,null,null,"Comp.","mol%","Vol",null,null,null,null,null,null,null,null,null,null,null,"Comp.","mol%","Vol"]
[null,null,null,null,null,null,null,null,null,null,null,null,null,null,"CO2",6,{"$f":"(P18/100)*$O$26","v":1.3924526561726597E-2},null,null,null,null,null,"CO2",{"$f":"IF(W25=0, \"NA\", Y18/$W$25*100)","v":"NA"},{"$f":"W25*T42/100","v":0},null,null,null,null,null,"CO2",{"$f":"AG18/$AE$25*100","v":5.9999999999999991},{"$f":"$AE$25*T42/100","v":1.5431220463343865E-3},null,null,null,null,null,null,null,null,null,null,null,null,{"$f":"\"--\"","v":"--"},{"$f":"\"--\"","v":"--"},"MMscf/d",null,null,null,null,null,null,null,null,null,null,null,{"$f":"\"--\"","v":"--"},{"$f":"\"--\"","v":"--"},"MMscf/d"]
[null,null,null,null,null,null,null,null,null,null,null,null,null,null,"C1",84,0.19494337186417238,null,null,null,null,null,"C1",{"$f":"IF(W25=0, \"NA\", Y19/$W$25*100)","v":"NA"},{"$f":"W26*T43/100","v":0},null,null,null,null,null,"C1",{"$f":"AG19/$AE$25*100","v":84},{"$f":"$AE$25*T43/100","v":2.1603708648681413E-2},null,null,null,null,null,null,null,null,null,null,null,null,"CO2",{"$f":"IF(AT38=\"ON\", AV19/$AT$27*100, \"NA\")","v":5.9958104427606793},{"$f":"$AT$27*AN41/100","v":6.1096944783044509E-5},null,null,null,null,null,null,null,null,null,null,null,"CO2",{"$f":"IF(BH38=\"ON\", BJ19/$BH$27*100, \"NA\")","v":84.271310074558102},{"$f":"IF(BH38=\"ON\", BC41, 0)","v":6.619125444715597E-2}]
[null,null,null,null,null,null,null,null,null,null,null,null,null,null,"C2",4,9.2830177078177326E-3,null,null,null,null,null,"C2",{"$f":"IF(W25=0, \"NA\", Y20/$W$25*100)","v":"NA"},{"$f":"W27*T44/100","v":0},null,null,null,null,null,"C2",{"$f":"AG20/$AE$25*100","v":3.9999999999999987},{"$f":"$AE$25*T44/100","v":1.0287480308895909E-3},null,null,null,null,null,null,null,null,null,null,null,null,"C1",{"$f":"IF(AT38=\"ON\", AV20/$AT$27*100, \"NA\")","v":83.941346198649541},8.5535722696262345E-4,null,null,null,null,null,null,null,null,null,null,null,"C1",{"$f":"IF(BH38=\"ON\", BJ20/$BH$27*100, \"NA\")","v":1.3563362309803071},{"$f":"IF(BH38=\"ON\", 'Venting & Fugitives'!F152/1000000 + 'Venting & Fugitives'!F227/1000000, 0)","v":1.0653399893900343E-3},null,null,null,null,null,null,null,null,null,null,null,null,null,null,null,"Table 1.13: Pipeline Quality Gas Composition"]
[null,"Fugitives and Venting from Production",null,null,null,null,null,null,null,null,null,null,null,null,"C3",2,4.6415088539088663E-3,null,null,null,null,null,"C3",{"$f":"IF(W25=0, \"NA\", Y21/$W$25*100)","v":"NA"},{"$f":"W28*T45/100","v":0},null,null,null,null,null,"C3",{"$f":"AG21/$AE$25*100","v":1.9999999999999993},{"$f":"$AE$25*T45/100","v":5.1437401544479546E-4},null,null,null,null,null,null,null,null,null,null,null,null,"C2",{"$f":"IF(AT38=\"ON\", AV21/$AT$27*100, \"NA\")","v":3.9972069618404542},4.0731296522029682E-5,null,null,null,null,null,null,null,null,null,null,null,"C2",{"$f":"IF(BH38=\"ON\", BJ21/$BH$27*100, \"NA\")","v":0},0,null,null,null,null,null,null,null,null,null,null,null,null,null,null,null,"Comp.","mol%","Vol","Mixture MW","Component MW","HHV","LHV"]
[null,{"$f":"('Venting & Fugitives'!G277/365)+('Venting & Fugitives'!E157+'Venting & Fugitives'!F157+'Venting & Fugitives'!G157)/1000000","v":7.791603539117031E-4},"MMscf/d",null,null,null,null,null,null,null,null,null,null,null,"C4",1,2.3207544269544331E-3,null,null,null,null,null,"C4",{"$f":"IF(W25=0, \"NA\", Y22/$W$25*100)","v":"NA"},{"$f":"W29*T46/100","v":0},null,null,null,null,null,"C4",{"$f":"AG22/$AE$25*100","v":0.99999999999999967},{"$f":"$AE$25*T46/100","v":2.5718700772239773E-4},null,null,null,null,null,null,null,null,null,null,null,null,"C3",{"$f":"IF(AT38=\"ON\", AV22/$AT$27*100, \"NA\")","v":1.9986034809202271},2.0365648261014841E-5,null,null,null,null,null,null,null,null,null,null,null,"C3",{"$f":"IF(BH38=\"ON\", BJ22/$BH$27*100, \"NA\")","v":0},0,null,null,null,null,null,null,null,null,null,null,null,null,null,null,null,{"$f":"\"--\"","v":"--"},{"$f":"\"--\"","v":"--"},"MMscf/d","lb/lbmol","lb/lbmol","Btu/scf","Btu/scf"]
[null,null,"Notes:",null,null,null,null,null,null,null,null,null,null,null,"H2S",1,2.3207544269544331E-3,null,null,null,null,null,"Total",{"$f":"SUM(X18:X22)","v":0},{"$f":"SUM(Y18:Y22)","v":0},null,null,null,null,null,"Total",{"$f":"SUM(AF18:AF22)","v":97},{"$f":"SUM(AG18:AG22)","v":2.4947139749072585E-2},null,null,null,null,null,null,null,null,null,null,null,null,"C4",{"$f":"IF(AT38=\"ON\", AV23/$AT$27*100, \"NA\")","v":0.99930174046011355},1.018282413050742E-5,null,null,null,null,null,null,null,null,null,null,null,"C4",{"$f":"IF(BH38=\"ON\", BJ23/$BH$27*100, \"NA\")","v":0},0,null,null,null,null,null,null,null,null,null,null,null,null,null,null,null,"N2",{"$f":"IF(OR('Active Field'!J116=1, 'Active Field'!J116=2, 'Active Field'!J116=3, 'Active Field'!J116=4, 'Active Field'!J116=5), 100*CB23/$BZ$35, \"NA\")","v":2.3724573054634641},{"$f":"IF(OR('Active Field'!J116=1, 'Active Field'!J116=2, 'Active Field'!J116=3, 'Active Field'!J116=4, 'Active Field'!J116=5), BQ40, 0)","v":2.2598491146091134E-2},{"$f":"IF(OR('Active Field'!J116=1, 'Active Field'!J116=2, 'Active Field'!J116=3, 'Active Field'!J116=4, 'Active Field'!J116=5), CD23*CA23/100, \"NA\")","v":0.66428804552976994},{"$f":"'Fuel Specs'!$E$151","v":28},{"$f":"'Fuel Specs'!G131","v":0},{"$f":"'Fuel Specs'!H131","v":0}]
[null,null,"Fugitive emissions are from active wells and well cellars ",null,null,null,null,null,null,null,null,null,null,null,"Total",{"$f":"SUM(P17:P23)","v":100},{"$f":"SUM(Q17:Q23)","v":0.23207544269544328},null,null,null,null,null,"Gas Vented as a Substitute for Flaring",null,null,null,null,null,null,null,"Other Fugitives and Operational Venting",null,null,null,null,null,null,null,null,null,null,null,null,null,null,"H2S",{"$f":"IF(AT38=\"ON\", AV24/$AT$27*100, \"NA\")","v":1.0225770584563278},1.0419998209307641E-5,null,null,null,null,null,null,null,null,null,null,null,"H2S",{"$f":"IF(BH38=\"ON\", BJ24/$BH$27*100, \"NA\")","v":14.37235369446157},{"$f":"IF(BH38=\"ON\", BC46, 0)","v":1.1288825574836259E-2},null,null,null,null,null,null,null,null,null,null,null,null,null,null,null,"CO2",{"$f":"IF(OR('Active Field'!J116=1, 'Active Field'!J116=2, 'Active Field'!J116=3, 'Active Field'!J116=4, 'Active Field'!J116=5), 100*CB24/$BZ$35, \"NA\")","v":0},{"$f":"IF(OR('Active Field'!J116=1, 'Active Field'!J116=2, 'Active Field'!J116=3, 'Active Field'!J116=4, 'Active Field'!J116=5), BQ41, 0)","v":0},{"$f":"IF(OR('Active Field'!J116=1, 'Active Field'!J116=2, 'Active Field'!J116=3, 'Active Field'!J116=4, 'Active Field'!J116=5), CD24*CA24/100, \"NA\")","v":0},{"$f":"'Fuel Specs'!$E$153","v":44},{"$f":"'Fuel Specs'!G133","v":0},{"$f":"'Fuel Specs'!H133","v":0}]
[null,null,"Vented emissions are from workovers and cleanups",null,null,null,null,null,null,null,null,null,null,null,"Flared Gas ",null,null,null,null,null,null,null,{"$f":"'Venting & Fugitives'!M9","v":0},"MMscf/d",null,null,null,null,null,null,{"$f":"('Venting & Fugitives'!E162+'Venting & Fugitives'!E167+'Venting & Fugitives'!E172+'Venting & Fugitives'!E177+'Venting & Fugitives'!E232+'Venting & Fugitives'!E237+'Venting & Fugitives'!E242+'Venting & Fugitives'!E247)/1000000+('Venting & Fugitives'!F162+'Venting & Fugitives'!F167+'Venting & Fugitives'!F172+'Venting & Fugitives'!F177+'Venting & Fugitives'!F232+'Venting & Fugitives'!F237+'Venting & Fugitives'!F242+'Venting & Fugitives'!F247)/1000000+IF(H45, 0.31, 0.425)*'Venting & Fugitives'!G246/IF(H45, 'Input Data'!D89, 'Input Data'!D90)/1000000+IF(H45, 0.42, 0.575)*'Venting & Fugitives'!G246/IF(H45, 'Input Data'!D89, 'Input Data'!D90)/1000000+IF(H45, 0.27, 0)*'Venting & Fugitives'!G246/'Input Data'!D89/1000000","v":2.571870077223978E-2},"MMscf/d",null,null,null,null,null,null,null,null,null,null,null,null,null,"Total",{"$f":"IF(AT38=\"ON\", SUM(AU19:AU24), \"NA\")","v":97.95484588308733},{"$f":"SUM(AV19:AV24)","v":9.9815393886852751E-4},null,null,null,null,null,null,null,null,null,null,null,"Total",{"$f":"IF(BH38=\"ON\", SUM(BI19:BI24), \"NA\")","v":99.999999999999972},{"$f":"SUM(BJ19:BJ24)","v":7.8545420011382275E-2},null,null,null,null,null,null,null,null,null,null,null,null,null,null,null,"C1",{"$f":"IF(OR('Active Field'!J116=1, 'Active Field'!J116=2, 'Active Field'!J116=3, 'Active Field'!J116=4, 'Active Field'!J116=5), 100*CB25/$BZ$35, \"NA\")","v":97.17354422277235},{"$f":"IF(OR('Active Field'!J116=1, 'Active Field'!J116=2, 'Active Field'!J116=3, 'Active Field'!J116=4, 'Active Field'!J116=5), BQ42, 0)","v":0.92561222227079365},{"$f":"IF(OR('Active Field'!J116=1, 'Active Field'!J116=2, 'Active Field'!J116=3, 'Active Field'!J116=4, 'Active Field'!J116=5), CD25*CA25/100, \"NA\")","v":15.547767075643575},{"$f":"'Fuel Specs'!$E$155","v":16},{"$f":"'Fuel Specs'!G135","v":1013},{"$f":"'Fuel Specs'!H135","v":913}]
[null,null,"GOR calculated at separator",null,null,null,null,null,null,null,null,null,null,null,{"$f":"Flaring!M15","v":0.23207544269544331},"MMscf/d",null,null,null,null,null,null,null,null,null,null,null,null,null,null,null,null,null,null,null,null,null,null,null,null,null,null,null,null,null,"Dehydrator Vented and Fugitives Gas",null,null,null,null,null,null,null,null,null,null,null,null,null,"Amine Treater Vented Gas",null,null,null,null,null,null,null,null,null,null,null,null,null,null,null,null,null,"C2",{"$f":"IF(OR('Active Field'!J116=1, 'Active Field'!J116=2, 'Active Field'!J116=3, 'Active Field'!J116=4, 'Active Field'!J116=5), 100*CB26/$BZ$35, \"NA\")","v":0.45399847176418373},{"$f":"IF(OR('Active Field'!J116=1, 'Active Field'!J116=2, 'Active Field'!J116=3, 'Active Field'!J116=4, 'Active Field'!J116=5), BQ43-BZ48, 0)","v":4.3244952905475212E-3},{"$f":"IF(OR('Active Field'!J116=1, 'Active Field'!J116=2, 'Active Field'!J116=3, 'Active Field'!J116=4, 'Active Field'!J116=5), CD26*CA26/100, \"NA\")","v":0.13619954152925512},{"$f":"'Fuel Specs'!$E$156","v":30},{"$f":"'Fuel Specs'!G136","v":1792},{"$f":"'Fuel Specs'!H136","v":1641},null,null,null,null,null,null,"Lifting gas"]
[null,null,null,null,null,null,null,null,null,null,null,null,null,null,null,null,null,null,null,null,null,null,null,null,null,null,null,null,null,null,null,null,null,null,null,null,null,null,null,null,null,null,null,null,null,{"$f":"IF(AT38=\"ON\", 'Venting & Fugitives'!E147/1000000 + 'Venting & Fugitives'!E222/1000000, 0)+IF(AT38=\"ON\", 'Venting & Fugitives'!F147/1000000 + 'Venting & Fugitives'!F222/1000000, 0)","v":1.0189939352871428E-3},"MMscf/d",null,null,null,null,null,null,null,null,null,null,null,null,{"$f":"IF(BH38=\"ON\", BJ25, \"NA\")","v":7.8545420011382275E-2},"MMscf/d",null,null,null,null,null,null,null,null,null,null,null,null,null,null,null,null,"C3",{"$f":"IF(OR('Active Field'!J116=1, 'Active Field'!J116=2, 'Active Field'!J116=3, 'Active Field'!J116=4, 'Active Field'!J116=5), 100*CB27/$BZ$35, \"NA\")","v":0},{"$f":"IF(OR('Active Field'!J116=1, 'Active Field'!J116=2, 'Active Field'!J116=3, 'Active Field'!J116=4, 'Active Field'!J116=5), BQ44-BZ49, 0)","v":0},{"$f":"IF(OR('Active Field'!J116=1, 'Active Field'!J116=2, 'Active Field'!J116=3, 'Active Field'!J116=4, 'Active Field'!J116=5), CD27*CA27/100, \"NA\")","v":0},{"$f":"'Fuel Specs'!$E$157","v":44},{"$f":"'Fuel Specs'!G137","v":2590},{"$f":"'Fuel Specs'!H137","v":2385},null,null,null,null,null,null,{"$f":"IF(AND('Production & Extraction'!M18=1, OR('Active Field'!J116=1, 'Active Field'!J116=2, 'Active Field'!J116=3, 'Active Field'!J116=4, 'Active Field'!J116=5)),'Production & Extraction'!M229/1000,0)","v":0},"MMscf/d"]
[null,null,null,null,null,null,null,null,null,null,null,null,null,null,null,null,null,null,null,null,null,null,null,null,null,null,null,null,null,null,null,null,null,null,null,null,null,null,null,null,null,null,null,null,null,null,null,null,null,null,null,null,null,null,null,null,null,null,null,null,null,null,null,null,null,null,null,null,null,null,null,null,null,null,null,null,null,"C4",{"$f":"IF(OR('Active Field'!J116=1, 'Active Field'!J116=2, 'Active Field'!J116=3, 'Active Field'!J116=4, 'Active Field'!J116=5), 100*CB28/$BZ$35, \"NA\")","v":0},{"$f":"IF(OR('Active Field'!J116=1, 'Active Field'!J116=2, 'Active Field'!J116=3, 'Active Field'!J116=4, 'Active Field'!J116=5), BQ45-BZ50, 0)","v":0},{"$f":"IF(OR('Active Field'!J116=1, 'Active Field'!J116=2, 'Active Field'!J116=3, 'Active Field'!J116=4, 'Active Field'!J116=5), CD28*CA28/100, \"NA\")","v":0},{"$f":"'Fuel Specs'!$E$158","v":58},{"$f":"'Fuel Specs'!G138","v":3370},{"$f":"'Fuel Specs'!H138","v":3113},null,null,null,null,null,null,null,null,null,null,null,null,null,null,null,null,null,null,null,null,null,null,null,null,null,null,null,{"$f":"IF( OR('Active Field'!J116=1,'Active Field'!J116=2,'Active Field'!J116=3,'Active Field'!J116=4,'Active Field'!J116=5),  IF('Production & Extraction'!M18=1, IF(BZ35<CM27,\"ERROR\",\"OK\"), \"OK\"), \"OK\")","v":"OK"}]
[null,null,null,null,null,null,null,null,null,null,null,null,null,null,null,null,null,null,null,null,null,null,null,null,null,null,null,null,null,null,null,null,null,null,null,null,null,null,null,null,null,null,null,null,null,null,null,null,null,null,null,null,null,null,null,null,null,null,null,null,null,null,null,null,null,null,null,null,null,null,null,null,null,null,null,null,null,"H2S",{"$f":"IF(OR('Active Field'!J116=1, 'Active Field'!J116=2, 'Active Field'!J116=3, 'Active Field'!J116=4, 'Active Field'!J116=5), 100*CB29/$BZ$35, \"NA\")","v":0},{"$f":"IF(OR('Active Field'!J116=1, 'Active Field'!J116=2, 'Active Field'!J116=3, 'Active Field'!J116=4, 'Active Field'!J116=5), BQ46, 0)","v":0},{"$f":"IF(OR('Active Field'!J116=1, 'Active Field'!J116=2, 'Active Field'!J116=3, 'Active Field'!J116=4, 'Active Field'!J116=5), CD29*CA29/100, \"NA\")","v":0},{"$f":"'Fuel Specs'!$E$161","v":34},{"$f":"'Fuel Specs'!G141","v":640},{"$f":"'Fuel Specs'!H141","v":594}]
[null,null,null,null,null,null,null,null,null,null,null,null,null,null,null,null,null,null,null,null,null,null,null,null,null,null,null,null,null,null,null,null,null,null,null,null,null,null,null,null,null,null,null,null,null,null,null,null,null,null,null,null,null,null,null,null,null,null,null,null,null,null,null,null,null,null,null,null,null,null,null,null,null,null,null,null,null,"Total",{"$f":"IF(OR('Active Field'!J116=1, 'Active Field'!J116=2, 'Active Field'!J116=3, 'Active Field'!J116=4, 'Active Field'!J116=5), SUM(CA23:CA29), \"NA\")","v":100},{"$f":"IF(OR('Active Field'!J116=1, 'Active Field'!J116=2, 'Active Field'!J116=3, 'Active Field'!J116=4, 'Active Field'!J116=5), SUM(CB23:CB29), 0)","v":0.95253520870743236},{"$f":"IF(OR('Active Field'!J116=1, 'Active Field'!J116=2, 'Active Field'!J116=3, 'Active Field'!J116=4, 'Active Field'!J116=5), SUM(CC23:CC29), \"NA\")","v":16.348254662702601},{"$f":"\"--\"","v":"--"},{"$f":"\"--\"","v":"--"},{"$f":"\"--\"","v":"--"}]
[null,null,null,null,null,null,null,null,null,null,null,null,null,null,null,null,null,null,null,null,null,null,null,null,null,null,null,null,null,null,null,null,null,null,null,null,null,null,null,null,null,null,null,null,null,null,null,null,null,null,null,null,null,null,null,null,null,null,null,null,null,null,null,null,null,null,null,null,null,null,null,null,null,null,null,null,null,"Specific gravity",{"$f":"IF(OR('Active Field'!J116=1, 'Active Field'!J116=2, 'Active Field'!J116=3, 'Active Field'!J116=4, 'Active Field'!J116=5), (14.7*CC30)/(10.73*(60+460))/0.0764, \"NA\")","v":0.56375746394618598},"Dimensionless"]
[null,null,null,null,null,null,null,null,null,null,null,null,null,null,null,null,null,null,null,null,null,null,null,null,null,null,null,null,null,null,null,null,null,null,null,null,null,null,null,null,null,null,null,null,null,null,null,null,null,null,null,null,null,null,null,null,null,null,null,null,null,null,null,null,null,null,null,null,null,null,null,null,null,null,null,null,null,"HHV",{"$f":"SUMPRODUCT(CB23:CB29,CE23:CE29)","v":945.3946767209751},"MMBtu/d"]
[null,null,null,null,null,null,null,null,null,null,null,null,null,null,null,null,null,null,null,null,null,null,null,null,null,null,null,null,null,null,null,null,null,null,null,null,null,null,null,null,null,null,null,null,null,null,null,null,null,null,null,null,null,null,null,null,null,null,null,null,null,null,null,null,null,null,null,null,null,null,null,null,null,null,null,null,null,"LHV",{"$f":"SUMPRODUCT(CB23:CB29,CF23:CF29)","v":852.18045570502306},"MMBtu/d",null,null,null,null,null,null,null,null,null,null,null,null,null,null,null,null,null,null,null,null,null,null,null,null,null,"Fuel gas consumed"]
[null,null,null,null,null,null,null,null,null,null,null,null,null,null,null,null,null,null,"Post-Flaring Gas",null,null,null,null,null,null,null,null,null,null,null,null,null,null,null,null,null,null,null,null,null,null,null,null,null,null,null,null,null,null,"Non-CO2 EOR",null,null,null,null,null,null,null,null,null,null,null,null,null,null,null,null,null,null,null,null,null,null,null,null,null,null,null,"Pipeline Quality Gas Volume",null,null,null,null,null,null,null,null,null,null,null,null,null,null,null,null,null,null,null,null,null,null,null,null,null,null,null,{"$f":"IF(OR('Active Field'!J116=1, 'Active Field'!J116=2, 'Active Field'!J116=3, 'Active Field'!J116=4, 'Active Field'!J116=5), 'Energy Consumption'!E23/'Fuel Specs'!B302*8.3144621*(273.15+15.5556)/101325 *(3.2808398950131)^3, 0)","v":0.2737691794017178},"MMscf/d"]
[null,null,null,null,null,null,null,null,null,null,null,null,null,null,null,null,null,null,{"$f":"G53+O63-O26","v":1.1299245573045569},"MMscf/d",null,null,"Gas Vented as ",null,null,null,null,null,null,null,"Other Fugitives and ",null,null,null,null,null,null,null,null,null,null,null,null,null,null,null,null,null,null,"Gas processing paths 2-5",null,null,null,null,null,null,null,null,null,null,null,null,null,null,null,null,null,null,null,null,null,null,null,null,null,null,null,{"$f":"CB30","v":0.95253520870743236},"MMscf/d",null,null,null,null,null,null,null,null,null,null,null,null,null,null,null,null,null,null,null,null,null,null,null,null,null,null,null,null,null,null,null,null,{"$f":"IF(OR('Active Field'!J116=1,'Active Field'!J116=2,'Active Field'!J116=3,'Active Field'!J116=4,'Active Field'!J116=5), IF(CT42-DB34<-0.01, \"WARNING\", \"OK\"), \"OK\")","v":"OK"}]
[null,"Production",null,null,null,null,null,null,null,null,null,null,null,null,"Flaring",null,null,null,null,null,null,null,"Substitute for Flaring",null,null,null,null,null,null,null,"Operational Venting",null,null,null,null,null,null,null,null,null,null,null,null,null,null,"Glycol Dehydrator",null,null,null,null,null,null,null,null,null,null,null,null,null,"Amine Treater",null,null,null,null,null,null,null,null,null,null,null,null,null,"Demethanizer"]
[null,null,null,null,null,null,"Table 1.1: Production Gas ",null,null,null,null,null,null,null,null,null,null,null,null,null,null,null,null,null,null,null,null,null,null,null,null,null,null,null,null,null,null,null,"Table 1.7: Composition: Gas to Processing",null,null,null,null,null,null,null,null,null,null,null,null,null,"Table 1.9: Composition: Gas to Amine Treater",null,null,null,null,null,null,null,null,null,null,null,null,null,"Table 1.11: Composition: Gas to Demethanizer"]
[null,null,null,null,null,null,"Comp.","mol%","Vol","HHV","LHV",null,null,null,null,null,null,null,"Table 1.4: Composition: Post-Flaring Gas",null,null,null,null,null,null,null,null,null,null,null,null,null,null,null,null,null,null,null,"Comp.","mol%","Vol",null,null,null,null,{"$f":"IF(OR('Active Field'!J116=2,'Active Field'!J116=3,'Active Field'!J116=4,'Active Field'!J116=5,'Active Field'!J116=6,'Active Field'!J116=7,'Active Field'!J116=8), \"ON\", \"OFF\")","v":"ON"},null,null,null,null,null,null,"Comp.","mol%","Vol",null,null,null,null,{"$f":"IF(OR('Active Field'!J116=3,'Active Field'!J116=5),\"ON\", \"OFF\")","v":"ON"},null,null,null,null,null,null,"Comp.","mol%","Vol",null,null,null,null,{"$f":"IF(OR('Active Field'!J116=4,'Active Field'!J116=5),\"ON\", \"OFF\")","v":"ON"}]
[null,null,null,null,null,null,{"$f":"\"--\"","v":"--"},{"$f":"\"--\"","v":"--"},"MMscf/d","Btu/scf","Btu/scf",null,null,null,null,null,null,null,"Comp.","mol%","Vol",null,null,null,null,null,null,null,null,null,null,null,null,null,null,null,null,null,{"$f":"\"--\"","v":"--"},{"$f":"\"--\"","v":"--"},"MMscf/d",null,null,null,null,null,null,null,null,null,null,null,{"$f":"\"--\"","v":"--"},{"$f":"\"--\"","v":"--"},"MMscf/d",null,null,null,null,null,null,null,null,null,null,null,{"$f":"\"--\"","v":"--"},{"$f":"\"--\"","v":"--"},"MMscf/d"]
[null,null,null,null,null,null,"N2",{"$f":"100*I40/$G$53","v":2},{"$f":"'Production & Extraction'!M35*('Production & Extraction'!$M$43*'Production & Extraction'!$M$26/1000000)/100","v":2.724E-2},{"$f":"'Fuel Specs'!G131","v":0},{"$f":"'Fuel Specs'!H131","v":0},null,null,null,null,null,null,null,{"$f":"\"--\"","v":"--"},{"$f":"\"--\"","v":"--"},"MMscf/d",null,null,null,null,null,null,null,null,null,null,null,null,null,null,null,null,null,"N2",{"$f":"100*AO40/$AM$51","v":2.0451541169126557},{"$f":"U41","v":2.2598491146091134E-2},null,null,null,null,null,null,null,null,null,null,null,"N2",{"$f":"IF(OR('Active Field'!J116=1, 'Active Field'!J116=2, 'Active Field'!J116=3, 'Active Field'!J116=4, 'Active Field'!J116=5), 100*BC40/$BA$51, \"NA\")","v":2.0470032264971074},{"$f":"IF(OR('Active Field'!J116=1, 'Active Field'!J116=2, 'Active Field'!J116=3, 'Active Field'!J116=4, 'Active Field'!J116=5), AO40, 0)","v":2.2598491146091134E-2},null,null,null,null,null,null,null,null,null,null,null,"N2",{"$f":"IF(OR('Active Field'!J116=1, 'Active Field'!J116=2, 'Active Field'!J116=3, 'Active Field'!J116=4, 'Active Field'!J116=5), 100*BQ40/$BO$51, \"NA\")","v":2.2037980594281019},{"$f":"IF(OR('Active Field'!J116=1, 'Active Field'!J116=2, 'Active Field'!J116=3, 'Active Field'!J116=4, 'Active Field'!J116=5), BC40, 0)","v":2.2598491146091134E-2},null,null,null,null,null,null,null,null,null,null,null,null,null,null,null,null,null,null,null,null,null,{"$f":"IF(CM42>=0, \"OK\", \"ERROR\")","v":"OK"}]
[null,null,null,null,null,null,"CO2",6,{"$f":"'Production & Extraction'!M36*('Production & Extraction'!$M$43*'Production & Extraction'!$M$26/1000000)/100","v":8.1720000000000001E-2},{"$f":"'Fuel Specs'!G133","v":0},{"$f":"'Fuel Specs'!H133","v":0},{"$f":"IF(I41 < (Q18+Y18+AG18+AV19+BJ19+CZ103+BK192), \"ERROR\", \"OK\")","v":"OK"},null,null,null,null,null,null,"N2",{"$f":"100*U41/$S$52","v":1.9999999999999996},{"$f":"Q53+I40-Q17","v":2.2598491146091134E-2},null,null,null,null,null,null,null,null,null,null,null,null,null,null,null,null,null,"CO2",5.9958104427606802,{"$f":"U42-Y18-AG18","v":6.625235139193901E-2},null,null,null,null,null,null,null,null,null,null,null,"CO2",{"$f":"IF(OR('Active Field'!J116=1, 'Active Field'!J116=2, 'Active Field'!J116=3, 'Active Field'!J116=4, 'Active Field'!J116=5), 100*BC41/$BA$51, \"NA\")","v":5.9956972588701198},{"$f":"IF(OR('Active Field'!J116=1, 'Active Field'!J116=2, 'Active Field'!J116=3, 'Active Field'!J116=4, 'Active Field'!J116=5), AO41-AV19, 0)","v":6.619125444715597E-2},null,null,null,null,null,null,null,null,null,null,null,"CO2",{"$f":"IF(OR('Active Field'!J116=1, 'Active Field'!J116=2, 'Active Field'!J116=3, 'Active Field'!J116=4, 'Active Field'!J116=5), 100*BQ41/$BO$51, \"NA\")","v":0},{"$f":"IF(OR('Active Field'!J116=1, 'Active Field'!J116=2, 'Active Field'!J116=3, 'Active Field'!J116=4, 'Active Field'!J116=5), BC41-BJ19, 0)","v":0},null,null,null,null,null,null,null,null,null,null,null,null,null,null,null,null,null,null,null,null,null,"Remaining gas",null,null,null,null,null,null,"Fuel gas consumed + exports"]
[null,null,null,null,null,null,"C1",84,{"$f":"'Production & Extraction'!M37*('Production & Extraction'!$M$43*'Production & Extraction'!$M$26/1000000)/100","v":1.1440800000000002},{"$f":"'Fuel Specs'!G135","v":1013},{"$f":"'Fuel Specs'!H135","v":913},{"$f":"IF(I42 < (Q19+Y19+AG19+AV20+BJ20+CZ104+BK193), \"ERROR\", \"OK\")","v":"OK"},null,null,null,null,null,null,"CO2",{"$f":"100*U42/$S$52","v":5.9999999999999991},{"$f":"Q54+I41-Q18","v":6.7795473438273399E-2},null,null,null,null,null,null,null,null,null,null,null,null,null,null,null,null,null,"C1",83.941346198649541,{"$f":"U43-Y19-AG19","v":0.92753291948714633},null,null,null,null,null,null,null,null,null,null,null,"C1",{"$f":"IF(OR('Active Field'!J116=1, 'Active Field'!J116=2, 'Active Field'!J116=3, 'Active Field'!J116=4, 'Active Field'!J116=5), 100*BC42/$BA$51, \"NA\")","v":83.939761624181685},{"$f":"IF(OR('Active Field'!J116=1, 'Active Field'!J116=2, 'Active Field'!J116=3, 'Active Field'!J116=4, 'Active Field'!J116=5), AO42-AV20, 0)","v":0.92667756226018372},null,null,null,null,null,null,null,null,null,null,null,"C1",{"$f":"IF(OR('Active Field'!J116=1, 'Active Field'!J116=2, 'Active Field'!J116=3, 'Active Field'!J116=4, 'Active Field'!J116=5), 100*BQ42/$BO$51, \"NA\")","v":90.265425511656062},{"$f":"IF(OR('Active Field'!J116=1, 'Active Field'!J116=2, 'Active Field'!J116=3, 'Active Field'!J116=4, 'Active Field'!J116=5), BC42-BJ20, 0)","v":0.92561222227079365},null,null,null,null,null,null,null,null,null,null,null,null,null,null,null,null,null,null,null,null,null,{"$f":"IF(OR('Active Field'!J116=1, 'Active Field'!J116=2, 'Active Field'!J116=3, 'Active Field'!J116=4, 'Active Field'!J116=5), BZ35-CM27, 0)","v":0.95253520870743236},"MMscf/d",null,null,null,null,null,{"$f":"IF(OR('Active Field'!J116=1, 'Active Field'!J116=2, 'Active Field'!J116=3, 'Active Field'!J116=4, 'Active Field'!J116=5), CM42-CT57, 0)","v":0.95253520870743236},"MMscf/d"]
[null,null,null,null,null,null,"C2",4,{"$f":"'Production & Extraction'!M38*('Production & Extraction'!$M$43*'Production & Extraction'!$M$26/1000000)/100","v":5.4480000000000001E-2},{"$f":"'Fuel Specs'!G136","v":1792},{"$f":"'Fuel Specs'!H136","v":1641},{"$f":"IF(I43 < (Q20+Y20+AG20+AV21+BJ21+CZ105+BK194), \"ERROR\", \"OK\")","v":"OK"},null,null,null,null,null,null,"C1",84,0.94913662813582778,null,null,null,null,null,null,null,null,null,null,null,null,null,null,null,null,null,"C2",3.9972069618404538,{"$f":"U44-Y20-AG20","v":4.4168234261292676E-2},null,null,null,null,null,null,null,null,null,null,null,"C2",{"$f":"IF(OR('Active Field'!J116=1, 'Active Field'!J116=2, 'Active Field'!J116=3, 'Active Field'!J116=4, 'Active Field'!J116=5), 100*BC43/$BA$51, \"NA\")","v":3.9971315059134125},{"$f":"IF(OR('Active Field'!J116=1, 'Active Field'!J116=2, 'Active Field'!J116=3, 'Active Field'!J116=4, 'Active Field'!J116=5), AO43-AV21, 0)","v":4.4127502964770644E-2},null,null,null,null,null,null,null,null,null,null,null,"C2",{"$f":"IF(OR('Active Field'!J116=1, 'Active Field'!J116=2, 'Active Field'!J116=3, 'Active Field'!J116=4, 'Active Field'!J116=5), 100*BQ43/$BO$51, \"NA\")","v":4.3033008165233362},{"$f":"IF(OR('Active Field'!J116=1, 'Active Field'!J116=2, 'Active Field'!J116=3, 'Active Field'!J116=4, 'Active Field'!J116=5), BC43-BJ21, 0)","v":4.4127502964770644E-2}]
[null,null,null,null,null,null,"C3",2,{"$f":"'Production & Extraction'!M39*('Production & Extraction'!$M$43*'Production & Extraction'!$M$26/1000000)/100","v":2.724E-2},{"$f":"'Fuel Specs'!G137","v":2590},{"$f":"'Fuel Specs'!H137","v":2385},{"$f":"IF(I44 < (Q21+Y21+AG21+AV22+BJ22+CZ106+BK195), \"ERROR\", \"OK\")","v":"OK"},null,null,null,null,null,null,"C2",3.9999999999999991,4.5196982292182268E-2,null,null,null,null,null,null,null,null,null,null,null,null,null,null,null,null,null,"C3",1.9986034809202269,{"$f":"U45-Y21-AG21","v":2.2084117130646338E-2},null,null,null,null,null,null,null,null,null,null,null,"C3",{"$f":"IF(OR('Active Field'!J116=1, 'Active Field'!J116=2, 'Active Field'!J116=3, 'Active Field'!J116=4, 'Active Field'!J116=5), 100*BC44/$BA$51, \"NA\")","v":1.9985657529567062},{"$f":"IF(OR('Active Field'!J116=1, 'Active Field'!J116=2, 'Active Field'!J116=3, 'Active Field'!J116=4, 'Active Field'!J116=5), AO44-AV22, 0)","v":2.2063751482385322E-2},null,null,null,null,null,null,null,null,null,null,null,"C3",{"$f":"IF(OR('Active Field'!J116=1, 'Active Field'!J116=2, 'Active Field'!J116=3, 'Active Field'!J116=4, 'Active Field'!J116=5), 100*BQ44/$BO$51, \"NA\")","v":2.1516504082616681},{"$f":"IF(OR('Active Field'!J116=1, 'Active Field'!J116=2, 'Active Field'!J116=3, 'Active Field'!J116=4, 'Active Field'!J116=5), BC44-BJ22, 0)","v":2.2063751482385322E-2}]
[null,null,null,null,null,null,"C4",1,{"$f":"'Production & Extraction'!M40*('Production & Extraction'!$M$43*'Production & Extraction'!$M$26/1000000)/100","v":1.362E-2},{"$f":"'Fuel Specs'!G138","v":3370},{"$f":"'Fuel Specs'!H138","v":3113},{"$f":"IF(I45 < (Q22+Y22+AG22+AV23+BJ23+CZ107+BK196), \"ERROR\", \"OK\")","v":"OK"},null,null,null,null,null,null,"C3",1.9999999999999996,2.2598491146091134E-2,null,null,null,null,null,null,null,null,null,null,null,null,null,null,null,null,null,"C4",0.99930174046011344,{"$f":"U46-Y22-AG22","v":1.1042058565323169E-2},null,null,null,null,null,null,null,null,null,null,null,"C4",{"$f":"IF(OR('Active Field'!J116=1, 'Active Field'!J116=2, 'Active Field'!J116=3, 'Active Field'!J116=4, 'Active Field'!J116=5), 100*BC45/$BA$51, \"NA\")","v":0.99928287647835312},{"$f":"IF(OR('Active Field'!J116=1, 'Active Field'!J116=2, 'Active Field'!J116=3, 'Active Field'!J116=4, 'Active Field'!J116=5), AO45-AV23, 0)","v":1.1031875741192661E-2},null,null,null,null,null,null,null,null,null,null,null,"C4",{"$f":"IF(OR('Active Field'!J116=1, 'Active Field'!J116=2, 'Active Field'!J116=3, 'Active Field'!J116=4, 'Active Field'!J116=5), 100*BQ45/$BO$51, \"NA\")","v":1.075825204130834},{"$f":"IF(OR('Active Field'!J116=1, 'Active Field'!J116=2, 'Active Field'!J116=3, 'Active Field'!J116=4, 'Active Field'!J116=5), BC45-BJ23, 0)","v":1.1031875741192661E-2},null,null,null,null,null,null,"Table 1.12: Demethanizer heavy product composition"]
[null,null,null,null,null,null,"H2S",1,{"$f":"'Production & Extraction'!M41*('Production & Extraction'!$M$43*'Production & Extraction'!$M$26/1000000)/100*IF('Active Field'!J81,1,0)","v":1.362E-2},{"$f":"'Fuel Specs'!G141","v":640},{"$f":"'Fuel Specs'!H141","v":594},null,null,null,null,null,null,null,"C4",0.99999999999999978,1.1299245573045567E-2,null,null,null,null,null,null,null,null,null,null,null,null,null,null,null,null,null,"H2S",1.0225770584563278,{"$f":"U47","v":1.1299245573045567E-2},null,null,null,null,null,null,null,null,null,null,null,"H2S",{"$f":"IF(OR('Active Field'!J116=1, 'Active Field'!J116=2, 'Active Field'!J116=3, 'Active Field'!J116=4, 'Active Field'!J116=5), 100*BC46/$BA$51, \"NA\")","v":1.0225577551025979},{"$f":"IF(OR('Active Field'!J116=1, 'Active Field'!J116=2, 'Active Field'!J116=3, 'Active Field'!J116=4, 'Active Field'!J116=5), AO46-AV24, 0)","v":1.1288825574836259E-2},null,null,null,null,null,null,null,null,null,null,null,"H2S",{"$f":"IF(OR('Active Field'!J116=1, 'Active Field'!J116=2, 'Active Field'!J116=3, 'Active Field'!J116=4, 'Active Field'!J116=5), 100*BQ46/$BO$51, \"NA\")","v":0},{"$f":"IF(OR('Active Field'!J116=1, 'Active Field'!J116=2, 'Active Field'!J116=3, 'Active Field'!J116=4, 'Active Field'!J116=5), BC46-BJ24, 0)","v":0},null,null,null,null,null,null,"Comp.","mol%","Vol","HHV","LHV"]
[null,null,null,null,null,null,"Total",100,{"$f":"SUM(I40:I46)","v":1.3620000000000001},null,null,null,null,null,null,null,null,null,"H2S",0.99999999999999978,1.1299245573045567E-2,null,null,null,null,null,null,null,null,null,null,null,null,null,null,null,null,null,"Total",{"$f":"SUM(AN40:AN46)","v":100},{"$f":"SUM(AO40:AO46)","v":1.1049774175554843},null,null,null,null,null,null,"CO2 EOR",null,null,null,null,"Total",{"$f":"IF(OR('Active Field'!J116=1, 'Active Field'!J116=2, 'Active Field'!J116=3, 'Active Field'!J116=4, 'Active Field'!J116=5), SUM(BB40:BB46), \"NA\")","v":99.999999999999986},{"$f":"SUM(BC40:BC46)","v":1.1039792636166159},null,null,null,null,null,null,null,null,null,null,null,"Total",{"$f":"IF(OR('Active Field'!J116=1, 'Active Field'!J116=2, 'Active Field'!J116=3, 'Active Field'!J116=4, 'Active Field'!J116=5), SUM(BP40:BP46), \"NA\")","v":100},{"$f":"SUM(BQ40:BQ46)","v":1.0254338436052335},null,null,null,null,null,null,{"$f":"\"--\"","v":"--"},{"$f":"\"--\"","v":"--"},"MMscf/d","Btu/scf","Btu/scf"]
[null,null,null,null,null,null,"HHV",{"$f":"SUMPRODUCT(I40:I46,J40:J46)","v":1381.749},"MMBtu/d",null,null,null,null,null,null,null,null,null,"Total",100,{"$f":"SUM(U41:U47)","v":1.1299245573045569},null,null,null,null,null,null,null,null,null,null,null,null,null,null,null,null,null,"Temp","-","◦F",null,null,null,null,null,null,"Gas processing paths 6-8",null,null,null,null,"Temp","-","◦F",null,null,null,null,null,null,null,null,null,null,null,"Temp","-","◦F",null,null,null,null,null,null,"C2",{"$f":"IF(BV38=\"ON\", 100*BZ48/$BX$56, \"NA\")","v":54.600484261501215},{"$f":"IF(BV38=\"ON\", BQ43*('Surface Processing'!M120/100), 0)","v":3.9803007674223123E-2},{"$f":"'Fuel Specs'!G136","v":1792},{"$f":"'Fuel Specs'!H136","v":1641},null,null,null,null,null,null,null,null,null,null,null,null,null,null,null,null,null,null,null,null,null,null,null,null,null,"Exports"]
[null,null,null,null,null,null,"LHV",{"$f":"SUMPRODUCT(I40:I46,K40:K46)","v":1249.40346},"MMBtu/d",null,null,null,null,null,null,null,null,null,"Temp","-","◦F",null,null,null,null,null,null,null,null,null,null,null,null,null,null,null,null,null,"Pressure","-","psia",null,null,null,null,null,null,null,null,null,null,null,"Pressure","-","psia",null,null,null,null,null,null,null,null,null,null,null,"Pressure","-","psia",null,null,null,null,null,null,"C3",{"$f":"IF(BV38=\"ON\", 100*BZ49/$BX$56, \"NA\")","v":30.26634382566586},{"$f":"IF(BV38=\"ON\", BQ44*('Surface Processing'!M121/100), 0)","v":2.2063751482385322E-2},{"$f":"'Fuel Specs'!G137","v":2590},{"$f":"'Fuel Specs'!H137","v":2385},null,null,null,null,null,null,null,null,null,null,null,null,null,null,null,null,null,null,null,null,null,null,null,null,null,{"$f":"IF(OR('Active Field'!J116=1, 'Active Field'!J116=2, 'Active Field'!J116=3, 'Active Field'!J116=4, 'Active Field'!J116=5), CT42-DB34, 0)","v":0.6787660293057145},"MMscf/d"]
[null,null,null,null,null,null,"Temp",{"$f":"'Surface Processing'!M46","v":59},"◦F",null,null,null,null,null,"Table 1.2: Produced CO2",null,null,null,"Pressure","-","psia",null,null,null,null,null,null,null,null,null,null,null,null,null,null,null,null,null,"Gas to Processing",null,null,null,null,null,null,null,null,null,null,null,null,null,"Gas to Amine Treater",null,null,null,null,null,null,null,null,null,null,null,null,null,"Gas to Demethanizer",null,null,null,null,null,null,null,null,"C4",{"$f":"IF(BV38=\"ON\", 100*BZ50/$BX$56, \"NA\")","v":15.13317191283293},{"$f":"IF(BV38=\"ON\", BQ45*('Surface Processing'!M122/100), 0)","v":1.1031875741192661E-2},{"$f":"'Fuel Specs'!G138","v":3370},{"$f":"'Fuel Specs'!H138","v":3113}]
[null,null,null,null,null,null,"Pressure",{"$f":"'Surface Processing'!M45","v":14.5},"psia",null,null,null,null,null,"Comp.","mol%","Vol",null,"Post-Flaring Gas",null,null,null,null,null,null,null,null,null,null,null,null,null,null,null,null,null,null,null,{"$f":"AO47","v":1.1049774175554843},"MMscf/d",null,null,null,null,null,null,null,null,null,null,null,null,{"$f":"IF(OR('Active Field'!J116=1, 'Active Field'!J116=2, 'Active Field'!J116=3, 'Active Field'!J116=4, 'Active Field'!J116=5), BC47, \"NA\")","v":1.1039792636166159},"MMscf/d",null,null,null,null,null,null,null,null,null,null,null,null,{"$f":"IF(OR('Active Field'!J116=1, 'Active Field'!J116=2, 'Active Field'!J116=3, 'Active Field'!J116=4, 'Active Field'!J116=5), BQ47, \"NA\")","v":1.0254338436052335},"MMscf/d",null,null,null,null,null,null,null,"Total",{"$f":"IF(BV38=\"ON\", SUM(BY48:BY50), \"NA\")","v":100.00000000000001},{"$f":"SUM(BZ48:BZ50)","v":7.2898634897801101E-2},{"$f":"\"--\"","v":"--"},{"$f":"\"--\"","v":"--"}]
[null,null,null,null,null,null,"Production Gas",null,null,null,null,null,null,null,{"$f":"\"--\"","v":"--"},{"$f":"\"--\"","v":"--"},"MMscf/d",null,{"$f":"U48","v":1.1299245573045569},"MMscf/d",null,null,null,null,null,null,null,null,null,null,null,null,null,null,null,null,null,null,null,null,null,null,null,null,null,null,null,null,null,null,null,null,null,null,null,null,null,null,null,null,null,null,null,null,null,null,null,null,null,null,null,null,null,null,null,"HHV",{"$f":"SUMPRODUCT(BZ48:BZ50,CA48:CA50)","v":165.6495273394051},"MMBtu/d"]
[null,null,null,null,null,null,{"$f":"I47","v":1.3620000000000001},"MMscf/d",null,null,null,null,null,null,"N2",{"$f":"H104","v":0},{"$f":"(P53/100)*$O$26","v":0},null,null,null,null,null,null,null,null,null,null,null,null,null,null,null,null,null,null,null,null,null,null,null,null,null,null,null,null,null,null,null,null,null,null,null,null,null,null,null,null,null,null,null,null,null,null,null,null,null,null,null,null,null,null,null,null,null,null,"LHV",{"$f":"SUMPRODUCT(BZ48:BZ50,CB48:CB50)","v":152.28101206122187},"MMBtu/d"]
[null,null,null,null,null,null,null,null,null,null,null,null,null,null,"CO2",{"$f":"IF(Q54=0,0,Q54/Q60*100)","v":0},{"$f":"IF('Active Field'!J90=3,('Production & Extraction'!M49*(1-'Active Field'!J97/100))/1000,0)","v":0}]
[null,null,null,null,null,null,{"$f":"G53*1000000/'Active Field'!J63","v":908},"scf/bbl",null,null,null,null,null,null,"C1",{"$f":"H106","v":0},{"$f":"(P55/100)*$O$26","v":0},null,null,null,null,null,null,null,null,null,null,null,null,null,null,null,null,null,null,null,null,null,null,null,null,null,null,null,null,null,null,null,null,null,null,null,null,null,null,null,null,null,null,null,null,null,null,null,null,null,null,null,null,null,null,null,null,null,null,"Demethanizer Heavy Product Volume"]
[null,null,null,null,null,null,"Overall gas composition check:",null,null,null,null,null,{"$f":"IF(OR(L41=\"ERROR\",L42=\"ERROR\",L43=\"ERROR\",L44=\"ERROR\",L45=\"ERROR\"),\"ERROR\",\"OK\")","v":"OK"},null,"C2",0,{"$f":"(P56/100)*$O$26","v":0},null,null,null,null,null,null,null,null,null,null,null,null,null,null,null,null,null,null,null,null,null,null,null,null,null,null,null,null,null,null,null,null,null,null,null,null,null,null,null,null,null,null,null,null,null,null,null,null,null,null,null,null,null,null,null,null,null,null,{"$f":"BZ51","v":7.2898634897801101E-2},"MMscf/d",null,null,null,null,null,null,null,null,null,null,null,null,null,null,null,null,null,null,null,null,"Reinjection (Natural Gas)"]
[null,null,null,null,null,null,null,null,null,null,null,null,null,null,"C3",0,{"$f":"(P57/100)*$O$26","v":0},null,null,null,null,null,null,null,null,null,null,null,null,null,null,null,null,null,null,null,null,null,null,null,null,null,null,null,null,null,null,null,null,null,null,null,null,null,null,null,null,null,null,null,null,null,null,null,null,null,null,null,null,null,null,null,null,null,null,null,null,null,null,null,null,null,null,null,null,null,null,null,null,null,null,null,null,null,null,null,null,{"$f":"IF(AND(OR('Active Field'!J116=1, 'Active Field'!J116=2, 'Active Field'!J116=3, 'Active Field'!J116=4, 'Active Field'!J116=5), 'Production & Extraction'!M16=1),CM42*'Production & Extraction'!M47/100,0)","v":0},"MMscf/d"]
[null,null,null,null,null,null,"Check: C4 component of  venting and fugitives  (MMSCFD)",null,null,null,null,null,{"$f":"IF(H45,0.27,0)*(('Venting & Fugitives'!M141/IF(E34,'Input Data'!D89,'Input Data'!D90))+('Venting & Fugitives'!G187-'Venting & Fugitives'!G157)+('Venting & Fugitives'!G262-'Venting & Fugitives'!G212-'Venting & Fugitives'!G217))/1000000","v":1.4805225849317023E-4},null,"C4",0,{"$f":"(P58/100)*$O$26","v":0}]
[null,null,null,null,null,null,null,"before correction",null,null,null,null,null,null,"H2S",0,{"$f":"(P59/100)*$O$26","v":0}]
[null,null,null,null,null,null,null,null,null,null,null,null,null,null,"Total",{"$f":"SUM(P53:P59)","v":0},{"$f":"SUM(Q53:Q59)","v":0}]
[]
[null,null,null,null,null,null,null,null,null,null,null,null,null,null,"Produced CO2"]
[null,null,null,null,null,null,null,null,null,null,null,null,null,null,{"$f":"Q60","v":0},"MMscf/d"]
[]
[null,null,null,null,null,null,null,null,null,null,null,null,null,null,{"$f":"O63*1000000/'Active Field'!J63","v":0},"scf/bbl"]
[]
[]
[]
[null,null,null,null,null,null,null,null,null,null,null,null,null,"Produced CO2"]
[null,null,null,null,null,null,null,null,null,null,null,null,null,null,null,null,null,null,null,null,null,null,null,null,null,null,null,null,null,null,null,null,null,null,null,null,null,null,null,null,null,null,null,null,null,null,null,null,null,null,null,null,null,null,null,"Table 1.14: Composition: Gas to reinjection, sour",null,null,null,null,null,null,null,null,null,null,null,null,"Table 1.15: Makeup CO2 Injected",null,null,null,null,null,null,null,null,null,null,null,null,null,null,"Table 1.16: Sour gas reinjection stream"]
[null,null,null,null,null,null,null,null,null,null,null,null,null,null,null,null,null,null,null,null,null,null,null,null,null,null,null,null,null,null,null,null,null,null,null,null,null,null,null,null,null,null,null,null,null,null,null,null,null,null,null,null,null,null,null,"Comp.","mol%","Vol","HHV","LHV",null,null,null,null,null,null,null,null,"Comp.","mol%","Vol",null,null,null,null,null,null,null,null,null,null,null,null,"Comp.","mol%","Vol"]
[null,null,null,null,null,null,null,null,null,null,null,null,null,null,null,null,null,null,null,null,null,null,null,null,null,null,null,null,null,null,null,null,null,null,null,null,null,null,null,null,null,null,null,null,null,null,null,null,null,null,null,null,null,null,null,{"$f":"\"--\"","v":"--"},{"$f":"\"--\"","v":"--"},"MMscf/d","Btu/scf","Btu/scf",null,null,null,null,null,null,null,null,{"$f":"\"--\"","v":"--"},{"$f":"\"--\"","v":"--"},"MMscf/d",null,null,null,null,null,null,null,null,null,null,null,null,{"$f":"\"--\"","v":"--"},{"$f":"\"--\"","v":"--"},"MMscf/d"]
[null,null,null,null,null,null,null,null,null,null,null,null,null,null,null,null,null,null,null,null,null,null,null,null,null,null,null,null,null,null,null,null,null,null,null,null,null,null,null,null,null,null,null,null,null,null,null,null,null,null,null,null,null,null,null,"N2",{"$f":"IFERROR(BF73/$BF$80*100, \"NA\")","v":"NA"},{"$f":"IF(OR('Active Field'!$J$116=6), AO40, 0)","v":0},{"$f":"CE23","v":0},{"$f":"CF23","v":0},null,null,null,null,null,null,null,null,"N2",{"$f":"IFERROR(BS73/$BS$80*100,\"NA\")","v":"NA"},0,null,null,null,null,null,null,null,null,null,null,null,null,"N2",{"$f":"IFERROR(CH73/$CH$80*100,\"NA\")","v":"NA"},{"$f":"BF73+BS73","v":0}]
[null,null,null,null,null,null,null,null,null,null,null,null,null,null,null,null,null,null,null,null,null,null,null,null,null,null,null,null,null,null,null,null,null,null,null,null,null,null,null,null,null,null,null,null,null,null,null,null,null,null,null,null,null,null,null,"CO2",{"$f":"IFERROR(BF74/$BF$80*100, \"NA\")","v":"NA"},{"$f":"IF(OR('Active Field'!$J$116=6), AO41-AV19, 0)","v":0},{"$f":"CE24","v":0},0,null,null,null,null,null,null,null,null,"CO2",{"$f":"IFERROR(BS74/$BS$80*100,\"NA\")","v":"NA"},{"$f":"IF(AND('Active Field'!J90=3,CB87=\"ON\"),('Production & Extraction'!M49/1000)-BF74,0)","v":0},null,null,null,null,null,null,null,null,null,null,null,null,"CO2",{"$f":"IFERROR(CH74/$CH$80*100,\"NA\")","v":"NA"},{"$f":"BF74+BS74","v":0}]
[null,null,null,null,null,null,null,null,null,null,null,null,null,null,null,null,null,null,null,null,null,null,null,null,null,null,null,null,null,null,null,null,null,null,null,null,null,null,null,null,null,null,null,null,null,null,null,null,null,null,null,null,null,null,null,"C1","NA",{"$f":"IF(OR('Active Field'!$J$116=6), AO42-AV20, 0)","v":0},{"$f":"CE25","v":1013},913,null,null,null,null,null,null,null,null,"C1","NA",0,null,null,null,null,null,null,null,null,null,null,null,null,"C1","NA",0]
[null,null,null,null,null,null,null,null,null,null,null,null,null,null,null,null,null,null,null,null,null,null,null,null,null,null,null,null,null,null,null,null,null,null,null,null,null,null,null,null,null,null,null,null,null,null,null,null,null,null,null,null,null,null,null,"C2","NA",{"$f":"IF(OR('Active Field'!$J$116=6), AO43-AV21, 0)","v":0},{"$f":"CE26","v":1792},1641,null,null,null,null,null,null,null,null,"C2","NA",0,null,null,null,null,null,null,null,null,null,null,null,null,"C2","NA",0]
[null,null,null,null,null,null,null,null,null,null,null,null,null,null,null,null,null,null,null,null,null,null,null,null,null,null,null,null,null,null,null,null,null,null,null,null,null,null,null,null,null,null,null,null,null,null,null,null,null,null,null,null,null,null,null,"C3","NA",{"$f":"IF(OR('Active Field'!$J$116=6), AO44-AV22, 0)","v":0},{"$f":"CE27","v":2590},2385,null,null,null,null,null,null,null,null,"C3","NA",0,null,null,null,null,null,null,null,null,null,null,null,null,"C3","NA",0]
[null,null,null,null,null,null,null,null,null,null,null,null,null,null,null,null,null,null,null,null,null,null,null,null,null,null,null,null,null,null,null,null,null,null,null,null,null,null,null,null,null,null,null,null,null,null,null,null,null,null,null,null,null,null,null,"C4","NA",{"$f":"IF(OR('Active Field'!$J$116=6), AO45-AV23, 0)","v":0},{"$f":"CE28","v":3370},3113,null,null,null,null,null,null,null,null,"C4","NA",0,null,null,null,null,null,null,null,null,null,null,null,null,"C4","NA",0]
[null,null,null,null,null,null,null,null,null,null,null,null,null,null,null,null,null,null,null,null,null,null,null,null,null,null,null,null,null,null,null,null,null,null,null,null,null,null,null,null,null,null,null,null,null,null,null,null,null,null,null,null,null,null,null,"H2S","NA",{"$f":"IF(OR('Active Field'!$J$116=6), AO46-AV24, 0)","v":0},{"$f":"CE29","v":640},594,null,null,null,null,null,null,null,null,"H2S","NA",0,null,null,null,null,null,null,null,null,null,null,null,null,"H2S","NA",0]
[null,null,null,null,null,null,null,null,null,null,null,null,null,null,null,null,null,null,null,null,null,null,null,null,null,null,null,null,null,null,null,null,null,null,null,null,null,null,null,null,null,null,null,null,null,null,null,null,null,null,null,null,null,null,null,"Total","NA",{"$f":"IF(OR('Active Field'!$J$116=6), AO47-AV25, 0)","v":0},"-","-",null,null,null,null,null,null,null,null,"Total","NA",{"$f":"SUM(BS73:BS79)","v":0},null,null,null,null,null,null,null,null,null,null,null,null,"Total","NA",0]
[null,null,null,null,null,null,null,null,null,null,null,null,null,null,null,null,null,null,null,null,null,null,null,null,null,null,null,null,null,null,null,null,null,null,null,null,null,null,null,null,null,null,null,null,null,null,null,null,null,null,null,null,null,null,null,"Temp","-","◦F",{"$f":"SUMPRODUCT(BG73:BG79,BE73:BE79)/100","v":0},{"$f":"SUMPRODUCT(BH73:BH79,BE73:BE79)/100","v":0},"Btu/scf",null,null,null,null,null,null,null,"Temp","-","◦F",null,null,null,null,null,null,null,null,null,null,null,null,"Temp","-","◦F"]
[null,null,null,null,null,null,null,null,null,null,null,null,null,null,null,null,null,null,null,null,null,null,null,null,null,null,null,null,null,null,null,null,null,null,null,null,null,null,null,null,null,null,null,null,null,null,null,null,null,null,null,null,null,null,null,"Pressure","-","psia",null,null,null,null,null,null,null,null,null,null,"Pressure","-","psia",null,null,null,null,null,null,null,null,null,null,null,null,"Pressure","-","psia"]
[null,null,null,null,null,null,null,null,null,null,null,null,null,null,null,null,null,null,null,null,null,null,null,null,null,null,null,null,null,null,null,null,null,null,null,null,null,null,null,null,null,null,null,null,null,null,null,null,null,null,null,null,null,null,null,"Gas to reinjection, sour",null,null,null,null,null,null,null,null,null,null,null,null,"Makeup CO2 Stream to Reinjection into Reservoir",null,null,null,null,null,null,null,null,null,null,null,null,null,null,"Total sour gas reinjection stream into reservoir"]
[null,null,null,null,null,null,null,null,null,null,null,null,null,null,null,null,null,null,null,null,null,null,null,null,null,null,null,null,null,null,null,null,null,null,null,null,null,null,null,null,null,null,null,null,null,null,null,"CO2 EOR via sour gas reinjection",null,null,null,null,null,null,null,{"$f":"IF(CB87=\"ON\", BF80, \"NA\")","v":"NA"},"MMscf/d",null,null,null,null,null,null,null,null,null,null,null,{"$f":"IF('Active Field'!J116=6, BS80, \"NA\")","v":"NA"},"MMscf/d",null,null,null,null,null,null,null,null,null,null,null,null,null,{"$f":"IF('Active Field'!J116=6, CH80, \"NA\")","v":"NA"},"MMscf/d",null,null,null,null,"Reinjection"]
[null,null,null,null,null,null,null,null,null,null,null,null,null,null,null,null,null,null,null,null,null,null,null,null,null,null,null,null,null,null,null,null,null,null,null,null,null,null,null,null,null,null,null,null,null,null,null,"Gas processing path 6",null,null,null,null,null,null,null,null,null,null,null,null,null,null,null,null,null,null,null,null,null,null,null,null,null,null,null,null,null,null,null,null,"Sour gas reinjection",null,null,null,null,null,null,null,null,{"$f":"IFERROR(CF84,0)","v":"NA"},"MMscf/d"]
[]
[null,null,null,null,null,null,null,null,null,null,null,null,null,null,null,null,null,null,null,null,null,null,null,null,null,null,null,null,null,null,null,null,null,null,null,null,null,null,null,null,null,null,null,null,null,null,null,null,null,null,null,null,null,null,null,null,null,null,null,null,null,null,null,null,null,null,null,null,null,null,null,null,null,null,null,null,null,null,null,{"$f":"IF('Active Field'!J116=6,\"ON\", \"OFF\")","v":"OFF"}]
[]
[]
[]
[]
[]
[]
[]
[]
[]
[null,null,null,null,null,null,null,null,null,null,null,null,null,null,null,null,null,null,null,null,null,null,null,null,null,null,null,null,null,null,null,null,null,null,null,null,null,null,null,null,null,null,null,null,null,null,null,null,null,null,null,null,null,null,null,null,null,null,null,null,null,null,null,null,null,null,null,null,null,null,null,null,null,null,null,null,null,null,null,null,null,null,null,null,null,null,null,null,null,null,null,null,null,null,null,null,null,null,null,null,null,"Note: AGR does not operationally vent associated gas CO2 in membrane separation CO2-EOR pathway (for CO2 only fugitives in table below)"]
[]
[]
[null,null,null,null,null,null,null,null,null,null,null,null,null,null,null,null,null,null,null,null,null,null,null,null,null,null,null,null,null,null,null,null,null,null,null,null,null,null,null,null,null,null,null,null,null,null,null,null,null,null,null,null,null,null,null,null,null,null,null,null,null,null,null,null,null,null,null,null,null,null,null,null,null,null,null,null,null,null,null,null,null,null,null,null,null,null,null,null,null,null,null,null,null,null,null,null,null,null,null,null,null,"Table 1.19: Amine Treater Vented Gas"]
[null,null,null,null,null,null,null,null,null,null,null,null,null,null,null,null,null,null,null,null,null,null,null,null,null,null,null,null,null,null,null,null,null,null,null,null,null,null,null,null,null,null,null,null,null,null,null,null,null,null,null,null,null,null,null,null,null,null,null,null,null,null,null,null,null,null,null,null,null,null,null,null,null,null,null,null,null,null,null,null,null,null,null,null,null,null,null,null,null,null,null,null,null,null,null,null,null,null,null,null,null,"Comp.","mol%","Vol"]
[null,null,null,null,null,null,null,null,null,null,null,null,null,null,null,null,null,null,null,null,null,null,null,null,null,null,null,null,null,null,null,null,null,null,null,null,null,null,null,null,null,null,null,null,null,null,null,null,null,null,null,null,null,null,null,null,null,null,null,null,null,null,null,null,null,null,null,null,null,null,null,null,null,null,null,null,null,null,null,null,null,null,null,null,null,null,null,null,null,null,null,null,null,null,null,null,null,null,null,null,null,{"$f":"\"--\"","v":"--"},{"$f":"\"--\"","v":"--"},"MMscf/d"]
[null,null,null,null,null,null,null,null,null,null,null,null,null,null,null,null,null,null,null,null,null,null,null,null,null,null,null,null,null,null,null,null,null,null,null,null,null,null,null,null,null,null,null,null,null,null,null,null,null,null,null,null,null,null,null,null,null,null,null,null,null,null,null,null,null,null,null,null,null,null,null,null,null,null,null,null,null,null,null,null,null,null,null,null,null,null,null,null,null,null,null,null,null,null,null,null,null,null,null,null,null,"CO2",0,{"$f":"IF(BH122=\"ON\", 'Venting & Fugitives'!E227/1000000, 0)","v":0}]
[null,null,null,null,null,null,null,null,null,null,null,null,null,null,null,null,null,null,null,null,null,null,null,null,null,null,null,null,null,null,null,null,null,null,null,null,null,null,null,null,null,null,null,null,null,null,null,null,null,null,null,null,null,null,null,null,null,null,null,null,null,null,null,null,null,null,null,null,null,null,null,null,null,null,null,null,null,null,null,null,null,null,null,null,null,null,null,null,null,null,null,null,null,null,null,null,null,null,null,null,null,"C1",0,{"$f":"IF(BH122=\"ON\", 'Venting & Fugitives'!F152/1000000 + 'Venting & Fugitives'!F227/1000000, 0)","v":0},null,null,null,null,null,null,null,null,null,null,null,null,null,null,null,null,null,null,"Table 1.23: Pipeline Quality Gas Composition"]
[null,null,null,null,null,null,null,null,null,null,null,null,null,null,null,null,null,null,null,null,null,null,null,null,null,null,null,null,null,null,null,null,null,null,null,null,null,null,null,null,null,null,null,null,null,null,null,null,null,null,null,null,"Table 1.15: Gas to Chiller",null,null,null,null,null,null,null,null,null,null,null,null,null,"Table 1.15: Gas to Compressor",null,null,null,null,null,null,null,null,null,null,null,null,null,"Table 1.16: Gas to Membrane",null,null,null,null,null,null,null,null,null,null,null,null,null,"Table 1.17: Hydrocarbon-Rich Gas to Amine Process",null,null,null,null,null,null,"C2",0,0,null,null,null,null,"Table 1.21: Gas to Demethanizer",null,null,null,null,null,null,null,null,null,null,null,null,null,"Comp.","mol%","Vol","Mixture MW","Component MW","HHV","LHV"]
[null,null,null,null,null,null,null,null,null,null,null,null,null,null,null,null,null,null,null,null,null,null,null,null,null,null,null,null,null,null,null,null,null,null,null,null,null,null,null,null,null,null,null,null,null,null,null,null,null,null,null,null,"Comp.","mol%","Vol",null,null,null,null,null,null,null,null,null,null,null,"Comp.","mol%","Vol",null,null,null,null,null,null,null,null,null,null,null,"Comp.","mol%","Vol",null,null,null,null,null,null,null,null,null,null,null,"Comp.","mol%","Vol",null,null,null,null,"C3",0,0,null,null,null,null,"Comp.","mol%","Vol",null,null,null,null,null,null,null,null,null,null,null,{"$f":"\"--\"","v":"--"},{"$f":"\"--\"","v":"--"},"MMscf/d","lb/lbmol","lb/lbmol","Btu/scf","Btu/scf"]
[null,null,null,null,null,null,null,null,null,null,null,null,null,null,null,null,null,null,null,null,null,null,null,null,null,null,null,null,null,null,null,null,null,null,null,null,null,null,null,null,null,null,null,null,null,null,null,null,null,null,null,null,{"$f":"\"--\"","v":"--"},{"$f":"\"--\"","v":"--"},"MMscf/d",null,null,null,null,null,null,null,null,null,null,null,{"$f":"\"--\"","v":"--"},{"$f":"\"--\"","v":"--"},"MMscf/d",null,null,null,null,null,null,null,null,null,null,null,{"$f":"\"--\"","v":"--"},{"$f":"\"--\"","v":"--"},"MMscf/d",null,null,null,null,null,null,null,null,null,null,null,{"$f":"\"--\"","v":"--"},{"$f":"\"--\"","v":"--"},"MMscf/d",null,null,null,null,"C4",0,0,null,null,null,null,{"$f":"\"--\"","v":"--"},{"$f":"\"--\"","v":"--"},"MMscf/d",null,null,null,null,null,null,null,null,null,null,null,"N2",{"$f":"IF(BH122=\"ON\", 100*DU107/$DS$119, \"NA\")","v":"NA"},{"$f":"DG108","v":0},{"$f":"IF(BH122=\"ON\", DW107*DT107/100, \"NA\")","v":"NA"},{"$f":"'Fuel Specs'!$E$151","v":28},{"$f":"'Fuel Specs'!G131","v":0},{"$f":"'Fuel Specs'!H131","v":0}]
[null,null,null,null,null,null,null,null,null,null,null,null,null,null,null,null,null,null,null,null,null,null,null,null,null,null,null,null,null,null,null,null,null,null,null,null,null,null,null,null,null,null,null,null,null,null,null,null,null,null,null,null,"N2",{"$f":"IF(BH122=\"ON\", 100*BC108/$BA$119, \"NA\")","v":"NA"},{"$f":"IF(BH122=\"ON\", AO40, 0)","v":0},null,null,null,null,null,null,null,null,null,null,null,"N2",{"$f":"IF(BH122=\"ON\", 100*BQ108/$BO$119, \"NA\")","v":"NA"},{"$f":"BC108","v":0},null,null,null,null,null,null,null,null,null,null,null,"N2",{"$f":"IF(BH122=\"ON\", 100*CE108/$CC$119, \"NA\")","v":"NA"},{"$f":"BQ108","v":0},null,null,null,null,null,null,null,null,null,null,null,"N2",{"$f":"IF(BH122=\"ON\", 100*CS108/$CQ$119, \"NA\")","v":"NA"},{"$f":"0.576*CE108","v":0},null,null,null,null,"H2S",0,{"$f":"IF(BH122=\"ON\", CS114, 0)","v":0},null,null,null,null,"N2",{"$f":"IF(BH122=\"ON\", 100*DG108/$DE$119, \"NA\")","v":"NA"},{"$f":"CS108","v":0},null,null,null,null,null,null,null,null,null,null,null,"CO2",{"$f":"IF(BH122=\"ON\", 100*DU108/$DS$119, \"NA\")","v":"NA"},{"$f":"DG109","v":0},{"$f":"IF(BH122=\"ON\", DW108*DT108/100, \"NA\")","v":"NA"},{"$f":"'Fuel Specs'!$E$153","v":44},{"$f":"'Fuel Specs'!G133","v":0},{"$f":"'Fuel Specs'!H133","v":0}]
[null,null,null,null,null,null,null,null,null,null,null,null,null,null,null,null,null,null,null,null,null,null,null,null,null,null,null,null,null,null,null,null,null,null,null,null,null,null,null,null,null,null,null,null,null,null,null,null,null,null,null,null,"CO2",{"$f":"IF(BH122=\"ON\", 100*BC109/$BA$119, \"NA\")","v":"NA"},{"$f":"IF(BH122=\"ON\", AO41-AV19, 0)","v":0},null,null,null,null,null,null,null,null,null,null,null,"CO2",{"$f":"IF(BH122=\"ON\", 100*BQ109/$BO$119, \"NA\")","v":"NA"},{"$f":"BC109","v":0},null,null,null,null,null,null,null,null,null,null,null,"CO2",{"$f":"IF(BH122=\"ON\", 100*CE109/$CC$119, \"NA\")","v":"NA"},0,null,null,null,null,null,null,null,null,null,null,null,"CO2",{"$f":"IF(BH122=\"ON\", 100*CS109/$CQ$119, \"NA\")","v":"NA"},{"$f":"0.333*CE109","v":0},null,null,null,null,"Total",{"$f":"SUM(CY103:CY108)","v":0},{"$f":"SUM(CZ103:CZ108)","v":0},null,null,null,null,"CO2",{"$f":"IF(BH122=\"ON\", 100*DG109/$DE$119, \"NA\")","v":"NA"},0,null,null,null,null,null,null,null,null,null,null,null,"C1",{"$f":"IF(BH122=\"ON\", 100*DU109/$DS$119, \"NA\")","v":"NA"},{"$f":"DG110","v":0},{"$f":"IF(BH122=\"ON\", DW109*DT109/100, \"NA\")","v":"NA"},{"$f":"'Fuel Specs'!$E$155","v":16},{"$f":"'Fuel Specs'!G135","v":1013},{"$f":"'Fuel Specs'!H135","v":913}]
[null,null,null,null,null,null,null,null,null,null,null,null,null,null,null,null,null,null,null,null,null,null,null,null,null,null,null,null,null,null,null,null,null,null,null,null,null,null,null,null,null,null,null,null,null,null,null,null,null,null,null,null,"C1",{"$f":"IF(BH122=\"ON\", 100*BC110/$BA$119, \"NA\")","v":"NA"},{"$f":"IF(BH122=\"ON\", AO42-AV20, 0)","v":0},null,null,null,null,null,null,null,null,null,null,null,"C1",{"$f":"IF(BH122=\"ON\", 100*BQ110/$BO$119, \"NA\")","v":"NA"},0,null,null,null,null,null,null,null,null,null,null,null,"C1",{"$f":"IF(BH122=\"ON\", 100*CE110/$CC$119, \"NA\")","v":"NA"},0,null,null,null,null,null,null,null,null,null,null,null,"C1",{"$f":"IF(BH122=\"ON\", 100*CS110/$CQ$119, \"NA\")","v":"NA"},{"$f":"0.984*CE110","v":0},null,null,null,null,"Dehydrator Vented Gas",null,null,null,null,null,null,"C1",{"$f":"IF(BH122=\"ON\", 100*DG110/$DE$119, \"NA\")","v":"NA"},{"$f":"CS110-CZ104","v":0},null,null,null,null,null,null,null,null,null,null,null,"C2",{"$f":"IF(BH122=\"ON\", 100*DU110/$DS$119, \"NA\")","v":"NA"},{"$f":"DG111-DP134","v":0},{"$f":"IF(BH122=\"ON\", DW110*DT110/100, \"NA\")","v":"NA"},{"$f":"'Fuel Specs'!$E$156","v":30},{"$f":"'Fuel Specs'!G136","v":1792},{"$f":"'Fuel Specs'!H136","v":1641}]
[null,null,null,null,null,null,null,null,null,null,null,null,null,null,null,null,null,null,null,null,null,null,null,null,null,null,null,null,null,null,null,null,null,null,null,null,null,null,null,null,null,null,null,null,null,null,null,null,null,null,null,null,"C2",{"$f":"IF(BH122=\"ON\", 100*BC111/$BA$119, \"NA\")","v":"NA"},{"$f":"IF(BH122=\"ON\", AO43-AV21, 0)","v":0},null,null,null,null,null,null,null,null,null,null,null,"C2",{"$f":"IF(BH122=\"ON\", 100*BQ111/$BO$119, \"NA\")","v":"NA"},0,null,null,null,null,null,null,null,null,null,null,null,"C2",{"$f":"IF(BH122=\"ON\", 100*CE111/$CC$119, \"NA\")","v":"NA"},0,null,null,null,null,null,null,null,null,null,null,null,"C2",{"$f":"IF(BH122=\"ON\", 100*CS111/$CQ$119, \"NA\")","v":"NA"},{"$f":"0.97*CE111","v":0},null,null,null,null,{"$f":"CZ109","v":0},"MMscf/d",null,null,null,null,null,"C2",{"$f":"IF(BH122=\"ON\", 100*DG111/$DE$119, \"NA\")","v":"NA"},{"$f":"CS111-CZ105","v":0},null,null,null,null,null,null,null,null,null,null,null,"C3",{"$f":"IF(BH122=\"ON\", 100*DU111/$DS$119, \"NA\")","v":"NA"},{"$f":"DG112-DP135","v":0},{"$f":"IF(BH122=\"ON\", DW111*DT111/100, \"NA\")","v":"NA"},{"$f":"'Fuel Specs'!$E$157","v":44},{"$f":"'Fuel Specs'!G137","v":2590},{"$f":"'Fuel Specs'!H137","v":2385},null,null,null,null,null,null,"Lifting Gas"]
[null,null,null,null,null,null,null,null,null,null,null,null,null,null,null,null,null,null,null,null,null,null,null,null,null,null,null,null,null,null,null,null,null,null,null,null,null,null,null,null,null,null,null,null,null,null,null,null,null,null,null,null,"C3",{"$f":"IF(BH122=\"ON\", 100*BC112/$BA$119, \"NA\")","v":"NA"},{"$f":"IF(BH122=\"ON\", AO44-AV22, 0)","v":0},null,null,null,null,null,null,null,null,null,null,null,"C3",{"$f":"IF(BH122=\"ON\", 100*BQ112/$BO$119, \"NA\")","v":"NA"},0,null,null,null,null,null,null,null,null,null,null,null,"C3",{"$f":"IF(BH122=\"ON\", 100*CE112/$CC$119, \"NA\")","v":"NA"},0,null,null,null,null,null,null,null,null,null,null,null,"C3",{"$f":"IF(BH122=\"ON\", 100*CS112/$CQ$119, \"NA\")","v":"NA"},{"$f":"0.956*CE112","v":0},null,null,null,null,null,null,null,null,null,null,null,"C3",{"$f":"IF(BH122=\"ON\", 100*DG112/$DE$119, \"NA\")","v":"NA"},{"$f":"CS112-CZ106","v":0},null,null,null,null,null,null,null,null,null,null,null,"C4",{"$f":"IF(BH122=\"ON\", 100*DU112/$DS$119, \"NA\")","v":"NA"},{"$f":"DG113-DP136","v":0},{"$f":"IF(BH122=\"ON\", DW112*DT112/100, \"NA\")","v":"NA"},{"$f":"'Fuel Specs'!$E$158","v":58},{"$f":"'Fuel Specs'!G138","v":3370},{"$f":"'Fuel Specs'!H138","v":3113},null,null,null,null,null,null,{"$f":"IF(AND(BH122=\"ON\", 'Production & Extraction'!M18=1),'Production & Extraction'!M229/1000,0)","v":0},"MMscf/d"]
[null,null,null,null,null,null,null,null,null,null,null,null,null,null,null,null,null,null,null,null,null,null,null,null,null,null,null,null,null,null,null,null,null,null,null,null,null,null,null,null,null,null,null,null,null,null,null,null,null,null,null,null,"C4",{"$f":"IF(BH122=\"ON\", 100*BC113/$BA$119, \"NA\")","v":"NA"},{"$f":"IF(BH122=\"ON\", AO45-AV23, 0)","v":0},null,null,null,null,null,null,null,null,null,null,null,"C4",{"$f":"IF(BH122=\"ON\", 100*BQ113/$BO$119, \"NA\")","v":"NA"},0,null,null,null,null,null,null,null,null,null,null,null,"C4",{"$f":"IF(BH122=\"ON\", 100*CE113/$CC$119, \"NA\")","v":"NA"},0,null,null,null,null,null,null,null,null,null,null,null,"C4",{"$f":"IF(BH122=\"ON\", 100*CS113/$CQ$119, \"NA\")","v":"NA"},{"$f":"0.941*CE113","v":0},null,null,null,null,null,null,null,null,null,null,null,"C4",{"$f":"IF(BH122=\"ON\", 100*DG113/$DE$119, \"NA\")","v":"NA"},{"$f":"CS113-CZ107","v":0},null,null,null,null,null,null,null,null,null,null,null,"H2S",{"$f":"IF(BH122=\"ON\", 100*DU113/$DS$119, \"NA\")","v":"NA"},{"$f":"DG114","v":0},{"$f":"IF(BH122=\"ON\", DW113*DT113/100, \"NA\")","v":"NA"},{"$f":"'Fuel Specs'!$E$161","v":34},{"$f":"'Fuel Specs'!G141","v":640},{"$f":"'Fuel Specs'!H141","v":594},null,null,null,null,null,null,null,null,null,null,null,null,null,null,null,null,null,null,null,null,null,null,null,null,null,null,null,null,null,null,{"$f":"IF('Active Field'!J116=6,  IF('Production & Extraction'!M18=1, IF(DS119<EF112,\"ERROR\",\"OK\"), \"OK\"), \"OK\")","v":"OK"}]
[null,null,null,null,null,null,null,null,null,null,null,null,null,null,null,null,null,null,null,null,null,null,null,null,null,null,null,null,null,null,null,null,null,null,null,null,null,null,null,null,null,null,null,null,null,null,null,null,null,null,null,null,"H2S",{"$f":"IF(BH122=\"ON\", 100*BC114/$BA$119, \"NA\")","v":"NA"},{"$f":"IF(BH122=\"ON\", AO46-AV24, 0)","v":0},null,null,null,null,null,null,null,null,null,null,null,"H2S",{"$f":"IF(BH122=\"ON\", 100*BQ114/$BO$119, \"NA\")","v":"NA"},0,null,null,null,null,null,null,null,null,null,null,null,"H2S",{"$f":"IF(BH122=\"ON\", 100*CE114/$CC$119, \"NA\")","v":"NA"},0,null,null,null,null,null,null,null,null,null,null,null,"H2S",{"$f":"IF(BH122=\"ON\", 100*CS114/$CQ$119, \"NA\")","v":"NA"},{"$f":"0.485*CE114","v":0},null,null,null,null,null,null,null,null,null,null,null,"H2S",{"$f":"IF(BH122=\"ON\", 100*DG114/$DE$119, \"NA\")","v":"NA"},{"$f":"CS114-CZ108","v":0},null,null,null,null,null,null,null,null,null,null,null,"Total",{"$f":"IF(BH122=\"ON\", SUM(DT107:DT113), \"NA\")","v":"NA"},{"$f":"SUM(DU107:DU113)","v":0},{"$f":"IF(BH122=\"ON\", SUM(DV107:DV113), \"NA\")","v":"NA"},{"$f":"\"--\"","v":"--"},{"$f":"\"--\"","v":"--"},{"$f":"\"--\"","v":"--"}]
[null,null,null,null,null,null,null,null,null,null,null,null,null,null,null,null,null,null,null,null,null,null,null,null,null,null,null,null,null,null,null,null,null,null,null,null,null,null,null,null,null,null,null,null,null,null,null,null,null,null,null,null,"Total",{"$f":"IF(BH122=\"ON\", SUM(BB108:BB114), \"NA\")","v":"NA"},{"$f":"SUM(BC108:BC114)","v":0},null,null,null,null,null,null,null,null,null,null,null,"Total",{"$f":"IF(BH122=\"ON\", SUM(BP108:BP114), \"NA\")","v":"NA"},{"$f":"SUM(BQ108:BQ114)","v":0},null,null,null,null,null,null,null,null,null,null,null,"Total",{"$f":"IF(BH122=\"ON\", SUM(CD108:CD114), \"NA\")","v":"NA"},{"$f":"SUM(CE108:CE114)","v":0},null,null,null,null,null,null,null,null,null,null,null,"Total",{"$f":"IF(BH122=\"ON\", SUM(CR108:CR114), \"NA\")","v":"NA"},{"$f":"SUM(CS108:CS114)","v":0},null,null,null,null,null,null,null,null,null,null,null,"Total",{"$f":"IF(BH122=\"ON\", SUM(DF108:DF114), \"NA\")","v":"NA"},{"$f":"SUM(DG108:DG114)","v":0},null,null,null,null,null,null,null,null,null,null,null,"Specific gravity",{"$f":"IF(BH122=\"ON\", (14.7*DV114)/(10.73*(60+460))/0.0764, \"NA\")","v":"NA"},"Dimensionless"]
[null,null,null,null,null,null,null,null,null,null,null,null,null,null,null,null,null,null,null,null,null,null,null,null,null,null,null,null,null,null,null,null,null,null,null,null,null,null,null,null,null,null,null,null,null,null,null,null,null,null,null,null,"Temp","-","◦F",null,null,null,null,null,null,null,null,null,null,null,"Temp","-","◦F",null,null,null,null,null,null,null,null,null,null,null,"Temp","-","◦F",null,null,null,null,null,null,null,null,null,null,null,"Temp","-","◦F",null,null,null,null,null,null,null,null,null,null,null,"Temp","-","◦F",null,null,null,null,null,null,null,null,null,null,null,"HHV",{"$f":"SUMPRODUCT(DU107:DU113,DX107:DX113)","v":0},"MMBtu/d"]
[null,null,null,null,null,null,null,null,null,null,null,null,null,null,null,null,null,null,null,null,null,null,null,null,null,null,null,null,null,null,null,null,null,null,null,null,null,null,null,null,null,null,null,null,null,null,null,null,null,null,null,null,"Pressure","-","psia",null,null,null,null,null,null,null,null,null,null,null,"Pressure","-","psia",null,null,null,null,null,null,null,null,null,null,null,"Pressure","-","psia",null,null,null,null,null,null,null,null,null,null,null,"Pressure","-","psia",null,null,null,null,null,null,null,null,null,null,null,"Pressure","-","psia",null,null,null,null,null,null,null,null,null,null,null,"LHV",{"$f":"SUMPRODUCT(DU107:DU113,DY107:DY113)","v":0},"MMBtu/d"]
[null,null,null,null,null,null,null,null,null,null,null,null,null,null,null,null,null,null,null,null,null,null,null,null,null,null,null,null,null,null,null,null,null,null,null,null,null,null,null,null,null,null,null,null,null,null,null,"CO2 EOR via membrane + amine",null,null,null,null,"Gas to Chiller",null,null,null,null,null,null,null,null,null,null,null,null,null,"Gas to Compressor",null,null,null,null,null,null,null,null,null,null,null,null,null,"Gas to Membrane",null,null,null,null,null,null,null,null,null,null,null,null,null,"Gas to Amine Treater",null,null,null,null,null,null,null,null,null,null,null,null,null,"Gas to Demethanizer",null,null,null,null,null,null,null,null,null,null,null,null,null,"Pipeline Quality Gas Volume",null,null,null,null,null,null,null,null,null,null,null,null,null,null,null,null,null,null,null,null,null,null,null,null,null,null,null,null,null,null,null,"Fuel gas consumed"]
[null,null,null,null,null,null,null,null,null,null,null,null,null,null,null,null,null,null,null,null,null,null,null,null,null,null,null,null,null,null,null,null,null,null,null,null,null,null,null,null,null,null,null,null,null,null,null,"Gas processing path 7",null,null,null,null,{"$f":"BC115","v":0},"MMscf/d",null,null,null,null,null,null,null,null,null,null,null,null,{"$f":"BQ115","v":0},"MMscf/d",null,null,null,null,null,null,null,null,null,null,null,null,{"$f":"CE115","v":0},"MMscf/d",null,null,null,null,null,null,null,null,null,null,null,null,{"$f":"CS115","v":0},"MMscf/d",null,null,null,null,null,null,null,null,null,null,null,null,{"$f":"DG115","v":0},"MMscf/d",null,null,null,null,null,null,null,null,null,null,null,null,{"$f":"DU114","v":0},"MMscf/d",null,null,null,null,null,null,null,null,null,null,null,null,null,null,null,null,null,null,null,null,null,null,null,null,null,null,null,null,null,null,{"$f":"IF(BH122=\"ON\", 'Energy Consumption'!E23/'Fuel Specs'!B302*8.3144621*(273.15+15.5556)/101325 *(3.2808398950131)^3, 0)","v":0},"MMscf/d"]
[null,null,null,null,null,null,null,null,null,null,null,null,null,null,null,null,null,null,null,null,null,null,null,null,null,null,null,null,null,null,null,null,null,null,null,null,null,null,null,null,null,null,null,null,null,null,null,null,null,null,null,null,null,null,null,null,null,null,null,null,"Chiller",null,null,null,null,null,null,null,null,null,null,null,null,null,"Compressor",null,null,null,null,null,null,null,null,null,null,null,null,null,"Membrane",null,null,null,null,null,null,null,null,null,null,null,null,null,"Amine Treater",null,null,null,null,null,null,null,null,null,null,null,null,null,"Demethanizer",null,null,null,null,null,null,null,null,null,null,null,null,null,null,null,null,null,null,null,null,null,null,null,null,null,null,null,null,null,null,null,null,null,null,null,null,null,null,null,null,null,null,{"$f":"IF('Active Field'!J116=6, IF(EF129-EY119<-0.01, \"WARNING\", \"OK\"), \"OK\")","v":"OK"}]
[null,null,null,null,null,null,null,null,null,null,null,null,null,null,null,null,null,null,null,null,null,null,null,null,null,null,null,null,null,null,null,null,null,null,null,null,null,null,null,null,null,null,null,null,null,null,null,null,null,null,null,null,null,null,null,null,null,null,null,null,null,null,null,null,null,null,null,null,null,null,null,null,null,{"$f":"IF('Active Field'!J116=7, \"ON\", \"OFF\")","v":"OFF"}]
[null,null,null,null,null,null,null,null,null,null,null,null,null,null,null,null,null,null,null,null,null,null,null,null,null,null,null,null,null,null,null,null,null,null,null,null,null,null,null,null,null,null,null,null,null,null,null,null,null,null,null,null,null,null,null,null,null,null,null,{"$f":"IF('Active Field'!J116=7, \"ON\", \"OFF\")","v":"OFF"},null,null,null,null,null,null,null,null,null,null,null,null,null,null,null,null,null,null,null,null,null,null,null,null,null,null,null,{"$f":"IF('Active Field'!J116=7, \"ON\", \"OFF\")","v":"OFF"},null,null,null,null,null,null,null,null,null,null,null,null,null,{"$f":"IF('Active Field'!J116=7,\"ON\", \"OFF\")","v":"OFF"},null,null,null,null,null,null,null,null,null,null,null,null,null,{"$f":"IF('Active Field'!J116=7,\"ON\", \"OFF\")","v":"OFF"}]
[null,null,null,null,null,null,null,null,null,null,null,null,null,null,null,null,null,null,null,null,null,null,null,null,null,null,null,null,null,null,null,null,null,null,null,null,null,null,null,null,null,null,null,null,null,null,null,null,null,null,null,null,null,null,null,null,null,null,null,null,null,null,null,null,null,null,null,null,null,null,null,null,null,null,null,null,null,null,null,null,null,null,null,null,null,null,null,null,null,null,null,null,null,null,{"$f":"CQ119*1000000/'Active Field'!J63","v":0}]
[]
[]
[]
[]
[null,null,null,null,null,null,null,null,null,null,null,null,null,null,null,null,null,null,null,null,null,null,null,null,null,null,null,null,null,null,null,null,null,null,null,null,null,null,null,null,null,null,null,null,null,null,null,null,null,null,null,null,null,null,null,null,null,null,null,null,null,null,null,null,null,null,null,null,null,null,null,null,null,null,null,null,null,null,null,null,null,null,null,null,null,null,null,null,null,null,null,null,null,null,null,null,null,null,null,null,null,null,null,null,null,null,null,null,null,null,null,null,null,null,null,null,null,null,null,null,null,null,null,null,null,null,null,null,null,null,null,null,null,null,null,"Remaining gas (Fuel gas consumed + exports)",null,null,null,null,null,null,null,null,null,"Fuel gas consumed + exports"]
[null,null,null,null,null,null,null,null,null,null,null,null,null,null,null,null,null,null,null,null,null,null,null,null,null,null,null,null,null,null,null,null,null,null,null,null,null,null,null,null,null,null,null,null,null,null,null,null,null,null,null,null,null,null,null,null,null,null,null,null,null,null,null,null,null,null,null,null,null,null,null,null,null,null,null,null,null,null,null,null,null,null,null,null,null,null,null,null,null,null,null,null,null,null,null,null,null,null,null,null,null,null,null,null,null,null,null,null,null,null,null,null,null,null,null,null,null,null,null,null,null,null,null,null,null,null,null,null,null,null,null,null,null,null,null,{"$f":"IF(BH122=\"ON\", DS119-EF112, 0)","v":0},"MMscf/d",null,null,null,null,null,null,null,null,{"$f":"IF(BH122=\"ON\", EF129-EP151, 0)","v":0},"MMscf/d"]
[]
[null,null,null,null,null,null,null,null,null,null,null,null,null,null,null,null,null,null,null,null,null,null,null,null,null,null,null,null,null,null,null,null,null,null,null,null,null,null,null,null,null,null,null,null,null,null,null,null,null,null,null,null,null,null,null,null,null,null,null,null,null,null,null,null,null,null,null,null,null,null,null,null,null,null,null,null,null,null,null,null,null,null,null,null,null,null,null,null,null,null,null,null,null,null,null,null,null,null,null,null,null,null,null,"Table 1.20: Post-Amine Treater CO2 Stream to Reinjection into Reservoir",null,null,null,null,null,null,null,null,null,null,null,null,null,"Table 1.22: Demethanizer heavy product composition"]
[null,null,null,null,null,null,null,null,null,null,null,null,null,null,null,null,null,null,null,null,null,null,null,null,null,null,null,null,null,null,null,null,null,null,null,null,null,null,null,null,null,null,null,null,null,null,null,null,null,null,null,null,null,null,null,null,null,null,null,null,null,null,null,null,null,null,null,null,null,null,null,null,null,null,null,null,null,null,null,null,null,null,null,null,null,null,null,null,null,null,null,null,null,null,null,null,null,null,null,null,null,null,null,"Comp.","mol%","Vol",null,null,null,null,null,null,null,null,null,null,null,"Comp.","mol%","Vol","HHV","LHV"]
[null,null,null,null,null,null,null,null,null,null,null,null,null,null,null,null,null,null,null,null,null,null,null,null,null,null,null,null,null,null,null,null,null,null,null,null,null,null,null,null,null,null,null,null,null,null,null,null,null,null,null,null,null,null,null,null,null,null,null,null,null,null,null,null,null,null,null,null,null,null,null,null,null,null,null,null,null,null,null,null,null,null,null,null,null,null,null,null,null,null,null,null,null,null,null,null,null,null,null,null,null,null,null,{"$f":"\"--\"","v":"--"},{"$f":"\"--\"","v":"--"},"MMscf/d",null,null,null,null,null,null,null,null,null,null,null,{"$f":"\"--\"","v":"--"},{"$f":"\"--\"","v":"--"},"MMscf/d","Btu/scf","Btu/scf"]
[null,null,null,null,null,null,null,null,null,null,null,null,null,null,null,null,null,null,null,null,null,null,null,null,null,null,null,null,null,null,null,null,null,null,null,null,null,null,null,null,null,null,null,null,null,null,null,null,null,null,null,null,null,null,null,null,null,null,null,null,null,null,null,null,null,null,null,null,null,null,null,null,null,null,null,null,null,null,null,null,null,null,null,null,null,null,null,null,null,null,null,null,null,null,null,null,null,null,null,null,null,null,null,"N2",{"$f":"IF(BH122=\"ON\", 100*DB134/$CZ$145, \"NA\")","v":"NA"},{"$f":"0","v":0},null,null,null,null,null,null,null,null,null,null,null,"C2",{"$f":"IF(BH122=\"ON\", IF(DL122=\"ON\",100*DP134/$DN$141,0), \"NA\")","v":"NA"},{"$f":"IF(DL122=\"OFF\",DG111*('Surface Processing'!M120/100),0)","v":0},{"$f":"'Fuel Specs'!G136","v":1792},{"$f":"'Fuel Specs'!H136","v":1641}]
[null,null,null,null,null,null,null,null,null,null,null,null,null,null,null,null,null,null,null,null,null,null,null,null,null,null,null,null,null,null,null,null,null,null,null,null,null,null,null,null,null,null,null,null,null,null,null,null,null,null,null,null,null,null,null,null,null,null,null,null,null,null,null,null,null,null,null,null,null,null,null,null,null,null,null,null,null,null,null,null,null,null,null,null,null,null,null,null,null,null,null,null,null,null,null,null,null,null,null,null,null,null,null,"CO2",{"$f":"IF(BH122=\"ON\", 100*DB135/$CZ$145, \"NA\")","v":"NA"},{"$f":"CS109-CZ103","v":0},null,null,null,null,null,null,null,null,null,null,null,"C3",{"$f":"IF(BH122=\"ON\", IF(DL122=\"ON\",100*DP135/$DN$141,0), \"NA\")","v":"NA"},{"$f":"IF(DL122=\"ON\",DG112*('Surface Processing'!M121/100),0)","v":0},{"$f":"'Fuel Specs'!G137","v":2590},{"$f":"'Fuel Specs'!H137","v":2385}]
[null,null,null,null,null,null,null,null,null,null,null,null,null,null,null,null,null,null,null,null,null,null,null,null,null,null,null,null,null,null,null,null,null,null,null,null,null,null,null,null,null,null,null,null,null,null,null,null,null,null,null,null,null,null,null,null,null,null,null,null,null,null,null,null,null,null,null,null,null,null,null,null,null,null,null,null,null,null,null,null,null,null,null,null,null,null,null,null,null,null,null,null,null,null,null,null,null,null,null,null,null,null,null,"C1",{"$f":"IF(BH122=\"ON\", 100*DB136/$CZ$145, \"NA\")","v":"NA"},{"$f":"0","v":0},null,null,null,null,null,null,null,null,null,null,null,"C4",{"$f":"IF(BH122=\"ON\", IF(DL122=\"ON\",100*DP136/$DN$141,0), \"NA\")","v":"NA"},{"$f":"IF(DL122=\"ON\",DG113*('Surface Processing'!M122/100),0)","v":0},{"$f":"'Fuel Specs'!G138","v":3370},{"$f":"'Fuel Specs'!H138","v":3113}]
[null,null,null,null,null,null,null,null,null,null,null,null,null,null,null,null,null,null,null,null,null,null,null,null,null,null,null,null,null,null,null,null,null,null,null,null,null,null,null,null,null,null,null,null,null,null,null,null,null,null,null,null,null,null,null,null,null,null,null,null,null,null,null,null,null,null,null,null,null,null,null,null,null,null,null,null,null,null,null,null,null,null,null,null,null,null,null,null,null,null,null,null,null,null,null,null,null,null,null,null,null,null,null,"C2",{"$f":"IF(BH122=\"ON\", 100*DB137/$CZ$145, \"NA\")","v":"NA"},{"$f":"0","v":0},null,null,null,null,null,null,null,null,null,null,null,"Total",{"$f":"IF(DL122=\"ON\", SUM(DO134:DO136), \"NA\")","v":"NA"},{"$f":"SUM(DP134:DP136)","v":0},{"$f":"\"--\"","v":"--"},{"$f":"\"--\"","v":"--"}]
[null,null,null,null,null,null,null,null,null,null,null,null,null,null,null,null,null,null,null,null,null,null,null,null,null,null,null,null,null,null,null,null,null,null,null,null,null,null,null,null,null,null,null,null,null,null,null,null,null,null,null,null,null,null,null,null,null,null,null,null,null,null,null,null,null,null,null,null,null,null,null,null,null,null,null,null,null,null,null,null,null,null,null,null,null,null,null,null,null,null,null,null,null,null,null,null,null,null,null,null,null,null,null,"C3",{"$f":"IF(BH122=\"ON\", 100*DB138/$CZ$145, \"NA\")","v":"NA"},{"$f":"0","v":0},null,null,null,null,null,null,null,null,null,null,null,"HHV",{"$f":"SUMPRODUCT(DP134:DP136,DQ134:DQ136)","v":0},"MMBtu/d",null,null,null,null,null,null,null,null,null,null,null,null,null,null,null,null,null,null,null,null,null,null,null,null,null,null,null,null,null,null,null,null,null,null,"Exports"]
[null,null,null,null,null,null,null,null,null,null,null,null,null,null,null,null,null,null,null,null,null,null,null,null,null,null,null,null,null,null,null,null,null,null,null,null,null,null,null,null,null,null,null,null,null,null,null,null,null,null,null,null,null,null,null,null,null,null,null,null,null,null,null,null,null,null,null,null,null,null,null,null,null,null,null,null,null,null,null,null,null,null,null,null,null,null,null,null,null,null,null,null,null,null,null,null,null,null,null,null,null,null,null,"C4",{"$f":"IF(BH122=\"ON\", 100*DB139/$CZ$145, \"NA\")","v":"NA"},{"$f":"0","v":0},null,null,null,null,null,null,null,null,null,null,null,"LHV",{"$f":"SUMPRODUCT(DP134:DP136,DR134:DR136)","v":0},"MMBtu/d",null,null,null,null,null,null,null,null,null,null,null,null,null,null,null,null,null,null,null,null,null,null,null,null,null,null,null,null,null,null,null,null,null,null,{"$f":"IF(BH122=\"ON\", EP129-EY119, 0)","v":0},"MMscf/d"]
[null,null,null,null,null,null,null,null,null,null,null,null,null,null,null,null,null,null,null,null,null,null,null,null,null,null,null,null,null,null,null,null,null,null,null,null,null,null,null,null,null,null,null,null,null,null,null,null,null,null,null,null,null,null,null,null,null,null,null,null,null,null,null,null,null,null,null,null,null,null,null,null,null,null,null,null,null,null,null,null,null,null,null,null,null,null,null,null,null,null,null,null,null,null,null,null,null,null,null,null,null,null,null,"H2S",{"$f":"IF(BH122=\"ON\", 100*DB140/$CZ$145, \"NA\")","v":"NA"},{"$f":"0","v":0},null,null,null,null,null,null,null,null,null,null,null,"Demethanizer Heavy Product Volume"]
[null,null,null,null,null,null,null,null,null,null,null,null,null,null,null,null,null,null,null,null,null,null,null,null,null,null,null,null,null,null,null,null,null,null,null,null,null,null,null,null,null,null,null,null,null,null,null,null,null,null,null,null,null,null,null,null,null,null,null,null,null,null,null,null,null,null,null,null,null,null,null,null,null,null,null,null,null,null,null,null,null,null,null,null,null,null,null,null,null,null,null,null,null,null,null,null,null,null,null,null,null,null,null,"Total",{"$f":"IF(BH122=\"ON\", SUM(DA134:DA140), \"NA\")","v":"NA"},{"$f":"SUM(DB134:DB140)","v":0},null,null,null,null,null,null,null,null,null,null,null,{"$f":"DP137","v":0},"MMscf/d"]
[null,null,null,null,null,null,null,null,null,null,null,null,null,null,null,null,null,null,null,null,null,null,null,null,null,null,null,null,null,null,null,null,null,null,null,null,null,null,null,null,null,null,null,null,null,null,null,null,null,null,null,null,null,null,null,null,null,null,null,null,null,null,null,null,null,null,null,null,null,null,null,null,null,null,null,null,null,null,null,null,null,null,null,null,null,null,null,null,null,null,null,null,null,null,null,null,null,null,null,null,null,null,null,"Temp","-","◦F"]
[null,null,null,null,null,null,null,null,null,null,null,null,null,null,null,null,null,null,null,null,null,null,null,null,null,null,null,null,null,null,null,null,null,null,null,null,null,null,null,null,null,null,null,null,null,null,null,null,null,null,null,null,null,null,null,null,null,null,null,null,null,null,null,null,null,null,null,null,null,null,null,null,null,null,null,null,null,null,null,null,null,null,null,null,null,null,null,null,null,null,null,null,null,null,null,null,null,null,null,null,null,null,null,"Pressure","-","psia"]
[null,null,null,null,null,null,null,null,null,null,null,null,null,null,null,null,null,null,null,null,null,null,null,null,null,null,null,null,null,null,null,null,null,null,null,null,null,null,null,null,null,null,null,null,null,null,null,null,null,null,null,null,null,null,null,null,null,null,null,null,null,null,null,null,null,null,null,null,null,null,null,null,null,null,null,null,null,null,null,null,null,null,null,null,null,null,null,null,null,null,null,null,null,null,null,null,null,null,null,null,null,null,null,"CO2 Stream to Reinjection into Reservoir"]
[null,null,null,null,null,null,null,null,null,null,null,null,null,null,null,null,null,null,null,null,null,null,null,null,null,null,null,null,null,null,null,null,null,null,null,null,null,null,null,null,null,null,null,null,null,null,null,null,null,null,null,null,null,null,null,null,null,null,null,null,null,null,null,null,null,null,null,null,null,null,null,null,null,null,null,null,null,null,null,null,null,null,null,null,null,null,null,null,null,null,null,null,null,null,null,null,null,null,null,null,null,null,null,{"$f":"DB141","v":0},"MMscf/d"]
[]
[]
[]
[]
[null,null,null,null,null,null,null,null,null,null,null,null,null,null,null,null,null,null,null,null,null,null,null,null,null,null,null,null,null,null,null,null,null,null,null,null,null,null,null,null,null,null,null,null,null,null,null,null,null,null,null,null,null,null,null,null,null,null,null,null,null,null,null,null,null,null,null,null,null,null,null,null,null,null,null,null,null,null,null,null,null,null,null,null,null,null,null,null,null,null,null,null,null,null,null,null,null,null,null,null,null,null,null,null,null,null,null,null,null,null,null,null,null,null,null,null,null,null,null,null,null,null,null,null,null,null,null,null,null,null,null,null,null,null,null,null,null,null,null,null,null,null,null,null,null,"Reinjection (Natural Gas)"]
[null,null,null,null,null,null,null,null,null,null,null,null,null,null,null,null,null,null,null,null,null,null,null,null,null,null,null,null,null,null,null,null,null,null,null,null,null,null,null,null,null,null,null,null,null,null,null,null,null,null,null,null,null,null,null,null,null,null,null,null,null,null,null,null,null,null,null,null,null,null,null,null,null,null,null,null,null,null,null,null,null,null,null,null,null,null,null,null,null,null,null,null,null,null,null,null,null,null,null,null,null,null,null,null,null,null,null,null,null,null,null,null,null,null,null,null,null,null,null,null,null,null,null,null,null,null,null,null,null,null,null,null,null,null,null,null,null,null,null,null,null,null,null,null,null,{"$f":"IF(BH122=\"ON\", EF129*'Production & Extraction'!M47/100, 0)","v":0},"MMscf/d"]
[]
[]
[null,null,null,null,null,null,null,null,null,null,null,null,null,null,null,null,null,null,null,null,null,null,null,null,null,null,null,null,null,null,null,null,null,null,null,null,null,null,null,null,null,null,null,null,null,null,null,null,null,null,null,null,null,null,null,null,null,null,null,null,null,null,null,null,null,null,null,null,null,null,null,null,null,null,null,null,null,null,null,null,null,null,null,null,null,null,null,null,null,"Table 1.18: Post-Membrane CO2 Stream to Reinjection into Reservoir",null,null,null,null,null,null,null,null,null,null,null,null,null,null,null,null,null,null,null,null,null,null,"Table 1.24: Overall CO2 Stream to Reinjection into Reservoir"]
[null,null,null,null,null,null,null,null,null,null,null,null,null,null,null,null,null,null,null,null,null,null,null,null,null,null,null,null,null,null,null,null,null,null,null,null,null,null,null,null,null,null,null,null,null,null,null,null,null,null,null,null,null,null,null,null,null,null,null,null,null,null,null,null,null,null,null,null,null,null,null,null,null,null,null,null,null,null,null,null,null,null,null,null,null,null,null,null,null,"Comp.","mol%","Vol",null,null,null,null,null,null,null,null,null,null,null,null,null,null,null,null,null,null,null,null,"Comp.","mol%","Vol"]
[null,null,null,null,null,null,null,null,null,null,null,null,null,null,null,null,null,null,null,null,null,null,null,null,null,null,null,null,null,null,null,null,null,null,null,null,null,null,null,null,null,null,null,null,null,null,null,null,null,null,null,null,null,null,null,null,null,null,null,null,null,null,null,null,null,null,null,null,null,null,null,null,null,null,null,null,null,null,null,null,null,null,null,null,null,null,null,null,null,{"$f":"\"--\"","v":"--"},{"$f":"\"--\"","v":"--"},"MMscf/d",null,null,null,null,null,null,null,null,null,null,null,null,null,null,null,null,null,null,null,null,{"$f":"\"--\"","v":"--"},{"$f":"\"--\"","v":"--"},"MMscf/d"]
[null,null,null,null,null,null,null,null,null,null,null,null,null,null,null,null,null,null,null,null,null,null,null,null,null,null,null,null,null,null,null,null,null,null,null,null,null,null,null,null,null,null,null,null,null,null,null,null,null,null,null,null,null,null,null,null,null,null,null,null,null,null,null,null,null,null,null,null,null,null,null,null,null,null,null,null,null,null,null,null,null,null,null,null,null,null,null,null,null,"N2",{"$f":"IF(BH122=\"ON\", 100*CN157/$CL$168, \"NA\")","v":"NA"},{"$f":"0.424*CE108","v":0},null,null,null,null,null,null,null,null,null,null,null,null,null,null,null,null,null,null,null,null,"N2",{"$f":"IF(BH122=\"ON\", 100*DK157/$DI$168, \"NA\")","v":"NA"},{"$f":"DB134+CN157","v":0}]
[null,null,null,null,null,null,null,null,null,null,null,null,null,null,null,null,null,null,null,null,null,null,null,null,null,null,null,null,null,null,null,null,null,null,null,null,null,null,null,null,null,null,null,null,null,null,null,null,null,null,null,null,null,null,null,null,null,null,null,null,null,null,null,null,null,null,null,null,null,null,null,null,null,null,null,null,null,null,null,null,null,null,null,null,null,null,null,null,null,"CO2",{"$f":"IF(BH122=\"ON\", 100*CN158/$CL$168, \"NA\")","v":"NA"},{"$f":"0.667*CE109","v":0},null,null,null,null,null,null,null,null,null,null,null,null,null,null,null,null,null,null,null,null,"CO2",{"$f":"IF(BH122=\"ON\", 100*DK158/$DI$168, \"NA\")","v":"NA"},{"$f":"DB135+CN158+DG188","v":0}]
[null,null,null,null,null,null,null,null,null,null,null,null,null,null,null,null,null,null,null,null,null,null,null,null,null,null,null,null,null,null,null,null,null,null,null,null,null,null,null,null,null,null,null,null,null,null,null,null,null,null,null,null,null,null,null,null,null,null,null,null,null,null,null,null,null,null,null,null,null,null,null,null,null,null,null,null,null,null,null,null,null,null,null,null,null,null,null,null,null,"C1",{"$f":"IF(BH122=\"ON\", 100*CN159/$CL$168, \"NA\")","v":"NA"},{"$f":"0.016*CE110","v":0},null,null,null,null,null,null,null,null,null,null,null,null,null,null,null,null,null,null,null,null,"C1",{"$f":"IF(BH122=\"ON\", 100*DK159/$DI$168, \"NA\")","v":"NA"},{"$f":"DB136+CN159","v":0}]
[null,null,null,null,null,null,null,null,null,null,null,null,null,null,null,null,null,null,null,null,null,null,null,null,null,null,null,null,null,null,null,null,null,null,null,null,null,null,null,null,null,null,null,null,null,null,null,null,null,null,null,null,null,null,null,null,null,null,null,null,null,null,null,null,null,null,null,null,null,null,null,null,null,null,null,null,null,null,null,null,null,null,null,null,null,null,null,null,null,"C2",{"$f":"IF(BH122=\"ON\", 100*CN160/$CL$168, \"NA\")","v":"NA"},{"$f":"0.03*CE111","v":0},null,null,null,null,null,null,null,null,null,null,null,null,null,null,null,null,null,null,null,null,"C2",{"$f":"IF(BH122=\"ON\", 100*DK160/$DI$168, \"NA\")","v":"NA"},{"$f":"DB137+CN160","v":0}]
[null,null,null,null,null,null,null,null,null,null,null,null,null,null,null,null,null,null,null,null,null,null,null,null,null,null,null,null,null,null,null,null,null,null,null,null,null,null,null,null,null,null,null,null,null,null,null,null,null,null,null,null,null,null,null,null,null,null,null,null,null,null,null,null,null,null,null,null,null,null,null,null,null,null,null,null,null,null,null,null,null,null,null,null,null,null,null,null,null,"C3",{"$f":"IF(BH122=\"ON\", 100*CN161/$CL$168, \"NA\")","v":"NA"},{"$f":"0.044*CE112","v":0},null,null,null,null,null,null,null,null,null,null,null,null,null,null,null,null,null,null,null,null,"C3",{"$f":"IF(BH122=\"ON\", 100*DK161/$DI$168, \"NA\")","v":"NA"},{"$f":"DB138+CN161","v":0}]
[null,null,null,null,null,null,null,null,null,null,null,null,null,null,null,null,null,null,null,null,null,null,null,null,null,null,null,null,null,null,null,null,null,null,null,null,null,null,null,null,null,null,null,null,null,null,null,null,null,null,null,null,null,null,null,null,null,null,null,null,null,null,null,null,null,null,null,null,null,null,null,null,null,null,null,null,null,null,null,null,null,null,null,null,null,null,null,null,null,"C4",{"$f":"IF(BH122=\"ON\", 100*CN162/$CL$168, \"NA\")","v":"NA"},{"$f":"0.059*CE113","v":0},null,null,null,null,null,null,null,null,null,null,null,null,null,null,null,null,null,null,null,null,"C4",{"$f":"IF(BH122=\"ON\", 100*DK162/$DI$168, \"NA\")","v":"NA"},{"$f":"DB139+CN162","v":0}]
[null,null,null,null,null,null,null,null,null,null,null,null,null,null,null,null,null,null,null,null,null,null,null,null,null,null,null,null,null,null,null,null,null,null,null,null,null,null,null,null,null,null,null,null,null,null,null,null,null,null,null,null,null,null,null,null,null,null,null,null,null,null,null,null,null,null,null,null,null,null,null,null,null,null,null,null,null,null,null,null,null,null,null,null,null,null,null,null,null,"H2S",{"$f":"IF(BH122=\"ON\", 100*CN163/$CL$168, \"NA\")","v":"NA"},{"$f":"0.515*CE114","v":0},null,null,null,null,null,null,null,null,null,null,null,null,null,null,null,null,null,null,null,null,"H2S",{"$f":"IF(BH122=\"ON\", 100*DK163/$DI$168, \"NA\")","v":"NA"},{"$f":"DB140+CN163","v":0}]
[null,null,null,null,null,null,null,null,null,null,null,null,null,null,null,null,null,null,null,null,null,null,null,null,null,null,null,null,null,null,null,null,null,null,null,null,null,null,null,null,null,null,null,null,null,null,null,null,null,null,null,null,null,null,null,null,null,null,null,null,null,null,null,null,null,null,null,null,null,null,null,null,null,null,null,null,null,null,null,null,null,null,null,null,null,null,null,null,null,"Total",{"$f":"IF(BH122=\"ON\", SUM(CM157:CM163), \"NA\")","v":"NA"},{"$f":"SUM(CN157:CN163)","v":0},null,null,null,null,null,null,null,null,null,null,null,null,null,null,null,null,null,null,null,null,"Total",{"$f":"IF(BH122=\"ON\", SUM(DJ157:DJ163), \"NA\")","v":"NA"},{"$f":"SUM(DK157:DK163)","v":0}]
[null,null,null,null,null,null,null,null,null,null,null,null,null,null,null,null,null,null,null,null,null,null,null,null,null,null,null,null,null,null,null,null,null,null,null,null,null,null,null,null,null,null,null,null,null,null,null,null,null,null,null,null,null,null,null,null,null,null,null,null,null,null,null,null,"Fresh CO2",null,null,null,null,null,null,null,null,null,null,null,null,null,null,null,null,null,null,null,null,null,null,null,null,"Temp","-","◦F",null,null,null,null,null,null,null,null,null,null,null,null,null,null,null,null,null,null,null,null,"Temp","-","◦F"]
[null,null,null,null,null,null,null,null,null,null,null,null,null,null,null,null,null,null,null,null,null,null,null,null,null,null,null,null,null,null,null,null,null,null,null,null,null,null,null,null,null,null,null,null,null,null,null,null,null,null,null,null,null,null,null,null,null,null,null,null,null,null,null,null,null,null,null,null,null,null,null,null,null,null,null,null,null,null,null,null,null,null,null,null,null,null,null,null,null,"Pressure","-","psia",null,null,null,null,null,null,null,null,null,null,null,null,null,null,null,null,null,null,null,null,"Pressure","-","psia"]
[null,null,null,null,null,null,null,null,null,null,null,null,null,null,null,null,null,null,null,null,null,null,null,null,null,null,null,null,null,null,null,null,null,null,null,null,null,null,null,null,null,null,null,null,null,null,null,null,null,null,null,null,null,null,null,null,null,null,null,null,null,null,null,null,null,null,null,null,null,null,null,null,null,null,null,null,null,null,null,null,null,null,null,null,null,null,null,null,null,"Post-Membrane CO2 Stream to Reinjection into Reservoir",null,null,null,null,null,null,null,null,null,null,null,null,null,null,null,null,null,null,null,null,null,null,"CO2 Stream to Reinjection into Reservoir"]
[null,null,null,null,null,null,null,null,null,null,null,null,null,null,null,null,null,null,null,null,null,null,null,null,null,null,null,null,null,null,null,null,null,null,null,null,null,null,null,null,null,null,null,null,null,null,null,null,null,null,null,null,null,null,null,null,null,null,null,null,null,null,null,null,null,null,null,null,null,null,null,null,null,null,null,null,null,null,null,null,null,null,null,null,null,null,null,null,null,{"$f":"CN164","v":0},"MMscf/d",null,null,null,null,null,null,null,null,null,null,null,null,null,null,null,null,null,null,null,null,null,{"$f":"DK164","v":0},"MMscf/d"]
[null,null,null,null,null,null,null,null,null,null,null,null,null,null,null,null,null,null,null,null,null,null,null,null,null,null,null,null,null,null,null,null,null,null,null,null,null,null,null,null,null,null,null,null,null,null,null,null,null,null,null,null,null,null,null,null,null,null,null,null,null,null,null,null,null,"Table 1.29: New CO2 Injected"]
[null,null,null,null,null,null,null,null,null,null,null,null,null,null,null,null,null,null,null,null,null,null,null,null,null,null,null,null,null,null,null,null,null,null,null,null,null,null,null,null,null,null,null,null,null,null,null,null,null,null,null,null,null,null,null,null,null,null,null,null,null,null,null,null,null,"Comp.","mol%","Vol"]
[null,null,null,null,null,null,null,null,null,null,null,null,null,null,null,null,null,null,null,null,null,null,null,null,null,null,null,null,null,null,null,null,null,null,null,null,null,null,null,null,null,null,null,null,null,null,null,null,null,null,null,null,null,null,null,null,null,null,null,null,null,null,null,null,null,{"$f":"\"--\"","v":"--"},{"$f":"\"--\"","v":"--"},"MMscf/d",null,null,null,null,null,null,null,null,null,null,null,null,null,null,null,null,null,null,null,null,null,null,null,null,null,null,null,null,null,null,null,null,null,null,null,null,null,null,null,null,null,null,null,null,{"$f":"DI168*1000000/'Active Field'!J63","v":0},"scf/bbl"]
[null,null,null,null,null,null,null,null,null,null,null,null,null,null,null,null,null,null,null,null,null,null,null,null,null,null,null,null,null,null,null,null,null,null,null,null,null,null,null,null,null,null,null,null,null,null,null,null,null,null,null,null,null,null,null,null,null,null,null,null,null,null,null,null,null,"N2",0,0]
[null,null,null,null,null,null,null,null,null,null,null,null,null,null,null,null,null,null,null,null,null,null,null,null,null,null,null,null,null,null,null,null,null,null,null,null,null,null,null,null,null,null,null,null,null,null,null,null,null,null,null,null,null,null,null,null,null,null,null,null,null,null,null,null,null,"CO2",{"$f":"IF(BI211=\"ON\", 100*BP173/BP179, \"NA\")","v":"NA"},{"$f":"IF(AND('Active Field'!J90=3,BI211=\"ON\"), ('Production & Extraction'!M49/1000)-Q54,0)","v":0}]
[null,null,null,null,null,null,null,null,null,null,null,null,null,null,null,null,null,null,null,null,null,null,null,null,null,null,null,null,null,null,null,null,null,null,null,null,null,null,null,null,null,null,null,null,null,null,null,null,null,null,null,null,null,null,null,null,null,null,null,null,null,null,null,null,null,"C1",0,0]
[null,null,null,null,null,null,null,null,null,null,null,null,null,null,null,null,null,null,null,null,null,null,null,null,null,null,null,null,null,null,null,null,null,null,null,null,null,null,null,null,null,null,null,null,null,null,null,null,null,null,null,null,null,null,null,null,null,null,null,null,null,null,null,null,null,"C2",0,0]
[null,null,null,null,null,null,null,null,null,null,null,null,null,null,null,null,null,null,null,null,null,null,null,null,null,null,null,null,null,null,null,null,null,null,null,null,null,null,null,null,null,null,null,null,null,null,null,null,null,null,null,null,null,null,null,null,null,null,null,null,null,null,null,null,null,"C3",0,0]
[null,null,null,null,null,null,null,null,null,null,null,null,null,null,null,null,null,null,null,null,null,null,null,null,null,null,null,null,null,null,null,null,null,null,null,null,null,null,null,null,null,null,null,null,null,null,null,null,null,null,null,null,null,null,null,null,null,null,null,null,null,null,null,null,null,"C4",0,0]
[null,null,null,null,null,null,null,null,null,null,null,null,null,null,null,null,null,null,null,null,null,null,null,null,null,null,null,null,null,null,null,null,null,null,null,null,null,null,null,null,null,null,null,null,null,null,null,null,null,null,null,null,null,null,null,null,null,null,null,null,null,null,null,null,null,"H2S",0,0]
[null,null,null,null,null,null,null,null,null,null,null,null,null,null,null,null,null,null,null,null,null,null,null,null,null,null,null,null,null,null,null,null,null,null,null,null,null,null,null,null,null,null,null,null,null,null,null,null,null,null,null,null,null,null,null,null,null,null,null,null,null,null,null,null,null,"Total",{"$f":"IF(BH211=\"ON\", SUM(BO172:BO178), \"NA\")","v":"NA"},{"$f":"SUM(BP172:BP178)","v":0}]
[null,null,null,null,null,null,null,null,null,null,null,null,null,null,null,null,null,null,null,null,null,null,null,null,null,null,null,null,null,null,null,null,null,null,null,null,null,null,null,null,null,null,null,null,null,null,null,null,null,null,null,null,null,null,null,null,null,null,null,null,null,null,null,null,null,"Temp","-","◦F"]
[null,null,null,null,null,null,null,null,null,null,null,null,null,null,null,null,null,null,null,null,null,null,null,null,null,null,null,null,null,null,null,null,null,null,null,null,null,null,null,null,null,null,null,null,null,null,null,null,null,null,null,null,null,null,null,null,null,null,null,null,null,null,null,null,null,"Pressure","-","psia"]
[null,null,null,null,null,null,null,null,null,null,null,null,null,null,null,null,null,null,null,null,null,null,null,null,null,null,null,null,null,null,null,null,null,null,null,null,null,null,null,null,null,null,null,null,null,null,null,null,null,null,null,null,null,null,null,null,null,null,null,null,null,null,null,null,null,"New CO2 Stream to Reinjection into Reservoir"]
[null,null,null,null,null,null,null,null,null,null,null,null,null,null,null,null,null,null,null,null,null,null,null,null,null,null,null,null,null,null,null,null,null,null,null,null,null,null,null,null,null,null,null,null,null,null,null,null,null,null,null,null,null,null,null,null,null,null,null,null,null,null,null,null,null,{"$f":"BP179","v":0},"MMscf/d"]
[null,null,null,null,null,null,null,null,null,null,null,null,null,null,null,null,null,null,null,null,null,null,null,null,null,null,null,null,null,null,null,null,null,null,null,null,null,null,null,null,null,null,null,null,null,null,null,null,null,null,null,null,null,null,null,null,null,null,null,null,null,null,null,null,null,null,null,null,null,null,null,null,null,null,null,null,null,null,null,null,null,null,null,null,null,null,null,null,null,null,null,null,null,null,null,null,null,null,null,null,null,null,null,null,null,null,null,null,"Table 1.25: New CO2 Injected"]
[null,null,null,null,null,null,null,null,null,null,null,null,null,null,null,null,null,null,null,null,null,null,null,null,null,null,null,null,null,null,null,null,null,null,null,null,null,null,null,null,null,null,null,null,null,null,null,null,null,null,null,null,null,null,null,null,null,null,null,null,null,null,null,null,null,null,null,null,null,null,null,null,null,null,null,null,null,null,null,null,null,null,null,null,null,null,null,null,null,null,null,null,null,null,null,null,null,null,null,null,null,null,null,null,null,null,null,null,"Comp.","mol%","Vol"]
[null,null,null,null,null,null,null,null,null,null,null,null,null,null,null,null,null,null,null,null,null,null,null,null,null,null,null,null,null,null,null,null,null,null,null,null,null,null,null,null,null,null,null,null,null,null,null,null,null,null,null,null,null,null,null,null,null,null,null,null,null,null,null,null,null,null,null,null,null,null,null,null,null,null,null,null,null,null,null,null,null,null,null,null,null,null,null,null,null,null,null,null,null,null,null,null,null,null,null,null,null,null,null,null,null,null,null,null,{"$f":"\"--\"","v":"--"},{"$f":"\"--\"","v":"--"},"MMscf/d"]
[null,null,null,null,null,null,null,null,null,null,null,null,null,null,null,null,null,null,null,null,null,null,null,null,null,null,null,null,null,null,null,null,null,null,null,null,null,null,null,null,null,null,null,null,null,null,null,null,null,null,null,null,null,null,null,null,null,null,null,null,null,null,null,null,null,null,null,null,null,null,null,null,null,null,null,null,null,null,null,null,null,null,null,null,null,null,null,null,null,null,null,null,null,null,null,null,null,null,null,null,null,null,null,null,null,null,null,null,"N2",0,0]
[null,null,null,null,null,null,null,null,null,null,null,null,null,null,null,null,null,null,null,null,null,null,null,null,null,null,null,null,null,null,null,null,null,null,null,null,null,null,null,null,null,null,null,null,null,null,null,null,null,null,null,null,null,null,null,null,null,null,null,null,null,null,null,null,null,null,null,null,null,null,null,null,null,null,null,null,null,null,null,null,null,null,null,null,null,null,null,null,null,null,null,null,null,null,null,null,null,null,null,null,null,null,null,null,null,null,null,null,"CO2",{"$f":"IF($BH$122=\"ON\", 100*DG188/$DG$194, \"NA\")","v":"NA"},{"$f":"IF(AND('Active Field'!J90=3,$BH$122=\"ON\"), ('Production & Extraction'!M49/1000)-Q54,0)","v":0}]
[null,null,null,null,null,null,null,null,null,null,null,null,null,null,null,null,null,null,null,null,null,null,null,null,null,null,null,null,null,null,null,null,null,null,null,null,null,null,null,null,null,null,null,null,null,null,null,null,null,null,null,null,null,null,null,null,null,null,null,null,"Table 1.27: Ryan-Holmes Process Vented Gas",null,null,null,null,null,null,null,null,null,null,null,null,null,null,null,null,null,null,null,null,null,null,null,null,null,null,null,null,null,null,null,null,null,null,null,null,null,null,null,null,null,null,null,null,null,null,null,"C1",0,0]
[null,null,null,null,null,null,null,null,null,null,null,null,null,null,null,null,null,null,null,null,null,null,null,null,null,null,null,null,null,null,null,null,null,null,null,null,null,null,null,null,null,null,null,null,null,null,null,null,null,null,null,null,null,null,null,null,null,null,null,null,"Comp.","mol%","Vol",null,null,null,null,null,null,null,null,null,null,null,null,null,null,null,null,null,null,null,null,null,null,null,null,null,null,null,null,null,null,null,null,null,null,null,null,null,null,null,null,null,null,null,null,null,"C2",0,0]
[null,null,null,null,null,null,null,null,null,null,null,null,null,null,null,null,null,null,null,null,null,null,null,null,null,null,null,null,null,null,null,null,null,null,null,null,null,null,null,null,null,null,null,null,null,null,null,null,null,null,null,null,null,null,null,null,null,null,null,null,{"$f":"\"--\"","v":"--"},{"$f":"\"--\"","v":"--"},"MMscf/d",null,null,null,null,null,null,null,null,null,null,null,null,null,null,null,null,null,null,null,null,null,null,null,null,null,null,null,null,null,null,null,null,null,null,null,null,null,null,null,null,null,null,null,null,null,"C3",0,0]
[null,null,null,null,null,null,null,null,null,null,null,null,null,null,null,null,null,null,null,null,null,null,null,null,null,null,null,null,null,null,null,null,null,null,null,null,null,null,null,null,null,null,null,null,null,null,null,null,null,null,null,null,null,null,null,null,null,null,null,null,"CO2",{"$f":"IF('Gas Balance'!$BI$211=\"ON\", 100*BK192/$BI$200, \"NA\")","v":"NA"},{"$f":"IF('Gas Balance'!BI211=\"ON\", BD198/(BD200+BD201+BD202)*(BK194+BK195+BK196), 0)","v":0},null,null,null,null,null,null,null,null,null,null,null,null,null,null,null,null,null,null,null,null,null,null,null,null,null,null,null,null,null,null,null,null,null,null,null,null,null,null,null,null,null,null,null,null,null,"C4",0,0]
[null,null,null,null,null,null,null,null,null,null,null,null,null,null,null,null,null,null,null,null,null,null,null,null,null,null,null,null,null,null,null,null,null,null,null,null,null,null,null,null,null,null,null,null,null,null,null,null,null,null,null,null,null,null,null,null,null,null,null,null,"C1",{"$f":"IF('Gas Balance'!$BI$211=\"ON\", 100*BK193/$BI$200, \"NA\")","v":"NA"},{"$f":"IF('Gas Balance'!BI211=\"ON\", BD199/(BD200+BD201+BD202)*(BK194+BK195+BK196), 0)","v":0},null,null,null,null,null,null,null,null,null,null,null,null,null,null,null,null,null,null,null,null,null,null,null,null,null,null,null,null,null,null,null,null,null,null,null,null,null,null,null,null,null,null,null,null,null,"H2S",0,0]
[null,null,null,null,null,null,null,null,null,null,null,null,null,null,null,null,null,null,null,null,null,null,null,null,null,null,null,null,null,null,null,null,null,null,null,null,null,null,null,null,null,null,null,null,null,null,null,null,null,null,null,null,null,"Table 1.26: Gas to Ryan Holmes Process",null,null,null,null,null,null,"C2",{"$f":"IF('Gas Balance'!$BI$211=\"ON\", 100*BK194/$BI$200, \"NA\")","v":"NA"},{"$f":"IF('Gas Balance'!BI211=\"ON\", IF(BC202, 0.31, 0.425)*(BB208/45)*('Emissions Factors'!I76+'Emissions Factors'!I152)/IF(BC202, 'Input Data'!D89, 'Input Data'!D90)/1000000, 0)","v":0},null,null,null,null,"Table 1.28: Post-Ryan-Holmes CO2 Stream to Reinjection into Reservoir",null,null,null,null,null,null,null,null,null,null,null,null,null,null,null,null,null,null,null,null,null,null,null,null,null,null,null,null,null,null,null,null,null,null,null,null,null,null,null,null,"Total",{"$f":"IF($BH$122=\"ON\", SUM(DF187:DF193), \"NA\")","v":"NA"},{"$f":"SUM(DG187:DG193)","v":0}]
[null,null,null,null,null,null,null,null,null,null,null,null,null,null,null,null,null,null,null,null,null,null,null,null,null,null,null,null,null,null,null,null,null,null,null,null,null,null,null,null,null,null,null,null,null,null,null,null,null,null,null,null,null,"Comp.","mol%","Vol",null,null,null,null,"C3",{"$f":"IF('Gas Balance'!$BI$211=\"ON\", 100*BK195/$BI$200, \"NA\")","v":"NA"},{"$f":"IF('Gas Balance'!BI211=\"ON\", IF(BC202, 0.42, 0.575)*(BB208/45)*('Emissions Factors'!I76+'Emissions Factors'!I152)/IF(BC202, 'Input Data'!D89, 'Input Data'!D90)/1000000, 0)","v":0},null,null,null,null,"Comp.","mol%","Vol",null,null,null,null,null,null,null,null,null,null,null,null,null,null,null,null,null,null,null,null,null,null,null,null,null,null,null,null,null,null,null,null,null,null,null,null,null,null,"Temp","-","◦F"]
[null,null,null,null,null,null,null,null,null,null,null,null,null,null,null,null,null,null,null,null,null,null,null,null,null,null,null,null,null,null,null,null,null,null,null,null,null,null,null,null,null,null,null,null,null,null,null,null,null,null,null,null,null,{"$f":"\"--\"","v":"--"},{"$f":"\"--\"","v":"--"},"MMscf/d",null,null,null,null,"C4",{"$f":"IF('Gas Balance'!$BI$211=\"ON\", 100*BK196/$BI$200, \"NA\")","v":"NA"},{"$f":"IF('Gas Balance'!BI211=\"ON\", IF(BC202, 0.27, 0)*(BB208/45)*('Emissions Factors'!I76+'Emissions Factors'!I152)/IF(BC202, 'Input Data'!D89, 'Input Data'!D90)/1000000, 0)","v":0},null,null,null,null,{"$f":"\"--\"","v":"--"},{"$f":"\"--\"","v":"--"},"MMscf/d",null,null,null,null,null,null,null,null,null,null,null,null,null,null,null,null,null,null,null,null,null,null,null,null,null,null,null,null,null,null,null,null,null,null,null,null,null,null,"Pressure","-","psia"]
[null,null,null,null,null,null,null,null,null,null,null,null,null,null,null,null,null,null,null,null,null,null,null,null,null,null,null,null,null,null,null,null,null,null,null,null,null,null,null,null,null,null,null,null,null,null,null,null,null,null,null,null,null,"N2",{"$f":"IF(BI211=\"ON\", 100*BD197/$BB$208, \"NA\")","v":"NA"},{"$f":"IF(BI211=\"ON\", AO40, 0)","v":0},null,null,null,null,"H2S",{"$f":"IF('Gas Balance'!$BI$211=\"ON\", 100*BK197/$BI$200, \"NA\")","v":"NA"},{"$f":"IF('Gas Balance'!BI211=\"ON\", BD203, 0)","v":0},null,null,null,null,"N2",{"$f":"IF('Gas Balance'!BI211=\"ON\", 100*BR197/$BP$208, \"NA\")","v":"NA"},{"$f":"0","v":0},null,null,null,null,null,null,null,null,null,null,null,null,null,null,null,null,null,null,null,null,null,null,null,null,null,null,null,null,null,null,null,null,null,null,null,null,null,null,"New CO2 Stream to Reinjection into Reservoir"]
[null,null,null,null,null,null,null,null,null,null,null,null,null,null,null,null,null,null,null,null,null,null,null,null,null,null,null,null,null,null,null,null,null,null,null,null,null,null,null,null,null,null,null,null,null,null,null,null,null,null,null,null,null,"CO2",{"$f":"IF('Gas Balance'!BI211=\"ON\", 100*BD198/$BB$208, \"NA\")","v":"NA"},{"$f":"IF(BI211=\"ON\", AO41-AV19, 0)","v":0},null,null,null,null,"Total",{"$f":"IF('Gas Balance'!BI211=\"ON\", SUM(BJ192:BJ197), \"NA\")","v":"NA"},{"$f":"SUM(BK192:BK197)","v":0},null,null,null,null,"CO2",{"$f":"IF('Gas Balance'!BI211=\"ON\", 100*BR198/$BP$208, \"NA\")","v":"NA"},{"$f":"(769.1/793.3)*(BD198-BK192)+BP173","v":0},null,null,null,null,null,null,null,null,null,null,null,null,null,null,null,null,null,null,null,null,null,null,null,null,null,null,null,null,null,null,null,null,null,null,null,null,null,null,{"$f":"DG194","v":0},"MMscf/d"]
[null,null,null,null,null,null,null,null,null,null,null,null,null,null,null,null,null,null,null,null,null,null,null,null,null,null,null,null,null,null,null,null,null,null,null,null,null,null,null,null,null,null,null,null,null,null,null,null,null,null,null,null,null,"C1",{"$f":"IF('Gas Balance'!BI211=\"ON\", 100*BD199/$BB$208, \"NA\")","v":"NA"},{"$f":"IF(BI211=\"ON\", AO42-AV20, 0)","v":0},null,null,null,null,"Ryan-Holmes Process Vented Gas",null,null,null,null,null,null,"C1",{"$f":"IF('Gas Balance'!BI211=\"ON\", 100*BR199/$BP$208, \"NA\")","v":"NA"},{"$f":"(15/214.2)*(BD199-BK193)","v":0}]
[null,null,null,null,null,null,null,null,null,null,null,null,null,null,null,null,null,null,null,null,null,null,null,null,null,null,null,null,null,null,null,null,null,null,null,null,null,null,null,null,null,null,null,null,null,null,null,null,null,null,null,null,null,"C2",{"$f":"IF('Gas Balance'!BI211=\"ON\", 100*BD200/$BB$208, \"NA\")","v":"NA"},{"$f":"IF(BI211=\"ON\", AO43-AV21, 0)","v":0},null,null,null,null,{"$f":"BK198","v":0},"MMscf/d",null,null,null,null,null,"C2",{"$f":"IF('Gas Balance'!BI211=\"ON\", 100*BR200/$BP$208, \"NA\")","v":"NA"},{"$f":"(8/110.9)*(BD200-BK194)","v":0}]
[null,null,null,null,null,null,null,null,null,null,null,null,null,null,null,null,null,null,null,null,null,null,null,null,null,null,null,null,null,null,null,null,null,null,null,null,null,null,null,null,null,null,null,null,null,null,null,null,null,null,null,null,null,"C3",{"$f":"IF('Gas Balance'!BI211=\"ON\", 100*BD201/$BB$208, \"NA\")","v":"NA"},{"$f":"IF(BI211=\"ON\", AO44-AV22, 0)","v":0},null,null,null,null,null,null,null,null,null,null,null,"C3",{"$f":"IF('Gas Balance'!BI211=\"ON\", 100*BR201/$BP$208, \"NA\")","v":"NA"},{"$f":"(0.3/94.8)*(BD201-BK195)","v":0},null,null,null,null,null,null,null,null,null,null,null,null,null,null,null,null,null,null,null,null,null,null,null,null,null,null,null,null,null,null,null,null,null,null,null,null,null,null,{"$f":"DE198*1000000/'Active Field'!J63","v":0},"scf/bbl"]
[null,null,null,null,null,null,null,null,null,null,null,null,null,null,null,null,null,null,null,null,null,null,null,null,null,null,null,null,null,null,null,null,null,null,null,null,null,null,null,null,null,null,null,null,null,null,null,null,null,null,null,null,null,"C4",{"$f":"IF('Gas Balance'!BI211=\"ON\", 100*BD202/$BB$208, \"NA\")","v":"NA"},{"$f":"IF(BI211=\"ON\", AO45-AV23, 0)","v":0},null,null,null,null,null,null,null,null,null,null,null,"C4",{"$f":"IF('Gas Balance'!BI211=\"ON\", 100*BR202/$BP$208, \"NA\")","v":"NA"},{"$f":"0","v":0}]
[null,null,null,null,null,null,null,null,null,null,null,null,null,null,null,null,null,null,null,null,null,null,null,null,null,null,null,null,null,null,null,null,null,null,null,null,null,null,null,null,null,null,null,null,null,null,null,null,null,null,null,null,null,"H2S",{"$f":"IF('Gas Balance'!BI211=\"ON\", 100*BD203/$BB$208, \"NA\")","v":"NA"},{"$f":"IF(BI211=\"ON\", AO46-AV24, 0)","v":0},null,null,null,null,null,null,null,null,null,null,null,"H2S",{"$f":"IF('Gas Balance'!BI211=\"ON\", 100*BR203/$BP$208, \"NA\")","v":"NA"},0]
[null,null,null,null,null,null,null,null,null,null,null,null,null,null,null,null,null,null,null,null,null,null,null,null,null,null,null,null,null,null,null,null,null,null,null,null,null,null,null,null,null,null,null,null,null,null,null,"CO2 EOR via Ryan-Holmes",null,null,null,null,null,"Total",{"$f":"IF('Gas Balance'!BI211=\"ON\", SUM(BC197:BC203), \"NA\")","v":"NA"},{"$f":"SUM(BD197:BD203)","v":0},null,null,null,null,null,null,null,null,null,null,null,"Total",{"$f":"IF('Gas Balance'!BI211=\"ON\", SUM(BQ197:BQ203), \"NA\")","v":"NA"},{"$f":"SUM(BR197:BR203)","v":0}]
[null,null,null,null,null,null,null,null,null,null,null,null,null,null,null,null,null,null,null,null,null,null,null,null,null,null,null,null,null,null,null,null,null,null,null,null,null,null,null,null,null,null,null,null,null,null,null,"Gas processing path 8",null,null,null,null,null,"Temp","-","◦F",null,null,null,null,null,null,null,null,null,null,null,"Temp","-","◦F"]
[null,null,null,null,null,null,null,null,null,null,null,null,null,null,null,null,null,null,null,null,null,null,null,null,null,null,null,null,null,null,null,null,null,null,null,null,null,null,null,null,null,null,null,null,null,null,null,null,null,null,null,null,null,"Pressure","-","psia",null,null,null,null,null,null,null,null,null,null,null,"Pressure","-","psia"]
[null,null,null,null,null,null,null,null,null,null,null,null,null,null,null,null,null,null,null,null,null,null,null,null,null,null,null,null,null,null,null,null,null,null,null,null,null,null,null,null,null,null,null,null,null,null,null,null,null,null,null,null,null,"Gas to Ryan Holmes Process",null,null,null,null,null,null,null,null,null,null,null,null,null,"Post-Ryan-Holmes CO2 Stream to Reinjection into Reservoir"]
[null,null,null,null,null,null,null,null,null,null,null,null,null,null,null,null,null,null,null,null,null,null,null,null,null,null,null,null,null,null,null,null,null,null,null,null,null,null,null,null,null,null,null,null,null,null,null,null,null,null,null,null,null,{"$f":"BD204","v":0},"MMscf/d",null,null,null,null,null,null,null,null,null,null,null,null,{"$f":"BR204","v":0},"MMscf/d"]
[null,null,null,null,null,null,null,null,null,null,null,null,null,null,null,null,null,null,null,null,null,null,null,null,null,null,null,null,null,null,null,null,null,null,null,null,null,null,null,null,null,null,null,null,null,null,null,null,null,null,null,null,null,null,null,null,null,null,null,null,null,"Ryan Holmes Process",null,null,null,null,null,null,null,null,null,null,null,null,null,null,null,null,null,null,null,null,null,null,null,null,null,null,null,null,null,null,null,null,null,null,null,null,null,null,null,null,null,null,null,null,null,"Fresh CO2"]
[null,null,null,null,null,null,null,null,null,null,null,null,null,null,null,null,null,null,null,null,null,null,null,null,null,null,null,null,null,null,null,null,null,null,null,null,null,null,null,null,null,null,null,null,null,null,null,null,null,null,null,null,null,null,null,null,null,null,null,null,null,"(Demethanizer included)"]
[null,null,null,null,null,null,null,null,null,null,null,null,null,null,null,null,null,null,null,null,null,null,null,null,null,null,null,null,null,null,null,null,null,null,null,null,null,null,null,null,null,null,null,null,null,null,null,null,null,null,null,null,null,null,null,null,null,null,null,null,{"$f":"IF('Active Field'!J116=8,\"ON\", \"OFF\")","v":"OFF"}]
[]
[]
[]
[]
[]
[]
[]
[]
[]
[null,null,null,null,null,null,null,null,null,null,null,null,null,null,null,null,null,null,null,null,null,null,null,null,null,null,null,null,null,null,null,null,null,null,null,null,null,null,null,null,null,null,null,null,null,null,null,null,null,null,null,null,"Table 1.30: Pipeline Quality Gas Composition",null,null,null,null,null,null,null,null,null,null,null,"Table 1.31: Post-Ryan-Holmes Demethanizer Heavy Product"]
[null,null,null,null,null,null,null,null,null,null,null,null,null,null,null,null,null,null,null,null,null,null,null,null,null,null,null,null,null,null,null,null,null,null,null,null,null,null,null,null,null,null,null,null,null,null,null,null,null,null,null,null,"Comp.","mol%","Vol","Mixture MW","Component MW","HHV","LHV",null,null,null,null,null,"Comp.","mol%","Vol","HHV","LHV"]
[null,null,null,null,null,null,null,null,null,null,null,null,null,null,null,null,null,null,null,null,null,null,null,null,null,null,null,null,null,null,null,null,null,null,null,null,null,null,null,null,null,null,null,null,null,null,null,null,null,null,null,null,{"$f":"\"--\"","v":"--"},{"$f":"\"--\"","v":"--"},"MMscf/d","lb/lbmol","lb/lbmol","Btu/scf","Btu/scf",null,null,null,null,null,{"$f":"\"--\"","v":"--"},{"$f":"\"--\"","v":"--"},"MMscf/d","Btu/scf","Btu/scf"]
[null,null,null,null,null,null,null,null,null,null,null,null,null,null,null,null,null,null,null,null,null,null,null,null,null,null,null,null,null,null,null,null,null,null,null,null,null,null,null,null,null,null,null,null,null,null,null,null,null,null,null,null,"N2",{"$f":"IF('Gas Balance'!BI211=\"ON\", 100*BC224/$BA$236, \"NA\")","v":"NA"},{"$f":"BD197","v":0},{"$f":"IF('Gas Balance'!BI211=\"ON\", BE224*BB224/100, \"NA\")","v":"NA"},{"$f":"'Fuel Specs'!$E$151","v":28},{"$f":"'Fuel Specs'!G131","v":0},{"$f":"'Fuel Specs'!H131","v":0},null,null,null,null,null,"CO2",{"$f":"IF('Gas Balance'!BI211=\"ON\", 100*BO224/$BM$232, \"NA\")","v":"NA"},{"$f":"IF('Gas Balance'!BI211=\"ON\", (20/793.3)*(BD198-BK192), 0)","v":0},0,0]
[null,null,null,null,null,null,null,null,null,null,null,null,null,null,null,null,null,null,null,null,null,null,null,null,null,null,null,null,null,null,null,null,null,null,null,null,null,null,null,null,null,null,null,null,null,null,null,null,null,null,null,null,"CO2",{"$f":"IF('Gas Balance'!BI211=\"ON\", 100*BC225/$BA$236, \"NA\")","v":"NA"},{"$f":"(4.2/793.3)*(BD198-BK192)","v":0},{"$f":"IF('Gas Balance'!BI211=\"ON\", BE225*BB225/100, \"NA\")","v":"NA"},{"$f":"'Fuel Specs'!$E$153","v":44},{"$f":"'Fuel Specs'!G133","v":0},{"$f":"'Fuel Specs'!H133","v":0},null,null,null,null,null,"C2",{"$f":"IF('Gas Balance'!BI211=\"ON\", 100*BO225/$BM$232, \"NA\")","v":"NA"},{"$f":"IF('Gas Balance'!BI211=\"ON\", (102.9/110.9)*(BD200-BK194), 0)","v":0},{"$f":"'Fuel Specs'!G136","v":1792},{"$f":"'Fuel Specs'!H136","v":1641}]
[null,null,null,null,null,null,null,null,null,null,null,null,null,null,null,null,null,null,null,null,null,null,null,null,null,null,null,null,null,null,null,null,null,null,null,null,null,null,null,null,null,null,null,null,null,null,null,null,null,null,null,null,"C1",{"$f":"IF('Gas Balance'!BI211=\"ON\", 100*BC226/$BA$236, \"NA\")","v":"NA"},{"$f":"(199.2/214.2)*(BD199-BK193)","v":0},{"$f":"IF('Gas Balance'!BI211=\"ON\", BE226*BB226/100, \"NA\")","v":"NA"},{"$f":"'Fuel Specs'!$E$155","v":16},{"$f":"'Fuel Specs'!G135","v":1013},{"$f":"'Fuel Specs'!H135","v":913},null,null,null,null,null,"C3",{"$f":"IF('Gas Balance'!BI211=\"ON\", 100*BO226/$BM$232, \"NA\")","v":"NA"},{"$f":"IF('Gas Balance'!BI211=\"ON\", (94.4/94.8)*(BD201-BK195), 0)","v":0},{"$f":"'Fuel Specs'!G137","v":2590},{"$f":"'Fuel Specs'!H137","v":2385}]
[null,null,null,null,null,null,null,null,null,null,null,null,null,null,null,null,null,null,null,null,null,null,null,null,null,null,null,null,null,null,null,null,null,null,null,null,null,null,null,null,null,null,null,null,null,null,null,null,null,null,null,null,"C2",{"$f":"IF('Gas Balance'!BI211=\"ON\", 100*BC227/$BA$236, \"NA\")","v":"NA"},{"$f":"0","v":0},{"$f":"IF('Gas Balance'!BI211=\"ON\", BE227*BB227/100, \"NA\")","v":"NA"},{"$f":"'Fuel Specs'!$E$156","v":30},{"$f":"'Fuel Specs'!G136","v":1792},{"$f":"'Fuel Specs'!H136","v":1641},null,null,null,null,null,"C4",{"$f":"IF('Gas Balance'!BI211=\"ON\", 100*BO227/$BM$232, \"NA\")","v":"NA"},{"$f":"IF('Gas Balance'!BI211=\"ON\", (116.1/116.8)*(BD202-BK196), 0)","v":0},{"$f":"'Fuel Specs'!G138","v":3370},{"$f":"'Fuel Specs'!H138","v":3113}]
[null,null,null,null,null,null,null,null,null,null,null,null,null,null,null,null,null,null,null,null,null,null,null,null,null,null,null,null,null,null,null,null,null,null,null,null,null,null,null,null,null,null,null,null,null,null,null,null,null,null,null,null,"C3",{"$f":"IF('Gas Balance'!BI211=\"ON\", 100*BC228/$BA$236, \"NA\")","v":"NA"},{"$f":"0","v":0},{"$f":"IF('Gas Balance'!BI211=\"ON\", BE228*BB228/100, \"NA\")","v":"NA"},{"$f":"'Fuel Specs'!$E$157","v":44},{"$f":"'Fuel Specs'!G137","v":2590},{"$f":"'Fuel Specs'!H137","v":2385},null,null,null,null,null,"Total",{"$f":"IF('Gas Balance'!BI211=\"ON\", SUM(BN225:BN227), \"NA\")","v":"NA"},{"$f":"SUM(BO225:BO227)","v":0}]
[null,null,null,null,null,null,null,null,null,null,null,null,null,null,null,null,null,null,null,null,null,null,null,null,null,null,null,null,null,null,null,null,null,null,null,null,null,null,null,null,null,null,null,null,null,null,null,null,null,null,null,null,"C4",{"$f":"IF('Gas Balance'!BI211=\"ON\", 100*BC229/$BA$236, \"NA\")","v":"NA"},0,{"$f":"IF('Gas Balance'!BI211=\"ON\", BE229*BB229/100, \"NA\")","v":"NA"},{"$f":"'Fuel Specs'!$E$158","v":58},{"$f":"'Fuel Specs'!G138","v":3370},{"$f":"'Fuel Specs'!H138","v":3113},null,null,null,null,null,"HHV",{"$f":"SUMPRODUCT(BO225:BO227,BP225:BP227)","v":0},"MMBtu/d"]
[null,null,null,null,null,null,null,null,null,null,null,null,null,null,null,null,null,null,null,null,null,null,null,null,null,null,null,null,null,null,null,null,null,null,null,null,null,null,null,null,null,null,null,null,null,null,null,null,null,null,null,null,"H2S",{"$f":"IF('Gas Balance'!BI211=\"ON\", 100*BC230/$BA$236, \"NA\")","v":"NA"},0,{"$f":"IF('Gas Balance'!BI211=\"ON\", BE230*BB230/100, \"NA\")","v":"NA"},{"$f":"'Fuel Specs'!$E$161","v":34},{"$f":"'Fuel Specs'!G141","v":640},{"$f":"'Fuel Specs'!H141","v":594},null,null,null,null,null,"LHV",{"$f":"SUMPRODUCT(BO225:BO227,BQ225:BQ227)","v":0},"MMBtu/d"]
[null,null,null,null,null,null,null,null,null,null,null,null,null,null,null,null,null,null,null,null,null,null,null,null,null,null,null,null,null,null,null,null,null,null,null,null,null,null,null,null,null,null,null,null,null,null,null,null,null,null,null,null,"Total",{"$f":"IF('Gas Balance'!BI211=\"ON\", SUM(BB224:BB230), \"NA\")","v":"NA"},{"$f":"SUM(BC224:BC230)","v":0},{"$f":"IF('Gas Balance'!BI211=\"ON\", SUM(BD224:BD230), \"NA\")","v":"NA"},{"$f":"\"--\"","v":"--"},{"$f":"\"--\"","v":"--"},{"$f":"\"--\"","v":"--"},null,null,null,null,null,"Ryan-Holmes Demethanizer Heavy Product Volume"]
[null,null,null,null,null,null,null,null,null,null,null,null,null,null,null,null,null,null,null,null,null,null,null,null,null,null,null,null,null,null,null,null,null,null,null,null,null,null,null,null,null,null,null,null,null,null,null,null,null,null,null,null,"Specific gravity",{"$f":"IF('Gas Balance'!BI211=\"ON\", (14.7*BD231)/(10.73*(60+460))/0.0764, \"NA\")","v":"NA"},"Dimensionless",null,null,null,null,null,null,null,null,null,{"$f":"BO228","v":0},"MMscf/d"]
[null,null,null,null,null,null,null,null,null,null,null,null,null,null,null,null,null,null,null,null,null,null,null,null,null,null,null,null,null,null,null,null,null,null,null,null,null,null,null,null,null,null,null,null,null,null,null,null,null,null,null,null,"HHV",{"$f":"SUMPRODUCT(BC224:BC230,BF224:BF230)","v":0},"MMBtu/d"]
[null,null,null,null,null,null,null,null,null,null,null,null,null,null,null,null,null,null,null,null,null,null,null,null,null,null,null,null,null,null,null,null,null,null,null,null,null,null,null,null,null,null,null,null,null,null,null,null,null,null,null,null,"LHV",{"$f":"SUMPRODUCT(BC224:BC230,BG224:BG230)","v":0},"MMBtu/d"]
[null,null,null,null,null,null,null,null,null,null,null,null,null,null,null,null,null,null,null,null,null,null,null,null,null,null,null,null,null,null,null,null,null,null,null,null,null,null,null,null,null,null,null,null,null,null,null,null,null,null,null,null,"Post-Ryan-Holmes Pipeline Quality Gas"]
[null,null,null,null,null,null,null,null,null,null,null,null,null,null,null,null,null,null,null,null,null,null,null,null,null,null,null,null,null,null,null,null,null,null,null,null,null,null,null,null,null,null,null,null,null,null,null,null,null,null,null,null,{"$f":"BC231","v":0},"MMscf/d"]
[]
[]
[null,null,null,null,null,null,null,null,null,null,null,null,null,null,null,null,null,null,null,null,null,null,null,null,null,null,null,null,null,null,null,null,null,null,null,null,null,null,null,null,null,null,null,null,null,null,null,null,null,null,null,null,null,null,null,null,null,null,null,null,null,null,null,null,null,null,null,null,null,null,null,null,null,null,null,null,null,null,null,null,"Lifting Gas"]
[null,null,null,null,null,null,null,null,null,null,null,null,null,null,null,null,null,null,null,null,null,null,null,null,null,null,null,null,null,null,null,null,null,null,null,null,null,null,null,null,null,null,null,null,null,null,null,null,null,null,null,null,null,null,null,null,null,null,null,null,null,null,null,null,null,null,null,null,null,null,null,null,null,null,null,null,null,null,null,null,{"$f":"IF(AND(BI211=\"ON\", 'Production & Extraction'!M18=1),'Production & Extraction'!M229/1000,0)","v":0},"MMscf/d"]
[null,null,null,null,null,null,null,null,null,null,null,null,null,null,null,null,null,null,null,null,null,null,null,null,null,null,null,null,null,null,null,null,null,null,null,null,null,null,null,null,null,null,null,null,null,null,null,null,null,null,null,null,null,null,null,null,null,null,null,null,null,null,null,null,null,null,null,null,null,null,null,null,null,null,null,null,null,null,null,null,null,null,null,null,null,null,null,null,null,null,null,null,null,null,null,null,null,null,null,null,null,null,{"$f":"IF('Surface Processing'!M207=7,  IF('Production & Extraction'!M86=1, IF(BA236<CC240,\"ERROR\", \"OK\")), \"OK\")","v":"OK"}]
[]
[]
[null,null,null,null,null,null,null,null,null,null,null,null,null,null,null,null,null,null,null,null,null,null,null,null,null,null,null,null,null,null,null,null,null,null,null,null,null,null,null,null,null,null,null,null,null,null,null,null,null,null,null,null,null,null,null,null,null,null,null,null,null,null,null,null,null,null,null,null,null,null,null,null,null,null,null,null,null,null,null,null,null,null,null,null,null,null,null,null,null,null,null,null,null,null,null,null,null,null,null,"Fuel gas consumed"]
[null,null,null,null,null,null,null,null,null,null,null,null,null,null,null,null,null,null,null,null,null,null,null,null,null,null,null,null,null,null,null,null,null,null,null,null,null,null,null,null,null,null,null,null,null,null,null,null,null,null,null,null,null,null,null,null,null,null,null,null,null,null,null,null,null,null,null,null,null,null,null,null,null,null,null,null,null,null,null,null,null,null,null,null,null,null,null,null,null,null,null,null,null,null,null,null,null,null,null,{"$f":"IF(BI211=\"ON\", 'Energy Consumption'!E23/'Fuel Specs'!B302*8.3144621*(273.15+15.5556)/101325 *(3.2808398950131)^3, 0)","v":0},"MMscf/d"]
[null,null,null,null,null,null,null,null,null,null,null,null,null,null,null,null,null,null,null,null,null,null,null,null,null,null,null,null,null,null,null,null,null,null,null,null,null,null,null,null,null,null,null,null,null,null,null,null,null,null,null,null,null,null,null,null,null,null,null,null,null,null,null,null,null,null,null,null,null,null,null,null,null,null,null,null,null,null,null,null,null,null,null,null,null,null,null,null,null,null,null,null,null,null,null,null,null,null,null,null,null,null,{"$f":"IF('Active Field'!J116=7, IF(CC249-CV245-EY119<-0.01, \"WARNING\", \"OK\"), \"OK\")","v":"OK"}]
[]
[null,null,null,null,null,null,null,null,null,null,null,null,null,null,null,null,null,null,null,null,null,null,null,null,null,null,null,null,null,null,null,null,null,null,null,null,null,null,null,null,null,null,null,null,null,null,null,null,null,null,null,null,null,null,null,null,null,null,null,null,null,null,null,null,null,null,null,null,null,null,null,null,null,null,null,null,null,null,null,null,"Remaining gas (Fuel gas consumed + exports)",null,null,null,null,null,null,null,null,"Fuel gas consumed + exports"]
[null,null,null,null,null,null,null,null,null,null,null,null,null,null,null,null,null,null,null,null,null,null,null,null,null,null,null,null,null,null,null,null,null,null,null,null,null,null,null,null,null,null,null,null,null,null,null,null,null,null,null,null,null,null,null,null,null,null,null,null,null,null,null,null,null,null,null,null,null,null,null,null,null,null,null,null,null,null,null,null,{"$f":"IF(BI211=\"ON\", BA236-CC240, 0)","v":0},"MMscf/d",null,null,null,null,null,null,null,{"$f":"IF(BI211=\"ON\", CC249-CL269, 0)","v":0},"MMscf/d"]
[]
[]
[]
[null,null,null,null,null,null,null,null,null,null,null,null,null,null,null,null,null,null,null,null,null,null,null,null,null,null,null,null,null,null,null,null,null,null,null,null,null,null,null,null,null,null,null,null,null,null,null,null,null,null,null,null,null,null,null,null,null,null,null,null,null,null,null,null,null,null,null,null,null,null,null,null,null,null,null,null,null,null,null,null,null,null,null,null,null,null,null,null,null,null,null,null,null,null,null,null,null,null,null,"Exports"]
[null,null,null,null,null,null,null,null,null,null,null,null,null,null,null,null,null,null,null,null,null,null,null,null,null,null,null,null,null,null,null,null,null,null,null,null,null,null,null,null,null,null,null,null,null,null,null,null,null,null,null,null,null,null,null,null,null,null,null,null,null,null,null,null,null,null,null,null,null,null,null,null,null,null,null,null,null,null,null,null,null,null,null,null,null,null,null,null,null,null,null,null,null,null,null,null,null,null,null,{"$f":"IF(BI211=\"ON\", CL249-CV245, 0)","v":0},"MMscf/d"]
[]
[]
[]
[]
[]
[]
[]
[]
[]
[]
[]
[]
[]
[null,null,null,null,null,null,null,null,null,null,null,null,null,null,null,null,null,null,null,null,null,null,null,null,null,null,null,null,null,null,null,null,null,null,null,null,null,null,null,null,null,null,null,null,null,null,null,null,null,null,null,null,null,null,null,null,null,null,null,null,null,null,null,null,null,null,null,null,null,null,null,null,null,null,null,null,null,null,null,null,null,null,null,null,null,null,null,null,null,"Reinjection (Natural Gas)"]
[null,null,null,null,null,null,null,null,null,null,null,null,null,null,null,null,null,null,null,null,null,null,null,null,null,null,null,null,null,null,null,null,null,null,null,null,null,null,null,null,null,null,null,null,null,null,null,null,null,null,null,null,null,null,null,null,null,null,null,null,null,null,null,null,null,null,null,null,null,null,null,null,null,null,null,null,null,null,null,null,null,null,null,null,null,null,null,null,null,{"$f":"IF(BI211=\"ON\", CC249*'Production & Extraction'!M47/100, 0)","v":0},"MMscf/d"]

{"sheet":"Venting & Fugitives","index":16,"n_rows":388,"n_cols":42,"rows_kept":388,"cut":false,"hidden":false,"merged":[]}
["Supplemental Worksheet: Venting and Fugitives",null,null,null,null,null,null,"Active field:",null,{"$f":"'Active Field'!C9","v":"Generic"}]
[]
["This supplemental worksheet calculates venting and fugitives emissions"]
[]
["1   Input assumptions"]
[]
[null,null,null,null,null,null,null,null,null,null,null,null,"Value","Default","Unit",null,"Default reference",null,null,null,"User Reference",null,null,"Notes"]
["1.1   Venting"]
[null,"1.1.1   Vented emissions of associated gas (substitute for flaring)",null,null,null,null,null,null,null,null,null,null,{"$f":"('Active Field'!J126/1000000)*'Production & Extraction'!M26","v":0},{"$f":"('Active Field'!K126/1000000)*'Production & Extraction'!N26","v":0},"MMscf/d",null,null,null,null,null,null,null,null,"Assumed zero unless reported otherwise by the operator"]
[null,"1.1.2   Vented emissions of gas dehydrator"]
[null,null,"1.1.2.1   Volume of gas dehydrator",null,null,null,null,null,null,null,null,null,{"$f":"IF('Gas Balance'!AT38=\"ON\", 'Gas Balance'!AM51*365, 0)","v":403.31675740775177},{"$f":"'Gas Balance'!AM51*365","v":403.31675740775177},"MMscf/yr",null,"From gas balance"]
[null,null,"1.1.2.3  Emission factors"]
[null,null,null,"1.1.2.3.1   CO2",null,null,null,null,null,null,null,null,{"$f":"N13","v":1.4799999999999999E-4},{"$f":"'Emissions Factors'!G67/1000000","v":1.4799999999999999E-4},"t/MMscf"]
[null,null,null,"1.1.2.3.2   CH4",null,null,null,null,null,null,null,null,{"$f":"N14","v":1.3677E-2},{"$f":"'Emissions Factors'!H67/1000000","v":1.3677E-2},"t/MMscf"]
[]
[null,"1.1.3   Vented CO2 emissions of gas AGR unit",null,null,null,null,null,null,null,null,null,null,{"$f":"IF('Gas Balance'!BH38=\"ON\", 'Gas Balance'!BJ19, 'Gas Balance'!CZ103)","v":6.619125444715597E-2},{"$f":"M16","v":6.619125444715597E-2},"MMscf/d",null,"From gas balance",null,null,null,null,null,null,"Only amine treater is assumed. No replacement of solid materials."]
[null,"1.1.4   Vented emissions of well workovers and cleanups"]
[null,null,"1.1.4.1   Workovers"]
[null,null,null,"1.1.4.1.1   Number of associated workovers per year",null,null,null,null,null,null,null,null,{"$f":"N19","v":21},{"$f":"ROUND((IF('Active Field'!J73<10,0,IF(AND('Active Field'!J73>=10,'Active Field'!J73<20),12889/156304520,IF(AND('Active Field'!J73>=20,'Active Field'!J73<30),5424/61524698,599/15649398)))*'Production & Extraction'!M26*365),0)","v":21},"Event/yr",null,"ARB (2007), Tables 2-3 and 4-8"]
[null,null,null,"1.1.4.1.2   Emission factors"]
[null,null,null,null,"1.1.4.1.2.1   CO2",null,null,null,null,null,null,null,{"$f":"N21","v":1.5025041736227046E-2},{"$f":"IF('Active Field'!J73<10,'Emissions Factors'!G51,IF(AND('Active Field'!J73>=10,'Active Field'!J73<20),'Emissions Factors'!G52,IF(AND('Active Field'!J73>=20,'Active Field'!J73<30),'Emissions Factors'!G53,'Emissions Factors'!G54)))/1000000","v":1.5025041736227046E-2},"t/Event"]
[null,null,null,null,"1.1.4.1.2.2   CH4",null,null,null,null,null,null,null,{"$f":"N22","v":0.10851419031719534},{"$f":"IF('Active Field'!J73<10,'Emissions Factors'!H51,IF(AND('Active Field'!J73>=10,'Active Field'!J73<20),'Emissions Factors'!H52,IF(AND('Active Field'!J73>=20,'Active Field'!J73<30),'Emissions Factors'!H53,'Emissions Factors'!H54)))/1000000","v":0.10851419031719534},"t/Event"]
[null,null,"1.1.4.2   Cleanups"]
[null,null,null,"1.1.4.2.1   Number of associated cleanups per year",null,null,null,null,null,null,null,null,{"$f":"N24","v":7},{"$f":"ROUND((IF('Active Field'!J73<10,0,IF(AND('Active Field'!J73>=10,'Active Field'!J73<20),956/156304520,IF(AND('Active Field'!J73>=20,'Active Field'!J73<30),1977/61524698,187/15649398)))*'Production & Extraction'!M26*365),0)","v":7},"Event/yr",null,"ARB (2007), Tables 2-3 and 4-10"]
[null,null,null,"1.1.4.2.2   Emission factors"]
[null,null,null,null,"1.1.4.2.2.1   CO2",null,null,null,null,null,null,null,{"$f":"N26","v":1.60427807486631E-2},{"$f":"IF('Active Field'!J73<10,'Emissions Factors'!G56,IF(AND('Active Field'!J73>=10,'Active Field'!J73<20),'Emissions Factors'!G57,IF(AND('Active Field'!J73>=20,'Active Field'!J73<30),'Emissions Factors'!G58,'Emissions Factors'!G59)))/1000000","v":1.60427807486631E-2},"t/Event"]
[null,null,null,null,"1.1.4.2.2.2   CH4",null,null,null,null,null,null,null,{"$f":"N27","v":0.11229946524064172},{"$f":"IF('Active Field'!J73<10,'Emissions Factors'!H56,IF(AND('Active Field'!J73>=10,'Active Field'!J73<20),'Emissions Factors'!H57,IF(AND('Active Field'!J73>=20,'Active Field'!J73<30),'Emissions Factors'!H58,'Emissions Factors'!H59)))/1000000","v":0.11229946524064172},"t/Event"]
[null,"1.1.5   Vented emissions of compressors"]
[null,null,"1.1.5.1   Startups"]
[null,null,null,"1.1.5.1.1   Number of associated compressors",null,null,null,null,null,null,null,null,{"$f":"N30","v":1.1316269464119071},{"$f":"IF('Active Field'!J116=6, F352*('Gas Balance'!G53-'Gas Balance'!O26-'Gas Balance'!W25)*365*1000 + 1, F352*('Gas Balance'!G53-'Gas Balance'!O26-'Gas Balance'!W25)*365*1000)","v":1.1316269464119071},"unit",null,"ARB (2013), Tables 2-5 and 15-1"]
[null,null,null,"1.1.5.1.2   Emission factors"]
[null,null,null,null,"1.1.5.1.2.1   CO2",null,null,null,null,null,null,null,{"$f":"N32","v":3.7348272642390287E-3},{"$f":"'Emissions Factors'!G61/1000000","v":3.7348272642390287E-3},"t/unit-yr"]
[null,null,null,null,"1.1.5.1.2.2   CH4",null,null,null,null,null,null,null,{"$f":"N33","v":6.4425770308123242E-2},{"$f":"'Emissions Factors'!H61/1000000","v":6.4425770308123242E-2},"t/unit-yr"]
[null,null,"1.1.5.2   Blowdowns"]
[null,null,null,"1.1.5.2.1   Number of associated compressors",null,null,null,null,null,null,null,null,{"$f":"N35","v":1.1316269464119071},{"$f":"N30","v":1.1316269464119071},"unit",null,"ARB (2013), Tables 2-5 and 15-1"]
[null,null,null,"1.1.5.2.2   Emission factors"]
[null,null,null,null,"1.1.5.2.2.1   CO2",null,null,null,null,null,null,null,{"$f":"N37","v":0.16059757236227823},{"$f":"'Emissions Factors'!G62/1000000","v":0.16059757236227823},"t/unit-yr"]
[null,null,null,null,"1.1.5.2.2.2   CH4",null,null,null,null,null,null,null,{"$f":"N38","v":3.0233426704014938},{"$f":"'Emissions Factors'!H62/1000000","v":3.0233426704014938},"t/unit-yr"]
[null,"1.1.6   Vented emissions of gathering pipelines"]
[null,null,"1.1.6.1   Maintenance"]
[null,null,null,"1.1.6.1.1   Pipeline miles",null,null,null,null,null,null,null,null,{"$f":"N41","v":2.8486718878698021},{"$f":"((0.75*1124+321+54)/234093299)*'Production & Extraction'!M26*365","v":2.8486718878698021},"mile",null,"ARB (2007), Tables 2-3 and 16-1"]
[null,null,null,"1.1.6.1.2   Emission factors"]
[null,null,null,null,"1.1.6.1.2.1   CO2",null,null,null,null,null,null,null,{"$f":"N43","v":1.1586056644880174},{"$f":"'Emissions Factors'!G64/1000000","v":1.1586056644880174},"t/mile-yr"]
[null,null,null,null,"1.1.6.1.2.2   CH4",null,null,null,null,null,null,null,{"$f":"N44","v":1.0849673202614378},{"$f":"'Emissions Factors'!H64/1000000","v":1.0849673202614378},"t/mile-yr"]
[null,null,"1.1.6.2   Pigging"]
[null,null,null,"1.1.6.2.1   Number of associated openings",null,null,null,null,null,null,null,null,{"$f":"N46","v":1.9884571749317779},{"$f":"(0.6*1417/234093299)*'Production & Extraction'!M26*365","v":1.9884571749317779},"Event",null,"ARB (2007), Tables 2-3 and 16-3",null,null,null,null,null,null,"Low number events and units are not rounded"]
[null,null,null,"1.1.6.2.2   Emission factors"]
[null,null,null,null,"1.1.6.2.2.1   CO2",null,null,null,null,null,null,null,{"$f":"N48","v":7.3394495412844027E-2},{"$f":"'Emissions Factors'!G65/1000000","v":7.3394495412844027E-2},"t/Event"]
[null,null,null,null,"1.1.6.2.2.2   CH4",null,null,null,null,null,null,null,{"$f":"N49","v":3.5285815102328866E-3},{"$f":"'Emissions Factors'!H65/1000000","v":3.5285815102328866E-3},"t/Event"]
[null,"1.1.7   Vented emissons of pneumatic devices"]
[null,null,"1.1.7.1   Low-bleed pnematic device count",null,null,null,null,null,null,null,null,null,{"$f":"N51","v":78.062324167107349},{"$f":"N368*'Active Field'!J63","v":78.062324167107349},"units"]
[null,null,"1.1.7.2   High-bleed pneumatic device count",null,null,null,null,null,null,null,null,null,{"$f":"N52","v":42.033581438392382},{"$f":"N367*'Active Field'!J63","v":42.033581438392382},"units"]
[null,null,"1.1.7.3   Emissions factors"]
[null,null,null,"1.1.7.3.1   Low-bleed pneumatic device EF"]
[null,null,null,null,"1.1.7.3.1.1   CO2",null,null,null,null,null,null,null,{"$f":"N55","v":2.0274905964993033E-2},{"$f":"'Emissions Factors'!G73/1000000","v":2.0274905964993033E-2},"t/unit-yr"]
[null,null,null,null,"1.1.7.3.1.2   CH4",null,null,null,null,null,null,null,{"$f":"N56","v":0.36466834292401362},{"$f":"'Emissions Factors'!H73/1000000","v":0.36466834292401362},"t/unit-yr"]
[null,null,null,"1.1.7.3.2   High-bleed pnematic device EF"]
[null,null,null,null,"1.1.7.3.2.1   CO2",null,null,null,null,null,null,null,{"$f":"N58","v":0.12937320949090791},{"$f":"'Emissions Factors'!G74/1000000","v":0.12937320949090791},"t/unit-yr"]
[null,null,null,null,"1.1.7.3.2.2   CH4",null,null,null,null,null,null,null,{"$f":"N59","v":2.3142414070177786},{"$f":"'Emissions Factors'!H74/1000000","v":2.3142414070177786},"t/unit-yr"]
[null,"1.1.8   Vented emissions from pneumatic chemical injection pumps"]
[null,null,"1.1.8.1   Pneumatic chemical injection pumps count",null,null,null,null,null,null,null,null,null,{"$f":"N61","v":8.3100713907985195},{"$f":"M382*'Active Field'!J63","v":8.3100713907985195},"units"]
[null,null,"1.1.8.2   Emissions factors"]
[null,null,null,"1.1.8.2.1   CO2",null,null,null,null,null,null,null,null,{"$f":"N63","v":9.7184382592199928E-2},{"$f":"'Emissions Factors'!G75/1000000","v":9.7184382592199928E-2},"t/unit-yr"]
[null,null,null,"1.1.8.2.2   CH4",null,null,null,null,null,null,null,null,{"$f":"N64","v":1.7391874816376034},{"$f":"'Emissions Factors'!H75/1000000","v":1.7391874816376034},"t/unit-yr"]
[null,"1.1.9   Vented emissions from Ryan-Holmes process"]
[null,null,"1.1.9.1   Volume of Ryan-Holmes process",null,null,null,null,null,null,null,null,null,{"$f":"N66","v":0},{"$f":"'Gas Balance'!BB208*365","v":0},"MMscf/yr",null,"From gas balance"]
[null,null,"1.1.9.2   Emissions factors"]
[null,null,null,"1.1.9.2.1   VOC",null,null,null,null,null,null,null,null,{"$f":"N68","v":1897.2179452054795},{"$f":"'Emissions Factors'!I76","v":1897.2179452054795},"g/MMscf",null,"From Emissions Factors sheet"]
["1.2   Fugitives"]
[null,"1.2.1   Fugitive emissions of active wells"]
[null,null,"1.2.1.1   Number of associated active wells",null,null,null,null,null,null,null,null,null,{"$f":"'Active Field'!J64","v":8},{"$f":"'Active Field'!K64","v":8},"unit",null,"ARB (2007), Tables 2-3 and 4-5"]
[null,null,"1.2.1.2   Emission factors"]
[null,null,null,"1.2.1.2.2.1   CO2",null,null,null,null,null,null,null,null,{"$f":"N73","v":1.436130007558579E-2},{"$f":"IF('Active Field'!$J$73<10,'Emissions Factors'!G86,IF(AND('Active Field'!$J$73>=10,'Active Field'!$J$73<20),'Emissions Factors'!G87,IF(AND('Active Field'!$J$73>=20,'Active Field'!$J$73<30),'Emissions Factors'!G88,'Emissions Factors'!G89)))/1000000","v":1.436130007558579E-2},"t/unit-yr"]
[null,null,null,"1.2.1.2.2.2   CH4",null,null,null,null,null,null,null,null,{"$f":"N74","v":0.10506424792139078},{"$f":"IF('Active Field'!$J$73<10,'Emissions Factors'!H86,IF(AND('Active Field'!$J$73>=10,'Active Field'!$J$73<20),'Emissions Factors'!H87,IF(AND('Active Field'!$J$73>=20,'Active Field'!$J$73<30),'Emissions Factors'!H88,'Emissions Factors'!H89)))/1000000","v":0.10506424792139078},"t/unit-yr"]
[null,"1.2.2   Fugitive emissions of well cellars"]
[null,null,"1.2.2.1   Number of associated well cellars",null,null,null,null,null,null,null,null,null,{"$f":"M71","v":8},{"$f":"N71","v":8},"unit",null,"ARB (2007), Tables 2-3 and 4-7"]
[null,null,"1.2.2.2   Emission factors"]
[null,null,null,"1.2.2.2.1   CO2",null,null,null,null,null,null,null,null,{"$f":"N78","v":0},0,"t/unit-yr"]
[null,null,null,"1.2.2.2.2   CH4",null,null,null,null,null,null,null,null,{"$f":"N79","v":0.17020295202952029},{"$f":"IF('Active Field'!$J$73<10,'Emissions Factors'!H91,IF(AND('Active Field'!$J$73>=10,'Active Field'!$J$73<20),'Emissions Factors'!H92,IF(AND('Active Field'!$J$73>=20,'Active Field'!$J$73<30),'Emissions Factors'!H93,'Emissions Factors'!H94)))/1000000","v":0.17020295202952029},"t/unit-yr"]
[null,"1.2.3   Fugitive emissions of gas dehydrator"]
[null,null,"1.2.2.3.1   Volume of gas dehydrator",null,null,null,null,null,null,null,null,null,{"$f":"N81","v":403.31675740775177},{"$f":"IF('Gas Balance'!AT38=\"ON\", 'Gas Balance'!AM51*365)","v":403.31675740775177},"MMscf/yr",null,"From gas balance"]
[null,null,"1.2.2.3.3   Emission factors"]
[null,null,null,"1.2.2.3.3.1   CO2",null,null,null,null,null,null,null,null,{"$f":"N83","v":1.7200000000000001E-4},{"$f":"'Emissions Factors'!G96/1000000","v":1.7200000000000001E-4},"t/MMscf"]
[null,null,null,"1.2.2.3.3.2   CH4",null,null,null,null,null,null,null,null,{"$f":"N84","v":3.9249999999999997E-3},{"$f":"'Emissions Factors'!H96/1000000","v":3.9249999999999997E-3},"t/MMscf"]
[null,"1.2.4   Fugitive emissions of AGR unit"]
[null,null,"1.2.4.1   Volume of AGR unit",null,null,null,null,null,null,null,null,null,{"$f":"IF('Gas Balance'!BH38=\"ON\", 'Gas Balance'!BA51, IF('Gas Balance'!CX122=\"ON\", 'Gas Balance'!CQ119, 0))*365","v":402.9524312200648},{"$f":"IF('Gas Balance'!BH38=\"ON\", 'Gas Balance'!BA51, IF('Gas Balance'!CX122=\"ON\", 'Gas Balance'!CQ119, 0))*365","v":402.9524312200648},"MMscf/yr",null,"From gas balance"]
[null,null,"1.2.4.2   Emission factors"]
[null,null,null,"1.2.4.2.1   CO2",null,null,null,null,null,null,null,null,{"$f":"N88","v":0},{"$f":"'Emissions Factors'!G98/1000000","v":0},"t/MMscf"]
[null,null,null,"1.2.4.2.2   CH4",null,null,null,null,null,null,null,null,{"$f":"N89","v":1.8540829869424295E-2},{"$f":"'Emissions Factors'!H98/1000000","v":1.8540829869424295E-2},"t/MMscf"]
[null,"1.2.5   Fugitive emissions of gathering pipelines"]
[null,null,"1.2.5.1   Pipeline miles",null,null,null,null,null,null,null,null,null,{"$f":"N91","v":2.8486718878698021},{"$f":"N41","v":2.8486718878698021},"mile"]
[null,null,"1.2.5.2   Emission factors"]
[null,null,null,"1.2.5.2.1   CO2",null,null,null,null,null,null,null,null,{"$f":"N93","v":0.14248366013071895},{"$f":"'Emissions Factors'!G99/1000000","v":0.14248366013071895},"t/mile-yr"]
[null,null,null,"1.2.5.2.2   CH4",null,null,null,null,null,null,null,null,{"$f":"N94","v":0.37777777777777777},{"$f":"'Emissions Factors'!H99/1000000","v":0.37777777777777777},"t/mile-yr"]
[null,"1.2.6   Fugitive emissions of separators"]
[null,null,"1.2.6.1   Number of associated separators",null,null,null,null,null,null,null,null,null,{"$f":"N96","v":8},{"$f":"ROUND(((0.75*379+3228+40+5)/234093299)*'Production & Extraction'!M26*365,0)","v":8},"unit",null,"ARB (2007), Tables 2-3 and 17-1"]
[null,null,"1.2.6.2   Emission factors"]
[null,null,null,"1.2.6.2.1   CO2",null,null,null,null,null,null,null,null,{"$f":"N98","v":2.3819835426591601E-3},{"$f":"'Emissions Factors'!G100/1000000","v":2.3819835426591601E-3},"t/unit-yr"]
[null,null,null,"1.2.6.2.2   CH4",null,null,null,null,null,null,null,null,{"$f":"N99","v":3.6812472932005201E-2},{"$f":"'Emissions Factors'!H100/1000000","v":3.6812472932005201E-2},"t/unit-yr"]
[null,"1.2.7   Fugitive emissions of sumps and pits"]
[null,null,"1.2.6.1   Number of associated sumps and pits",null,null,null,null,null,null,null,null,null,{"$f":"N101","v":0.58470276844618263},{"$f":"(250/234093299)*'Production & Extraction'!M26*365","v":0.58470276844618263},"unit",null,"ARB (2007), Tables 2-3 and 18-1"]
[null,null,"1.2.6.2   Emission factors"]
[null,null,null,"1.2.6.2.1   CO2",null,null,null,null,null,null,null,null,{"$f":"N103","v":0},0,"t/unit-yr"]
[null,null,null,"1.2.6.2.2   CH4",null,null,null,null,null,null,null,null,{"$f":"N104","v":1.056},{"$f":"'Emissions Factors'!H101/1000000","v":1.056},"t/unit-yr"]
[null,"1.2.8   Fugitive emissions of components",null,null,null,null,null,null,null,null,null,null,null,null,null,null,null,null,null,null,null,null,null,"The percentage of components by type is similar in different facilities such as petroleum production and gas processing [API (1993), Publ. 4589, p. W-4, Table 4]"]
[null,null,"1.2.8.1   Valves (not including open-ends)"]
[null,null,null,"1.2.8.1.1   Number of valves",null,null,null,null,null,null,null,null,{"$f":"N107","v":1785},{"$f":"IF('Active Field'!J73<=20,ROUND(F325*'Production & Extraction'!M26*365,0),ROUND(F326*'Production & Extraction'!M26*365,0))","v":1785},"unit","x","ARB (2013), Tables 2-3 and 8-1"]
[null,null,null,"1.2.8.1.2   Percentage leaking",null,null,null,null,null,null,null,null,{"$f":"N108","v":0.86},{"$f":"IF('Active Field'!J73>=25,'Input Data'!F4071,IF('Active Field'!J73<=15,'Input Data'!F4077,'Input Data'!F4074))","v":0.86},"%",null,"see  worksheet \"Input Data\" section 7"]
[null,null,"1.2.8.2   Connectors (other than flanges)"]
[null,null,null,"1.2.8.2.1   Number of connectors",null,null,null,null,null,null,null,null,{"$f":"N110","v":5949},{"$f":"ROUND((N107+N116)*3,0)","v":5949},"unit",null,"API (1996), Publ. 4638, p.14",null,null,null,null,null,null,"The number of connectors is about three times the number of valves"]
[null,null,null,"1.2.8.2.2   Percentage leaking",null,null,null,null,null,null,null,null,{"$f":"N111","v":0.86},{"$f":"N108","v":0.86},"%"]
[null,null,"1.2.8.3   Flanges"]
[null,null,null,"1.2.8.2.3.1   Number of flanges",null,null,null,null,null,null,null,null,{"$f":"N113","v":1983},{"$f":"ROUND(N107+N116,0)","v":1983},"unit",null,"API (1996), Publ. 4638, p.14",null,null,null,null,null,null,"The number of flanges is usually about the same as the number of valves"]
[null,null,null,"1.2.8.2.3.2   Percentage leaking",null,null,null,null,null,null,null,null,{"$f":"N114","v":0.86},{"$f":"N108","v":0.86},"%"]
[null,null,"1.2.8.4   Open-ended lines (also called open-ended valves)"]
[null,null,null,"1.2.8.4.1   Number of open-ends",null,null,null,null,null,null,null,null,{"$f":"N116","v":198},{"$f":"ROUND(N107/9,0)","v":198},"unit",null,"API (1996), Publ. 4638, p.14",null,null,null,null,null,null,"About 10% of all valves have one side that can be opened to the atmosphere (open-ends)"]
[null,null,null,"1.2.8.4.2   Percentage leaking",null,null,null,null,null,null,null,null,{"$f":"N117","v":0.86},{"$f":"N108","v":0.86},"%"]
[null,null,"1.2.8.5   Pump seals"]
[null,null,null,"1.2.8.5.1   Number of pump seals",null,null,null,null,null,null,null,null,{"$f":"N119","v":24},{"$f":"IF('Active Field'!J73<=20,ROUND(F339*'Production & Extraction'!M26*365,0),ROUND(F340*'Production & Extraction'!M26*365,0))","v":24},"unit","x","ARB (2013), Tables 2-3 and 8-1"]
[null,null,null,"1.2.8.5.2   Percentage leaking",null,null,null,null,null,null,null,null,{"$f":"N120","v":0.86},{"$f":"N108","v":0.86},"%"]
[null,null,"1.2.8.6   Others (compressor seals, diaphragms, drains, dump arms, pressure relief valves, etc)"]
[null,null,null,"1.2.8.6.1   Number of other components",null,null,null,null,null,null,null,null,{"$f":"N122","v":99},{"$f":"ROUND(0.05*(N107+N116),0)","v":99},"unit",null,"API (1996), Publ. 4638, p.14",null,null,null,null,null,null,"The number of other components is approximately 5% of the number of valves"]
[null,null,null,"1.2.8.6.2   Percentage leaking",null,null,null,null,null,null,null,null,{"$f":"N123","v":0.86},{"$f":"N108","v":0.86},"%"]
[null,"1.2.9   Fugitive emissions from Ryan-Holmes process"]
[null,null,"1.2.9.1   Volume of Ryan-Holmes process",null,null,null,null,null,null,null,null,null,{"$f":"N125","v":0},{"$f":"'Gas Balance'!BB208*365","v":0},"MMscf/yr",null,"From gas balance"]
[null,null,"1.2.9.2   Emissions factors"]
[null,null,null,"1.2.9.2.1   VOC",null,null,null,null,null,null,null,null,{"$f":"N127","v":3148},3148,"g/MMscf",null,"From Emissions Factors Sheet"]
[]
[null,"1.2.10   Fugitive CH4 emissions from oil sands mine face and tailings ponds",null,null,null,null,null,null,null,null,null,null,{"$f":"IF('Production & Extraction'!M21=1,123.37,IF('Production & Extraction'!M22=1,111.29,0))","v":0},{"$f":"IF('Production & Extraction'!M21=1,123.37,IF('Production & Extraction'!M22=1,111.29,0))","v":0},"g/bbl bitumen",null,null,null,null,null,null,null,null,"NFT = 19.4 tonnes of CO2-eq. methane per m3 of bitumen, PFT = 17.5",null,null,null,null,{"$f":"19.4*1000/'Input Data'!C73","v":776},"gCH4/m3 bitumen",null,{"$f":"AC129*'Input Data'!E34","v":123.3741448},"gCH4/bbl bitumen"]
[null,null,null,null,null,null,null,null,null,null,null,null,null,null,null,null,null,null,null,null,null,null,null,null,null,null,null,null,{"$f":"17.5*1000/'Input Data'!C73","v":700},"gCH4/m3 bitumen",null,{"$f":"AC130*'Input Data'!E34","v":111.29111},"gCH4/bbl bitumen"]
["1.3   Vapor recovery"]
[null,"1.3.1   Percentage of total vents and fugitives recovered",null,null,null,null,null,null,null,null,null,null,0,0,"%",null,null,null,null,null,null,null,null,"Adjusted based on the users knowledge of production and processing facilities or judgment based on the environmental regulations in the field location"]
[]
["2 Calculations"]
[]
[null,null,null,null,null,null,null,null,null,null,null,null,"Value","Unit","Equation",null,null,null,null,null,null,null,null,null,null,null,null,null,"Notes",null,null,null,null,null,null,null,null,null,null,null,null,"Reference"]
["2.1   Venting emissions"]
[null,"2.1.1   GHG emissions from associated gas venting as a flaring substitute",null,null,null,null,null,null,null,null,null,null,{"$f":"(M139+M140*'Input Data'!C73+M141*'Input Data'!C74)/1000000","v":0},"tCO2eq/d"]
[null,null,"2.1.1.1   CO2 emissions",null,null,null,null,null,null,null,null,null,{"$f":"M9*1000000*'Gas Balance'!H41/100*'Input Data'!D83","v":0},"g/d"]
[null,null,"2.1.1.2   CH4 emissions",null,null,null,null,null,null,null,null,null,{"$f":"M9*1000000*'Gas Balance'!H42/100*'Input Data'!D84","v":0},"g/d"]
[null,null,"2.1.1.3   VOC emissions",null,null,null,null,null,null,null,null,null,{"$f":"M9*1000000*('Gas Balance'!H43/100*'Input Data'!D85+'Gas Balance'!H44/100*'Input Data'!D86+'Gas Balance'!H45/100*'Input Data'!D87)","v":0},"g/d"]
[]
[null,"2.1.2   GHG emissions from other venting"]
[null,"Source",null,null,"CO2","CH4","VOC","Notes"]
[null,"Gas dehydrator"]
[null,null,"Weight (g/d)",null,{"$f":"M11*M13*1000000/365","v":163.53665779821168},{"$f":"M11*M14*1000000/365","v":15112.776139906358},0]
[null,null,"Volume (scf/d)",null,{"$f":"E146/'Input Data'!D83","v":3.0912806308143175},{"$f":"F146/'Input Data'!D84","v":786.57908398479208},0]
[null,null,"HHV (Btu/d)",null,0,{"$f":"F147*'Fuel Specs'!G135","v":796804.61207659438},0]
[null,null,"LHV (Btu/d)",null,0,{"$f":"F147*'Fuel Specs'!H135","v":718146.70367811515},0]
[null,"AGR unit"]
[null,null,"Weight (g/d)",null,{"$f":"E152*'Input Data'!D83","v":3501686.7830946222},0,0]
[null,null,"Volume (scf/d)",null,{"$f":"M16*1000000","v":66191.254447155967},0,0]
[null,null,"HHV (Btu/d)",null,0,0,0]
[null,null,"LHV (Btu/d)",null,0,0,0]
[null,"Workovers & Cleanups"]
[null,null,"Weight (g/d)",null,{"$f":"(M19*M21+M24*M26)*1000000/365","v":1172.1242238394784},{"$f":"(M19*M22+M24*M27)*1000000/365","v":8396.9705571112172},0]
[null,null,"Volume (scf/d)",null,{"$f":"E156/'Input Data'!D83","v":22.156285684486257},{"$f":"F156/'Input Data'!D84","v":437.03958478013533},0]
[null,null,"HHV (Btu/d)",null,0,{"$f":"F157*'Fuel Specs'!G135","v":442721.09938227711},0]
[null,null,"LHV (Btu/d)",null,0,{"$f":"F157*'Fuel Specs'!H135","v":399017.14090426354},0]
[null,"Compressors"]
[null,null,"Weight (g/d)",null,{"$f":"(M30*M32+M35*M37)*1000000/365","v":509.487593386019},{"$f":"(M30*M33+M35*M38)*1000000/365","v":9573.1560870884368},0]
[null,null,"Volume (scf/d)",null,{"$f":"E161/'Input Data'!D83","v":9.6306794469149537},{"$f":"F161/'Input Data'!D84","v":498.25685738451739},0]
[null,null,"HHV (Btu/d)",null,0,{"$f":"F162*'Fuel Specs'!G135","v":504734.19653051614},0]
[null,null,"LHV (Btu/d)",null,0,{"$f":"F162*'Fuel Specs'!H135","v":454908.51079206436},0]
[null,"Gathering pipelines"]
[null,null,"Weight (g/d)",null,{"$f":"(M41*M43+M46*M48)*1000000/365","v":9442.2717713914917},{"$f":"(M41*M44+M46*M49)*1000000/365","v":8486.9379115275187},0]
[null,null,"Volume (scf/d)",null,{"$f":"E166/'Input Data'!D83","v":178.48421406412345},{"$f":"F166/'Input Data'!D84","v":441.72214201318036},0]
[null,null,"HHV (Btu/d)",null,0,{"$f":"F167*'Fuel Specs'!G135","v":447464.52985935169},0]
[null,null,"LHV (Btu/d)",null,0,{"$f":"F167*'Fuel Specs'!H135","v":403292.31565803365},0]
[null,"Pneumatic controllers"]
[null,null,"Weight (g/d)",null,{"$f":"IF('Active Field'!J70=1,0,((M55*M51+M58*M52)*1000000/365))","v":19234.864709532005},{"$f":"IF('Active Field'!J70=1,0,((M56*M51+M59*M52)*1000000/365))","v":344500.58369533642},0,"Pneumatic controllers are assumed to not be used on offshore platforms due to safetly considerations associated with releasing gases, as well as availability of power or instrument air."]
[null,null,"Volume (scf/d)",null,{"$f":"E171/'Input Data'!D83","v":363.59043601269178},{"$f":"F171/'Input Data'!D84","v":17930.322731359069},0]
[null,null,"HHV (Btu/d)",null,0,{"$f":"F172*'Fuel Specs'!G135","v":18163416.926866736},0]
[null,null,"LHV (Btu/d)",null,0,{"$f":"F172*'Fuel Specs'!H135","v":16370384.65373083},0]
[null,"Pneumatic chemical injection pumps"]
[null,null,"Weight (g/d)",null,{"$f":"IF('Active Field'!J70=1,0,(M61*M63*1000000/365))","v":2212.627828525639},{"$f":"IF('Active Field'!J70=1,0,(M61*M64*1000000/365))","v":39596.635984634442},0,"Pneumatic chemical injection pumps are assumed to not be used on offshore platforms due to safetly considerations associated with releasing gases, as well as availability of power or instrument air."]
[null,null,"Volume (scf/d)",null,{"$f":"E176/'Input Data'!D83","v":41.82458930988895},{"$f":"F176/'Input Data'!D84","v":2060.8977049180326},0]
[null,null,"HHV (Btu/d)",null,0,{"$f":"F176*'Fuel Specs'!G135","v":40111392.252434693},0]
[null,null,"LHV (Btu/d)",null,0,{"$f":"F177*'Fuel Specs'!H135","v":1881599.6045901638},0]
[null,"Ryan-Holmes Process"]
[null,null,"Weight (g/d)",null,{"$f":"E182*'Input Data'!D83","v":0},{"$f":"F182*'Input Data'!D84","v":0},{"$f":"M66*M68/365","v":0}]
[null,null,"Volume (scf/d)",null,{"$f":"IF('Gas Balance'!BI211=\"ON\", G182*'Gas Balance'!BK192/SUM('Gas Balance'!BK194:BK196), 0)","v":0},{"$f":"IF('Gas Balance'!BI211=\"ON\", G182*'Gas Balance'!BK193/SUM('Gas Balance'!BK194:BK196), 0)","v":0},{"$f":"IF('Gas Balance'!BI211=\"ON\", IF('Gas Balance'!BD202, G181/'Input Data'!D89, G181/'Input Data'!D90), 0)","v":0}]
[null,null,"HHV (Btu/d)",null,0,{"$f":"F182*'Fuel Specs'!G135","v":0},{"$f":"IF('Gas Balance'!BI211=\"ON\", G182*('Fuel Specs'!G136*'Gas Balance'!BC200+'Fuel Specs'!G137*'Gas Balance'!BC201+'Fuel Specs'!G138*'Gas Balance'!BC202)/SUM('Gas Balance'!BC200:BC202), 0)","v":0}]
[null,null,"LHV (Btu/d)",null,0,{"$f":"F182*'Fuel Specs'!H135","v":0},{"$f":"IF('Gas Balance'!BI211=\"ON\", G182*('Fuel Specs'!H136*'Gas Balance'!BC200+'Fuel Specs'!H137*'Gas Balance'!BC201+'Fuel Specs'!H138*'Gas Balance'!BC202)/SUM('Gas Balance'!BC200:BC202), 0)","v":0}]
[null,"Total"]
[null,null,"Weight (g/d)",null,{"$f":"E146+E151+E156+E161+E166+E171+E176+E181","v":3534421.6958790948},{"$f":"F146+F156+F161+F166+F171+F176+F181","v":425667.06037560437},{"$f":"G146+G151+G156+G161+G166+G171+G176+G181","v":0}]
[null,null,"Volume (scf/d)",null,{"$f":"E147+E152+E157+E162+E167+E172+E177+E182","v":66810.03193230489},{"$f":"F147+F157+F162+F167+F172+F177+F182","v":22154.818104439728},{"$f":"G147+G152+G157+G162+G167+G172+G177+G182","v":0}]
[null,null,"HHV (Btu/d)",null,0,{"$f":"F148+F158+F163+F168+F173+F178+F183","v":60466533.617150173},{"$f":"G148+G153+G158+G163+G168+G173+G178+G183","v":0}]
[null,null,"LHV (Btu/d)",null,0,{"$f":"F149+F159+F164+F169+F174+F179+F184","v":20227348.929353468},{"$f":"G149+G154+G159+G164+G169+G174+G179+G184","v":0}]
[]
[]
[null,"2.1.3   GHG emissions from storage tanks"]
[null,"Source",null,null,"CO2","CH4","VOC"]
[null,"Storage tanks"]
[null,null,"Weight (g/d)",null,0,{"$f":"('Emissions Factors'!H70*'Production & Extraction'!M26)+('Production & Extraction'!M44*'Production & Extraction'!M26*'Venting & Fugitives'!M364)","v":212979.47424666476},0,"In offshore operations, tanks will not be included on platforms but are assumed instead to be included onshore before shipment of crude to transport terminals"]
[null,null,"Volume (scf/d)",null,0,{"$f":"F195/'Input Data'!D84","v":11085.005045376276},0]
[null,null,"HHV (Btu/d)",null,0,{"$f":"F196*'Fuel Specs'!G135","v":11229110.110966168},0]
[null,null,"LHV (Btu/d)",null,0,{"$f":"F196*'Fuel Specs'!H135","v":10120609.606428539},0]
[null,"Total"]
[null,null,"Weight (g/d)",null,0,{"$f":"F195","v":212979.47424666476},{"$f":"G195","v":0}]
[null,null,"Volume (scf/d)",null,0,{"$f":"F196","v":11085.005045376276},0]
[null,null,"HHV (Btu/d)",null,0,11229110.110966168,0]
[null,null,"LHV (Btu/d)",null,0,10120609.606428539,0]
[]
[]
["2.2   Fugitive emissions"]
[]
[null,"2.2.1   GHG emissions from various fugitive sources"]
[null,"Source",null,null,"CO2","CH4","VOC","Note(s):"]
[null,"Active wells"]
[null,null,"Weight (g/d)",null,{"$f":"M71*M73*1000000/365","v":314.76822083475702},{"$f":"M71*M74*1000000/365","v":2302.7780366332227},0]
[null,null,"Volume (scf/d)",null,{"$f":"E211/'Input Data'!D83","v":5.9499620290821946},{"$f":"F211/'Input Data'!D84","v":119.85336260571921},0]
[null,null,"HHV (Btu/d)",null,0,{"$f":"F212*'Fuel Specs'!G135","v":121411.45631959356},0]
[null,null,"LHV (Btu/d)",null,0,{"$f":"F212*'Fuel Specs'!H135","v":109426.12005902165},0]
[null,"Well cellars"]
[null,null,"Weight (g/d)",null,{"$f":"M76*M78*1000000/365","v":0},{"$f":"M76*M79*1000000/365","v":3730.4756609209926},0]
[null,null,"Volume (scf/d)",null,{"$f":"E216/'Input Data'!D83","v":0},{"$f":"F216/'Input Data'!D84","v":194.16115881228012},0]
[null,null,"HHV (Btu/d)",null,0,{"$f":"F217*'Fuel Specs'!G135","v":196685.25387683976},0]
[null,null,"LHV (Btu/d)",null,0,{"$f":"F217*'Fuel Specs'!H135","v":177269.13799561176},0]
[null,"Gas dehydrator"]
[null,null,"Weight (g/d)",null,{"$f":"M81*M83*1000000/365","v":190.05611581954329},{"$f":"M81*M84*1000000/365","v":4337.0363639052757},0]
[null,null,"Volume (scf/d)",null,{"$f":"E221/'Input Data'!D83","v":3.5925693817571798},{"$f":"F221/'Input Data'!D84","v":225.73100128977913},0]
[null,null,"HHV (Btu/d)",null,0,{"$f":"F222*'Fuel Specs'!G135","v":228665.50430654627},0]
[null,null,"LHV (Btu/d)",null,0,{"$f":"F222*'Fuel Specs'!H135","v":206092.40417756836},0]
[null,"AGR unit"]
[null,null,"Weight (g/d)",null,{"$f":"M86*M88*1000000/365","v":0},{"$f":"M86*M89*1000000/365","v":20468.69170608799},0]
[null,null,"Volume (scf/d)",null,{"$f":"E226/'Input Data'!D83","v":0},{"$f":"F226/'Input Data'!D84","v":1065.3399893900344},0]
[null,null,"HHV (Btu/d)",null,0,{"$f":"F227*'Fuel Specs'!G135","v":1079189.4092521048},0]
[null,null,"LHV (Btu/d)",null,0,{"$f":"F227*'Fuel Specs'!H135","v":972655.41031310137},0]
[null,"Gathering pipelines"]
[null,null,"Weight (g/d)",null,{"$f":"IF('Active Field'!J70=1,0,(M91*M93*1000000/365))","v":1112.0251975210258},{"$f":"IF('Active Field'!J70=1,0,(M91*M94*1000000/365))","v":2948.3970833355638},0,"Gathering systems are not used in offshore platforms due to compact nature of the infrastructure."]
[null,null,"Volume (scf/d)",null,{"$f":"E231/'Input Data'!D83","v":21.020253198006863},{"$f":"F231/'Input Data'!D84","v":153.45608613295389},0]
[null,null,"HHV (Btu/d)",null,0,{"$f":"F232*'Fuel Specs'!G135","v":155451.01525268229},0]
[null,null,"LHV (Btu/d)",null,0,{"$f":"F232*'Fuel Specs'!H135","v":140105.4066393869},0]
[null,"Separators"]
[null,null,"Weight (g/d)",null,{"$f":"M96*M98*1000000/365","v":52.207858469241863},{"$f":"M96*M99*1000000/365","v":806.8487217973742},0]
[null,null,"Volume (scf/d)",null,{"$f":"E236/'Input Data'!D83","v":0.98686828895207768},{"$f":"F236/'Input Data'!D84","v":41.99429162652914},0]
[null,null,"HHV (Btu/d)",null,0,{"$f":"F237*'Fuel Specs'!G135","v":42540.217417674015},0]
[null,null,"LHV (Btu/d)",null,0,{"$f":"F237*'Fuel Specs'!H135","v":38340.788255021107},0]
[null,"Sumps and pits"]
[null,null,"Weight (g/d)",null,{"$f":"M101*M103*1000000/365","v":0},{"$f":"M101*M104*1000000/365","v":1691.633215011422},0]
[null,null,"Volume (scf/d)",null,{"$f":"E241/'Input Data'!D83","v":0},{"$f":"F241/'Input Data'!D84","v":88.044929163502971},0]
[null,null,"HHV (Btu/d)",null,0,{"$f":"F242*'Fuel Specs'!G135","v":89189.513242628513},0]
[null,null,"LHV (Btu/d)",null,0,{"$f":"F242*'Fuel Specs'!H135","v":80385.020326278216},0]
[null,"Components"]
[null,null,"Weight (g/d)",null,0,{"$f":"((0.75*M107*((100-M108)/100*IF('Production & Extraction'!M34<=20,'Emissions Factors'!H105,'Emissions Factors'!H106)+M108/100*'Emissions Factors'!H131)+0.25*M107*((100-M108)/100*'Emissions Factors'!H104+M108/100*'Emissions Factors'!H129))+(0.75*M110*((100-M111)/100*IF('Production & Extraction'!M34<=20,'Emissions Factors'!H109,'Emissions Factors'!H110)+M111/100*'Emissions Factors'!H135)+0.25*M110*((100-M111)/100*'Emissions Factors'!H108+M111/100*'Emissions Factors'!H133))+(0.75*M113*((100-M114)/100*IF('Production & Extraction'!M34<=20,'Emissions Factors'!H113,'Emissions Factors'!H114)+M114/100*'Emissions Factors'!H139)+0.25*M113*((100-M114)/100*'Emissions Factors'!H112+M114/100*'Emissions Factors'!H137))+(0.75*M116*((100-M117)/100*IF('Production & Extraction'!M34<=20,'Emissions Factors'!H117,'Emissions Factors'!H118)+M117/100*IF('Production & Extraction'!M34<=20,'Emissions Factors'!H142,'Emissions Factors'!H143))+0.25*M116*((100-M117)/100*'Emissions Factors'!H116+M117/100*'Emissions Factors'!H141))+(0.75*M119*((100-M120)/100*'Emissions Factors'!H122+M108/100*'Emissions Factors'!H147)+0.25*M119*((100-M120)/100*'Emissions Factors'!H120+M120/100*'Emissions Factors'!H145))+(0.75*M122*((100-M123)/100*IF('Production & Extraction'!M34<=20,'Emissions Factors'!H125,'Emissions Factors'!H126)+M123/100*'Emissions Factors'!H151)+0.25*M122*((100-M123)/100*'Emissions Factors'!H124+M123/100*'Emissions Factors'!H149)))/365","v":65449.97950843993},{"$f":"((0.75*M107*((100-M108)/100*IF('Production & Extraction'!M34<=20,'Emissions Factors'!I105,'Emissions Factors'!I106)+M108/100*'Emissions Factors'!I131)+0.25*M107*((100-M108)/100*'Emissions Factors'!I104+M108/100*'Emissions Factors'!I129))+(0.75*M110*((100-M111)/100*IF('Production & Extraction'!M34<=20,'Emissions Factors'!I109,'Emissions Factors'!I110)+M111/100*'Emissions Factors'!I135)+0.25*M110*((100-M111)/100*'Emissions Factors'!I108+M111/100*'Emissions Factors'!I133))+(0.75*M113*((100-M114)/100*IF('Production & Extraction'!M34<=20,'Emissions Factors'!I113,'Emissions Factors'!I114)+M114/100*'Emissions Factors'!I139)+0.25*M113*((100-M114)/100*'Emissions Factors'!I112+M114/100*'Emissions Factors'!I137))+(0.75*M116*((100-M117)/100*IF('Production & Extraction'!M34<=20,'Emissions Factors'!I117,'Emissions Factors'!I118)+M117/100*IF('Production & Extraction'!M34<=20,'Emissions Factors'!I142,'Emissions Factors'!I143))+0.25*M116*((100-M117)/100*'Emissions Factors'!I116+M117/100*'Emissions Factors'!I141))+(0.75*M119*((100-M120)/100*'Emissions Factors'!I122+M108/100*'Emissions Factors'!I147)+0.25*M119*((100-M120)/100*'Emissions Factors'!I120+M120/100*'Emissions Factors'!I145))+(0.75*M122*((100-M123)/100*IF('Production & Extraction'!M34<=20,'Emissions Factors'!I125,'Emissions Factors'!I126)+M123/100*'Emissions Factors'!I151)+0.25*M122*((100-M123)/100*'Emissions Factors'!I124+M123/100*'Emissions Factors'!I149)))/365","v":27234.023636572278},"Assume 75% of valves are in crude service and 25% are in gas service"]
[null,null,"Volume (scf/d)",null,0,{"$f":"F246/'Input Data'!D84","v":3406.494243809469},{"$f":"G246*(0.31/'Input Data'!D85+0.42/'Input Data'!D86+0.27/'Input Data'!D87)","v":548.34169812285268},"VOC speciation (31% C2, 42% C3 and 27% C4) is assumed based on a ratio generated from fugitives gas composition in Table ES-1, API (1998), Publ. 4683"]
[null,null,"HHV (Btu/d)",null,0,{"$f":"F247*'Fuel Specs'!G135","v":3450778.6689789919},{"$f":"G246*('Fuel Specs'!G136*0.31/'Input Data'!D85+'Fuel Specs'!G137*0.42/'Input Data'!D86+'Fuel Specs'!G138*0.27/'Input Data'!D87)","v":1314121.2856999871}]
[null,null,"LHV (Btu/d)",null,0,{"$f":"F247*'Fuel Specs'!H135","v":3110129.244598045},{"$f":"G246*('Fuel Specs'!H136*0.31/'Input Data'!D85+'Fuel Specs'!H137*0.42/'Input Data'!D86+'Fuel Specs'!H138*0.27/'Input Data'!D87)","v":1208969.8160663268}]
[null,"Ryan-Holmes Process"]
[null,null,"Weight (g/d)",null,{"$f":"E252*'Input Data'!D83","v":0},{"$f":"F252*'Input Data'!D84","v":0},{"$f":"M125*M127/365","v":0}]
[null,null,"Volume (scf/d)",null,{"$f":"IF('Gas Balance'!BI211=\"ON\", G252*'Gas Balance'!BK192/SUM('Gas Balance'!BK194:BK196), 0)","v":0},{"$f":"IF('Gas Balance'!BI211=\"ON\", G182*'Gas Balance'!BK193/SUM('Gas Balance'!BK194:BK196), 0)","v":0},{"$f":"IF('Gas Balance'!BI211=\"ON\", IF('Gas Balance'!BD202, G251/'Input Data'!D89, G251/'Input Data'!D90), 0)","v":0}]
[null,null,"HHV (Btu/d)",null,0,{"$f":"F252*'Fuel Specs'!G135","v":0},{"$f":"IF('Gas Balance'!BI211=\"ON\", G182*('Fuel Specs'!G136*'Gas Balance'!BC200+'Fuel Specs'!G137*'Gas Balance'!BC201+'Fuel Specs'!G138*'Gas Balance'!BC202)/SUM('Gas Balance'!BC200:BC202), 0)","v":0}]
[null,null,"LHV (Btu/d)",null,0,{"$f":"F252*'Fuel Specs'!H135","v":0},{"$f":"IF('Gas Balance'!BI211=\"ON\",G182*('Fuel Specs'!H136*'Gas Balance'!BC200+'Fuel Specs'!H137*'Gas Balance'!BC201+'Fuel Specs'!H138*'Gas Balance'!BC202)/SUM('Gas Balance'!BC200:BC202),0)","v":0}]
[null,"Oil sands mine face and tailings fugitives"]
[null,null,"Weight (g/d)",null,{"$f":"0","v":0},{"$f":"M129*'Active Field'!J63","v":0},0,"Assume that 100% of effective GHG content of mine face and tailings ponds emissions comes from CH4."]
[null,null,"Volume (scf/d)",null,0,{"$f":"F256/16/'Input Data'!E38","v":0},0]
[null,null,"HHV (Btu/d)",null,0,{"$f":"F257*'Fuel Specs'!G135","v":0},0]
[null,null,"LHV (Btu/d)",null,0,{"$f":"F257*'Fuel Specs'!H135","v":0},0]
[null,"Total"]
[null,null,"Weight (g/d)",null,{"$f":"E211+E216+E221+E226+E231+E236+E241+E246+E251+E256","v":1669.0573926445679},101735.84029613178,27234.023636572278]
[null,null,"Volume (scf/d)",null,31.549652897798314,5295.0750628302676,548.34169812285268]
[null,null,"HHV (Btu/d)",null,0,5363911.0386470612,1314121.2856999871]
[null,null,"LHV (Btu/d)",null,0,4834403.5323640341,1208969.8160663268]
[]
[]
["2.3   Summation of VFF emissions"]
[]
[null,"2.3.1   Speciation of total VFF emissions:"]
[null,"Category",null,null,null,"GHG","Volume","HHV","LHV","Note(s):"]
[null,null,null,null,null,"tCO2eq/yr","MMscf/yr","MMBtu/yr","MMBtu/yr"]
[null,"Venting",null,null,null,{"$f":"M138*365+((E186+F186*'Input Data'!C73+G186*'Input Data'!C74)+(E200+F200*'Input Data'!C73+G200*'Input Data'!C74))*365/1000000","v":7117.7135474240749},{"$f":"M9*365+((E187+F187+G187)+(E201+F201+G201))*365/1000000","v":36.518197104974128},{"$f":"M9*365*IF('Active Field'!J116=6,'Gas Balance'!BG81,IF('Active Field'!J116=7,'Gas Balance'!DT116/'Gas Balance'!DS119,IF('Active Field'!J116=8,'Gas Balance'!BB233/'Gas Balance'!BA236,'Gas Balance'!CA32/'Gas Balance'!BZ35)))+((E188+F188+G188)+(E202+F202+G202))*365/1000000","v":26168.909960762463},{"$f":"M9*365*IF('Active Field'!J116=6,'Gas Balance'!BH81,IF('Active Field'!J116=7,'Gas Balance'!DT117/'Gas Balance'!DS119,IF('Active Field'!J116=8,'Gas Balance'!BB234/'Gas Balance'!BA236,'Gas Balance'!CA33/'Gas Balance'!BZ35)))+((E189+F189+G189)+(E203+F203+G203))*365/1000000","v":11077.004865560435}]
[null,null,"Crude production and extraction (p)",null,null,0,0,0,0]
[null,null,"Surface processing (s)",null,null,{"$f":"M138*365 + ((E146+F146*'Input Data'!C73+G146*'Input Data'!C74) + (E151+F151*'Input Data'!C73+G151*'Input Data'!C74) + (E176+F176*'Input Data'!C73+G176*'Input Data'!C74) + (E181+F181*'Input Data'!C73+G181*'Input Data'!C74) + (E171+F171*'Input Data'!C73+G171*'Input Data'!C74) + (E200+F200*'Input Data'!C73+G200*'Input Data'!C74))*365/1000000","v":6872.2326158432206},{"$f":"M9*365+((E147+F147+G147)+(E152+F152+G152)+(E172+F172+G172)+(E177+F177+G177)+ (E182+F182+G182) + (E201+F201+G201))*365/1000000","v":35.938836341342849},{"$f":"M9*365*IF('Active Field'!J116=6,'Gas Balance'!BG81,IF('Active Field'!J116=7,'Gas Balance'!DT116/'Gas Balance'!DS119,IF('Active Field'!J116=8,'Gas Balance'!BB233/'Gas Balance'!BA236,'Gas Balance'!CA32/'Gas Balance'!BZ35)))+((E148+F148+G148)+(E153+F153+G153)+(E173+F173+G173)+(E178+F178+G178)+(E183+F183+G183)+(E202+F202+G202))*365/1000000","v":25659.764224355633},{"$f":"M9*365*IF('Active Field'!J116=6,'Gas Balance'!BH81,IF('Active Field'!J116=7,'Gas Balance'!DT116/'Gas Balance'!DS119,IF('Active Field'!J116=8,'Gas Balance'!BB233/'Gas Balance'!BA236,'Gas Balance'!CA32/'Gas Balance'!BZ35)))+((E149+F149+G149)+(E154+F154+G154)+(E174+F174+G174)+(E179+F179+G179)+(E184+F184+G184)+(E203+F203+G203))*365/1000000","v":10618.120307476089}]
[null,null,"Maintenance (m)",null,null,{"$f":"((E156+F156*'Input Data'!C73+G156*'Input Data'!C74)+(E161+F161*'Input Data'!C73+G161*'Input Data'!C74)+(E166+F166*'Input Data'!C73+G166*'Input Data'!C74))*365/1000000","v":245.4809315808557},{"$f":"((E157+F157+G157)+(E162+F162+G162)+(E167+F167+G167))*365/1000000","v":0.57936076363127564},{"$f":"((E158+F158+G158)+(E163+F163+G163)+(E168+F168+G168))*365/1000000","v":509.1457364068329},{"$f":"((E159+F159+G159)+(E164+F164+G164)+(E169+F169+G169))*365/1000000","v":458.88455808434196},"Vents of compressor blowdowns, well workovers and cleanups, separators cleaning and repair, pipeline gathering maintenance and pigging"]
[null,"Fugitives",null,null,null,{"$f":"(E261+F261*'Input Data'!C73+G261*'Input Data'!C74)*365/1000000","v":959.76404639529949},{"$f":"(E262+F262+G262)*365/1000000","v":2.1443627410555854},{"$f":"(E263+F263+G263)*365/1000000","v":2437.4817983866724},{"$f":"(E264+F264+G264)*365/1000000","v":2205.8312721770817}]
[null,null,"Crude production and extraction (p)",null,null,{"$f":"((E211+E216+E256+(F211+F216+F256)*'Input Data'!C73+(G211+G216+G256)*'Input Data'!C74))*365/1000000","v":55.168330390786899},{"$f":"((E212+F212+G212)+(E217+F217+G217)+(E257+F257+G257))*365/1000000","v":0.11678703645818475},{"$f":"((E213+F213+G213)+(E218+F218+G218)+(E258+F258+G258))*365/1000000","v":116.10529922169817},{"$f":"((E214+F214+G214)+(E219+F219+G219)+(E259+F259+G259))*365/1000000","v":104.64376918994118},"Fugitives of active wells and well cellars"]
[null,null,"Surface processing (s)",null,null,{"$f":"((E221+F221*'Input Data'!C73+G221*'Input Data'!C74)+(E226+F226*'Input Data'!C73+G226*'Input Data'!C74)+(E231+F231*'Input Data'!C73+G231*'Input Data'!C74)+(E236+F236*'Input Data'!C73+G236*'Input Data'!C74)+(E241+F241*'Input Data'!C73+G241*'Input Data'!C74)+(E246+F246*'Input Data'!C73+G246*'Input Data'!C74) +(E251+F251*'Input Data'!C73+G251*'Input Data'!C74))*365/1000000","v":904.59571600451227},{"$f":"((E222+F222+G222)+(E227+F227+G227)+(E232+F232+G232)+(E237+F237+G237)+(E242+F242+G242)+(E247+F247+G247)+(E252+F252+G252))*365/1000000","v":2.0275757045974006},{"$f":"((E223+F223+G223)+(E228+F228+G228)+(E233+F233+G233)+(E238+F238+G238)+(E243+F243+G243)+(E248+F248+G248)+(E253+F253+G253))*365/1000000","v":2321.3764991649741},{"$f":"((E224+F224+G224)+(E229+F229+G229)+(E234+F234+G234)+(E239+F239+G239)+(E244+F244+G244)+(E249+F249+G249)+(E254+F254+G254))*365/1000000","v":2101.1875029871403},"Fugitives of gas processing units, separators, pipeline gatherings, sumps and pits, and components (valves, seals, flanges, etc)"]
[null,null,"Maintenance (m)",null,null,0,0,0,0]
[null,"Total vents and fugitives",null,null,null,{"$f":"F272+F276","v":8077.4775938193743},{"$f":"G272+G276","v":38.662559846029716},{"$f":"H272+H276","v":28606.391759149134},{"$f":"I272+I276","v":13282.836137737517}]
[]
[]
[null,"2.3.2   Net VFF emissions:"]
[null,"Category",null,null,null,"GHG","Volume","HHV","LHV"]
[null,null,null,null,null,"tCO2eq/yr","MMscf/yr","MMBtu/yr","MMBtu/yr"]
[null,"Venting",null,null,null,{"$f":"F272*(1-$M$132/100)","v":7117.7135474240749},{"$f":"G272*(1-$M$132/100)","v":36.518197104974128},{"$f":"H272*(1-$M$132/100)","v":26168.909960762463},{"$f":"I272*(1-$M$132/100)","v":11077.004865560435},"Adjusted to account for recovered gas"]
[null,null,"Crude production and extraction (p)",null,null,{"$f":"F273*(1-$M$132/100)","v":0},{"$f":"G273*(1-$M$132/100)","v":0},0,0,"Adjusted to account for recovered gas"]
[null,null,"Surface processing (s)",null,null,{"$f":"F274*(1-$M$132/100)","v":6872.2326158432206},{"$f":"G274*(1-$M$132/100)","v":35.938836341342849},25659.764224355633,10618.120307476089,"Adjusted to account for recovered gas"]
[null,null,"Maintenance (m)",null,null,245.4809315808557,0.57936076363127564,509.1457364068329,458.88455808434196,"Adjusted to account for recovered gas"]
[null,"Fugitives",null,null,null,959.76404639529949,2.1443627410555854,2437.4817983866724,2205.8312721770817,"Adjusted to account for recovered gas"]
[null,null,"Crude production and extraction (p)",null,null,{"$f":"F277*(1-$M$132/100)","v":55.168330390786899},0.11678703645818475,116.10529922169817,104.64376918994118,"Adjusted to account for recovered gas"]
[null,null,"Surface processing (s)",null,null,904.59571600451227,2.0275757045974006,2321.3764991649741,2101.1875029871403,"Adjusted to account for recovered gas"]
[null,null,"Maintenance (m)",null,null,0,0,0,0,"Adjusted to account for recovered gas"]
[null,"Total vents and fugitives",null,null,null,{"$f":"F286+F290","v":8077.4775938193743},{"$f":"G286+G290","v":38.662559846029716},{"$f":"H286+H290","v":28606.391759149134},{"$f":"I286+I290","v":13282.836137737517}]
[]
[]
[]
[]
[]
[]
["3 Supplemental data from California oil and gas survey"]
["Data derived from California oil and gas emissions survey"]
[]
[]
[null,"3.1 Crude oil and gas production in California"]
[null,"Type of crude",null,null,null,"Production volume"]
[null,null,null,null,null,"bbl/y or Mscf/y"]
[null,"Ultra-heavy oil (API<10)",null,null,null,614683,"Detwiler 2013, Table 2.3"]
[null,"Heavy oil (API 10-20)",null,null,null,156304520,"Detwiler 2013, Table 2.3"]
[null,"Light oil (API 20-30)",null,null,null,61524698,"Detwiler 2013, Table 2.3"]
[null,"Ultra-light oil (API > 30)",null,null,null,15649398,"Detwiler 2013, Table 2.3"]
[null,"Natural gas production",null,null,"(Mscf/y)",390326918,"Detwiler 2013, Table 2.5"]
[]
[null,"3.2 Number of valves"]
[null,"Type of device",null,null,null,"Count for light oil","Count for heavy oil"]
[null,null,null,null,null,"Number","Number"]
[null,"Manual valves",null,null,null,244296,321321,"Detwiler 2013, Table 8.1"]
[null,"Pressure relief valves",null,null,null,7293,3614,"Detwiler 2013, Table 8.1"]
[null,"Total valves",null,null,null,{"$f":"SUM(F317:F318)","v":251589},{"$f":"SUM(G317:G318)","v":324935},"Detwiler 2013, Table 8.1"]
[]
[]
[null,"3.3 Number of valves per unit production"]
[null,"Type of crude",null,null,null,"Valve intensity"]
[null,null,null,null,null,"Valve/bbl/y"]
[null,"Heavy crude (API < 20)",null,null,null,{"$f":"G319/SUM(F308:F309)","v":2.0707153349485211E-3}]
[null,"Light crude (API > 20)",null,null,null,{"$f":"F319/(SUM(F310:F311))","v":3.2600187503330131E-3}]
[]
[]
[null,"3.4 Number of pump seals"]
[null,"Type of crude",null,null,null,"Pump seals"]
[null,null,null,null,null,"Units"]
[null,"Heavy crude (API < 20)",null,null,null,3942,"Detwiler 2013, Table 8.1"]
[null,"Light crude (API > 20)",null,null,null,3327,"Detwiler 2013, Table 8.1"]
[]
[]
[null,"3.5 Number of pump seals per unit of production"]
[null,"Type of crude",null,null,null,"Pump seals"]
[null,null,null,null,null,"Pump seal/bbl/y"]
[null,"Heavy crude (API < 20)",null,null,null,{"$f":"F332/SUM(F308:F309)","v":2.5121208396654932E-5}]
[null,"Light crude (API > 20)",null,null,null,{"$f":"F333/(SUM(F310:F311))","v":4.3110320333392698E-5}]
[]
[]
[null,"3.6 Number of compressors in operation in California"]
[null,"Type of crude",null,null,null,"Compressors"]
[null,null,null,null,null,"Units"]
[null,"Compressors (all)",null,null,null,1071,"Detwiler 2013, Table 15.1"]
[]
[]
[null,"3.7 Number of compressors per unit of gas production in California"]
[null,"Type of crude",null,null,null,"Compressors"]
[null,null,null,null,null,"Compressor/Mscf/y"]
[null,"Compressors (all)",null,null,null,{"$f":"F346/F312","v":2.7438538071822145E-6}]
[]
[]
[]
["4 Supplemental data from EPA greenhouse gas inventory"]
[]
[null,null,null,null,null,null,null,null,null,null,null,null,"Value","Default","Unit",null,"Default reference"]
[null,"4.1  Tank emissions intensity"]
[null,null,"4.1.1   CH4 emissions from tanks",null,null,null,null,null,null,null,null,null,{"$f":"N360","v":7.39},7.39,"scf CH4/bbl crude",null,"EPA 2014, Annex 3.6, Table A-147"]
[null,null,"4.1.2   CO2 emissions from tanks",null,null,null,null,null,null,null,null,null,{"$f":"N361","v":3.53},3.53,"scf CO2/bbl crude",null,"EPA 2014, Annex 3.6, Table A-152"]
[null,null,"4.1.3   CH4 emissions from tanks (mass)",null,null,null,null,null,null,null,null,null,{"$f":"N362","v":141.98625153890731},{"$f":"N360*'Input Data'!D84","v":141.98625153890731},"g CH4/bbl crude"]
[null,null,"4.1.4   CO2 emissions from tanks (mass)",null,null,null,null,null,null,null,null,null,{"$f":"N363","v":186.74603537227759},{"$f":"N361*'Input Data'!D83","v":186.74603537227759},"g CO2/bbl crude"]
[null,null,"4.1.3   CH4 emissions from water tanks (mass)",null,null,null,null,null,null,null,null,null,{"$f":"N364","v":1.5E-5},{"$f":"'Emissions Factors'!H71","v":1.5E-5},"g CH4/bbl water",null,"Shires and Harrison, 1996 (GRI/EPA study)"]
[]
[null,"4.2 Pneumatic devices usage intensity"]
[null,null,"4.2.1   High-bleed pneumatic",null,null,null,null,null,null,null,null,null,{"$f":"N367","v":2.8022387625594922E-2},{"$f":"145179/(1891*1000000)*365","v":2.8022387625594922E-2},"device per bbl/d",null,"EPA 2014, Annex 3.6, Table A-147. US crude oil production in 2012 was 1891 MMbbl"]
[null,null,"4.2.2   Low-bleed pneumatic",null,null,null,null,null,null,null,null,null,{"$f":"N368","v":5.2041549444738232E-2},{"$f":"269618/(1891*1000000)*365","v":5.2041549444738232E-2},"device per bbl/d",null,"EPA 2014, Annex 3.6, Table A-147. US crude oil production in 2012 was 1891 MMbbl"]
[]
[null,"4.3 Pneumatic device CH4 emissions rate"]
[null,null,"4.3.1   Low-bleed pneumatic",null,null,null,null,null,null,null,null,null,{"$f":"N371","v":52},52,"scf CH4/d",null,"EPA 2014, Annex 3.6, Table A-147"]
[null,null,"4.3.2   High-bleed pneumatic",null,null,null,null,null,null,null,null,null,{"$f":"N372","v":330},330,"scf CH4/d",null,"EPA 2014, Annex 3.6, Table A-147"]
[null,null,"4.3.3   Low-bleed pneumatic (mass)",null,null,null,null,null,null,null,null,null,{"$f":"N373","v":999.09135047674965},{"$f":"N371*'Input Data'!D84","v":999.09135047674965},"g CH4/device-d"]
[null,null,"4.3.4   High-bleed pneumatic (mass)",null,null,null,null,null,null,null,null,null,{"$f":"N374","v":6340.3874164870649},{"$f":"N372*'Input Data'!D84","v":6340.3874164870649},"g CH4/device-d"]
[]
[null,"4.4 Pneumatic device CO2 emissions rate"]
[null,null,"4.4.1   Low-bleed pneumatic",null,null,null,null,null,null,null,null,null,{"$f":"N377","v":1.05},1.05,"scf CO2/d",null,"EPA 2014, Annex 3.6, Table A-152"]
[null,null,"4.4.2   High-bleed pneumatic",null,null,null,null,null,null,null,null,null,{"$f":"N378","v":6.7},6.7,"scf CO2/d",null,"EPA 2014, Annex 3.6, Table A-152"]
[null,null,"4.4.3   Low-bleed pneumatic (mass)",null,null,null,null,null,null,null,null,null,{"$f":"N379","v":55.547687575323373},{"$f":"N377*'Input Data'!D83","v":55.547687575323373},"g CO2/device-d"]
[null,null,"4.4.4   High-bleed pneumatic (mass)",null,null,null,null,null,null,null,null,null,{"$f":"N380","v":354.44714929015868},{"$f":"N378*'Input Data'!D83","v":354.44714929015868},"g CO2/device-d"]
[]
[null,"4.5 Pneumatic chemical injection pumps usage intensity",null,null,null,null,null,null,null,null,null,null,{"$f":"N382","v":5.5400475938656799E-3},{"$f":"28702/(1891*1000000)*365","v":5.5400475938656799E-3},"device per bbl/d",null,"EPA 2014, Annex 3.6, Table A-147. US crude oil production in 2012 was 1891 MMbbl"]
[]
[null,"4.6 Pneumatic chemical injection pumps emissions rate"]
[null,null,"4.6.1   CH4 emissions from pneumatic chemical injection pumps",null,null,null,null,null,null,null,null,null,{"$f":"N385","v":248},248,"scf CH4/device-d",null,"EPA 2014, Annex 3.6, Table A-147"]
[null,null,"4.6.2   CO2 emissions from pneumatic chemical injection pumps",null,null,null,null,null,null,null,null,null,{"$f":"N386","v":5.0330000000000004},5.0330000000000004,"scf CO2/device-d",null,"EPA 2014, Annex 3.6, Table A-152"]
[null,null,"4.6.3   CH4 emissions from pneumatic chemical injection pumps (mass)",null,null,null,null,null,null,null,null,null,{"$f":"N387","v":4764.8972099660368},{"$f":"N385*'Input Data'!D84","v":4764.8972099660368},"g CH4/device-d"]
[null,null,"4.6.4   CO2 emissions from pneumatic chemical injection pumps (mass)",null,null,null,null,null,null,null,null,null,{"$f":"N388","v":266.25858244438336},{"$f":"N386*'Input Data'!D83","v":266.25858244438336},"g CO2/device-d"]

{"sheet":"Steam Generation","index":17,"n_rows":383,"n_cols":31,"rows_kept":383,"cut":false,"hidden":false,"merged":[]}
["Steam Generation",null,null,null,null,null,null,"Active field:",null,{"$f":"'Active Field'!C9","v":"Generic"}]
[]
["This supplemental worksheet models the energy consumption and emissions from steam generation for thermal enhanced oil recovery"]
["Overall error check",null,{"$f":"IF(AND(L15=\"OK\",M40=\"OK\",M44=\"OK\",M60=\"OK\",M91=\"OK\",G138=\"OK\",R138=\"OK\",G242=\"OK\",O242=\"OK\",G271=\"OK\",Q271=\"OK\",D310=\"OK\",G376=\"OK\",R376=\"OK\"),\"OK\",\"ERROR\")","v":"OK"}]
[]
["1 Inputs"]
[]
[null,null,null,null,null,null,null,null,null,null,null,null,"User","Default","Units",null,"User reference",null,"Default reference",null,null,"Notes",null,null,null,null,null,null,"Allowed options"]
["1.1   Key inputs (to be entered on \"Inputs\" sheet)"]
[null,"1.1.1   Steam flooding used",null,null,null,null,null,null,null,null,null,null,{"$f":"'Active Field'!J54","v":0},{"$f":"'Active Field'!K54","v":0},"[0-1] binary"]
[null,"1.1.2   Crude API gravity",null,null,null,null,null,null,null,null,null,null,{"$f":"'Active Field'!J73","v":30},{"$f":"'Active Field'!K73","v":30},"[-]"]
[null,"1.1.3   Crude Production rate",null,null,null,null,null,null,null,null,null,null,{"$f":"'Active Field'!J63","v":1500},{"$f":"'Active Field'!K63","v":1500},"STB/d"]
[null,"1.1.4   Steam oil ratio (SOR)",null,null,null,null,null,null,null,null,null,null,{"$f":"'Active Field'!J102","v":3},3,"bbl steam/STB oil"]
[null,"1.1.5   Share of steam production by steam generator type"]
[null,null,"1.1.5.1   Simple once-through steam generator (OTSG)",null,null,null,null,null,null,null,"Check:",{"$f":"IF(SUM(M15:M17)=1,\"OK\",\"ERROR\")","v":"OK"},{"$f":"1-M16-M17","v":1},{"$f":"1-N16-N17","v":1},"[-]",null,null,null,null,null,null,"Change on sheet \"Production & Extraction (p)\""]
[null,null,"1.1.5.2   Gas-turbine plus heat recovery steam generator (HRSG)",null,null,null,null,null,null,null,null,null,{"$f":"'Active Field'!J106","v":0},{"$f":"'Active Field'!K106","v":0},"[-]",null,null,null,null,null,null,"Change on sheet \"Production & Extraction (p)\""]
[null,null,"1.1.5.3   Solar thermal steam generator",null,null,null,null,null,null,null,null,null,{"$f":"'Active Field'!J107","v":0},{"$f":"'Active Field'!K107","v":0},null,null,null,null,null,null,null,"Shares of steam generation technologies must sum to 1."]
[null,"1.1.6   Field location (Country)",null,null,null,null,null,null,null,null,null,null,{"$f":"'Active Field'!J59","v":"Generic"},{"$f":"'Active Field'!K59","v":"Generic"}]
[]
[null,null,null,null,null,null,null,null,null,null,null,null,"User","Default","Units",null,"User reference",null,"Default reference"]
["1.2   Secondary inputs (to be entered on this sheet)"]
[null,"1.2.1   Use Canadian defaults for oil sands projects?",null,null,null,null,null,null,null,null,null,null,{"$f":"IF(M18=\"Canada\",\"Yes\",\"No\")","v":"No"},{"$f":"IF(N18=\"Canada\",\"Yes\",\"No\")","v":"No"},"Yes or no",null,null,null,null,null,null,null,null,null,null,null,null,null,"Yes","No"]
[null,"1.2.2   Steam injection type",null,null,null,null,null,null,null,null,null,null,"SF","SF","-",null,null,null,null,null,null,"No difference between CSS, SF, and SAGD in the current version",null,null,null,null,null,null,"CSS","SF","SAGD"]
[null,null,"CSS = Cyclic steam stimulation; SF = Steamfllood; SAGD = Steam-assisted gravity drainage"]
[]
[null,"1.2.3   Inlet water density",null,null,null,null,null,null,null,null,null,null,{"$f":"N26","v":350.43119999999999},{"$f":"'Input Data'!E2385","v":350.43119999999999},"lb/bbl",null,null,null,null,null,null,"Assume inlet water density is invariant with temperature and pressure."]
[null,"1.2.4   Excess pressure required for steam distribution losses"]
[null,null,"1.2.4.1   Frictional losses in steam distribution and injection lines",null,null,null,null,null,null,null,null,null,1.1000000000000001,1.1000000000000001,"psia/psia",null,null,null,"Chilingarian et al. 1987, p. 228",null,null,"Chilingarian, Robertson et al. note that \"piping friction losses can represent 10-50% of the steam pressure developed at the outlet of the steam generator.\" (p. 228)  We assume 25% loss of reservoir pressure for moderate approach."]
[null,null,"1.2.4.2   Choke pressure drop at wellhead",null,null,null,null,null,null,null,null,null,1.7,1.7,"psia/psia",null,null,null,"Sarathi and Olsen 1992, NIPER-580",null,null,"Upstream pressure 1.72 times that of downstream pressure at wellhead choke, as noted in p. 252 of Sarathi and Olsen (1992)"]
[null,"1.2.5   Steam quality at steam generator outlet",null,null,null,null,null,null,null,null,null,null,{"$f":"N30","v":0.8},{"$f":"IF(N22=\"No\",0.8,IF(N22=\"Yes\",0.77,\"ERROR\"))","v":0.8},"kg steam / kg H2O",null,null,null,null,null,null,"Non-Canadian data from expert communication related to Calfiornia heavy oil operations. Canadian default from COSIA template."]
[]
[null,"1.2.6   OTSG inputs",null,null,null,null,null,null,null,null,null,null,null,null,null,null,null,null,null,null,null,"Composition fractions must sum to 1."]
[null,null,"1.2.6.1   Air blower energy consumption for OTSG",null,null,null,null,null,null,null,null,null,{"$f":"3.7*1000000/745/(1488*24)","v":0.13906930311996343},{"$f":"3.7*1000000/745/(1488*24)","v":0.13906930311996343},"hp per MMBtu/d OTSG boiler capacity",null,null,null,null,null,null,"From COSIA SAGD template, p. 4 (COSIA 2014)"]
[null,null,"1.2.6.2   Air blower energy consumption for HRSG",null,null,null,null,null,null,null,null,null,0,0,"hp per MMBtu/d HRSG boiler capacity",null,null,null,null,null,null,"No blower assumed required for HRSG due to force of turbine exhaust"]
[]
[]
[null,null,"1.2.6.3   OTSG fuel input type (binary)"]
[null,null,null,"1.2.6.3.1  Gaseous fuels",null,null,null,null,null,null,null,null,1,1,"Btu/Btu",null,null,null,null,null,null,"Only choose 1 from gaseous or liquid fuels"]
[null,null,null,"1.2.6.3.2   Produced heavy crude",null,null,null,null,null,null,null,null,0,0]
[null,null,null,null,null,null,null,null,null,null,null,"Check:",{"$f":"IF(SUM(M38:M39)=1,\"OK\",\"ERROR\")","v":"OK"}]
[null,null,"1.2.6.4   OTSG gaseous fuels share"]
[null,null,null,"1.2.6.4.1   Fraction natural gas",null,null,null,null,null,null,null,null,1,1,null,null,null,null,null,null,null,"Shares for OTSG gaseous fuel must sum to 1."]
[null,null,null,"1.2.6.4.2   Fraction produced gas",null,null,null,null,null,null,null,null,0,0,null,null,null,null,null,null,null,"Shares for OTSG gaseous fuel must sum to 1."]
[null,null,null,null,null,null,null,null,null,null,null,"Check:",{"$f":"IF(SUM(M42:M43)=1,\"OK\",\"ERROR\")","v":"OK"}]
[]
[null,null,"1.2.6.5   OTSG excess air in combustion",null,null,null,null,null,null,null,null,null,1.2,1.2,"lbmol O2 real/lbmol O2 stoichiometric",null,null,null,null,null,null,"Moles of O2 at combustion conditions compared to mols of O2 at stoichiometric conditions"]
[null,null,"1.2.6.6   OTSG inlet air temperature",null,null,null,null,null,null,null,null,null,80.33,80.33,"°F"]
[null,null,"1.2.6.7   OTSG outlet exhaust temperature",null,null,null,null,null,null,null,null,null,350,350,"°F"]
[null,null,"1.2.6.8   Other OTSG loss"]
[null,null,null,"1.2.6.8.1   OTSG shell loss inefficiency",null,null,null,null,null,null,null,null,0.04,0.04,"Btu/Btu fuel"]
[null,null,null,"1.2.6.8.2   OTSG other loss - Gaseous fuels",null,null,null,null,null,null,null,null,5000,5000,"Btu/lbmol fuel",null,null,null,null,null,null,"Ganapathy (2003) pg. 262 cites as \"unaccounted loss\""]
[null,null,null,"1.2.6.8.3   OTSG other loss - Liquid fuels",null,null,null,null,null,null,null,null,250,250,"Btu/lbm fuel"]
[]
[null,"1.2.7   GT + HRSG inputs"]
[null,null,"1.2.7.1   Gas turbine properties",null,null,null,null,null,null,null,null,null,null,null,null,null,null,null,null,null,null,"Choose \"A\", \"B\", \"C\", \"D\""]
[null,null,null,"1.2.7.1.1   Turbine type",null,null,null,null,null,null,null,null,"C",{"$f":"IF(N22=\"No\",\"C\",IF(N22=\"Yes\",\"D\",\"ERROR\"))","v":"C"},"NA"]
[null,null,null,"1.2.7.1.2   Gas turbine fuel input type"]
[null,null,null,null,"1.2.7.1.2.1    Fraction natural gas",null,null,null,null,null,null,null,1,1,"Btu/Btu"]
[null,null,null,null,"1.2.7.1.2.2    Fraction product gas",null,null,null,null,null,null,null,0,0,"Btu/Btu"]
[null,null,null,null,null,null,null,null,null,null,null,"Check",{"$f":"IF(SUM(M58:M59)=1,\"OK\",\"ERROR\")","v":"OK"},null,null,null,null,null,null,null,null,"Fuel shares for gas turbine must sum to 1."]
[null,null,"1.2.7.2   HRSG properties"]
[null,null,null,"1.2.7.2.1   HRSG outlet exhaust temperature",null,null,null,null,null,null,null,null,350,350,"°F"]
[null,null,null,"1.2.7.2.2   HRSG shell losses",null,null,null,null,null,null,null,null,0.05,0.05,"Btu/Btu fuel",null,null,null,"Ganapathy (2003)"]
[null,null,null,"1.2.7.2.3   Duct firing?",null,null,null,null,null,null,null,null,0,0,"[0-1] binary"]
[]
[null,"1.2.8   Fraction of boiler inlet water from makeup",null,null,null,null,null,null,null,null,null,null,0,0,"[-]"]
[null,"1.2.9   Recycled produced water properties",null,null,null,null,null,null,null,null,null,null,null,null,null,null,null,null,"Non-Canadian data from expert communication related to Calfiornia heavy oil operations. Canadian default from COSIA template."]
[null,null,"1.2.9.1   Recycled produced water inlet temperature",null,null,null,null,null,null,null,null,null,{"$f":"IF(M22=\"Yes\",338,140)","v":140},{"$f":"IF(N22=\"Yes\",338,140)","v":140},"°F"]
[null,null,"1.2.9.2   Recycled produced water inlet pressure",null,null,null,null,null,null,null,null,null,200,200,"psia"]
[null,"1.2.10   Makeup water properties"]
[null,null,"1.2.10.1   Makeup water inlet temperature",null,null,null,null,null,null,null,null,null,50,50,"°F"]
[null,null,"1.2.10.2   Makeup water inlet pressure",null,null,null,null,null,null,null,null,null,100,100,"psia"]
[null,"1.2.11   Positive displacement pump efficiency",null,null,null,null,null,null,null,null,null,null,{"$f":"0.9*0.97","v":0.873},{"$f":"0.9*0.97","v":0.873},"[-]",null,null,null,"Tackett, Crype and Dyson 2008: Positive displacement reciprocating pump fundamentals",null,null,"From Figure 27 and associated text.  Assume 90% mechanical efficiency and 97% efficiency volumetric efficiency (slip and compressibility)"]
[]
[]
["1.3 Inputs from other sheets",null,null,null,null,null,null,null,null,null,null,null,null,null,null,null,null,null,null,null,null,"If \"ERROR\" is reported, check below for consistency."]
[null,"1.3.1  Bottomhole flowing pressure at injector",null,null,null,null,null,null,null,null,null,null,{"$f":"'Active Field'!J68","v":1556.6},{"$f":"'Active Field'!K68","v":1556.6},"psia",null,null,null,"Green & Willhite (1998), Fox (SPE 8001)",null,null,"Steam injection projects are given a non-standard default pressure of 500 psia, due to the fact that steam injection projects generally occur in shallow reservoirs that are pressure depleted.  Steam injection is more efficient at transfering heat to the formation and driving production in shallow reservoirs for a variety of reasons.  See Green & Willhite (1998) or Fox (SPE 8001) for details."]
[null,"1.3.2   Inlet air properties"]
[null,null,"1.3.2.1   Inlet air composition",null,null,null,null,null,null,null,null,"N2, Ar",{"$f":"'Input Data'!E104","v":0.77439599999999997},{"$f":"'Input Data'!E94","v":0.79020000000000001},"lbmol/lbmol air"]
[null,null,null,null,null,null,null,null,null,null,null,"O2",{"$f":"'Input Data'!E105","v":0.20530999999999999},{"$f":"'Input Data'!E95","v":0.20949999999999999},"lbmol/lbmol air"]
[null,null,null,null,null,null,null,null,null,null,null,"CO2",{"$f":"'Input Data'!E106","v":2.9399999999999999E-4},{"$f":"'Input Data'!E96","v":2.9999999999999997E-4},"lbmol/lbmol air"]
[null,null,null,null,null,null,null,null,null,null,null,"H2O",{"$f":"'Input Data'!E107","v":0.02},{"$f":"'Input Data'!E97","v":0},"lbmol/lbmol air"]
[null,null,null,null,null,null,null,null,null,null,null,"CH4",0,0,"lbmol/lbmol air"]
[null,null,null,null,null,null,null,null,null,null,null,"C2H6",0,0,"lbmol/lbmol air"]
[null,null,null,null,null,null,null,null,null,null,null,"C3H8",0,0,"lbmol/lbmol air"]
[null,null,null,null,null,null,null,null,null,null,null,"n-C4H10",0,0,"lbmol/lbmol air"]
[null,null,null,null,null,null,null,null,null,null,null,"CO",0,0,"lbmol/lbmol air"]
[null,null,null,null,null,null,null,null,null,null,null,"H2",0,0,"lbmol/lbmol air"]
[null,null,null,null,null,null,null,null,null,null,null,"H2S",0,0,"lbmol/lbmol air"]
[null,null,null,null,null,null,null,null,null,null,null,"SO2",0,0,"lbmol/lbmol air"]
[null,null,null,null,null,null,null,null,null,null,null,null,{"$f":"IF(SUM(M79:M90)=1,\"OK\",\"ERROR\")","v":"OK"}]
[null,null,"1.3.2.2   Inlet air weighted molar mass",null,null,null,null,null,null,null,null,null,{"$f":"SUMPRODUCT(M79:M90,'Fuel Specs'!E151:E162)","v":28.625943999999997},{"$f":"SUMPRODUCT(N79:N90,'Fuel Specs'!E151:E162)","v":28.8428},"lb/lbmol air"]
[]
[]
["2 Calculations"]
[]
["2.1   Calculated steam quantities and properties"]
[null,"2.1.1   Steam injection rate",null,null,null,null,null,null,null,null,null,null,{"$f":"M10*M13*M12","v":0},null,"bbl CWE/d",null,null,null,null,null,null,"Barrels of cold water equivalent (CWE) steam"]
[null,"2.1.2   Approximate water properties for lookup"]
[null,null,"2.1.2.1  Approximate recycled produced water inlet temperature",null,null,null,null,null,null,null,null,null,{"$f":"CEILING(M68-10,20)","v":140},null,"°F",null,null,null,null,null,null,"Round inlet water temperature to nearest 20 F."]
[null,null,"2.1.2.2   Approximate recycled produced water inlet pressure",null,null,null,null,null,null,null,null,null,{"$f":"MIN(MAX(CEILING(M69-50,100),100),1500)","v":200},null,"psia",null,null,null,null,null,null,"Round inlet water pressure to nearest 100 psi, with limits of 100 to 1500 psia."]
[null,null,"2.1.2.3   Approximate makeup water inlet temperature",null,null,null,null,null,null,null,null,null,{"$f":"CEILING(M71-10,20)","v":40},null,"°F"]
[null,null,"2.1.2.4   Approximate makeup water inlet pressure",null,null,null,null,null,null,null,null,null,{"$f":"MIN(MAX(CEILING(M72-50,100),100),1500)","v":100},null,"psia"]
[]
[null,"2.1.3   Required water mass",null,null,null,null,null,null,null,null,null,null,{"$f":"M98*M26","v":0},null,"lbm/d"]
[null,"2.1.4   Horsepower to pressurize incoming water",null,null,null,null,null,null,null,null,null,null,{"$f":"M98*(M66*(M108-M103)+(1-M66)*(M108-M101))*0.00001701/M73","v":0},null,"bhp",null,null,null,null,null,null,"See above for positive displacement pump assumptions"]
[null,"2.1.5   Inlet water enthalpy",null,null,null,null,null,null,null,null,null,null,{"$f":"M66*INDEX('Input Data'!F2942:F4509,MATCH(1,(M103='Input Data'!B2942:B4509)*(M102='Input Data'!C2942:C4509),0))+(1-M66)*INDEX('Input Data'!F2942:F4509,MATCH(1,(M101='Input Data'!B2942:B4509)*(M100='Input Data'!C2942:C4509),0))","v":108.5},null,"Btu/lbm"]
[null,"2.1.6   Boiler inlet pressure",null,null,null,null,null,null,null,null,null,null,{"$f":"M109+25","v":2935.8420000000001},null,"psia",null,null,null,null,null,null,"Assume simple 25 PSI pressure drop from inlet of boiler to outlet"]
[null,"2.1.7   Steam pressure at outlet of steam generator",null,null,null,null,null,null,null,null,null,null,{"$f":"IF(M22=\"No\",M77*M28*M29,IF(M22=\"Yes\",1450,\"ERROR\"))","v":2910.8420000000001},null,"psia",null,null,null,"Non-Canadian data from expert communication related to Calfiornia heavy oil operations. Canadian default from COSIA template.",null,null,"Steam pressure at wellbore must be higher than reservoir pressure."]
[null,null,"2.1.7.1   Approximate steam pressure",null,null,null,null,null,null,null,null,null,{"$f":"CEILING(M109-2.5,5)","v":2910},null,"psia",null,null,null,null,null,null,"Round steam pressure to nearest 5 psia"]
[null,"2.1.8   Saturated steam temperature (Tsteam)",null,null,null,null,null,null,null,null,null,null,{"$f":"VLOOKUP(M109,'Input Data'!B2440:K2937,2)","v":668.2},null,"°F"]
[null,"2.1.9   Steam mixture fluid enthalpy",null,null,null,null,null,null,null,null,null,null,{"$f":"VLOOKUP(M111,'Input Data'!C2440:K2937,4)","v":730.8},null,"Btu/lbm"]
[null,"2.1.10   Steam mixture vapor enthalpy",null,null,null,null,null,null,null,null,null,null,{"$f":"VLOOKUP(M111,'Input Data'!C2440:K2937,8)","v":1092},null,"Btu/lbm",null,null,null,null,null,null,"Lookup table. 10-1000 psia by increments of 10 psia, 1025-3000 psia by increments of 25 psia"]
[null,"2.1.11   Weighted enthalpy of saturated steam",null,null,null,null,null,null,null,null,null,null,{"$f":"M30*M113+((1-M30)*M112)","v":1019.76},null,"Btu/lbm"]
[null,"2.1.12   Enthalpy increase of water",null,null,null,null,null,null,null,null,null,null,{"$f":"M114-M107","v":911.26},null,"Btu/lbm"]
[null,"2.1.13   Energy demand for steam enthalpy change",null,null,null,null,null,null,null,null,null,null,{"$f":"M115*M105/1000000","v":0},null,"MMBtu/d "]
[]
["2.2   OTSG calculations"]
[null,"2.2.1   OTSG mass and energy balance"]
[]
[]
[null,null,null,{"$f":"D124/'Input Data'!E18","v":0},null,null,null,null,null,{"$f":"J124/'Input Data'!E18","v":0},null,null,null,null,{"$f":"O124*1055.05/1000","v":0},null,null,null,null,null,{"$f":"U124*1055.05/1000","v":0}]
[null,null,"Water in","kg/d",null,null,null,null,null,"kg/d","Steam out",null,null,"Water H","MJ/d",null,null,null,null,null,"MJ/d","Steam out"]
[null,null,null,{"$f":"M105*M15","v":0},null,null,null,null,null,{"$f":"M105*M15","v":0},null,null,null,null,{"$f":"M107*M105/1000*M15","v":0},null,null,null,null,null,{"$f":"M105*M114/1000*M15","v":0}]
[null,null,null,{"$f":"O105","v":"lbm/d"},null,null,"Once-through steam generator",null,null,{"$f":"D125","v":"lbm/d"},null,null,null,null,"MBtu/d",null,null,"Once-through steam generator",null,null,"MBtu/d"]
[]
[null,null,null,{"$f":"D129/'Input Data'!E18","v":0},null,null,"(OTSG)",null,null,{"$f":"J129/'Input Data'!E18","v":0},null,null,null,null,{"$f":"O129*1055.05/1000","v":0},null,null,"(OTSG)",null,null,{"$f":"U129*1055.05/1000","v":0}]
[null,null,"Air in","kg/d",null,null,null,null,null,"kg/d","Exhaust out",null,null,"Air H","MJ/d",null,null,null,null,null,"MJ/d","Exhaust out"]
[null,null,null,{"$f":"M38*SUM(F152:F163)*M92*D210+M39*SUM(G152:G163)*M92*E210","v":0},null,null,null,null,null,{"$f":"M38*SUM(H152:H163)*H179*D210+M39*SUM(I152:I163)*I179*E210","v":0},null,null,null,null,{"$f":"((F173*D210)+(G173*E210))/1000","v":0},null,null,null,null,null,{"$f":"(H173*D210+I173*E210)/1000","v":0}]
[null,null,null,"lbm/d",null,null,"Mass balance",null,null,"lbm/d",null,null,null,null,"MBtu/d",null,null,"Energy balance",null,null,"MBtu/d"]
[]
[null,null,null,{"$f":"D134/'Input Data'!E18","v":0},null,null,null,null,null,null,null,null,null,null,{"$f":"O134*1055.05/1000","v":0},null,null,null,null,null,{"$f":"U135*1055.05/1000","v":0}]
[null,null,"Fuel in","kg/d",null,null,null,null,null,null,null,null,null,"Fuel LHV","MJ/d",null,null,null,null,null,"MJ/d","Other waste heat out"]
[null,null,null,{"$f":"SUM(M38:M38)*D179*D210+M39*E210","v":0},null,null,null,null,null,null,null,null,null,null,{"$f":"(D215+E215)*1000","v":0}]
[null,null,null,"lbm/d",null,null,null,null,null,null,null,null,null,null,"MBtu/d",null,null,null,null,null,{"$f":"(((D195+M51)*D210)+((E195+M52)*E210))/1000","v":0}]
[null,null,null,null,null,null,null,null,null,null,null,null,null,null,null,null,null,null,null,null,"MBtu/d"]
[null,null,null,null,"Mass in",null,"Check",null,"Mass out",null,null,null,null,null,null,"Energy in",null,"Check:",null,"Energy out"]
[null,null,null,null,{"$f":"SUM(D122,D127,D132)/1000","v":0},"t/d",{"$f":"IF(E138>0,IF(ABS((E138-I138)/E138)<=0.02,\"OK\",\"ERROR\"),\"OK\")","v":"OK"},null,{"$f":"SUM(J122,J127)/1000","v":0},"t/d",null,null,null,null,null,{"$f":"(O122+O127+O132)/1000000","v":0},"TJ/d",{"$f":"IF(P138>0,IF(ABS((P138-T138)/P138)<=0.02,\"OK\",\"ERROR\"),\"OK\")","v":"OK"},null,{"$f":"SUM(U122,U127,U132)/1000000","v":0},"TJ/d"]
[]
[null,null,null,null,null,null,null,null,null,null,null,null,null,null,null,null,null,"Steam gen. efficiency"]
[null,null,null,null,null,null,null,null,null,null,null,null,null,null,null,null,null,{"$f":"IF(O134>0,(U124-O124)/O134,\"NA\")","v":"NA"}]
[null,"2.2.2   OTSG stoichiometry of combustion"]
[null,null,"2.2.2.1   OTSG crude liquid fuel mass fraction C",null,null,null,null,null,null,null,null,null,{"$f":"VLOOKUP(M11,'Fuel Specs'!B73:L114,3)/100","v":0.86242414860681105},"lbm C/lbm crude",null,null,null,null,null,null,null,"Mass fraction carbon"]
[null,null,"2.2.2.2   OTSG crude liquid fuel stoichiometric O2 requirements per C",null,null,null,null,null,null,null,null,null,{"$f":"VLOOKUP(M11,'Fuel Specs'!B73:L114,11)","v":1.4259534647458565},"lbmol O2/lbmol C"]
[null,null,"2.2.2.3   Stoichiometric O2 requirement",null,null,null,null,null,null,null,null,null,{"$f":"(E164+1/4*E165+E166)*M39","v":0},"lbmol O2 stoich./lbm crude liquid fuel consumed"]
[null,null,"2.2.2.4   Real O2 requirements",null,null,null,null,null,null,null,null,null,{"$f":"(M145*M46)","v":0},"lbmol O2 real/lbm crude liquid fuel consumed"]
[]
[null,"2.2.3   OTSG stream composition"]
[null,null,null,"Fuel composition",null,"Air requirement",null,"Exhaust comnposition"]
[null,null,null,"Gaseous fuels","Liquid fuels","Gaseous fuels","Liquid fuels","Gaseous fuels","Liquid fuels"]
[null,null,null,"lbmol/lbmol fuel","-","lbmol/lbmol fuel","lbmol air/lbm crude liquid fuel","lbmol/lbmol fuel","lbmol exhaust/lbm crude liquid fuel"]
[null,null,"N2, Ar",{"$f":"M$42*'Fuel Specs'!C230+M$43*'Fuel Specs'!C278","v":4.0000000000000001E-3},"-",{"$f":"(M$42*'Fuel Specs'!D261+M$43*'Fuel Specs'!D309)*(M$46)*$M$38","v":9.2877731742243448},{"$f":"$M$146*M79/$M$80","v":0},{"$f":"F152*M38","v":9.2877731742243448},{"$f":"(G152+E167/2)*M39","v":0}]
[null,null,"O2",{"$f":"M$42*'Fuel Specs'!C231+M$43*'Fuel Specs'!C279","v":0},"-",{"$f":"(M$42*'Fuel Specs'!D262+M$43*'Fuel Specs'!D310)*(M$46)*$M$38","v":2.4623999999999993},0,{"$f":"((M$42*'Fuel Specs'!$E262+M$43*'Fuel Specs'!$E310)+(($M$46-1)/$M$46)*F153)*M$38","v":0.41039999999999976},{"$f":"(G153-E164-1/4*E165-E166)*M39","v":0}]
[null,null,"CO2",{"$f":"M$42*'Fuel Specs'!C232+M$43*'Fuel Specs'!C280","v":0},"-",{"$f":"(M$42*'Fuel Specs'!D263+M$43*'Fuel Specs'!D311)*(M$46)*$M$38","v":3.5261097852028632E-3},0,{"$f":"((M$42*'Fuel Specs'!$E263+M$43*'Fuel Specs'!$E311)+(($M$46-1)/$M$46)*F154)*M$38","v":1.0395261097852029},{"$f":"(G154+E164)*M39","v":0}]
[null,null,"H2O",{"$f":"M$42*'Fuel Specs'!C233+M$43*'Fuel Specs'!C281","v":0},"-",{"$f":"(M$42*'Fuel Specs'!D264+M$43*'Fuel Specs'!D312)*(M$46)*$M$38","v":0.2398714139593785},0,{"$f":"((M$42*'Fuel Specs'!$E264+M$43*'Fuel Specs'!$E312)+(($M$46-1)/$M$46)*F155)*M$38","v":2.2718714139593787},{"$f":"(G155+E165/2)*M39","v":0}]
[null,null,"CH4",{"$f":"M$42*'Fuel Specs'!C234+M$43*'Fuel Specs'!C282","v":0.96599999999999997},"-",{"$f":"(M$42*'Fuel Specs'!D265+M$43*'Fuel Specs'!D313)*(M$46)*$M$38","v":0},0,{"$f":"((M$42*'Fuel Specs'!$E265+M$43*'Fuel Specs'!$E313)+(($M$46-1)/$M$46)*F156)*M$38","v":0},{"$f":"G156*M39","v":0}]
[null,null,"C2H6",{"$f":"M$42*'Fuel Specs'!C235+M$43*'Fuel Specs'!C283","v":0.02},"-",{"$f":"(M$42*'Fuel Specs'!D266+M$43*'Fuel Specs'!D314)*(M$46)*$M$38","v":0},0,{"$f":"((M$42*'Fuel Specs'!$E266+M$43*'Fuel Specs'!$E314)+(($M$46-1)/$M$46)*F157)*M$38","v":0},{"$f":"G157*M39","v":0}]
[null,null,"C3H8",{"$f":"M$42*'Fuel Specs'!C236+M$43*'Fuel Specs'!C284","v":0.01},"-",{"$f":"(M$42*'Fuel Specs'!D267+M$43*'Fuel Specs'!D315)*(M$46)*$M$38","v":0},0,{"$f":"((M$42*'Fuel Specs'!$E267+M$43*'Fuel Specs'!$E315)+(($M$46-1)/$M$46)*F158)*M$38","v":0},{"$f":"G158*M39","v":0}]
[null,null,"n-C4H10",{"$f":"M$42*'Fuel Specs'!C237+M$43*'Fuel Specs'!C285","v":0},"-",{"$f":"(M$42*'Fuel Specs'!D268+M$43*'Fuel Specs'!D316)*(M$46)*$M$38","v":0},0,{"$f":"((M$42*'Fuel Specs'!$E268+M$43*'Fuel Specs'!$E316)+(($M$46-1)/$M$46)*F159)*M$38","v":0},{"$f":"G159*M39","v":0}]
[null,null,"CO",{"$f":"M$42*'Fuel Specs'!C238+M$43*'Fuel Specs'!C286","v":0},"-",{"$f":"(M$42*'Fuel Specs'!D269+M$43*'Fuel Specs'!D317)*(M$46)*$M$38","v":0},0,{"$f":"((M$42*'Fuel Specs'!$E269+M$43*'Fuel Specs'!$E317)+(($M$46-1)/$M$46)*F160)*M$38","v":0},{"$f":"G160*M39","v":0}]
[null,null,"H2",{"$f":"M$42*'Fuel Specs'!C239+M$43*'Fuel Specs'!C287","v":0},"-",{"$f":"(M$42*'Fuel Specs'!D270+M$43*'Fuel Specs'!D318)*(M$46)*$M$38","v":0},0,{"$f":"((M$42*'Fuel Specs'!$E270+M$43*'Fuel Specs'!$E318)+(($M$46-1)/$M$46)*F161)*M$38","v":0},{"$f":"G161*M39","v":0}]
[null,null,"H2S",{"$f":"M$42*'Fuel Specs'!C240+M$43*'Fuel Specs'!C288","v":0},"-",{"$f":"(M$42*'Fuel Specs'!D271+M$43*'Fuel Specs'!D319)*(M$46)*$M$38","v":0},0,{"$f":"((M$42*'Fuel Specs'!$E271+M$43*'Fuel Specs'!$E319)+(($M$46-1)/$M$46)*F162)*M$38","v":0},{"$f":"G162*M39","v":0}]
[null,null,"SO2",{"$f":"M$42*'Fuel Specs'!C241+M$43*'Fuel Specs'!C289","v":0},"-",{"$f":"(M$42*'Fuel Specs'!D272+M$43*'Fuel Specs'!D320)*(M$46)*$M$38","v":0},0,{"$f":"((M$42*'Fuel Specs'!$E272+M$43*'Fuel Specs'!$E320)+(($M$46-1)/$M$46)*F163)*M$38","v":0},{"$f":"(G163+E166)*M39","v":0}]
[null,null,"C","-",{"$f":"VLOOKUP(M11,'Fuel Specs'!B73:Q114,12)","v":7.1868679050567583E-2},"-","-","-","-"]
[null,null,"H","-",{"$f":"VLOOKUP(M11,'Fuel Specs'!B73:Q114,13)","v":0.12057585139318885},"-","-","-","-"]
[null,null,"S","-",{"$f":"VLOOKUP(M11,'Fuel Specs'!B73:Q114,14)","v":4.6874999999999998E-4},"-","-","-","-"]
[null,null,"N","-",{"$f":"VLOOKUP(M11,'Fuel Specs'!B73:Q114,15)","v":1.4285714285714287E-4},"-","-","-","-"]
[]
[null,"2.2.4   OTSG stream enthalpies"]
[null,null,null,"Fuel enthalpy",null,"Air enthalpy",null,"Exhaust enthalpy",null,null,null,null,null,null,null,null,null,null,null,null,null,"Neglect latent heat of vaporization of air and exhaust H2O because working with LHV balance"]
[null,null,null,"Gaseous fuels","Liquid fuels","Gaseous fuels","Liquid fuels","Gaseous fuels","Liquid fuels"]
[null,null,null,"Btu LHV/lbmol","Btu LHV/lbm","Btu/lbmol fuel","Btu/lbm crude liquid fuel","Btu/lbmol fuel","Btu/lbm crude liquid fuel"]
[null,null,null,{"$f":"SUMPRODUCT(D152:D163,'Fuel Specs'!N131:N142)","v":355007.49885484145},{"$f":"VLOOKUP(M11,'Fuel Specs'!B24:O65,3)","v":17980},{"$f":"F152*'Input Data'!$C$2341+F153*'Input Data'!$D$2341+F154*'Input Data'!$E$2341+F155*('Input Data'!$I$2341)+1*'Input Data'!$J$2341","v":0},{"$f":"G152*'Input Data'!$C$2341+G153*'Input Data'!$D$2341+G154*'Input Data'!$E$2341+G155*('Input Data'!$I$2341)+1*'Input Data'!$J$2341","v":0},{"$f":"H152*'Input Data'!$C$2350+H153*'Input Data'!$D$2350+H154*'Input Data'!$E$2350+H155*('Input Data'!$I$2350)+H163*'Input Data'!F2350","v":26029.684521892334},{"$f":"I152*'Input Data'!$C$2350+I153*'Input Data'!$D$2350+I154*'Input Data'!$E$2350+I155*('Input Data'!$I$2350)+I163*'Input Data'!F2350","v":0}]
[]
[null,"2.2.5   OTSG stream molar masses"]
[null,null,null,"Fuel molar mass",null,"Air molar mass",null,"Exhaust molar mass"]
[null,null,null,"Gaseous fuels","Liquid fuels","Gaseous fuels","Liquid fuels","Gaseous fuels","Liquid fuels"]
[null,null,null,"lb/lbmol","lb/lbmol","lb/lbmol","lb/lbmol","lb/lbmol","lb/lbmol"]
[null,null,null,{"$f":"SUMPRODUCT(D152:D163,'Fuel Specs'!E151:E162)","v":16.608000000000001},"-",{"$f":"IFERROR(SUMPRODUCT(F152:F163,'Fuel Specs'!E151:E162)/SUM(F152:F163),0)","v":28.625944},{"$f":"IFERROR(SUMPRODUCT(G152:G163,'Fuel Specs'!E151:E162)/SUM(H152:H163),0)","v":0},{"$f":"IFERROR(SUMPRODUCT(H152:H163,'Fuel Specs'!E151:E162)/SUM(H152:H163),0)","v":27.658351802206322},{"$f":"IFERROR(SUMPRODUCT(I152:I163,'Fuel Specs'!E151:E162)/SUM(I152:I163),0)","v":0}]
[]
[null,"2.2.6   Mole fraction CO2 in exhaust"]
[null,null,null,"Gaseous fuels","Liquid fuels"]
[null,null,null,"lbmol CO2/lbmol exhaust","lbmol CO2/lbmol exhaust"]
[null,null,null,{"$f":"IFERROR(H154/SUM(H152:H163),0)","v":7.990472044919171E-2},{"$f":"IFERROR(I154/SUM(I152:I163),0)","v":0}]
[]
[null,"2.2.7   OTSG efficiency"]
[null,null,"2.2.7.1   OTSG input enthalpy per unit of fuel"]
[null,null,null,"Gaseous fuels","Liquid fuels"]
[null,null,null,"Btu/lbmol fuel","Btu/lbm fuel"]
[null,null,null,{"$f":"(F173+D173-H173)*M$38","v":328977.81433294911},{"$f":"(G173+E173-I173)*M39","v":0}]
[]
[null,null,"2.2.7.2   OTSG shell loss per unit of fuel"]
[null,null,null,"Gaseous fuels","Liquid fuels"]
[null,null,null,"Btu/lbmol fuel","Btu/lbm fuel"]
[null,null,null,{"$f":"(M50*D173)*M$38","v":14200.299954193659},{"$f":"(M50*E173)*M39","v":0}]
[]
[null,null,"2.2.7.3   OTSG available enthalpy per unit of fuel"]
[null,null,null,"Gaseous fuels","Liquid fuels"]
[null,null,null,"Btu/lbmol fuel","Btu/lbm fuel"]
[null,null,null,{"$f":"MAX(D190-D195-M51,0)","v":309777.51437875547},{"$f":"MAX((E190-E195-M52),0)","v":0}]
[]
[null,null,"2.2.7.4   OTSG efficiency"]
[null,null,null,{"$f":"IF(M38=1,(D200/D173),(E200/E173))","v":0.87259428428417507},"Btu in steam per Btu fuel combusted (LHV)"]
[]
[]
[null,"2.2.8   OTSG energy consumption"]
[null,null,"2.2.8.1   Fuels combusted for steam generation"]
[null,null,null,"Gaseous fuels","Liquid fuels"]
[null,null,null,"lbmol/d","lbm/d"]
[null,null,null,{"$f":"IFERROR((M116*M15*1000000)/D200,0)","v":0},{"$f":"IFERROR((M116*1000000)/E200,0)*M15","v":0}]
[]
[null,null,"2.2.8.2   Fuel energy consumed for steam generation"]
[null,null,null,"Gaseous fuels","Liquid fuels"]
[null,null,null,"MMBtu/d","MMBtu/d"]
[null,null,null,{"$f":"D210*D173/1000000","v":0},{"$f":"E210*E173/1000000","v":0}]
[]
[null,null,"2.2.8.3   Electricity consumption"]
[null,null,null,"2.2.8.3.1   Electricity consumption for water pumping",null,null,null,null,null,null,null,null,{"$f":"M106*Drivers!P112*24/1000000*M15","v":0},null,"MMBtu e-/d"]
[null,null,null,"2.2.8.3.2   Electricity consumption for air blowing",null,null,null,null,null,null,null,null,{"$f":"M33*D215*Drivers!P112*24/1000000*M15","v":0},null,"MMBtu e-/d"]
[]
[]
[]
["2.3   GT + HRSG calculations"]
[null,"2.3.1   GT + HRSG mass and energy balances"]
[]
[null,null,null,{"$f":"D228/'Input Data'!E18","v":0},null,null,null,null,null,null,null,{"$f":"L228*'Input Data'!E19","v":0},null,null,null,null,null,{"$f":"R228*'Input Data'!E19","v":0},"Steam out"]
[null,null,"Air in","kg/d",null,null,null,null,null,null,"Water in","kg/d",null,null,null,null,null,"kg/d"]
[null,null,null,{"$f":"E316*D233/D315","v":0},null,null,null,null,null,null,null,{"$f":"R228","v":0},null,null,null,null,null,{"$f":"M105*M16","v":0}]
[null,null,null,"lbm/d",null,null,null,null,null,null,null,"lbm/d",null,null,null,null,null,"lbm/d"]
[]
[null,null,null,{"$f":"D233/'Input Data'!E18","v":0},null,null,"Gas turbine",null,null,{"$f":"J233/'Input Data'!E18","v":0},null,null,null,null,"HRSG"]
[null,null,"Fuel in","kg/d",null,null,null,null,null,"kg/d","GT exhaust out",null,null,null,null,null,null,{"$f":"R234/'Input Data'!E18","v":0},"HRSG exhaust out"]
[null,null,null,{"$f":"D257*1000/D323","v":0},null,null,null,null,null,{"$f":"J256*1000/F323","v":0},null,null,null,null,null,null,null,"kg/d"]
[null,null,null,"lbm/d",null,null,"Mass balance",null,null,"lbm/d",null,null,null,null,"Mass balance",null,null,{"$f":"J233+L237","v":0}]
[null,null,null,null,null,null,null,null,null,null,null,{"$f":"L237*'Input Data'!E19","v":0},null,null,null,null,null,"lbm/d"]
[null,null,null,null,null,null,null,null,null,null,"Fuel in","kg/d"]
[null,null,null,null,null,null,null,null,null,null,null,{"$f":"M262*1000/D323","v":0}]
[null,null,null,null,null,null,null,null,null,null,null,"lbm/d"]
[]
[]
[null,null,null,null,"Mass in",null,"Check",null,"Mass out",null,null,null,"Mass in",null,"Check",null,"Mass out"]
[null,null,null,null,{"$f":"D226+D231","v":0},"kg",{"$f":"IFERROR(IF((ABS(E242-I242))/E242<=0.02,\"OK\",\"ERROR\"),\"OK\")","v":"OK"},null,{"$f":"SUM(J231)","v":0},"kg",null,null,{"$f":"L226+J231+L235","v":0},"kg",{"$f":"IFERROR(IF((ABS(M242-Q242))/M242<=0.02,\"OK\",\"ERROR\"),\"OK\")","v":"OK"},null,{"$f":"SUM(R226,R232)","v":0},"kg"]
[]
[]
[]
[null,null,null,null,null,null,null,null,"Power out"]
[null,null,null,null,null,null,null,{"$f":"I247*1055.05/1000","v":0},{"$f":"D257*M279","v":0}]
[null,null,null,null,null,null,null,"MJ/d","MBtu/d"]
[]
[null,null,null,{"$f":"D252*1055.05/1000","v":0},null,null,null,null,null,null,null,null,null,{"$f":"N252*1055.05/1000","v":0},null,null,null,null,null,{"$f":"T252*1055.05/1000","v":0}]
[null,null,"Air H","MJ/d",null,null,null,null,null,null,"Water in",null,null,"MJ/d",null,null,null,null,null,"MJ/d","Steam out"]
[null,null,null,{"$f":"D233/D315*E316*E321/1000","v":0},null,null,null,null,null,null,null,null,null,{"$f":"L228*M107/1000","v":0},null,null,null,null,null,{"$f":"M105*M114/1000*M16","v":0}]
[null,null,null,"MBtu/d",null,null,null,null,null,null,null,null,null,"MBtu/d",null,null,null,null,null,"MBtu/d",null,null,"Overall cogen. effic.:"]
[null,null,null,null,null,null,"Gas turbine",null,null,{"$f":"J256*1055.05/1000","v":0},null,null,null,{"$f":"N256*1055.05/1000","v":0},null,null,"HRSG",null,null,null,null,null,{"$f":"IFERROR((T250+H247)/D255,0)","v":0}]
[null,null,null,{"$f":"D257*1055.05/1000","v":0},null,null,null,null,null,"MJ/d","Exhaust in/out",null,null,"MJ/d",null,null,null,null,null,{"$f":"T257*1055.05/1000","v":0}]
[null,null,"Fuel LHV","MJ/d",null,null,"Energy balance",null,null,{"$f":"N256*E338","v":0},null,null,null,{"$f":"(T252-N252)/E333","v":0},null,null,"Energy balance",null,null,"MJ/d","Exhaust out"]
[null,null,null,{"$f":"J256/M281","v":0},null,null,null,null,null,"MBtu/d",null,null,null,"MBtu/d",null,null,null,null,null,{"$f":"N256*E334","v":0}]
[null,null,null,"MBtu/d",null,null,null,null,null,null,null,null,null,null,null,null,null,null,null,"MBtu/d"]
[null,null,null,null,null,null,null,null,null,null,null,null,null,null,null,null,"Efficiency:"]
[null,null,null,null,null,"Efficiency:",{"$f":"H247/D255","v":{"$error":"#DIV/0!"}},null,null,null,null,null,{"$f":"M262*1055.05/1000","v":0},null,null,null,{"$f":"IFERROR((T250-N250)/(J254+M260),0)","v":0}]
[null,null,null,null,null,null,null,null,null,null,null,"Duct fuel in","MJ/d"]
[null,null,null,null,null,null,null,null,null,null,null,null,{"$f":"N256*E339","v":0}]
[null,null,null,null,null,null,null,null,null,null,null,null,"MBtu/d"]
[]
[null,null,null,null,null,null,null,{"$f":"I265*1055.05/1000","v":0},{"$f":"D257*M280","v":0},null,null,null,null,null,null,null,{"$f":"R265*1055.05/1000","v":0},{"$f":"N256*E332","v":0}]
[null,null,null,null,null,null,null,"MJ/d","MBtu/d",null,null,null,null,null,null,null,"MJ/d","MBtu/d"]
[]
[null,null,null,null,null,null,null,null,"Other waste heat out",null,null,null,null,null,null,null,null,"Other waste heat out"]
[]
[null,null,null,null,"Energy in",null,"Check:",null,"Energy out",null,null,null,null,null,"Energy in",null,"Check",null,"Energy out"]
[null,null,null,null,{"$f":"(D250+D255+D260)/1000","v":0},"GJ",{"$f":"IFERROR(IF((ABS(E271-I271))/E271<=0.02,\"OK\",\"ERROR\"),\"OK\")","v":"OK"},null,{"$f":"SUM(H247,J254,H265)/1000","v":0},"GJ",null,null,null,null,{"$f":"(N250+N254)/1000","v":0},"MJ",{"$f":"IFERROR(IF((ABS(O271-S271))/O271<=0.02,\"OK\",\"ERROR\"),\"OK\")","v":"OK"},null,{"$f":"(T250+T255+Q265)/1000","v":0},"MJ"]
[null,null,null,null,null,null,null,null,null,null,null,null,null,null,null,null,null,null,null,null,null,"Energy check will report \"ERROR\" due to approximate gas turbine model."]
[]
[]
[]
[null,"2.3.2   Gas turbine properties"]
[null,"2.3.3   Gas turbine efficiencies"]
[null,null,"2.3.3.1   Input - Fuel LHV",null,null,null,null,null,null,null,null,null,1,"Btu/Btu LHV"]
[null,null,"2.3.3.2   Output - Electricity",null,null,null,null,null,null,null,null,null,{"$f":"IF(M56=\"A\",'Input Data'!G2301,IF(M56=\"B\",'Input Data'!H2301,IF(M56=\"C\",'Input Data'!I2301,IF(M56=\"D\",'Input Data'!J2301,\"ERROR\"))))","v":0.30929238317494734},"Btu e-/Btu LHV",null,null,null,null,"Based on Kim (2004), Table 2",null,null,"See documentation for calculation notes"]
[null,null,"2.3.3.3   Output - Other loss",null,null,null,null,null,null,null,null,null,{"$f":"IF(M56=\"A\",'Input Data'!G2304,IF(M56=\"B\",'Input Data'!H2304,IF(M56=\"C\",'Input Data'!I2304,IF(M56=\"D\",'Input Data'!J2304,\"ERROR\"))))","v":3.159467833189538E-2},"Btu loss / Btu LHV",null,null,null,null,"Based on Kim (2004), Table 2",null,null,"See documentation for calculation notes"]
[null,null,"2.3.3.4   Output - Exhaust thermal energy",null,null,null,null,null,null,null,null,null,{"$f":"M278-M279-M280","v":0.65911293849315733},"Btu exhaust / Btu LHV"]
[]
[null,null,"2.3.3.5   Gas turbine excess air in combustion",null,null,null,null,null,null,null,null,null,{"$f":"IF(M56=\"A\",'Input Data'!G2303,IF(M56=\"B\",'Input Data'!H2303,IF(M56=\"C\",'Input Data'!I2303,IF(M56=\"D\",'Input Data'!J2303,\"ERROR\"))))","v":3.5},"mol O2 real/mol O2 stoichiometric",null,null,null,null,"Based on Kim (2004)",null,null,"Moles of O2 at combustion conditions compared to mols of O2 at stoichiometic conditions. See documentation for calculation notes."]
[null,null,"2.3.3.6   Gas turbine outlet exhaust temperature",null,null,null,null,null,null,null,null,null,{"$f":"IF(M56=\"A\",'Input Data'!G2300,IF(M56=\"B\",'Input Data'!H2300,IF(M56=\"C\",'Input Data'!I2300,IF(M56=\"D\",'Input Data'!J2300,\"ERROR\"))))","v":949.99},"°F",null,null,null,null,null,null,null,"This temperature is calculated externally to satisfy the energy balance on the gas turbine.  See documentation for calculation notes."]
[null,null,"2.3.3.7   Gas turbine other inefficiencies"]
[null,null,null,"2.3.3.7.1   Gas turbine other inefficiencies",null,null,null,null,null,null,null,null,{"$f":"M280","v":3.159467833189538E-2},"Btu/Btu fuel"]
[null,null,null,"2.3.3.7.2   Gas turbine other loss",null,null,null,null,null,null,null,null,{"$f":"M286*D321","v":11216.347731729433},"Btu/lbmol fuel"]
[]
[null,"2.3.4   HRSG properties"]
[null,null,"2.3.4.1   HRSG inlet gas temperature",null,null,null,null,null,null,null,null,null,{"$f":"IF(M64=0,M284,IF(M64=1,1300,\"ERROR\"))","v":949.99},"°F",null,null,null,null,null,null,null,"No loss between turbine and HRSG. If duct firing is used, HRSG inlet temperature is increased to 1300 F (Ganapathy 1996, Table 5)"]
[null,null,"2.3.4.2   HRSG exhaust outlet temperature",null,null,null,null,null,null,null,null,null,350,"°F"]
[null,null,"2.3.4.3   HRSG shell loss",null,null,null,null,null,null,null,null,null,{"$f":"M63*G321","v":11648.953154909366},"Btu/lbmol fuel"]
[null,null,"2.3.4.4   HRSG efficiency",null,null,null,null,null,null,null,null,null,{"$f":"Q260","v":0},"Btu steam/Btu inlet enthalpy"]
[]
[null,"2.3.5   Gas turbine + HRSG stream composition"]
[null,null,null,"GT fuel","GT inlet air","GT exhaust","HRSG inlet","HRSG exhaust"]
[null,null,null,"lbmol/lbmol GT fuel","lbmol/lbmol GT fuel","lbmol/lbmol GT fuel","lbmol/lbmol GT fuel","lbmol/lbmol GT fuel"]
[null,null,"N2, Ar",{"$f":"M$58*'Fuel Specs'!C230+M$59*'Fuel Specs'!C278","v":4.0000000000000001E-3},{"$f":"(M$58*'Fuel Specs'!D261+M$59*'Fuel Specs'!D309)*(M$283)","v":27.089338424821005},{"$f":"(M$58*'Fuel Specs'!$E261+M$59*'Fuel Specs'!$E309)+(($M$283-1)/$M$283)*E298","v":27.093338424821006},{"$f":"IF($M$64=0,F298,IF($M$64=1,F298,\"ERROR\"))","v":27.093338424821006},{"$f":"G298","v":27.093338424821006}]
[null,null,"O2",{"$f":"M$58*'Fuel Specs'!C231+M$59*'Fuel Specs'!C279","v":0},{"$f":"(M$58*'Fuel Specs'!D262+M$59*'Fuel Specs'!D310)*(M$283)","v":7.1819999999999986},{"$f":"(M$58*'Fuel Specs'!$E262+M$59*'Fuel Specs'!$E310)+(($M$283-1)/$M$283)*E299","v":5.129999999999999},{"$f":"IF($M$64=0,F299,IF($M$64=1,F299-M329*D302-M329*D303*2-M329*D304*3-M329*D302-D303*3/2-D304*2,\"ERROR\"))","v":5.129999999999999},{"$f":"G299","v":5.129999999999999},null,null,null,null,null,null,null,null,null,null,null,null,null,"Change composition of natural gas, associated gas in \"Fuel Specs\" sheet."]
[null,null,"CO2",{"$f":"M$58*'Fuel Specs'!C232+M$59*'Fuel Specs'!C280","v":0},{"$f":"(M$58*'Fuel Specs'!D263+M$59*'Fuel Specs'!D311)*(M$283)","v":1.0284486873508351E-2},{"$f":"(M$58*'Fuel Specs'!$E263+M$59*'Fuel Specs'!$E311)+(($M$283-1)/$M$283)*E300","v":1.0462844868735082},{"$f":"IF($M$64=0,F300,IF($M$64=1,F300+D302*M329+D303*M329*2+D304*M329*3,\"ERROR\"))","v":1.0462844868735082},1.0462844868735082]
[null,null,"H2O",{"$f":"M$58*'Fuel Specs'!C233+M$59*'Fuel Specs'!C281","v":0},{"$f":"(M$58*'Fuel Specs'!D264+M$59*'Fuel Specs'!D312)*(M$283)","v":0.69962495738152064},{"$f":"(M$58*'Fuel Specs'!$E264+M$59*'Fuel Specs'!$E312)+(($M$283-1)/$M$283)*E301","v":2.7316249573815208},{"$f":"IF($M$64=0,F301,IF($M$64=1,F301+D302*M329*2+D303*M329*3+D304*M329*4,\"ERROR\"))","v":2.7316249573815208},2.7316249573815208]
[null,null,"CH4",{"$f":"M$58*'Fuel Specs'!C234+M$59*'Fuel Specs'!C282","v":0.96599999999999997},{"$f":"(M$58*'Fuel Specs'!D265+M$59*'Fuel Specs'!D313)*(M$283)","v":0},{"$f":"(M$58*'Fuel Specs'!$E265+M$59*'Fuel Specs'!$E313)+(($M$283-1)/$M$283)*E302","v":0},{"$f":"IF($M$64=0,F302,IF($M$64=1,F302,\"ERROR\"))","v":0},0]
[null,null,"C2H6",{"$f":"M$58*'Fuel Specs'!C235+M$59*'Fuel Specs'!C283","v":0.02},{"$f":"(M$58*'Fuel Specs'!D266+M$59*'Fuel Specs'!D314)*(M$283)","v":0},{"$f":"(M$58*'Fuel Specs'!$E266+M$59*'Fuel Specs'!$E314)+(($M$283-1)/$M$283)*E303","v":0},0,0]
[null,null,"C3H8",{"$f":"M$58*'Fuel Specs'!C236+M$59*'Fuel Specs'!C284","v":0.01},{"$f":"(M$58*'Fuel Specs'!D267+M$59*'Fuel Specs'!D315)*(M$283)","v":0},{"$f":"(M$58*'Fuel Specs'!$E267+M$59*'Fuel Specs'!$E315)+(($M$283-1)/$M$283)*E304","v":0},0,0]
[null,null,"n-C4H10",{"$f":"M$58*'Fuel Specs'!C237+M$59*'Fuel Specs'!C285","v":0},{"$f":"(M$58*'Fuel Specs'!D268+M$59*'Fuel Specs'!D316)*(M$283)","v":0},{"$f":"(M$58*'Fuel Specs'!$E268+M$59*'Fuel Specs'!$E316)+(($M$283-1)/$M$283)*E305","v":0},0,0]
[null,null,"CO",{"$f":"M$58*'Fuel Specs'!C238+M$59*'Fuel Specs'!C286","v":0},{"$f":"(M$58*'Fuel Specs'!D269+M$59*'Fuel Specs'!D317)*(M$283)","v":0},{"$f":"(M$58*'Fuel Specs'!$E269+M$59*'Fuel Specs'!$E317)+(($M$283-1)/$M$283)*E306","v":0},0,0]
[null,null,"H2",{"$f":"M$58*'Fuel Specs'!C239+M$59*'Fuel Specs'!C287","v":0},{"$f":"(M$58*'Fuel Specs'!D270+M$59*'Fuel Specs'!D318)*(M$283)","v":0},{"$f":"(M$58*'Fuel Specs'!$E270+M$59*'Fuel Specs'!$E318)+(($M$283-1)/$M$283)*E307","v":0},0,0]
[null,null,"H2S",{"$f":"M$58*'Fuel Specs'!C240+M$59*'Fuel Specs'!C288","v":0},{"$f":"(M$58*'Fuel Specs'!D271+M$59*'Fuel Specs'!D319)*(M$283)","v":0},{"$f":"(M$58*'Fuel Specs'!$E271+M$59*'Fuel Specs'!$E319)+(($M$283-1)/$M$283)*E308","v":0},0,0]
[null,null,"SO2",{"$f":"M$58*'Fuel Specs'!C241+M$59*'Fuel Specs'!C289","v":0},{"$f":"(M$58*'Fuel Specs'!D272+M$59*'Fuel Specs'!D320)*(M$283)","v":0},{"$f":"(M$58*'Fuel Specs'!$E272+M$59*'Fuel Specs'!$E320)+(($M$283-1)/$M$283)*E309","v":0},0,0]
[null,null,"Check",{"$f":"IF(SUM(D298:D306)=1,\"OK\",\"ERROR\")","v":"OK"}]
[null,null,null,null,null,null,null,null,null,null,null,null,null,null,null,null,null,null,null,null,null,"Composition fractions must sum to 1."]
[null,"2.3.6   Gas turbine + HRSG stream molar mass"]
[null,null,null,"GT fuel","GT inlet air","GT exhaust","HRSG inlet","HRSG exhaust"]
[null,null,null,"lbmol/lbmol fuel","lbmol/lbmol fuel","lbmol/lbmol fuel","lbmol/lbmol fuel","lbmol/lbmol fuel"]
[null,null,null,{"$f":"SUMPRODUCT(D298:D309,'Fuel Specs'!E151:E162)","v":16.608000000000001},{"$f":"SUMPRODUCT(E298:E309,'Fuel Specs'!E151:E162)/SUM(E298:E309)","v":28.625943999999997},{"$f":"SUMPRODUCT(F298:F309,'Fuel Specs'!E151:E162)/SUM(F298:F309)","v":28.276221042457326},{"$f":"SUMPRODUCT(G298:G309,'Fuel Specs'!E151:E162)/SUM(G298:G309)","v":28.276221042457326},{"$f":"G315","v":28.276221042457326},"lb/lbmol stream"]
[null,null,null,{"$f":"D315","v":16.608000000000001},{"$f":"SUM(E298:E309)*M92","v":1001.3712425502898},{"$f":"F315*(SUM(F298:F309))","v":1017.9792425502899},{"$f":"G315*(SUM(G298:G309))","v":1017.9792425502899},{"$f":"G316","v":1017.9792425502899},"lb/lbmol fuel"]
[]
[null,"2.3.7   Gas turbine + HRSG stream enthalpy"]
[null,null,null,"GT fuel","GT inlet air","GT exhaust","HRSG inlet","HRSG exhaust"]
[null,null,null,"Btu/lbmol","Btu/lbmol","Btu/lbmol","Btu/lbmol","Btu/lbmol"]
[null,null,null,{"$f":"SUMPRODUCT(D298:D309,'Fuel Specs'!N131:N142)","v":355007.49885484145},{"$f":"E298*'Input Data'!$C$2341+E299*'Input Data'!$D$2341+E300*'Input Data'!$E$2341+E301*('Input Data'!$I$2341)+1*'Input Data'!$J$2341","v":0},{"$f":"F298*'Input Data'!$C$2359+F299*'Input Data'!$D$2359+F300*'Input Data'!$E$2359+F301*('Input Data'!$I$2359)","v":232979.0630981873},{"$f":"G298*'Input Data'!$C$2367+G299*'Input Data'!$D$2367+G300*'Input Data'!$E$2367+G301*('Input Data'!$I$2367)","v":232979.0630981873},{"$f":"G298*'Input Data'!$C$2375+G299*'Input Data'!$D$2375+G300*'Input Data'!$E$2375+G301*('Input Data'!$I$2375)","v":69860.336457752608},"Btu/lbmol GT fuel"]
[null,null,null,{"$f":"D321/SUM(D298:D309)","v":355007.49885484145},{"$f":"E321/SUM(E298:E309)","v":0},{"$f":"F321/SUM(F298:F309)","v":6471.4163227188892},{"$f":"G321/SUM(G298:G309)","v":6471.4163227188892},{"$f":"H321/SUM(H298:H309)","v":1940.4976380766091},"Btu/lbmol stream"]
[null,null,null,{"$f":"D322/D315","v":21375.69236842735},{"$f":"E322/E315","v":0},{"$f":"F322/F315","v":228.86425710854095},{"$f":"G322/G315","v":228.86425710854095},{"$f":"H322/H315","v":68.626484252012034},"Btu/lb stream"]
[]
[null,"2.3.8   Duct firing"]
[null,null,"2.3.8.1   Duct firing: Btu added per lbmol of exhaust stream",null,null,null,null,null,null,null,null,null,{"$f":"G322-F322","v":0},"Btu/lbmol stream"]
[null,null,"2.3.8.2   Duct firing: Btu added per lbmol of GT fuel",null,null,null,null,null,null,null,null,null,{"$f":"G321-F321","v":0},"Btu/lbmol GT fuel"]
[null,null,"2.3.8.3   Computed additional fuel needed in duct firing to raise exhaust temp",null,null,null,null,null,null,null,null,null,{"$f":"M327/D321","v":0},"lbmol additional fuel in duct firing"]
[null,null,"2.3.8.4   Approximate additional fuel needed in duct firing to raise exhaust temp (approximated to avoid iteration)",null,null,null,null,null,null,null,null,null,0.3,"lbmol addtional fuel (approx) in duct firing",null,null,null,null,null,"Approximate lbmol addtional fuel needed, decoupled to prevent iterative calculation"]
[]
[null,"2.3.9   HRSG energy partitioning"]
[null,null,null,"Shell loss",{"$f":"(G322-H322)*0.05/G322","v":3.5007164264303336E-2}]
[null,null,null,"Available to steam",{"$f":"(1-E334)*(1-M63)","v":0.66513612102176334}]
[null,null,null,"Lost to exhaust",{"$f":"H322/G322","v":0.29985671471393327}]
[null,null,null,"Total",{"$f":"SUM(E332:E334)","v":1}]
[]
[null,"2.3.10   Flue gas energy inputs"]
[null,null,null,"GT exhaust",{"$f":"F321/G321","v":1}]
[null,null,null,"Duct firing",{"$f":"1-E338","v":0}]
[]
[null,"2.3.11   Gas turbine exhaust mole fraction CO2"]
[null,null,null,"GT exhaust","HRSG inlet","HRSG exhaust"]
[null,null,null,"lbmol/lbmol fuel","lbmol/lbmol fuel","lbmol/lbmol fuel"]
[null,null,null,{"$f":"F300/SUM(F298:F309)","v":2.9062450576115565E-2},{"$f":"G300/SUM(G298:G309)","v":2.9062450576115565E-2},{"$f":"H300/SUM(H298:H309)","v":2.9062450576115565E-2},"mol CO2/mol exhaust"]
[]
[null,"2.3.12   GT+HRSG overall energy summary"]
[null,null,"2.3.12.1   NG consumption in GT and duct firing",null,null,null,null,null,null,null,null,null,{"$f":"(D257+M262)/1000","v":0},"mmBtu/d"]
[null,null,"2.3.12.2   Power consumed in pumps (MMBtu electricity)",null,null,null,null,null,null,null,null,null,{"$f":"M106*M16*Drivers!P112*24/1000000","v":0},"MMBtu e-/d"]
[null,null,"2.3.12.3   Power consumed in air blowers (MMBtu electricity)",null,null,null,null,null,null,null,null,null,{"$f":"M34*M347*Drivers!P112*24/1000000","v":0},"MMBtu e-/d"]
[null,null,"2.3.12.4   Net power generated",null,null,null,null,null,null,null,null,null,{"$f":"I247/1000-M349-M348","v":0},"MMBtu e-/d"]
[]
[null,"2.3.13   Overall cogeneration efficiency [(Btu elec + Btu steam) / Btu energy input]",null,null,null,null,null,null,null,null,null,null,{"$f":"IFERROR((T252+I247)/(D257+M262),\"NA\")","v":"NA"},"Efficiency, LHV basis"]
[]
[]
[]
["2.4   Solar thermal calculations"]
[null,"2.4.1   Solar thermal mass and energy balances"]
[]
[]
[null,null,null,{"$f":"D362/'Input Data'!E18","v":0},null,null,null,null,null,{"$f":"J362/'Input Data'!E18","v":0},null,null,null,null,{"$f":"O362*1055.05/1000","v":0},null,null,null,null,null,{"$f":"U362*1055.05/1000","v":0}]
[null,null,"Water in","kg/d",null,null,null,null,null,"kg/d","Steam out",null,null,"Water H","MJ/d",null,null,null,null,null,"MJ/d","Steam out"]
[null,null,null,{"$f":"M105*M17","v":0},null,null,null,null,null,{"$f":"M105*M17","v":0},null,null,null,null,{"$f":"M107*M105/1000*M17","v":0},null,null,null,null,null,{"$f":"M105*M114/1000*M17","v":0}]
[null,null,null,"lbm/d",null,null,"Solar thermal steam generator",null,null,{"$f":"D363","v":"lbm/d"},null,null,null,null,"MBtu/d",null,null,"Solar thermal steam generator",null,null,"MBtu/d"]
[]
[null,null,null,null,null,null,"(STSG)",null,null,null,null,null,null,null,{"$f":"O367*1055.05/1000","v":0},null,null,"(STSG)"]
[null,null,null,null,null,null,null,null,null,null,null,null,null,"Solar energy","MJ/d"]
[null,null,null,null,null,null,null,null,null,null,null,null,null,null,{"$f":"U362-O362","v":0}]
[null,null,null,null,null,null,"Mass balance",null,null,null,null,null,null,null,"MBtu/d",null,null,"Energy balance"]
[]
[]
[]
[]
[]
[]
[null,null,null,null,"Mass in",null,"Check",null,"Mass out",null,null,null,null,null,null,"Energy in",null,"Check:",null,"Energy out"]
[null,null,null,null,{"$f":"SUM(D360)/1000","v":0},"t/d",{"$f":"IF(E376>0,IF(ABS((E376-I376)/E376)<=0.02,\"OK\",\"ERROR\"),\"OK\")","v":"OK"},null,{"$f":"SUM(J360)/1000","v":0},"t/d",null,null,null,null,null,{"$f":"(O360+O365+O370)/1000000","v":0},"TJ/d",{"$f":"IF(P376>0,IF(ABS((P376-T376)/P376)<=0.02,\"OK\",\"ERROR\"),\"OK\")","v":"OK"},null,{"$f":"SUM(U360,U365,U369)/1000000","v":0},"TJ/d"]
[]
[null,null,null,null,null,null,null,null,null,null,null,null,null,null,null,null,"Eff:",{"$f":"IF(O372>0,U362/O372,\"NA\")","v":"NA"},"LHV basis"]
[]
[null,"2.4.2   Solar thermal electrical requirements for pumping"]
[null,null,"2.4.2.1   Water pumping"]
[null,null,"2.4.2.2   Solar thermal HTF pumping",null,null,null,null,null,null,null,null,null,{"$f":"M106*Drivers!P112*24/1000000*M17","v":0},"kWh/d"]
[null,null,null,null,null,null,null,null,null,null,null,null,{"$f":"O367/1000*M33*Drivers!P112*24/1000000*M17","v":0},"kWh/d",null,"John O'Donnell, GlassPoint, suggests solar thermal pumping work is similar to electrical load of OTSG, so include solar HTF pumping equivalent to air blowers in OTSG"]

{"sheet":"Upgrading","index":18,"n_rows":183,"n_cols":6,"rows_kept":183,"cut":false,"hidden":false,"merged":[]}
["Supplemental worksheet: Heavy crude and bitumen upgrading"]
[]
["This supplemental worksheet contains results from the OSTUM model for three upgraders that process bitumen into synthetic crude oil"]
["Note: These results are based on modeling of bitumen upgrading in three Canadian upgraders. Application to other global heavy-oil resources will result in increased uncertainty."]
[]
["1 Data inputs and data collection notes"]
[]
[]
["1.1  Delayed coking"]
[]
[null,"Delayed coking model results",null,null,null,"Notes"]
[null,"Capacity","370,000 bpd of bitumen"]
[null,"Simlar real-world project","Suncor upgrader"]
[null,"SCO/bitumen",0.83]
[null,"Feedstock","Borealis Heavy Blend (BHB)"]
[null,"Product Quality","Sweet SCO, properties similar to Suncor Synthetic A (Density: 858.1 kg/m3; API: 33.2 °API, S Content: 0.18 wt%; N Content: 692.3 mass ppm)"]
[null,"Heating Values","LHV"]
[null,"Use of By-Products","Process Gas: 65%; Coke: 11%"]
[null,"LHV of Natural Gas"," @ 32F, 1 atm: 983 Btu/ft3 = 47.14 MJ/kg (density @ 32F, 1 atm: 22 grams/ft3); from: GREET1_2015"]
[null,"LHV of Process Gas"," @ 32F, 1 atm: 982 Btu/ft3 = 51.04 MJ/kg (density @ 32F, 1 atm: 20.3 grams/ft3); from: GREET1_2015"]
[null,"LHV of Gaseous Hydrogen"," @ 32F, 1 atm:  290 Btu/ft3 = 119.99; from: GREET1_2015"]
[null,"Specific Enthalpy of Superheated Steam for Stripping"," @ 600°F, 14 psi: 3,105.87 KJ/kg; from: Superheated Steam Table. Engineering Calculator, by TLV. \n",null,null,"http://www.tlv.com/global/TI/calculator/superheated-steam-table.html"]
[null,"OSTUM Results","Value","Unit","Comparison of Selected Results with AER's ST-39 Average Data for 2008-2014 (Data for 2014 in parenthesis)","Notes"]
[null,"NG Intensity Factor (Excluding Cogen)",336.86211409779946,"scf/bbl SCO"]
[null,"NG Imported (Excluding Cogen)",103936.93833507791,"mscf/d"]
[null,"Total NG to Hydrogen Plant ",103936.93833507791,"mscf/d"]
[null,"NG to Heating Rest of Process Units (Excluding Cogen)",0,"mscf/d"]
[null,"Fraction NG to Hydrogen Plant",1]
[null,"Fraction NG to Heating Rest of Process Units (Excluding Cogen)",0]
[null,"PG Yield Factor",10.161064762298185,"kg/bbl SCO",null,"PG: Clean Process Gas. There may be significant compositional variation among multiple fuel gas systems within an upgrader, so it is difficult to obtain a typical MW to convert to scf units."]
[null,"PG Yield Factor",14.173857738391895,"m3/bbl SCO"]
[null,"PG Yield Factor",{"$f":"C31*'Input Data'!E39","v":500.54506188452552},"scf/bbl SCO"]
[null,"PG Yield Factor",89.150883061054728,"m3/m3 SCO","78 m3/m3 SCO (84 m3/m3 SCO for 2014)"]
[null,"PG Generation",3135.1402173742349,"ton/d"]
[null,"PG Generation",4373265.2502967492,"m3/d"]
[null,"Total PG Used",2037.8411412932528,"ton/d"]
[null,"Total PG Used",2842622.4126928868,"m3/d"]
[null,"PG to Heating Hydrogen Plant",0,"ton/d"]
[null,"PG to Heating Hydrogen Plant",0,"m3/d"]
[null,"PG to Heating Rest of Process Units",2037.8411412932528,"ton/d"]
[null,"PG to Heating Rest of Process Units",2842622.4126928868,"m3/d"]
[null,"PG Flared/Sold",1097.2990760809821,"ton/d"]
[null,"PG Flared/Sold",1530642.8376038624,"m3/d"]
[null,"Fraction of PG Production Used",0.65,null,"Fraction of PG Production Used as Fuel: 0.647"]
[null,"Fraction of PG Production to Heating Hydrogen Plant",0]
[null,"Fraction of PG Production to Heating Rest of Process Units",0.65]
[null,"Fraction of PG Production Flared/Sold",0.35,null,"Fraction of PG Production Flared/Wasted: 0.056; Fraction of PG Production for Deliveries: 0.296 (actual amount of PG deliveries might be higher: if the upgrading plant has PG receipts, then all the remaining PG production not used as fuel/flared + PG receipts = 'PG Deliveries')"]
[null,"NG + PG for Heating (Excluding Cogen)",63.579121291859877,"m3/m3 SCO","NG+PG Used as Fuel (Including Cogeneration and Mining Operations) = 120 m3/m3 SCO","NG: Natural gas"]
[null,"NG + PG for Heating (Excluding Cogen)",{"$f":"C48/'Input Data'!E36","v":10.108272830565314},"m3/bbl SCO"]
[null,"NG + PG for Heating (Excluding Cogen)",{"$f":"C49*'Input Data'!E39","v":356.97028592407958},"scf/bbl SCO"]
[null,"Coke Yield Factor",42.582220281656049,"kg/bbl SCO"]
[null,"Coke Yield Factor",267.83410775510555,"kg/m3 SCO","247 kg/m3 SCO (278 kg/m3 SCO for 2014)"]
[null,"Coke Generation",13138.508067132327,"ton/d"]
[null,"Coke to Boilers",1392.6460226808929,"ton/d"]
[null,"Coke Stockpiled",11745.862044451434,"ton/d"]
[null,"Fraction Coke to Boilers",0.10599727271658618,null,"0.18 (0.10 in 2014)"]
[null,"Fraction Coke Stockpiled",0.8940027272834139]
[null,"Fraction Coke Exported","NA",null,"Fraction of Coke Production for Deliveries = 0.14 (0.14 in 2014)"]
[null,"Steam  Requirements",113.83687584669924,"mBtu steam/bbl SCO"]
[null,"Electricity Intensity Factor",5.4511809924611656,"kWh/bbl SCO"]
[null,"Electricity Intensity Factor",34.286896917782002,"kWh/m3 SCO","127 kWh/m3 SCO for upgrading+mining operations (135 kWh/m3 SCO in 2014)"]
[null,"Electricity Requirements",1681.9316834848721,"MWh/d"]
[null,"Hydrogen Intensity Factor",704.58005614726665,"scf/bbl bitumen"]
[null,"Hydrogen Intensity Factor",844.91915083565038,"scf/bbl SCO"]
[null,"Hydrogen Efficiency",0.73635757228329801,"MJ H2/MJ NG (LHVs)"]
[null,"SCO/bitumen ratio",0.83390233899943655,"bbl SCO/bbl bit"]
[]
[]
[]
["1.2  Hydroconversion"]
[]
[null,"Hydroconversion model results",null,null,null,"Notes"]
[null,"Capacity","210,600 bpd of bitumen"]
[null,"Similar real world project","Scotford upgrader"]
[null,"SCO/bitumen",1.02]
[null,"Feedstock","Borealis Heavy Blend (BHB)"]
[null,"Product Quality","Sweet SCO, properties similar to Premium Albian Synthetic (Density: 869.6 kg/m3; API: 31.1°API, S Content: 0.03 wt%; N Content: 77.6 mass ppm)"]
[null,"Heating Values","LHV"]
[null,"Use of By-Products","Process Gas: 80%"]
[null,"LHV of Natural Gas"," @ 32F, 1 atm: 983 Btu/ft3 = 47.14 MJ/kg (density @ 32F, 1 atm: 22 grams/ft3); from: GREET1_2015"]
[null,"LHV of Process Gas"," @ 32F, 1 atm: 982 Btu/ft3 = 51.04 MJ/kg (density @ 32F, 1 atm: 20.3 grams/ft3); from: GREET1_2015"]
[null,"LHV of Gaseous Hydrogen"," @ 32F, 1 atm:  290 Btu/ft3 = 119.99; from: GREET1_2015"]
[null,"Specific Enthalpy of Superheated Steam for Stripping"," @ 600°F, 14 psi: 3,105.87 KJ/kg; from: Superheated Steam Table. Engineering Calculator, by TLV.",null,null,"http://www.tlv.com/global/TI/calculator/superheated-steam-table.html"]
[null,"OSTUM Results","Value","Units","Comparison with AER's ST-39 average Data for 2008-2014 ","Notes"]
[null,"NG Intensity Factor (Excluding Cogen)",1078.9787383920489,"scf/bbl SCO",null,"Data for 2012 in parenthesis, since our results are very similar for this particular year - in recent years, energy consumption at Scotford has been significantly increasing, we need to investigate the reason."]
[null,"NG Imported (Excluding Cogen)",232895.90402888981,"mscf/d"]
[null,"Total NG to Hydrogen Plant ",168822.83584273417,"mscf/d"]
[null,"NG to Heating Rest of Process Units (Excluding Cogen)",64073.068186155622,"mscf/d"]
[null,"Fraction NG to Hydrogen Plant",0.72488537978663792]
[null,"Fraction NG to Heating Rest of Process Units (Excluding Cogen)",0.27511462021336197]
[null,"PG Yield Factor",6.9139371008511468,"kg/bbl SCO"]
[null,"PG Yield Factor",9.6443791248397943,"m3/bbl SCO"]
[null,"PG Yield Factor",60.661319693238262,"m3/m3 SCO","155 m3/m3 SCO (60 m3/m3 SCO for 2012)"]
[null,"PG Generation",1492.3627076296752,"ton/d"]
[null,"PG Generation",2081724.4262145776,"m3/d"]
[null,"Total PG Used",1193.8901661037401,"ton/d"]
[null,"Total PG Used",1665379.5409716619,"m3/d"]
[null,"PG to Heating Hydrogen Plant",0,"ton/d"]
[null,"PG to Heating Hydrogen Plant",0,"m3/d"]
[null,"PG to Heating Rest of Process Units",1193.8901661037401,"ton/d"]
[null,"PG to Heating Rest of Process Units",1665379.5409716619,"m3/d"]
[null,"PG Flared/Sold",298.47254152593518,"ton/d"]
[null,"PG Flared/Sold",416344.88524291571,"m3/d"]
[null,"Fraction of PG Production Used",0.79999999999999993,null,"Fraction of PG Production Used as Fuel: 0.80"]
[null,"Fraction of PG Production to Heating Hydrogen Plant",0]
[null,"Fraction of PG Production to Heating Rest of Process Units",0.79999999999999993]
[null,"Fraction of PG Production Flared/Sold",0.20000000000000009,null,"Fraction of PG Production Flared/Wasted: 0.01. This upgrader has registered significant amounts of PG \"further processed\" (likely PG sent to the H2 plant as feedstock), some years the PG further processed is higher than the PG produced by the upgrader. Fraction of [PG Produced + PG Receipts] sent to further processing: 0.36. Fraction of [PG Produced + PG Receipts] to Deliveries: 0.04."]
[null,"NG + PG for Heating (Excluding Cogen)",131.10435216652058,"m3/m3 SCO","166 m3/m3 SCO (137 m3/m3 SCO in 2012)"]
[null,"Coke Yield Factor",0,"kg/bbl SCO"]
[null,"Coke Yield Factor",0,"kg/m3 SCO"]
[null,"Coke Generation",0,"ton/d"]
[null,"Coke to Boilers",0,"ton/d"]
[null,"Coke Stockpiled",0,"ton/d"]
[null,"Fraction Coke to Boilers",0]
[null,"Fraction Coke Stockpiled",0]
[null,"Fraction Coke Exported",0]
[null,"Steam  Requirements",247.11770101597133,"mBtu steam/bbl SCO"]
[null,"Electricity Intensity Factor",17.249722893729047,"kWh/bbl SCO"]
[null,"Electricity Intensity Factor",108.49749284339242,"kWh/m3 SCO","98 kWh/m3 SCO (109 kWh/m3 SCO in 2012)"]
[null,"Electricity Requirements",3723.3262015614782,"MWh/d"]
[null,"Hydrogen Intensity Factor",1685.1144335027957,"scf/bbl bitumen"]
[null,"Hydrogen Intensity Factor",1644.0418737996256,"scf/bbl SCO"]
[null,"Hydrogen Efficiency",0.73635757228329801,"MJ H2/MJ NG (LHVs)"]
[null,"SCO/bitumen ratio",1.024982672496197]
[]
[]
[]
[]
["1.3  Hydroconversion and fluid coking"]
[]
[null,"Hydroconversion + fluid coking",null,null,null,"Notes"]
[null,"Capacity","306,400 bpd of bitumen"]
[null,"Similar real-world project","Syncrude"]
[null,"SCO/bitumen",0.86]
[null,"Feedstock","Borealis Heavy Blend (BHB)"]
[null,"Product Quality","Sweet SCO, properties similar to Syncrude Sweet Premium (Density: 869.6 kg/m3; API: 31.1 °API, S Content: 0.11 wt%; N Content: 623.2 mass ppm)"]
[null,"Heating Values","LHV"]
[null,"Use of By-Products","Process Gas: 94%; Coke: 21%"]
[null,"LHV of Natural Gas"," @ 32F, 1 atm: 983 Btu/ft3 = 47.14 MJ/kg (density @ 32F, 1 atm: 22 grams/ft3); from: GREET1_2015"]
[null,"LHV of Process Gas"," @ 32F, 1 atm: 982 Btu/ft3 = 51.04 MJ/kg (density @ 32F, 1 atm: 20.3 grams/ft3); from: GREET1_2015"]
[null,"LHV of Gaseous Hydrogen"," @ 32F, 1 atm:  290 Btu/ft3 = 119.99; from: GREET1_2015"]
[null,"Specific Enthalpy of Superheated Steam for Stripping"," @ 600°F, 14 psi: 3,105.87 KJ/kg; from: Superheated Steam Table. Engineering Calculator, by TLV. \n",null,null,"http://www.tlv.com/global/TI/calculator/superheated-steam-table.html"]
[null,"OSTUM Results","Value","Units","Comparison of Selected Results with AER's ST-39 Average Data for 2008-2014 (Data for 2014 in parenthesis)","Notes"]
[null,"NG Intensity Factor (Excluding Cogen)",460.85431250040028,"scf/bbl SCO"]
[null,"NG Imported (Excluding Cogen)",122108.961025093,"mscf/d"]
[null,"Total NG to Hydrogen Plant ",122108.961025093,"mscf/d"]
[null,"NG to Heating Rest of Process Units (Excluding Cogen)",0,"mscf/d"]
[null,"Fraction NG to Hydrogen Plant",1]
[null,"Fraction NG to Heating Rest of Process Units (Excluding Cogen)",0]
[null,"PG Yield Factor",13.185342887954272,"kg/bbl SCO"]
[null,"PG Yield Factor",18.392479400309604,"m3/bbl SCO"]
[null,"PG Yield Factor",115.68521502642749,"m3/m3 SCO","96 m3/m3 SCO (92 m3/m3 SCO for 2014)"]
[null,"PG Generation",3493.6171304815484,"ton/d"]
[null,"PG Generation",4873311.3466205886,"m3/d"]
[null,"Total PG Used",3295.4761831751875,"ton/d"]
[null,"Total PG Used",4596920.8634410128,"m3/d"]
[null,"PG to Heating Hydrogen Plant",763.66026646883506,"ton/d"]
[null,"PG to Heating Hydrogen Plant",1065243.8726257647,"m3/d"]
[null,"PG to Heating Rest of Process Units",2531.8159167063527,"ton/d"]
[null,"PG to Heating Rest of Process Units",3531676.9908152479,"m3/d"]
[null,"PG Flared/Sold",198.14094730636066,"ton/d"]
[null,"PG Flared/Sold",276390.483179576,"m3/d"]
[null,"Fraction of PG Production Used",0.94328487069244193,null,"Fraction of PG Production Used as Fuel: 0.99"]
[null,"Fraction of PG Production to Heating Hydrogen Plant",0.21858728015899517]
[null,"Fraction of PG Production to Heating Rest of Process Units",0.72469759053344684]
[null,"Fraction of PG Production Flared/Sold",5.6715129307557975E-2,null,"Fraction of PG Production Flared/Wasted: 0.002; No Delieveries/Further Processing of PG"]
[null,"NG + PG for Heating (Excluding Cogen)",109.124113097231,"m3/m3 SCO"]
[null,"Coke Yield Factor",30.290549312157289,"kg/bbl SCO"]
[null,"Coke Yield Factor",190.52182330493923,"kg/m3 SCO","171 kg/m3 SCO (168 kg/m3 SCO for 2014)"]
[null,"Coke Generation",8025.8498294591936,"ton/d"]
[null,"Coke to Boilers",1664.1377054938077,"ton/d"]
[null,"Coke Stockpiled",6361.7121239653861,"ton/d"]
[null,"Fraction Coke to Fluid Coker",0.20734722688001533,null,"0.21 (0.21 in 2014)"]
[null,"Fraction Coke Stockpiled",0.79265277311998472]
[null,"Fraction Coke Exported","NA",null,"0, No Coke Deliveries "]
[null,"Steam  Requirements",240.84979523999894,"mBtu steam/bbl SCO"]
[null,"Electricity Intensity Factor",19.976302772612872,"kWh/bbl SCO"]
[null,"Electricity Intensity Factor",125.64716433195184,"kWh/m3 SCO","149 kWh/m3 SCO for upgrading+mining operations (162 kWh/m3 SCO in 2014)"]
[null,"Electricity Requirements",5292.9646322541985,"MWh/d"]
[null,"Hydrogen Intensity Factor",1109.2957722621791,"scf/bbl bitumen"]
[null,"Hydrogen Intensity Factor",1282.7139850310177,"scf/bbl SCO"]
[null,"Hydrogen Efficiency",0.73635757228329812,"MJ H2/MJ NG (LHVs)"]
[null,"SCO/bitumen ratio",0.86480367814447356]

{"sheet":"Flaring","index":19,"n_rows":464,"n_cols":28,"rows_kept":464,"cut":false,"hidden":false,"merged":[[90,2,90,8]]}
["Supplemental Worksheet: Flaring",null,null,null,null,null,null,"Active field:",null,{"$f":"'Active Field'!C9","v":"Generic"}]
[]
["This supplemental worksheet calculates associated gas flaring emissions"]
[]
[]
["1   General inputs"]
[]
[null,null,null,null,null,null,null,null,null,null,null,null,"Value","Default","Unit","User reference","Default reference","Notes"]
["1.1   Data availability for detailed analysis"]
[null,"1.1.1   Do you have sufficient data to perform detailed flaring efficiency calculations?",null,null,null,null,null,null,null,null,null,null,0,0,null,null,null,{"$f":"IF(M10=1, \"Fill out the boxes below with your data to obtain a calculated efficiency\", \"The default flaring efficiency is 95%\")","v":"The default flaring efficiency is 95%"}]
[null,null,"0 = No, I do not have data"]
[null,null,"1 = Yes, I have detailed field-specific data (see requirements to right)",null,null,null,null,null,null,null,null,null,null,null,null,null,null,"Data required: Oil production [bbl/d], volume of gas flared [scf/bbl], number of flares [#], number of flare tips [#] flare tip diameter [in], and average wind speed [mph]"]
["1.2   Reference year for default flaring intensity",null,null,null,null,null,null,null,null,null,null,null,2015,2015,"Year"]
[null,null,"2010-2015 valid years",null,null,null,null,null,null,null,null,"Col num:",{"$f":"M13-2008","v":7},{"$f":"N13-2008","v":7}]
["1.3   Volume of gas flared",null,null,null,null,null,null,null,null,null,null,null,{"$f":"'Active Field'!J125*'Active Field'!J63/1000000","v":0.23207544269544331},{"$f":"IFERROR(VLOOKUP('Active Field'!J59,C93:I171,M14,FALSE),OFFSET(C171,0,M14-1))*'Production & Extraction'!M26/1000000","v":0.23207544269544328},"MMscf/d"]
["1.4   LHV of gas",null,null,null,null,null,null,null,null,null,null,null,{"$f":"N16","v":45.544645277041944},{"$f":"'Fuel Specs'!P135*'Gas Balance'!H42/100+('Gas Balance'!H43/100)*'Fuel Specs'!P136+('Fuel Specs'!P137)*('Gas Balance'!H44/100)+'Fuel Specs'!P138*('Gas Balance'!H45/100)+'Gas Balance'!H46/100*'Fuel Specs'!P141","v":45.544645277041944},"MJ/kg",null,null,"Calculated from Gas Balance and Fuel Specs"]
[null,null,null,null,null,null,null,null,null,null,null,null,{"$f":"N17","v":870.55900296688742},{"$f":"'Fuel Specs'!H135*'Gas Balance'!H42/100+('Gas Balance'!H43/100)*'Fuel Specs'!H136+('Fuel Specs'!P137)*('Gas Balance'!H44/100)+'Fuel Specs'!H138*('Gas Balance'!H45/100)+'Gas Balance'!H46/100*'Fuel Specs'!H141","v":870.55900296688742},"btu/scf",null,null,"Calculated from Gas Balance and Fuel Specs"]
[]
["2   Input data for detailed flaring analysis"]
["Input data must be entered in order to compute gas exit velocity"]
[]
["2.1   Number of flare tips",null,null,null,null,null,null,null,null,null,null,null,{"$f":"IF(M23<>\"\",IF(M25=\"\",\"\",M24*M25),\"\")","v":""},null,"Flare tips"]
[null,"2.1.2   Number of wells per flare",null,null,null,null,null,null,null,null,null,null,null,null,"Wells/flare"]
[null,"2.1.3   Number of flares",null,null,null,null,null,null,null,null,null,null,{"$f":"IF(M23=\"\",\"\",'Active Field'!$J$64/M23)","v":""},null,"Flares",null,null,"The number of flares is found by dividing the number of wells by the number of flares per well."]
[null,"2.1.4   Flare tips per flare",null,null,null,null,null,null,null,null,null,null,null,null,"Tips per flare"]
[]
["2.2   Flare tip diameter and gas exit velocity"]
[null,"2.2.1   Is the flare tip diameter fixed or variable?"]
[null,null,"0 = Fixed, 1 = Variable"]
[]
[null,"2.2.2   Flares with variable tip diameter",null,null,null,null,null,null,null,null,null,null,null,null,null,null,null,"Engineered flare tips can have variable orifice diameter depending on the gas flow rate.  For example see: http://www.steffes.com/oil-field-products/engineered-flare-system.html"]
[null,null,"2.2.2.1  Fixed design exit velocity",null,null,null,null,null,null,null,null,null,null,null,"ft/sec",null,"EPA 60.18 40 CFR Ch.1 (2010)",{"$f":"IF(N17>1000, \"The EPA regulates the max velocity of onshore U.S. flares. The max velocity is regulated to 400 feet/sec for gas with a heating value of above 1,000 btu/scf\", \"The EPA regulates the max velocity of onshore U.S. flares. The max velocity is regulated to 122 feet/sec for gas with a heating value of between 200 and 1,000 btu/scf\")","v":"The EPA regulates the max velocity of onshore U.S. flares. The max velocity is regulated to 122 feet/sec for gas with a heating value of between 200 and 1,000 btu/scf"}]
[null,null,"2.2.2.2  Calculated flare tip diameter",null,null,null,null,null,null,null,null,null,{"$f":"IF(ISERROR(SQRT(((M15/M22)*('Input Data'!E63/'Input Data'!E64))/(M32*'Input Data'!E11*PI()))/('Input Data'!E12*0.5))=TRUE,\"NA\",SQRT(((M15/M22)*('Input Data'!E63/'Input Data'!E64))/(M32*'Input Data'!E11*PI()))/('Input Data'!E12*0.5))","v":"NA"},null,"in"]
[]
[null,"2.2.3   Flares with fixed tip diameter"]
[null,null,"2.2.3.2   Fixed flare tip diameter",null,null,null,null,null,null,null,null,null,null,null,"in"]
[null,null,"2.2.3.3   Calculated flare tip exit velocity",null,null,null,null,null,null,null,null,null,{"$f":"IF(ISERROR(((M15/M22)*'Input Data'!E63/'Input Data'!E64)/(PI()*(0.5*M36*'Input Data'!E12)^2))=TRUE,\"NA\",(((M15/(M22))*'Input Data'!E63/'Input Data'!E64))/((PI()*((0.5*(M36*'Input Data'!E12))^2))))","v":"NA"},null,"m/sec"]
[]
[null,"2.2.4   Resulting flare tip diameter",null,null,null,null,null,null,null,null,null,null,{"$f":"IF(M28=0,M36,M33)","v":0},null,"in"]
[null,"2.2.5   Resulting flare tip exit velocity",null,null,null,null,null,null,null,null,null,null,{"$f":"IF(M28=0,M37,M32/'Input Data'!E10)","v":"NA"},null,"m/sec",null,"Johnson and Kostiuk (2002) experimental jet velocity conditions.",{"$f":"IF(M10=1,IF(M40>4,\"Warning: gas exit velocity is outside of model limits. Efficiency result could be erroneous. Proceed with caution. Model exit velocity limits: 0.5 to 4 m/s\",IF(M40<0.5,\"Warning: gas exit velocity is outside of model limits. Efficiency result could be erroneous. Proceed with caution. Model exit velocity limits: 0.5 to 4 m/s\",IF(M40*'Input Data'!E10>100,\"Warning: EPA regulates flare exit velocity. If you have a low BTU flare gas, you may be near flaring exit velocity limits.\",\"\"))),\"\")","v":""}]
[]
["2.3   Average yearly windspeed",null,null,null,null,null,null,null,null,null,null,null,20,{"$f":"IF(M43=\"none selected\",\"Enter windspeed\",VLOOKUP(M43,B188:P463,15,FALSE))","v":"Enter windspeed"},"mph",null,"Johnson and Kostiuk (2002) experimental wind speed conditions.",{"$f":"IF(M10=1,IF(M42=\"\",\"\",IF(M42>38,\"Warning: wind speed is outside of model limits. Efficiency result could be erroneous. Proceed with caution. Model wind speed limits: 4.5 to 38 mph\",IF(M42<4.5,\"Warning: wind speed is outside of model limits. Efficiency result could be erroneous. Proceed with caution. Model wind speed limits: 4.5 to 38 mph\",\"\"))),\"\")","v":""}]
[null,"2.3.1  For default wind speed pick nearest city (US Only)",null,null,null,null,null,null,null,null,null,null,"None selected",null,null,null,null,"If the field is in the U.S., you may use the lookup table to find the nearest location for windspeed."]
[]
[]
["3   Calculations"]
[]
["3.1   Flaring efficiency",null,null,null,null,null,null,null,null,null,null,null,{"$f":"IF(M10=0,95,T193)","v":95},"%",null,null,"Johnson and Kostiuk (2002) and personal communication, M. Johnson (2012).",{"$f":"IF(M48>100,\"Note: Calculated efficiency is higher than experimental bounds for low velocity flares. Assumed value of 99.8% efficient combustion used. Experimental efficiency limits: 64% to 99.9%\",IF(M48<64,\"Warning: Calculated efficiency is outside of experimental bounds. Efficiency result could be erroneous. Proceed with caution. Experimental efficiency limits: 64% to 99.9%\",\"\"))","v":""}]
[]
["3.2   Flaring emissions",null,null,null,null,null,null,null,null,null,null,null,{"$f":"M53+M59","v":18.112667987359508},"tCO2/d"]
[]
[null,"3.2.1   Combusted gas volume",null,null,null,null,null,null,null,null,null,null,{"$f":"M15*M48/100","v":0.22047167056067113},"MMscf/d"]
[null,null,"3.2.1.1   GHG emissions from combusted gas",null,null,null,null,null,null,null,null,null,{"$f":"SUM(M54:M56)/1000000","v":13.277331576625592},"tCO2/d"]
[null,null,null,"3.2.1.1.1   CO2 emissions",null,null,null,null,null,null,null,null,{"$f":"'Gas Balance'!Q18*1000000*'Input Data'!D83","v":736643.09627150546},"g/d"]
[null,null,null,"3.2.1.1.2   CO2 emissions from CH4 combustion",null,null,null,null,null,null,null,null,{"$f":"'Gas Balance'!Q19*1000000*'Input Data'!D84*44/16","v":10300137.515792975},"g/d"]
[null,null,null,"3.2.1.1.3   CO2 emissions from VOC combustion",null,null,null,null,null,null,null,null,{"$f":"1000000*('Gas Balance'!Q20*'Input Data'!D85*44*2/30+'Gas Balance'!Q21*'Input Data'!D86*44*3/44+'Gas Balance'!Q22*'Input Data'!D87*44*4/58)","v":2240550.9645611108},"g/d"]
[]
[null,"3.2.2   Non-combusted gas volume",null,null,null,null,null,null,null,null,null,null,{"$f":"M15*(100-M48)/100","v":1.1603772134772166E-2},"MMscf/d"]
[null,null,"3.2.2.1   GHG emissions from non-combusted gas",null,null,null,null,null,null,null,null,null,{"$f":"(M60+M61*'Input Data'!C73+M62*'Input Data'!C74)/1000000","v":4.8353364107339143},"tCO2/d"]
[null,null,null,"3.2.2.1.1   CO2 emissions",null,null,null,null,null,null,null,null,{"$f":"M58*1000000*'Gas Balance'!H41/100*'Input Data'!D83","v":36832.154813575275},"g/d"]
[null,null,null,"3.2.2.1.2   CH4 emissions",null,null,null,null,null,null,null,null,{"$f":"M58*1000000*'Gas Balance'!H42/100*'Input Data'!D84","v":187275.22755987229},"g/d"]
[null,null,null,"3.2.2.1.3   VOC emissions",null,null,null,null,null,null,null,null,{"$f":"M58*1000000*('Gas Balance'!H43/100*'Input Data'!D85+'Gas Balance'!H44/100*'Input Data'!D86+'Gas Balance'!H45/100*'Input Data'!D87)","v":37620.505459203516},"g/d"]
[]
["3.3   Summation of flaring emissions"]
[]
[null,"3.3.1 Speciation of total flaring emissions"]
[]
[null,"Category",null,null,null,"GHG","Volume","HHV","LHV","Note(s):"]
[null,null,null,null,null,"tCO2eq/yr","MMscf/yr","MMBtu/yr","MMBtu/yr"]
[null,"Flaring",null,null,null,{"$f":"SUM(F71:F73)","v":6611.1238153862205},{"$f":"SUM(G71:G73)","v":84.707536583836813},{"$f":"SUM(H71:H73)","v":85935.795864302447},{"$f":"SUM(I71:I73)","v":77704.764534451009}]
[null,null,"Crude production and extraction (p)",null,null,0,0,0,0,"No direct flaring in extraction"]
[null,null,"Surface processing (s)",null,null,{"$f":"$M$50*365","v":6611.1238153862205},{"$f":"$M$15*365","v":84.707536583836813},{"$f":"'Gas Balance'!O26*('Gas Balance'!H48/'Gas Balance'!G53)*365","v":85935.795864302447},{"$f":"'Gas Balance'!O26*('Gas Balance'!H49/'Gas Balance'!G53)*365","v":77704.764534451009},"Surface flaring unit - includes flaring of recovered gas from maintenance"]
[null,null,"Maintenance (m)",null,null,0,0,0,0,"No direct flaring in maintenance"]
[]
[null,"3.3.2 Net flaring emissions"]
[]
[null,"Category",null,null,null,"GHG","Volume","HHV","LHV","Note(s):"]
[null,null,null,null,null,"tCO2eq/yr","MMscf/yr","MMBtu/yr","MMBtu/yr"]
[null,"Flaring",null,null,null,{"$f":"SUM(F80:F82)","v":6611.1238153862205},{"$f":"SUM(G80:G82)","v":84.707536583836813},{"$f":"SUM(H80:H82)","v":85935.795864302447},{"$f":"SUM(I80:I82)","v":77704.764534451009},"Recovery doesn't apply in flaring"]
[null,null,"Crude production and extraction (p)",null,null,0,0,0,0]
[null,null,"Surface processing (s)",null,null,{"$f":"$M$50*365","v":6611.1238153862205},{"$f":"$M$15*365","v":84.707536583836813},{"$f":"'Gas Balance'!O26*('Gas Balance'!H48/'Gas Balance'!G53)*365","v":85935.795864302447},{"$f":"'Gas Balance'!O26*('Gas Balance'!H49/'Gas Balance'!G53)*365","v":77704.764534451009}]
[null,null,"Maintenance (m)",null,null,0,0,0,0]
[]
[]
[]
[]
["4   Reference data"]
[]
[]
[null,null,"Table 4.1: World Bank/NOAA flaring data and BP/EIA crude oil production by country (2010-2015)",null,null,null,null,null,null,null,null,null,"Flaring volumes (scf/y)",null,null,null,null,null,null,null,null,"Oil production volume (bbl/y)"]
[null,null,"Flaring intensity [SCF/bbl]",null,null,null,null,null,null,null,null,null,"Data sources: Various, see notes at bottom.",null,null,null,null,null,null,null,null,"Data sources: BP and EIA, see notes at bottom."]
[null,null,null,2010,2011,2012,2013,2014,2015,null,null,null,null,2010,2011,2012,2013,2014,2015,null,null,null,2010,2011,2012,2013,2014,2015]
[null,null,"Algeria",{"$f":"IFERROR(N93/W93,\"\")","v":302.2526946747322},{"$f":"IFERROR(O93/X93,\"\")","v":293.8418859311808},{"$f":"IFERROR(P93/Y93,AVERAGE(E93,G93))","v":462.26216845647684},{"$f":"IFERROR(Q93/Z93,\"\")","v":533.39125195352392},{"$f":"IFERROR(R93/AA93,\"\")","v":529.58155942531505},{"$f":"IFERROR(S93/AB93,\"\")","v":557.11586968715756},null,null,null,"Algeria",186351242100.51993,176054975145.95868,259299173193.82993,289156763600,307167260600,322423211000,null,null,"Algeria",616541210,599148670,560935310.92896175,542110060,580018800.00000012,578736360.85982132]
[null,null,"Angola",{"$f":"IFERROR(N94/W94,\"\")","v":212.46423045134148},{"$f":"IFERROR(O94/X94,\"\")","v":230.65206174749309},{"$f":"IFERROR(P94/Y94,AVERAGE(E94,G94))","v":200.37536804009042},{"$f":"IFERROR(Q94/Z94,\"\")","v":170.09867433268775},{"$f":"IFERROR(R94/AA94,\"\")","v":197.16759954368774},{"$f":"IFERROR(S94/AB94,\"\")","v":221.74180163689698},null,null,null,"Angola",144480988312.67349,145345396710.18277,"",111700396100,123212988300,147792019500,null,null,"Angola",680025000,630150000,651235792.34972668,656679992,624914988.99999988,666504999.99999988]
[null,null,"Argentina",43.191132353286534,46.303006314714857,113.44682382975195,103.32343581605076,112.24374328534995,98.473311007079047,null,null,null,"Argentina",11102516128.950541,10974779638.729172,27009222172.478157,24261198900,26062248600,22883925600,null,null,"Argentina",257055453.84030014,237020887.24294007,238078257.81892771,234808286.31359884,232193330.667382,232387084.03290024]
[null,null,"Australia",59.071154501085857,62.477258952282682,84.30646657856569,190.70972608756603,252.62005104277404,285.79676219753583,null,null,null,"Australia",11811968847.229256,11004622488.523207,14728303274.861588,28322389400,40188128600,40188128600,null,null,"Australia",199961706.30137464,176138048.83674622,174699567.80997571,148510461.32275146,159085268.30752355,140617858.26748776]
[null,null,"Azerbaijan",11.938060279680515,26.602863029702164,35.038490894931343,48.211451333633832,35.326916845549761,22.21331808479021,null,null,null,"Azerbaijan",4458735747.7454319,8921559822.1890144,11150739130.929207,15432523900,10947557000,6815737100,null,null,"Azerbaijan",373489129.99999994,335360890,318242562.56830597,320100795,309892795.00000006,306831112.48773038]
[null,null,"Bahrain",0,0,87.794365233838988,132.46220569044064,66.664169731568748,61.64022550429285,null,null,null,"Bahrain",0,0,1773847836.9444923,2966434800,1553846800,1447902700,null,null,"Bahrain",17300635,17378380,20204575,22394575,23308574.999984998,23489575.000000004]
[null,null,"Belarus",0,0,4.7314352543359828,9.4628705086719656,6.4448028469426166,33.3502760982254,null,null,null,"Belarus",0,0,"",105944100,70629400,317832300,null,null,"Belarus",11706645,11252585,10959125,11195767.701028001,10959125,9530124.9999819994]
[null,null,"Bolivia",156.94537547979084,175.04267641801923,98.041128892041087,69.516916255456522,71.77954956326127,71.383783827491627,null,null,null,"Bolivia",2742351234.6423039,3146881495.3057919,2031778730.5285144,1624476200,1765735000,1871679100,null,null,"Bolivia",17473284.741642002,17977795.813580498,20723738.633873001,23368070.499998502,24599416.000009999,26219947.999998998]
[null,null,"Brazil",50.695738917053326,42.962758660999299,67.594441673630797,61.370971499929958,63.256105609132426,50.846846466907373,null,null,null,"Brazil",39550584450.845192,34387871949.081467,53026269906.844276,47357012700,54172749800,46897921600,null,null,"Brazil",780155991.32614553,800411170.53077102,784476779.36113942,771651670.85637629,856403493.04366529,922336877.48015106]
[null,null,"Brunei",89.125654202912017,98.145928994411491,114.93177420190327,131.71761940939504,150.76847432410952,161.05822373043495,null,null,null,"Brunei",5601434332.3206053,5923810756.7147074,"",6497904800,6956995900,7451401700,null,null,"Brunei",62848731.741905004,60357172.400416262,58046525.338360868,49332085.025038972,46143571.66634471,46265266.85449791]
[null,null,"Cameroon",1469.8587119653366,1295.1617569541768,1217.7064005870275,1270.7835429790057,1149.2999173325686,1125.2661059722686,null,null,null,"Cameroon",35153654936.828819,29395677671.56189,28229168116.476616,29346515700,31677285900,38245820100,null,null,"Cameroon",23916349.680865001,22696529.999999002,23182245,23093245.000014,27562245,33988245.000016503]
[null,null,"Canada",73.804867014287865,67.411432279485567,{"$f":"IFERROR(P104/Y104,AVERAGE(E104,G104))","v":20.767255241837034},37.156961573381565,46.658963473973706,40.024285290047601,null,null,null,"Canada",89762152886.453491,86482804232.930389,28351181736.452152,54243379200,72854226100,64060865800,null,null,"Canada",1216209127.0901749,1282910054.1044068,1365186752.2356439,1459844317.2721305,1561419728.9367127,1600549899.5363526]
[null,null,"Chad",41.196930057643314,46.419101940860848,101.88091235656904,157.34272277227723,191.23907308970101,294.67111265092956,null,null,null,"Chad",1833263387.5651276,1926392730.5457251,"",4767484500,5756296100,8440213300,null,null,"Chad",44500000,41500000,36799180.327868849,30300000,30100000,28642825.637266874]
[null,null,"Chile",225.69889200471985,107.56960154560673,124.26573972293116,140.96187790025559,210.649937709813,324.73946788855136,null,null,null,"Chile",1530296041.0102518,755173562.97114563,"",882867500,1200699800,1695105600,null,null,"Chile",6780255.0000034999,7020325.0000045002,6729275.6284155007,6263165.0000059996,5699977.0000125002,5219894.0000164993]
[null,null,"China",59.270585764188375,61.855904460408802,52.818913679779804,43.781922899150807,47.898256196060828,46.593022822556108,null,null,null,"China",88200121258.765778,91984518507.47171,"",67380447600,74231499400,73278002500,null,null,"China",1488092620,1487077415.0000002,1516658511.2021859,1539001559.0500002,1549774570,1572724800.0000002]
[null,null,"Colombia",90.393473731748628,77.904753639759292,116.83733139408942,85.189564837346467,84.504046051849002,78.833868239238186,null,null,null,"Colombia",25936673540.499092,26025754010.327171,40262591877.203842,31218194800,30547215500,28993368700,null,null,"Colombia",286930820,334071450.00000006,344603829.93000001,366455620,361488200,367778080]
[null,null,"Republic of Congo",546.84321364387802,453.8724747458848,472.77737031302917,491.68226588017353,441.15861935965285,410.26622641132832,null,null,null,"Republic of Congo",62673700715.724854,49864699437.956635,"",50429391600,44461207300,41530087200,null,null,"Republic of Congo",114610000,109865000,107310000,102565000,100782814.5,101227165.5]
[null,null,"Cote d'Ivoire",0,0,9917.1417808219176,19834.283561643835,21043.691095890412,19108.639041095892,null,null,null,"Cote d'Ivoire",0,0,"",2895805400,3072378900,2789861300,null,null,"Cote d'Ivoire",142596.61147802501,146000,146000,146000,146000,146000]
[null,null,"Cuba",0,0,79.89556189292658,107.1347539923556,176.5739463948083,162.68610791431777,null,null,null,"Cuba",0,0,1482692130.0786884,1906993800,3143008300,2895805400,null,null,"Cuba",18807587.720459498,19619845,18557878.497253001,17799955,17799955,17799955]
[null,null,"Democratic Republic of Congo",0,0,892.58512408569948,1785.170248171399,1901.9608004822983,1663.5909122060129,null,null,null,"Democratic Republic of Congo",0,0,"",6956995900,7839863400,7451401700,null,null,"Democratic Republic of Congo",3753298.9999985001,4749498.0000104997,3749816.5300710001,3897105,4121990.0000105002,4479107.0000009993]
[null,null,"Denmark",31.253059639668731,43.12073921329447,49.796940095423906,56.473140977553335,66.689759399152265,64.992590334860054,null,null,null,"Denmark",2845677158.6188197,3533539487.6696362,"",3672728800,4061190500,3743358200,null,null,"Denmark",91052754.239999995,81945243.800000012,74545897.255054653,65034965.940000013,60896763.410000011,57596691.879999995]
[null,null,"Ecuador",280.48454245645854,253.86522100027955,109.15822317399028,145.49027391958458,174.53765511219427,188.30504303132514,null,null,null,"Ecuador",49968814526.782906,46386740696.325531,20105271366.728878,28004557100,35455958800,37327637900,null,null,"Ecuador",178151758.69999999,182721920.37,184184670.4914071,192484049.58999997,203142174.54800004,198229624.11999995]
[null,null,"Egypt",213.88130588223143,218.72472270951934,367.11053105523325,324.13757253094093,376.8831654062576,378.30342116860027,null,null,null,"Egypt",56571882042.74884,57029138303.612976,95846309079.574966,83978356600,98280810100,99799342200,null,null,"Egypt",264501293.41317365,260734761.01442534,261082973.57766211,259082450.52950084,260772619,263807664.99999997]
[null,null,"Equatorial Guinea",397.01979200487381,399.5648555898062,322.26866398821574,244.9724723866253,227.20093077415999,193.33882704939259,null,null,null,"Equatorial Guinea",39700660102.228447,36733016064.75264,"",23872737200,23272387300,20411896600,null,null,"Equatorial Guinea",99996677.5,91932550,99306353,97450693,102430862.5,105575775.5]
[null,null,"France",0,0,13.384087180534271,20.181199118789316,36.714369075507712,37.878857997903289,null,null,null,"France",0,0,320958891.20020866,459091100,812238100,847552800,null,null,"France",27938011.249984499,27696976.500014495,23980633.633873004,22748455.000009,22123166.5000025,22375352.499986]
[null,null,"Gabon",629.66807119056807,541.5518455089657,552.70717049697623,560.47203757082866,605.64458418357287,648.09274554970511,null,null,null,"Gabon",58718742031.748573,50207350663.705658,49459508813.458015,48275194900,52230441300,55090932000,null,null,"Gabon",93253485,92710146.000000015,89485918.5,86133101.5,86239426,85004704]
[null,null,"Germany",0,0,0.5907641977871203,1.1815283955742406,1.2134125384214354,1.8111463013572529,null,null,null,"Germany",0,0,"",70629400,70629400,105944100,null,null,"Germany",53241575.750030003,58811624.999990001,59552099.562669992,59777996.250080004,58207244.250074998,58495605.750129998]
[null,null,"Ghana",312.98135954942171,229.23271764365555,33.715890709889116,83.267795850401939,106.92190078285108,121.86745655034353,null,null,null,"Ghana",966916787.65794754,6500261627.295722,974759772.70592618,3001749500,4131819900,4590911000,null,null,"Ghana",3089374.9999998496,28356604.999991499,28910989.808732003,36049344.999991499,38643344.999930002,37671345.000160001]
[null,null,"Guatemala",0,0,59.403264110248323,103.62120297586085,151.27496283028123,234.00222211527307,null,null,null,"Guatemala",0,0,316205146.42450845,529720500,776923400,1200699800,null,null,"Guatemala",5467790.1475905003,5466782.9799859999,5323026.4558805004,5112085.9900014997,5135835.9999840008,5131146.9999994999]
[null,null,"Hungary",0,0,18.272012065636609,10.423669255227241,15.101503577754544,14.946847559703743,null,null,null,"Hungary",0,0,185655348.15700558,105944100,141258800,141258800,null,null,"Hungary",12577342.000008501,10088743.999982499,10160640.628415501,10163801.000004999,9353955.9999894984,9450741.9999940004]
[null,null,"India",98.263001914456837,95.022676215716658,180.45118829581818,185.5124102941825,204.78715160780885,243.06435675203801,null,null,null,"India",31643155474.378204,31772291626.099567,59685875162.155273,61341633900,66285691900,77727654700,null,null,"India",322025125,334365363,330759114.00655735,330660540.72999996,323680911.51999998,319782199.82000005]
[null,null,"Indonesia",213.12527134737914,222.54995603980285,283.54832429832862,344.16300919503044,347.98439139838564,340.76503220184628,null,null,null,"Indonesia",78025464222.410492,77354787763.902237,94982994675.856674,110817528600,108274870200,102589203500,null,null,"Indonesia",366101418.80000001,347583927.40400004,334979918.89355189,321991398.37599999,311148640.21599996,301055547.97428]
[null,null,"Iran",248.04217360996802,246.0154849766916,351.5857701463292,297.25574055573998,316.24547809492509,298.54855147904914,null,null,null,"Iran",400189525210.27014,400995485998.0282,489410842675.50702,391816596500,431192487000,427166611200,null,null,"Iran",1613393075,1629960350.000001,1392009814.4808743,1318112800,1363474000.0000002,1430811199.9999998]
[null,null,"Iraq",351.64081767663299,323.07418615845501,366.10061896095965,409.12705176346424,412.65715677199302,389.17173148620293,null,null,null,"Iraq",319594019450.24445,330312711760.46313,"",469049845400,494829576400,572557231100,null,null,"Iraq",908864965,1022405150,1137340000,1146465000,1199130000,1471219990.5]
[null,null,"Israel",0,0,0,0,0,0,null,null,null,"Israel",0,0,"",0,0,0,null,null,"Israel",2213131.0000001001,2289988.9999987502,2704308.9344260502,2335324.9999994501,2371648.9999997499,2179648.9999998501]
[null,null,"Italy",0,0,1.6886173488976037,2.5115983274739548,1.5995763657107884,1.6856000821153563,null,null,null,"Italy",0,0,68838145.086739212,105944100,70629400,70629400,null,null,"Italy",38682280,40199741.000000007,40765982.377049178,42181943.999999993,44155066,41901635.357873924]
[null,null,"Kazakhstan",220.74187428390849,268.99000246809209,240.3521098645715,211.71421726105089,223.70901363818248,214.1668283763488,null,null,null,"Kazakhstan",135003607878.91719,165341796938.42792,"",132924530800,138857400400,130452501800,null,null,"Kazakhstan",611590385,614676365.00000012,606772826.69398904,627848864,620705434.00000012,609116279.99999988]
[null,null,"Kuwait",55.164326286016205,45.950835967194642,39.532186618521742,40.013295144210687,43.634457514484794,27.814595809989555,null,null,null,"Kuwait",51574579470.439377,48891962876.56913,45756940363.530533,45767851200,49687782900,31430083000,null,null,"Kuwait",934926300.07000005,1064005950.0000006,1157460395.6284156,1143816099.9999998,1138728100.0000002,1129985250]
[null,null,"Libya",223.84132459296151,449.81538314308773,427.88433442262709,405.95328570216645,563.30315445098142,585.10622518236596,null,null,null,"Libya",135318193543.16612,78606251413.405106,"",146379431500,102447944700,92241996400,null,null,"Libya",604527308.7497673,174752252.5,550873761.61748648,360581960.18000311,181870000,157650000]
[null,null,"Malaysia",197.74522704715326,241.3158870783283,345.39197752452912,440.92561865741089,500.86811503186431,519.85924138556481,null,null,null,"Malaysia",51777214759.57251,57251918385.27446,82392740033.179535,99975915700,118833965500,131511942800,null,null,"Malaysia",261837999.99999997,237248857,238548505.4508197,226741000,237256000,252976060.30718097]
[null,null,"Mauritania",293.92948444727818,313.49641681902068,870.8750650384294,802.63939283298987,580.22497406570096,774.52605744062635,null,null,null,"Mauritania",883189027.33497608,885388806.74048722,2090651353.3833656,1977623200,1271329200,1483217400,null,null,"Mauritania",3004764.9999991502,2824238.9999998501,2400632.9234964498,2463899.9999985001,2191096.9999992498,1915000.00000155]
[null,null,"Mexico",91.809399566347992,68.721532433041446,106.84950948157234,144.97748653010325,168.76830552007999,186.83273859771512,null,null,null,"Mexico",99240669018.702072,73797466336.481583,"",152171042300,171558812600,176467555900,null,null,"Mexico",1080942359.7960002,1073862350.3249998,1062896527.427377,1049618433.4689999,1016534544.631,944521593.08100045]
[null,null,"Mongolia",0,0,42.107194146691526,55.084585154141507,66.765319010760592,79.317186803326265,null,null,null,"Mongolia",0,0,152684706.8677834,282517600,494405800,670979300,null,null,"Mongolia",2181240,2548902.9999996498,3626095.4918028,5128795.999996,7405128.9999874998,8459443.9999965001]
[null,null,"Myanmar",134584.33121474119,147877.71829044129,306875.27767832292,406360.9315068493,343471.73972602742,280582.54794520547,null,null,null,"Myanmar",982465617.86761069,1079507343.5202215,2240189527.0517573,2966434800,2507343700,2048252600,null,null,"Myanmar",7300,7300,7300,7300,7300,7300]
[null,null,"Netherlands",0,0,11.801306666362221,25.177428170832322,7.3671128392042187,11.920427600653602,null,null,null,"Netherlands",0,0,258193933.47721836,529720500,176573500,282517600,null,null,"Netherlands",20127341.5000135,21377048.500006001,21878419.1256685,21039499.999991,23967801.750009999,23700290.750015497]
[null,null,"New Zealand",88.053920255333537,100.07839259235135,228.84611252463671,173.72416883552808,143.79118736005557,248.73167678476435,null,null,null,"New Zealand",1952224094.1185875,1905843069.4895287,4038755458.3764625,2648602500,2577973100,4520281600,null,null,"New Zealand",22170780.000000499,19043502.000003003,17648346.366126999,15246022.000010502,17928588.999997001,18173324.999981999]
[null,null,"Niger","",0,219.21851405787345,464.41249315068495,440.22434246575341,366.27771037181998,null,null,null,"Niger",0,0,1600295152.6224761,3390211200,3213637700,1871679100,null,null,"Niger",0,2449999.9999988,7300000,7300000,7300000,5110000]
[null,null,"Nigeria",628.600151561845,684.97066922479178,485.44085505447225,389.34077858505196,341.03364141630095,315.00634847230458,null,null,null,"Nigeria",581572525615.60999,619034324050.96997,430637309265.30536,329874612700,297314459300,270439972600,null,null,"Nigeria",925186741.00000083,903738440.00000095,887105617.05191195,847264481.00000012,871803902,858522293.00000012]
[null,null,"Norway",14.482369253235131,15.488832325411863,13.475477109265922,22.583113396086581,17.468314166015428,16.689598903198434,null,null,null,"Norway",11293412109.516325,11533786593.791744,9428855979.3961124,15150006300,12042312700,11865739200,null,null,"Norway",779804182.03972781,744651782.10166013,699704797.31012285,670855520.86123514,689380359.52137244,710966109.42076159]
[null,null,"Oman",181.29430132923022,177.21641469748675,207.41396992683821,241.89452214367461,266.01151378547138,247.21479841878127,null,null,null,"Oman",57212674319.177147,57238863958.519203,69533921426.066895,83166118500,91606331800,85920665100,null,null,"Oman",315579000,322988500,335242228.14207655,343811500.00000006,344369799.99999994,347554700]
[null,null,"Pakistan",0,0,344.10751662866176,688.21503325732351,452.59772471931632,488.11873854979683,null,null,null,"Pakistan",0,0,"",21436022900,16244762000,16845111900,null,null,"Pakistan",25297092.0000135,25720820,27497275,31147275,35892275,34510274.9999865]
[null,null,"Papua New Guinea",0,0,108.80650623861969,217.61301247723938,795.62957779204226,135.70114141541302,null,null,null,"Papua New Guinea",0,0,"",1836364400,10311892400,2613287800,null,null,"Papua New Guinea",11297669.999983501,10701669.999994,10033339.3989085,8438669.9999940004,12960669.9999975,19257669.999990001]
[null,null,"Peru",82.166739300984645,56.845232449997305,64.321535262275674,118.51506955406803,153.05058209771875,194.17913348091631,null,null,null,"Peru",3385170483.9462314,2265406151.5129714,2581208507.5078001,4838113900,6921681200,7981122200,null,null,"Peru",41198793,39852175,40129771.420765027,40822774,45224795,41101853]
[null,null,"Philippines",142.10149813541241,177.00031999142107,386.08762181491062,307.99244283448468,357.89837885065458,531.94323951243962,null,null,null,"Philippines",2004557625.4771581,2552935795.3450632,5006112487.2338028,4555596300,5685666700,5756296100,null,null,"Philippines",14106520,14423340,12966260,14791260,15886260,10821259.999988001]
[null,null,"Poland",0,0,24.386321974381531,48.772643948763061,27.920337973638631,47.066864384025465,null,null,null,"Poland",0,0,"",600349900,388461700,670979300,null,null,"Poland",10460610.250006,10343903.249998501,10313818.961761,12309152.249992501,13913216.2499885,14255874.249989999]
[null,null,"Qatar",109.13242381260582,89.607949837635843,40.234244523053249,73.507973778216666,64.207817307410565,56.581282051707674,null,null,null,"Qatar",65233963410.242798,59998344513.621994,28364419515.14156,51065056200,44355263200,39199317000,null,null,"Qatar",597750523.00000012,669564973,704982033.37431705,694687305,690807834,692796550]
[null,null,"Romania",21.522228910731158,20.692609689544458,28.411038174249462,29.256630744656547,47.018178228406157,39.086539572727119,null,null,null,"Romania",703391207.03882861,668546145.52416265,861443403.52846909,918182200,1447902700,1200699800,null,null,"Romania",32682080,32308450,30320729.508196719,31383730,30794529.999999996,30719009.999999996]
[null,null,"Russian Federation",332.37591628988764,343.75782307626599,242.76724486312654,189.50739451708151,175.72907723253417,187.19469846456082,null,null,null,"Russian Federation",1257555281186.9998,1319709094578.9998,942707469394.98608,745563946400,695134554800,750225486800,null,null,"Russian Federation",3783533100.7864008,3839066360.0583997,3883174066.2810159,3934220869.3223186,3955717322.0693612,4007728279.4524794]
[null,null,"Saudi Arabia",30.427316666947259,28.25231747607538,19.247036953830001,16.975963172005496,16.348649808538067,17.338980372908669,null,null,null,"Saudi Arabia",111887869427.07173,114915374826.35069,81734629340.739136,70594085300,68651776800.000008,76032549100,null,null,"Saudi Arabia",3677217766.2519236,4067467205.9615393,4246608427.9260769,4158473047.1384616,4199232205.9615393,4385064603.8447123]
[null,null,"Serbia",0,0,27.227550315574678,54.455100631149357,46.82327593346956,60.085411674599627,null,null,null,"Serbia",0,0,"",423776400,353147000,529720500,null,null,"Serbia",8649405,7802539.9999970002,7235127.7322539994,7782125.0000149999,7542125.0000059996,8816125.0000045002]
[null,null,"Spain",0,0,19.182472152073167,59.008462267972767,72.759347757886317,26.444970835558724,null,null,null,"Spain",0,0,239473929.93509513,882867500,1094755700,423776400,null,null,"Spain",10494207.000002,10386516.999998501,12483997.267746,14961710.000011001,15046255.000016,16024839.000017999]
[null,null,"Sudan",77.274523050065994,100.2089314192916,220.95181509815177,363.68406014335295,383.43652369793892,501.96764545827398,null,null,null,"Sudan",13032802454.765594,10643774723.904203,10806753276.450603,15644412100,16739167800,19211196800,null,null,"Sudan",168655877,106215829,48910000,43016491,43655642.5,38271783.000000007]
[null,null,"Sweden",0,0,0,0,0,5.9072206370117586,null,null,null,"Sweden",0,0,"",0,0,35314700,null,null,"Sweden",3803104.9999910006,4112324.0000035004,4488040,4270865,5786540.9999994999,5978226.0000134995]
[null,null,"Syria",256.79912808272348,235.99004585974924,379.06964383772061,695.73576174217953,1139.9401128537052,1866.9668899036021,null,null,null,"Syria",36086697473.824715,30406137458.799393,23616913985.540916,15079376900,13737418300,18398958700,null,null,"Syria",140525000,128845000,62302308.74316936,21674000,12051000,9855000]
[null,null,"Thailand",51.607567794681991,51.879303578606297,103.10199208437243,91.422802527130386,84.842065485760486,86.533538956535708,null,null,null,"Thailand",7304538500.1511955,7974911448.1690779,17305781752.533283,15150006300,13949306500,15079376900,null,null,"Thailand",141540065,153720480,167851090,165713650,164414980,174260490]
[null,null,"Timor-Leste",{"$f":"IFERROR(N158/W158,\"\")","v":0},{"$f":"IFERROR(O158/X158,\"\")","v":0},{"$f":"IFERROR(P158/Y158,AVERAGE(E158,G158))","v":13.860507082776154},{"$f":"IFERROR(Q158/Z158,\"\")","v":27.721014165552308},{"$f":"IFERROR(R158/AA158,\"\")","v":19.497333815629343},{"$f":"IFERROR(S158/AB158,\"\")","v":16.17362671489991},null,null,null,"Timor-Leste",0,0,"",5014687400,3531470000,3037064200,null,null,"Timor-Leste",154313372.50011,163691626.49998498,178573681.43733001,180898410.50013,181125790.50008997,187778799.00011]
[null,null,"Trinidad & Tobago",41.044874539697005,59.29183500625863,532.25528090048363,257.26904795658896,225.5636957990086,204.61013325715547,null,null,null,"Trinidad & Tobago",2203927851.897769,3002493166.4631572,22933869517.906567,11053501100,9534969000,8228325100,null,null,"Trinidad & Tobago",53695567.999999993,50639235,43088101.407103822,42964753,42271736,40214651]
[null,null,"Tunisia",440.48370576543743,517.79204283705656,624.15372883472946,730.51541483240237,801.44457879039032,766.49322897603406,null,null,null,"Tunisia",13656761218.388678,14835233929.722366,"",20835673000,21330078800,17516091200,null,null,"Tunisia",31004009.999999996,28650950,30714111.74863388,28521880,26614540.000000007,22852245.183430936]
[null,null,"Turkey",0,0,1.6778968682362974,3.3557937364725947,8.5680599977533678,26.506228495643434,null,null,null,"Turkey",0,0,"",70629400,176573500,600349900,null,null,"Turkey",21069255.000010997,20910845.000011001,21404268.169401497,21047002.750008501,20608340.749983002,22649389.749985501]
[null,null,"Turkmenistan",534.04545629044048,567.91315083100631,737.85124316318706,907.78933549536794,774.31941880883653,683.6583889149731,null,null,null,"Turkmenistan",42858509683.221382,45576478532.722862,"",79528704400,70311567700,65084992100,null,null,"Turkmenistan",80252549.999999985,80252549.999999985,83406887.978142083,87607004.50022614,90804345.070104033,95201043.6137494]
[null,null,"Ukraine",0,0,148.59423313833582,297.18846627667165,354.17537662772349,378.69514417458885,null,null,null,"Ukraine",0,0,"",8122381000,8581472100.000001,8298954500,null,null,"Ukraine",30394306.999999002,29053090.999984998,29577655.3278515,27330741.000017002,24229442.999986,21914604.999988999]
[null,null,"United Arab Emirates",29.697540121187753,27.071777158844728,30.016800577986594,32.961823997128462,24.341133907615493,23.755400649855524,null,null,null,"United Arab Emirates",31384148583.490536,32804723280.776474,"",43790228000,32736726900,33831482600,null,null,"United Arab Emirates",1056792867.5378561,1211768369.9999988,1242063571.6843805,1328513495,1344913800,1424159630]
[null,null,"United Kingdom",70.659263203232982,82.200619851722607,20.629354384250323,151.15083847999313,152.76142560535217,132.43101049044657,null,null,null,"United Kingdom",35107814613.649017,33482213930.238358,7145076432.6913576,47816103800,47674845000,46650718700,null,null,"United Kingdom",496860751.47246474,407323131.99870229,346354825.24583191,316346930.52879828,312086934.32309562,352264311.26088351]
[null,null,"United States",7.4900128487689752,9.6655606017799762,82.229659382201177,88.402003835974369,93.503327047660335,90.26701092239486,null,null,null,"United States",20639430084.333179,27705829707.191387,266604439609.25079,324577407700,400080236300,418549824400,null,null,"United States",2755593415,2866448295,3242193165,3671606905,4278780755,4636797210]
[null,null,"Uzbekistan",2265.3728462115096,2097.9932093234188,3113.4332438710553,2121.920223323777,1904.155269446318,1679.7797654828785,null,null,null,"Uzbekistan",64259902336.966049,58641637591.761673,76967093901.930161,52760161800,45944424700,39375890500,null,null,"Uzbekistan",28366148.399999999,27951300,24720971.311475404,24864347.5,24128507.499999996,23441103]
[null,null,"Venezuela",96.126389642536409,122.86998390471717,336.44973958097609,334.46248593074034,358.78830377480853,343.77511280035503,null,null,null,"Venezuela",99581040393.135345,123682713556.75412,331679923521.31354,326872863200,351628467900,329556780400,null,null,"Venezuela",1035938629.9999999,1006614550,985823094.80874324,977308000.00000012,980044400.00000012,958640599.99999988]
[null,null,"Vietnam",155.37652904486853,154.07395274433236,272.56016667321279,290.38869011429961,278.00697440872835,274.56412689414753,null,null,null,"Vietnam",18282522236.471176,18359855882.770836,35521535608.040329,38210505400,37892673100,36268196900,null,null,"Vietnam",117665920,119162620.00000001,130325483.87978142,131584000,136301160.00000003,132093720.00000001]
[null,null,"Yemen",414.47335865055419,441.78955386686096,599.6663505897418,748.05843049629448,803.38670979173162,1384.1098362078731,null,null,null,"Yemen",46276629607.932533,38898187195.778725,41510385364.041534,41035681400,42483584100,23519590200,null,null,"Yemen",111651638.50000001,88046869.5,69222469,54856251.5,52880616,16992575]
[null,null,"Generic",{"$f":"N171/W171","v":155.64322208495958},{"$f":"O171/X171","v":155.26034751465002},120.87141460010174,{"$f":"Q171/Z171","v":156.60100928679802},{"$f":"R171/AA171","v":157.53551055014597},{"$f":"S171/AB171","v":154.71696179696218},null,null,null,"Total",4747670254762.2881,4784711244341.9004,3822419253931.5117,4968036681300,5126281852000,5196769993200,null,null,"Total",30503546451.709408,30817342102.692551,31623848091.609032,31724167704.446732,32540484580.892166,33588883421.972916]
[null,null,null,null,null,"Some countries do not have 2012 data available, use average of 2011 and 2013",null,null,null,null,null,null,null,"OPGEE 1.1e","OPGEE 1.1e","Email from Chris Elvidge to Jim Duffy, July 21st, 2015, with country-level totals from NOAA analysis","GGFR website","GGFR website","GGFR website",null,null,null,"BP Statistical Review 2016 where available","BP Statistical Review 2016 where available","BP Statistical Review 2016 where available","BP Statistical Review 2016 where available","BP Statistical Review 2016 where available","BP Statistical Review 2016 where available"]
[null,null,null,null,null,null,null,null,null,null,null,null,null,"\"Flaring\" worksheet","\"Flaring\" worksheet",null,"Accessed 5/30/2017. http://pubdocs.worldbank.org/en/417601483541512386/ggfr-data.pdf","Accessed 5/30/2017. http://pubdocs.worldbank.org/en/417601483541512386/ggfr-data.pdf","Accessed 5/30/2017. http://pubdocs.worldbank.org/en/417601483541512386/ggfr-data.pdf",null,null,null,"Where BP data not available, EIA data for \"Total Petroleum and Other Liquids\"","Where BP data not available, EIA data for \"Total Petroleum and Other Liquids\"","Where BP data not available, EIA data for \"Total Petroleum and Other Liquids\"","Where BP data not available, EIA data for \"Total Petroleum and Other Liquids\"","Where BP data not available, EIA data for \"Total Petroleum and Other Liquids\"","Where BP data not available, EIA data for \"Total Petroleum and Other Liquids\""]
[null,null,null,null,null,null,null,null,null,null,null,null,null,null,null,null,null,null,null,null,null,null,"https://www.eia.gov/beta/international/data/browser/#/?pa=000gfs0000000000000000000000000000vg&c=ruvvvvvfvtvnvv1vrvvvvfvvvvvvfvvvou20evvvvvvvvvvvvuvo&ct=0&tl_id=5-A&vs=INTL.53-1-AFG-TBPD.A&vo=0&v=H&start=1980&end=2016","https://www.eia.gov/beta/international/data/browser/#/?pa=000gfs0000000000000000000000000000vg&c=ruvvvvvfvtvnvv1vrvvvvfvvvvvvfvvvou20evvvvvvvvvvvvuvo&ct=0&tl_id=5-A&vs=INTL.53-1-AFG-TBPD.A&vo=0&v=H&start=1980&end=2016","https://www.eia.gov/beta/international/data/browser/#/?pa=000gfs0000000000000000000000000000vg&c=ruvvvvvfvtvnvv1vrvvvvfvvvvvvfvvvou20evvvvvvvvvvvvuvo&ct=0&tl_id=5-A&vs=INTL.53-1-AFG-TBPD.A&vo=0&v=H&start=1980&end=2016","https://www.eia.gov/beta/international/data/browser/#/?pa=000gfs0000000000000000000000000000vg&c=ruvvvvvfvtvnvv1vrvvvvfvvvvvvfvvvou20evvvvvvvvvvvvuvo&ct=0&tl_id=5-A&vs=INTL.53-1-AFG-TBPD.A&vo=0&v=H&start=1980&end=2016","https://www.eia.gov/beta/international/data/browser/#/?pa=000gfs0000000000000000000000000000vg&c=ruvvvvvfvtvnvv1vrvvvvfvvvvvvfvvvou20evvvvvvvvvvvvuvo&ct=0&tl_id=5-A&vs=INTL.53-1-AFG-TBPD.A&vo=0&v=H&start=1980&end=2016","https://www.eia.gov/beta/international/data/browser/#/?pa=000gfs0000000000000000000000000000vg&c=ruvvvvvfvtvnvv1vrvvvvfvvvvvvfvvvou20evvvvvvvvvvvvuvo&ct=0&tl_id=5-A&vs=INTL.53-1-AFG-TBPD.A&vo=0&v=H&start=1980&end=2016"]
[null,null,null,null,null,null,null,null,null,null,null,null,null,null,null,null,null,null,null,null,null,null,"Tue May 30 2017 16:08:21 GMT-0700 (PDT)","Tue May 30 2017 16:08:21 GMT-0700 (PDT)","Tue May 30 2017 16:08:21 GMT-0700 (PDT)","Tue May 30 2017 16:08:21 GMT-0700 (PDT)","Tue May 30 2017 16:08:21 GMT-0700 (PDT)","Tue May 30 2017 16:08:21 GMT-0700 (PDT)"]
[null,null,null,null,null,null,null,null,null,null,null,null,null,null,null,null,null,null,null,null,null,null,"Source: U.S. Energy Information Administration","Source: U.S. Energy Information Administration","Source: U.S. Energy Information Administration","Source: U.S. Energy Information Administration","Source: U.S. Energy Information Administration","Source: U.S. Energy Information Administration"]
[]
[]
[]
[]
[]
[]
[]
[]
[]
[null,"Table 4.2: NOAA wind speed data - U.S. Onshore"]
[null,"Location","Years Collected","Jan","Feb","Mar","Apr","May","Jun","Jul","Aug","Sep","Oct","Nov","Dec","Annual Average"]
[null,"None selected"]
[null,"BIRMINGHAM AP,AL",59,8.1,8.6999999999999993,9,8.1999999999999993,6.8,6,5.7,5.4,6.3,6.2,7.2,7.7,7.1,null,null,null,"Value","Units","Source",null,null,"Notes"]
[null,"HUNTSVILLE, AL",35,9,9.4,9.8000000000000007,9.1999999999999993,7.9,6.9,6,5.8,6.7,7.3,8.1,9,7.9,null,null,null,{"$f":"M37","v":"NA"},"m/s"]
[null,"MOBILE, AL",54,10.1,10.3,10.7,10.1,8.6999999999999993,7.5,6.9,6.7,7.7,8,8.9,9.6,8.8000000000000007,null,null,null,30,"mph"]
[null,"MONTGOMERY, AL",58,7.7,8.1999999999999993,8.3000000000000007,7.3,6.1,5.8,5.7,5.2,5.9,5.7,6.5,7.1,6.6,null,null,null,{"$f":"100*(1-(156.4*EXP(0.318*(T191/2.23694)/((9.8*T190*($M$39*0.0254))^(1/3))))/($M$16^3))","v":{"$error":"#VALUE!"}},"%","Johnson and Kostiuk (2002)",null,null,"Computed by assuming the wind is always blowing at average speed."]
[null,"ANCHORAGE, AK",49,6.4,6.8,7.1,7.3,8.5,8.4,7.3,6.9,6.7,6.7,6.4,6.3,7.1,null,null,null,{"$f":"SUMPRODUCT(T199:T278,U199:U278)","v":{"$error":"#VALUE!"}},"%","da Rosa (2012)",null,null,"Computed by summing over time the efficiency at each wind speed."]
[null,"ANNETTE, AK",38,11.6,11.8,10.5,10.6,9,8.5,7.7,8.1,8.8000000000000007,11.2,11.7,12,10.1]
[null,"BARROW, AK",69,11.9,11.3,11.3,11.5,12,11.5,11.7,12.4,13.2,13.3,12.5,11.7,12,null,null,null,{"$f":"T191/(SQRT(3.1415/2))","v":23.936889806691649},"mph","da Rosa (2012)",null,null,"Computed from the formula for the mean of a Rayliegh distribution."]
[null,"BARTER IS.,AK",33,15.1,14.4,13.7,12,12.7,11.6,10.9,11.8,13.2,14.8,14.9,13.9,13.2]
[null,"BETHEL, AK",44,14.5,14.7,13.7,12.9,11.5,11,10.6,11,11.6,12.3,13.2,13.6,12.6,null,null,null,null,null,null,null,null,"Computing assuming wind speed follows Raleigh distribution"]
[null,"BETTLES,AK",27,5.8,6.3,7,7.4,7.2,6.8,6.5,6.2,6.4,6.4,5.8,5.6,6.5,null,null,"Windspeed (mph):","% of time at that speed","Efficiency at that speed"]
[null,"BIG DELTA,AK",26,11.2,10.199999999999999,8.8000000000000007,8,8.1999999999999993,6.9,6.1,6.6,7.6,8.6999999999999993,10.199999999999999,10,8.5,null,null,1,{"$f":"(S199/($T$195^2))*EXP(((-(S199^2))/(2*($T$195^2))))","v":1.7437554448370427E-3},{"$f":"IF(100*(1-(156.4*EXP(0.318*($S199/2.23694)/((9.8*$T$190*($M$39*0.0254))^(1/3))))/($M$16^3))>=0,100*(1-(156.4*EXP(0.318*($S199/2.23694)/((9.8*$T$190*($M$39*0.0254))^(1/3))))/($M$16^3)),0)","v":{"$error":"#VALUE!"}}]
[null,"COLD BAY,AK",47,17.5,17.899999999999999,17.399999999999999,17.5,16.2,15.8,15.6,16.2,16.2,16.600000000000001,17.5,17.5,16.8,null,null,2,3.4783928171753563E-3,{"$error":"#VALUE!"}]
[null,"FAIRBANKS, AK",51,3,3.9,5.3,6.6,7.7,7.1,6.6,6.1,6,5.3,3.8,3,5.4,null,null,3,5.1948734621241844E-3,{"$error":"#VALUE!"}]
[null,"GULKANA,AK",14,5,4.9000000000000004,6.3,8.5,8.6999999999999993,8.1,7.7,7.7,7.3,6,4.0999999999999996,3.3,6.5,null,null,4,6.8843165921627656E-3,{"$error":"#VALUE!"}]
[null,"HOMER, AK",28,7.8,7.7,7.8,8.1,8.1999999999999993,7.8,7.1,6.6,7,7.3,7.7,7.8,7.6,null,null,5,8.5380758163665985E-3,{"$error":"#VALUE!"}]
[null,"JUNEAU, AK",57,8.1,8.1999999999999993,8.4,8.5,8.3000000000000007,7.7,7.5,7.4,8,9.5,8.4,8.8000000000000007,8.1999999999999993,null,null,6,1.014781282643039E-2,{"$error":"#VALUE!"}]
[null,"KING SALMON, AK",47,10.5,11,11.3,10.9,11,10.5,9.9,10,10.4,10.3,10.4,10.1,10.5,null,null,7,1.1705567361135472E-2,{"$error":"#VALUE!"}]
[null,"KODIAK, AK",49,12.7,12.5,12.5,11.6,10.6,9.3000000000000007,7.7,8.4,9.6999999999999993,11.4,12.5,12.6,11,null,null,8,1.3203822628673822E-2,{"$error":"#VALUE!"}]
[null,"KOTZEBUE, AK",56,13.9,13,11.9,12,10.7,11.9,12.7,13.2,13.2,13.5,14.4,12.9,12.8,null,null,9,1.4635565436359368E-2,{"$error":"#VALUE!"}]
[null,"MCGRATH, AK",52,3.2,4.2,5.3,6.5,6.7,6.4,5.9,5.8,5.9,5.4,3.7,3.2,5.2,null,null,10,1.5994340358407771E-2,{"$error":"#VALUE!"}]
[null,"NOME, AK",55,10.8,11,10.1,10.1,9.9,9.6999999999999993,9.6999999999999993,10.4,11,10.5,11.5,10.3,10.4,null,null,11,1.7274297363128494E-2,{"$error":"#VALUE!"}]
[null,"ST. PAUL ISLAND, AK",28,19.899999999999999,20,18.8,17.399999999999999,14.9,13.6,12.1,13.7,15.4,17.399999999999999,20,20.100000000000001,16.899999999999999,null,null,12,1.847023241936481E-2,{"$error":"#VALUE!"}]
[null,"TALKEETNA, AK",19,6,5.5,5.5,4.7,4.9000000000000004,5.0999999999999996,4.2,3.7,3.7,3.8,5,4.9000000000000004,4.8,null,null,13,1.9577620706527167E-2,{"$error":"#VALUE!"}]
[null,"VALDEZ, AK",22,7.5,7.8,6.7,5.2,5.8,5.9,4.9000000000000004,4.2,4.3,6.3,7.5,7,6.1,null,null,14,2.0592642161195728E-2,{"$error":"#VALUE!"}]
[null,"YAKUTAT, AK",54,7.2,7.3,7,7.1,7.5,6.9,6.6,6.3,6.9,7.8,7.2,7.8,7.1,null,null,15,2.151219920407289E-2,{"$error":"#VALUE!"}]
[null,"FLAGSTAFF, AZ",35,6.5,6.6,7.1,7.6,7.3,7,5.5,5,5.6,5.8,6.6,6.6,6.4,null,null,16,2.2333926602095638E-2,{"$error":"#VALUE!"}]
[null,"PHOENIX, AZ",57,5.3,5.8,6.6,6.9,7,6.7,7.1,6.6,6.3,5.8,5.3,5.0999999999999996,6.2,null,null,17,2.305619352985374E-2,{"$error":"#VALUE!"}]
[null,"TUCSON, AZ",57,7.9,8.1,8.6,8.9,8.8000000000000007,8.6999999999999993,8.4,7.9,8.3000000000000007,8.1999999999999993,8.1,7.8,8.3000000000000007,null,null,18,2.3678098000259305E-2,{"$error":"#VALUE!"}]
[null,"WINSLOW, AZ",42,7.1,8.5,10.3,11.3,10.7,10.6,9,8.4,8.1,7.6,7.3,6.7,8.8000000000000007,null,null,19,2.4199453934943469E-2,{"$error":"#VALUE!"}]
[null,"YUMA, AZ",28,7.3,7.4,7.9,8.3000000000000007,8.3000000000000007,8.5,9.5,8.9,7.3,6.6,6.9,7.2,7.8,null,null,20,2.4620771238525047E-2,{"$error":"#VALUE!"}]
[null,"FORT SMITH, AR",57,8.1999999999999993,8.5,9.4,8.9,7.7,6.7,6.3,6.3,6.6,6.8,7.8,8.1,7.6,null,null,21,2.4943229326285836E-2,{"$error":"#VALUE!"}]
[null,"LITTLE ROCK, AR",60,8.4,8.9,9.6,9,7.6,7.1,6.7,6.3,6.6,6.8,8,8.1,7.8,null,null,22,2.5168644630675144E-2,{"$error":"#VALUE!"}]
[null,"BAKERSFIELD, CA",50,5.2,5.8,6.5,7.1,7.9,7.9,7.2,6.8,6.2,5.5,5.0999999999999996,5,6.4,null,null,23,2.5299432677445489E-2,{"$error":"#VALUE!"}]
[null,"BLUE CANYON, CA",50,7.8,7.7,7.4,6.5,6.5,6.3,5.8,5.9,6.4,6.8,6.6,6.7,6.7,null,null,24,2.5338565376315247E-2,{"$error":"#VALUE!"}]
[null,"EUREKA, CA.",54,6.9,7.2,7.6,8,7.9,7.4,6.8,5.8,5.5,5.6,6,6.4,6.8,null,null,25,2.5289524213324487E-2,{"$error":"#VALUE!"}]
[null,"FRESNO, CA",53,5.2,5.7,6.7,7.4,8.1,8.3000000000000007,7.4,6.8,6.1,5.2,4.7,4.9000000000000004,6.4,null,null,26,2.515625006219888E-2,{"$error":"#VALUE!"}]
[null,"LONG BEACH, CA",33,5.2,6,6.7,7.4,7.1,7,6.8,6.6,6.2,5.6,5.2,5,6.2,null,null,27,2.49430903500059E-2,{"$error":"#VALUE!"}]
[null,"LOS ANGELES AP, CA",54,6.7,7.4,8.1,8.5,8.4,8,7.9,7.7,7.3,6.9,6.7,6.6,7.5,null,null,28,2.4654744318348753E-2,{"$error":"#VALUE!"}]
[null,"LOS ANGELES C.O., CA",28,6.2,6.4,6.5,6.3,6,5.4,5,4.9000000000000004,5.0999999999999996,5.2,5.8,5.8,5.7,null,null,29,2.4296207115687269E-2,{"$error":"#VALUE!"}]
[null,"MOUNT SHASTA, CA",3,5,5.2,5.8,6.2,5.4,5.4,4.4000000000000004,4.2,4.5999999999999996,4.2,5.2,5.4,5.0999999999999996,null,null,30,2.3872713439693209E-2,{"$error":"#VALUE!"}]
[null,"REDDING, CA",16,6.2,7.1,7.3,7,7.3,7.5,6.6,6.1,6,6,5.7,6.4,6.6,null,null,31,2.3389681421611946E-2,{"$error":"#VALUE!"}]
[null,"SACRAMENTO, CA",52,7.1,7.3,8.4,8.6,9,9.6,8.9,8.4,7.4,6.4,6,6.4,7.8,null,null,32,2.2852657408343031E-2,{"$error":"#VALUE!"}]
[null,"SAN DIEGO, CA",62,6,6.6,7.5,7.8,7.9,7.8,7.5,7.4,7.1,6.5,5.9,5.6,7,null,null,33,{"$f":"(S231/($T$195^2))*EXP(((-(S231^2))/(2*($T$195^2))))","v":2.2267262253428254E-2},{"$f":"IF(100*(1-(156.4*EXP(0.318*($S231/2.23694)/((9.8*$T$190*($M$39*0.0254))^(1/3))))/($M$16^3))>=0,100*(1-(156.4*EXP(0.318*($S231/2.23694)/((9.8*$T$190*($M$39*0.0254))^(1/3))))/($M$16^3)),0)","v":{"$error":"#VALUE!"}}]
[null,"SAN FRANCISCO AP, CA",75,7.2,8.6,10.5,12.2,13.4,14,13.6,12.8,11.1,9.4,7.5,7.1,10.6,null,null,34,2.1639139676510807E-2,{"$error":"#VALUE!"}]
[null,"SAN FRANCISCO C.O., CA",28,6.7,7.5,8.5,9.5,10.4,10.9,11.2,10.5,9.1,7.6,6.3,6.5,8.6999999999999993,null,null,35,2.0973907193339705E-2,{"$error":"#VALUE!"}]
[null,"SANTA BARBARA, CA",31,5.0999999999999996,5.9,6.7,7.6,7,6.7,6.5,6.1,5.5,5.5,5.2,4.4000000000000004,6,null,null,36,2.0277110056322351E-2,{"$error":"#VALUE!"}]
[null,"SANTA MARIA, CA",22,6.4,7.2,8.1,8,8.1999999999999993,7.8,6.5,6.3,5.9,6,6.4,6.2,6.9,null,null,37,1.9554178580274237E-2,{"$error":"#VALUE!"}]
[null,"STOCKTON, CA",42,6.7,7,7.7,8.4,9.1999999999999993,9.1999999999999993,8.1999999999999993,7.7,7.1,6.4,5.8,6.4,7.5,null,null,38,1.881038916066656E-2,{"$error":"#VALUE!"}]
[null,"ALAMOSA, CO",11,5.6,6.6,8.4,10.3,9.6999999999999993,9,7,6.2,6.5,6.4,5.6,4.9000000000000004,7.2,null,null,39,1.8050829223583347E-2,{"$error":"#VALUE!"}]
[null,"COLORADO SPRINGS, CO",54,9.4,10,11.1,11.6,11.2,10.4,9.3000000000000007,8.9,9.4,9.6,9.5,9.4,10,null,null,40,1.7280366278962126E-2,{"$error":"#VALUE!"}]
[null,"DENVER, CO",47,8.6,8.6999999999999993,9.6,10,9.3000000000000007,8.8000000000000007,8.3000000000000007,8,7.9,7.8,8.1999999999999993,8.4,8.6,null,null,41,1.6503621182620293E-2,{"$error":"#VALUE!"}]
[null,"GRAND JUNCTION, CO",56,5.7,6.7,8.4,9.4,9.6,9.8000000000000007,9.4,9.1,9,7.9,6.8,6,8.1999999999999993,null,null,42,1.5724945649078392E-2,{"$error":"#VALUE!"}]
[null,"PUEBLO, CO",47,7.8,8.5,9.6,10.3,9.6999999999999993,9.3000000000000007,8.6999999999999993,7.9,7.9,7.4,7.5,7.7,8.5,null,null,43,1.4948403997185387E-2,{"$error":"#VALUE!"}]
[null,"BRIDGEPORT, CT",30,12.5,12.9,13,12.4,11.1,9.9,9.4,9.5,10.5,11.3,12,12.1,11.4,null,null,44,1.4177759054810304E-2,{"$error":"#VALUE!"}]
[null,"HARTFORD, CT",48,8.9,9.4,9.9,9.8000000000000007,8.6999999999999993,8,7.3,7,7.3,7.8,8.4,8.6999999999999993,8.4,null,null,45,1.3416462098038668E-2,{"$error":"#VALUE!"}]
[null,"WILMINGTON, DE",54,9.8000000000000007,10.3,11,10.4,9,8.3000000000000007,7.8,7.4,7.8,8.1,9.1999999999999993,9.3000000000000007,9,null,null,46,1.266764665491622E-2,{"$error":"#VALUE!"}]
[null,"WASHINGTON DULLES AP, D.C.",40,8.1,8.6,9,8.8000000000000007,7.4,6.8,6.2,5.8,6.2,6.6,7.6,7.7,7.4,null,null,47,1.1934125964194195E-2,{"$error":"#VALUE!"}]
[null,"WASHINGTON NAT'L AP, D.C.",54,10,10.3,10.9,10.5,9.3000000000000007,8.9,8.3000000000000007,8.1,8.3000000000000007,8.6999999999999993,9.4,9.6,9.4,null,null,48,1.1218393845995043E-2,{"$error":"#VALUE!"}]
[null,"APALACHICOLA, FL",54,8.3000000000000007,8.6999999999999993,8.9,8.5,7.7,7.1,6.4,6.4,7.8,8,8,8,7.8,null,null,49,1.0522628713949272E-2,{"$error":"#VALUE!"}]
[null,"DAYTONA BEACH, FL",57,8.8000000000000007,9.3000000000000007,9.8000000000000007,9.4,8.9,8,7.3,7,8,8.9,8.3000000000000007,8.3000000000000007,8.5,null,null,50,9.8487004371462794E-3,{"$error":"#VALUE!"}]
[null,"FORT MYERS, FL",57,8.3000000000000007,8.9,9.3000000000000007,8.8000000000000007,8,7.2,6.6,6.7,7.4,8.4,8.1,7.9,8,null,null,51,9.1981797450742375E-3,{"$error":"#VALUE!"}]
[null,"GAINESVILLE, FL",19,6.9,7.4,7.8,7.2,6.9,6.1,5.6,5.4,5.8,6.3,6.2,6,6.5,null,null,52,8.5723498593752376E-3,{"$error":"#VALUE!"}]
[null,"JACKSONVILLE, FL",53,8.1,8.6999999999999993,9.1,8.5,7.9,7.7,7,6.7,7.4,7.8,7.6,7.6,7.8,null,null,53,7.9722200324003033E-3,{"$error":"#VALUE!"}]
[null,"KEY WEST, FL",49,11.8,12,12.1,12.2,10.5,9.6,9.4,9.1999999999999993,9.6,10.8,12,11.8,10.9,null,null,54,7.3985406738284647E-3,{"$error":"#VALUE!"}]
[null,"MIAMI, FL",53,9.5,10,10.5,10.5,9.5,8.3000000000000007,7.9,7.9,8.1999999999999993,9.1999999999999993,9.6999999999999993,9.1,9.1999999999999993,null,null,55,6.8518197525656108E-3,{"$error":"#VALUE!"}]
[null,"ORLANDO, FL",54,9,9.6,9.9,9.4,8.8000000000000007,8,7.3,7.2,7.6,8.6,8.6,8.5,8.5,null,null,56,6.3323401712662474E-3,{"$error":"#VALUE!"}]
[null,"PENSACOLA, FL",38,9,9.3000000000000007,9.8000000000000007,9.5,8.6,7.6,6.9,6.7,7.6,7.9,8.1999999999999993,8.8000000000000007,8.3000000000000007,null,null,57,5.8401778245937286E-3,{"$error":"#VALUE!"}]
[null,"TALLAHASSEE, FL",41,6.7,7.1,7.5,6.8,6.2,5.7,5,5,5.9,6.3,5.9,6.3,6.2,null,null,58,5.3752200692020738E-3,{"$error":"#VALUE!"}]
[null,"TAMPA, FL",56,8.6,9.1,9.4,9.1999999999999993,8.6,7.9,7.1,6.9,7.6,8.3000000000000007,8.1999999999999993,8.3000000000000007,8.3000000000000007,null,null,59,4.9371843528264372E-3,{"$error":"#VALUE!"}]
[null,"VERO BEACH, FL",19,8.6999999999999993,9,9.9,9.5,9.1,7.7,6.9,6.5,7.3,8.6,8.6,8,8.3000000000000007,null,null,60,4.5256367712559866E-3,{"$error":"#VALUE!"}]
[null,"WEST PALM BEACH, FL",60,10.1,10.5,11,10.9,9.9,8.3000000000000007,7.7,7.7,8.6999999999999993,10,10.4,10,9.6,null,null,61,4.140010344793537E-3,{"$error":"#VALUE!"}]
[null,"ATHENS, GA",47,8.3000000000000007,8.6,8.6999999999999993,8.3000000000000007,7.1,6.6,6.3,5.8,6.4,6.6,7.3,8,7.3,null,null,62,3.7796228295658347E-3,{"$error":"#VALUE!"}]
[null,"ATLANTA, GA",64,10.4,10.6,10.9,10.1,8.6999999999999993,8.1,7.7,7.3,8,8.5,9.1,9.8000000000000007,9.1,null,null,63,3.4436939032543102E-3,{"$error":"#VALUE!"}]
[null,"AUGUSTA,GA",51,6.9,7.5,7.9,7.4,6.4,6,5.8,5.3,5.4,5.6,5.9,6.5,6.4,null,null,64,3.1313615890247132E-3,{"$error":"#VALUE!"}]
[null,"COLUMBUS, GA",44,7.2,7.7,8,7.2,6.6,6.1,5.8,5.5,6.4,6.3,6.4,6.9,6.7,null,null,65,{"$f":"(S263/($T$195^2))*EXP(((-(S263^2))/(2*($T$195^2))))","v":2.8416978052447591E-3},{"$f":"IF(100*(1-(156.4*EXP(0.318*($S263/2.23694)/((9.8*$T$190*($M$39*0.0254))^(1/3))))/($M$16^3))>=0,100*(1-(156.4*EXP(0.318*($S263/2.23694)/((9.8*$T$190*($M$39*0.0254))^(1/3))))/($M$16^3)),0)","v":{"$error":"#VALUE!"}}]
[null,"MACON, GA",54,8,8.4,8.8000000000000007,8.3000000000000007,7.4,7,6.7,6.2,6.7,6.5,6.9,7.5,7.4,null,null,66,2.5737229516390203E-3,{"$error":"#VALUE!"}]
[null,"SAVANNAH, GA",52,8.1999999999999993,8.6,9.1,8.6,7.6,7.4,6.9,6.7,7.2,7.3,7.2,7.6,7.7,null,null,67,2.3264194645361471E-3,{"$error":"#VALUE!"}]
[null,"HILO, HI",53,7.4,7.7,7.7,7.5,7.4,7.1,6.9,6.8,6.8,6.7,6.8,7.2,7.2,null,null,68,2.0987442945622115E-3,{"$error":"#VALUE!"}]
[null,"HONOLULU,HI",53,9.4,10.1,11.3,11.6,11.6,12.6,13.1,12.8,11.2,10.5,10.7,10.4,11.3,null,null,69,1.8896402793224924E-3,{"$error":"#VALUE!"}]
[null,"KAHULUI, HI",30,10.8,11.2,12.2,13.4,13,14.9,15.5,14.7,13,12.2,11.8,11.3,12.8,null,null,70,1.6980464011386318E-3,{"$error":"#VALUE!"}]
[null,"LIHUE, HI",52,11.1,11.7,12.7,13.5,12.8,13.2,13.7,13.1,11.7,11.8,12.4,12,12.5,null,null,71,1.5229069356612859E-3,{"$error":"#VALUE!"}]
[null,"BOISE, ID",63,7.9,8.9,9.9,9.9,9.4,9,8.4,8.1999999999999993,8.1999999999999993,8.3000000000000007,8.4,8.1,8.6999999999999993,null,null,72,1.3631795110969633E-3,{"$error":"#VALUE!"}]
[null,"POCATELLO, ID",50,10.5,10.5,11.1,11.6,10.5,10.1,9.1,8.9,9,9.5,10.1,9.9,10.1,null,null,73,1.2178421098479884E-3,{"$error":"#VALUE!"}]
[null,"CAIRO,IL",22,9.8000000000000007,9.8000000000000007,10.6,10.199999999999999,8.1999999999999993,7.4,6.5,6.2,7,7.3,9.1,9.3000000000000007,8.5,null,null,74,1.0858990545796483E-3,{"$error":"#VALUE!"}]
[null,"CHICAGO,IL",44,11.6,11.4,11.8,11.9,10.5,9.3000000000000007,8.4,8.1999999999999993,8.9,10.1,11.1,11,10.3,null,null,75,9.6638602914286213E-4,{"$error":"#VALUE!"}]
[null,"MOLINE, IL",59,10.7,10.6,11.7,11.8,10.1,8.8000000000000007,7.5,7.1,8,9.1999999999999993,10.6,10.3,9.6999999999999993,null,null,76,8.5837419146619659E-4,{"$error":"#VALUE!"}]
[null,"PEORIA, IL",59,10.9,10.9,11.7,11.6,9.9,8.9,7.8,7.3,8.3000000000000007,9.3000000000000007,10.6,10.6,9.8000000000000007,null,null,77,7.609734405822924E-4,{"$error":"#VALUE!"}]
[null,"ROCKFORD, IL",52,10.5,10.6,11.6,11.8,10.4,9.3000000000000007,8.1,7.7,8.4,9.5,10.6,10.4,9.9,null,null,78,6.7333490348340901E-4,{"$error":"#VALUE!"}]
[null,"SPRINGFIELD, IL",55,12.2,12.2,13.2,13,11.1,9.6,8.3000000000000007,7.9,8.6999999999999993,10.1,12.2,12,10.9,null,null,79,5.9465270963539687E-4,{"$error":"#VALUE!"}]
[null,"EVANSVILLE, IN",62,9.1999999999999993,9.3000000000000007,10,9.6,7.9,7.1,6.2,5.8,6.4,6.9,8.6999999999999993,8.9,8,null,null,80,5.2416512185510646E-4,{"$error":"#VALUE!"}]
[null,"FORT WAYNE, IN",56,11.5,11,11.7,11.6,10,8.9,8,7.3,8.1999999999999993,9.1,10.9,11.1,9.9,null,null,null,{"$f":"SUM(T199:T278)","v":0.99635691138741711}]
[null,"INDIANAPOLIS, IN",54,10.9,10.8,11.6,11.2,9.6,8.5,7.5,7.2,7.9,8.9,10.5,10.5,9.6]
[null,"SOUTH BEND, IN",54,11.9,11.2,11.9,11.6,10.199999999999999,9.1,8.1,7.7,8.5,9.5,11,11.2,10.199999999999999]
[null,"DES MOINES, IA",53,11.4,11.2,12.4,12.6,11,10.1,8.9,8.6,9.4,10.3,11.3,11.1,10.7]
[null,"SIOUX CITY, IA",61,11.4,11.2,12.3,13.2,11.8,10.7,9.1999999999999993,9.1,9.9,10.5,11.4,11,11]
[null,"WATERLOO, IA",46,11.4,11.4,12.1,12.6,11.1,9.8000000000000007,8.4,8.3000000000000007,9,10.199999999999999,11,11,10.5]
[null,"CONCORDIA, KS",40,11.7,12.1,13.4,13.8,12.1,11.7,11.3,10.9,11.2,11.6,11.8,11.5,11.9]
[null,"DODGE CITY, KS",60,13.5,13.9,15.5,15.5,14.6,14,13.1,12.5,13.5,13.5,13.7,13.4,13.9]
[null,"GOODLAND, KS",54,12.4,12.4,14,14.4,13.5,12.7,11.9,11.5,12,11.9,11.9,11.9,12.5]
[null,"TOPEKA, KS",53,9.6999999999999993,10.199999999999999,11.5,11.7,10.199999999999999,9.4,8.4,8,8.5,9,9.6999999999999993,9.5,9.6]
[null,"WICHITA, KS",49,12,12.5,13.8,14,12.3,12.2,11.3,11.1,11.6,11.9,12.1,11.7,12.2]
[null,"GREATER CINCINNATI AP",55,10.4,10.4,11,10.6,8.6999999999999993,7.9,7.2,6.8,7.4,8.1,9.6999999999999993,10,9]
[null,"JACKSON, KY",21,7.3,7.4,7.6,7.7,6,5.3,5,4.5999999999999996,5.3,6,7,7.1,6.4]
[null,"LEXINGTON, KY",55,10.6,10.6,10.9,10.4,8.6,7.9,7.2,6.8,7.6,8.1,9.9,10.3,9.1]
[null,"LOUISVILLE, KY",55,9.5,9.5,10.1,9.6999999999999993,8,7.4,6.8,6.4,6.8,7.2,8.9,9.1,8.3000000000000007]
[null,"PADUCAH KY",18,8.8000000000000007,8.9,9.4,8.9,7.4,6.2,5.7,5.0999999999999996,5.6,6.5,8.1999999999999993,8.4,7.4]
[null,"BATON ROUGE, LA",51,8.6999999999999993,9.1,9.1,8.6999999999999993,7.6,6.5,5.9,5.6,6.4,6.6,7.4,8.1,7.5]
[null,"LAKE CHARLES, LA",41,9.8000000000000007,10,10.199999999999999,9.8000000000000007,8.6,7.5,6.1,6.1,7.1,7.8,8.8000000000000007,9.3000000000000007,8.4]
[null,"NEW ORLEANS, LA",54,9.3000000000000007,9.8000000000000007,9.9,9.4,8.1,6.8,6.1,5.9,7.3,7.6,8.6999999999999993,9,8.1999999999999993]
[null,"SHREVEPORT, LA",50,9.1999999999999993,9.6,10,9.6,8.3000000000000007,7.6,7.1,6.6,7.2,7.4,8.3000000000000007,8.8000000000000007,8.3000000000000007]
[null,"CARIBOU, ME",22,11.1,10.8,11.7,10.9,10.3,9.3000000000000007,8.6,8.1,9.1999999999999993,10,10,10.4,10]
[null,"PORTLAND, ME",62,9,9.4,10,9.9,9.1,8.1999999999999993,7.6,7.5,7.8,8.4,8.8000000000000007,9,8.6999999999999993]
[null,"BALTIMORE, MD",52,9.4,9.9,10.7,10.199999999999999,8.9,8.1999999999999993,7.6,7.5,7.7,8.1,8.8000000000000007,8.9,8.8000000000000007]
[null,"BLUE HILL, MA",61,17.2,17.2,17.2,16.399999999999999,14.6,13.8,12.9,12.6,13.5,15.2,16.2,16.7,15.3]
[null,"BOSTON, MA",45,13.7,13.7,13.6,13.1,12,11.4,11,10.8,11.3,11.9,12.7,13.4,12.4]
[null,"WORCESTER, MA",36,11.7,11.6,11.5,11,10,8.9,8.4,8.3000000000000007,8.6,9.4,10.4,10.9,10.1]
[null,"ALPENA, MI",42,8.8000000000000007,8.4,8.9,9.1999999999999993,8.3000000000000007,7.5,7,6.7,7.1,7.8,8.5,8.4,8.1]
[null,"DETROIT, MI",44,11.9,11.4,11.7,11.3,10.1,9.1999999999999993,8.5,8.1,8.6999999999999993,9.6999999999999993,11.2,11.3,10.3]
[null,"FLINT, MI",61,11.8,11.2,11.8,11.5,10.1,9,8.1,7.8,8.8000000000000007,9.8000000000000007,11.2,11.3,10.199999999999999]
[null,"GRAND RAPIDS, MI",39,11.4,10.6,11.1,11,9.6999999999999993,8.9,8.3000000000000007,7.9,8.3000000000000007,9.4,10.5,10.7,9.8000000000000007]
[null,"HOUGHTON LAKE, MI",21,9.6999999999999993,9.1,9.1,9.5,8.8000000000000007,7.8,7.5,7,7.8,8.8000000000000007,9.6,9.3000000000000007,8.6999999999999993]
[null,"LANSING, MI",43,11.7,10.9,11.2,11.1,9.9,8.8000000000000007,8,7.5,8.1999999999999993,9.4,10.7,11,9.9]
[null,"MUSKEGON, MI",41,12.2,11.6,11.6,11.5,9.9,9.3000000000000007,8.8000000000000007,8.6,9.3000000000000007,10.7,11.9,11.7,10.6]
[null,"SAULT STE. MARIE, MI",61,9.6,9.3000000000000007,10,10.3,9.6999999999999993,8.5,7.8,7.7,8.6,9.1999999999999993,9.6999999999999993,9.6,9.1999999999999993]
[null,"DULUTH, MN",53,11.6,11.3,11.8,12.3,11.6,10.4,9.4,9.4,10.3,11.2,11.6,11.2,11]
[null,"INTERNATIONAL FALLS, MN",50,8.9,8.8000000000000007,9.4,9.9,9.4,8.5,7.7,7.5,8.5,9.3000000000000007,9.4,8.8000000000000007,8.8000000000000007]
[null,"MINNEAPOLIS-ST.PAUL, MN",64,10.5,10.4,11.3,12.2,11.1,10.4,9.4,9.1999999999999993,10,10.6,11,10.4,10.5]
[null,"ROCHESTER, MN",42,14.2,13.7,14.1,14.3,13.2,12.1,10.8,10.4,11.5,12.7,13.6,13.7,12.9]
[null,"SAINT CLOUD, MN",16,8.4,8.4,9,9.8000000000000007,9.1999999999999993,8.3000000000000007,7.1,6.5,7.2,8.4,8.6,8.1999999999999993,8.3000000000000007]
[null,"JACKSON, MS",39,8.1999999999999993,8.4,8.6999999999999993,8,6.8,6.1,5.2,5.3,6.1,6.2,6.9,7.8,7]
[null,"MERIDIAN, MS",43,7.1,7.5,7.9,7.1,6,5.2,4.9000000000000004,4.5999999999999996,5.3,5.2,6.1,6.9,6.2]
[null,"TUPELO, MS",19,7.6,8.1999999999999993,8.3000000000000007,7.8,6.6,5.7,5.3,5.2,6.1,6,6.9,7.5,6.8]
[null,"COLUMBIA, MO",32,10.7,10.8,11.7,11.5,9.1,8.6999999999999993,8.1999999999999993,7.9,8.6,9.3000000000000007,10.6,10.6,9.8000000000000007]
[null,"KANSAS CITY, MO",30,11.1,11.1,12.3,12.3,10.3,9.9,9.1999999999999993,8.8000000000000007,9.6,10.5,11.2,10.9,10.6]
[null,"ST. LOUIS, MO",53,10.6,10.8,11.6,11.3,9.4,8.8000000000000007,8,7.6,8.1999999999999993,8.9,10.199999999999999,10.3,9.6]
[null,"SPRINGFIELD, MO",57,11.4,11.5,12.5,12,10.199999999999999,9.3000000000000007,8.4,8.4,9.1,10.1,11,11.2,10.4]
[null,"BILLINGS, MT",63,13,12.3,11.4,11.4,10.7,10.1,9.5,9.5,10.199999999999999,11,12.2,13,11.2]
[null,"GLASGOW, MT",33,9.8000000000000007,10.1,11.2,12.3,12.2,11.1,10.5,10.9,10.9,10.6,9.5,9.6999999999999993,10.7]
[null,"GREAT FALLS, MT",61,14.9,13.9,12.8,12.6,11.3,11.1,10,10.1,11.2,12.9,14.5,15.2,12.5]
[null,"HAVRE, MT",3,8.8000000000000007,9.4,10.199999999999999,11.6,12.4,10.8,9.8000000000000007,9,9.4,9.1,10.6,10.8,10.199999999999999]
[null,"HELENA, MT",62,6.7,7.3,8.1999999999999993,9.1,8.8000000000000007,8.5,7.8,7.4,7.4,7.1,7.1,6.7,7.7]
[null,"KALISPELL, MT",40,5.6,5.6,6.7,7.7,7.4,6.9,6.3,6.3,6.1,5.0999999999999996,5.3,5.0999999999999996,6.2]
[null,"MISSOULA, MT",58,5.0999999999999996,5.6,6.7,7.6,7.4,7.2,6.9,6.7,6,5.0999999999999996,5,4.7,6.2]
[null,"GRAND ISLAND, NE",53,11.7,11.7,13.1,14,12.6,11.8,10.5,10.3,11,11.2,11.8,11.6,11.8]
[null,"LINCOLN, NE",30,9.6,10,11.3,12.1,10.5,9.8000000000000007,9.3000000000000007,9.1,9.5,9.9,9.9,9.6,10.1]
[null,"NORFOLK, NE",26,11.6,11.5,12.5,13.1,11.5,10.8,9.6999999999999993,9.5,10.3,11,11.4,11.3,11.2]
[null,"NORTH PLATTE, NE",50,9.1999999999999993,9.8000000000000007,11.5,12.6,11.5,10.4,9.5,9.1999999999999993,9.6999999999999993,9.6,9.5,9,10.1]
[null,"OMAHA EPPLEY AP, NE",66,10.9,11.1,12.2,12.6,10.9,10.1,8.8000000000000007,8.8000000000000007,9.4,9.8000000000000007,10.9,10.7,10.5]
[null,"OMAHA (NORTH), NE",9,9.9,9.1999999999999993,10.5,10.199999999999999,8.9,8.3000000000000007,7.5,7.6,8.6,9,9.6999999999999993,9.8000000000000007,9.1]
[null,"SCOTTSBLUFF, NE",51,10.6,11.1,12,12.5,11.8,10.5,9.3000000000000007,8.9,9.4,9.6999999999999993,10.199999999999999,10.4,10.5]
[null,"VALENTINE, NE",34,9.3000000000000007,9.4,10.4,11.1,11,9.9,9.1,9.1999999999999993,9.6999999999999993,9.5,9.6999999999999993,9.1999999999999993,9.8000000000000007]
[null,"ELKO, NV",47,5.2,5.7,6.6,7.2,6.8,6.7,6.2,5.9,5.4,5,5.0999999999999996,5,5.9]
[null,"ELY, NV",61,10.1,10.3,10.7,10.9,10.7,10.6,10.3,10.4,10.3,10,9.9,9.9,10.3]
[null,"LAS VEGAS, NV",54,7.4,8.5,10.1,11,11,11,10.199999999999999,9.6,9,8.1,7.8,7.3,9.1999999999999993]
[null,"RENO, NV",60,5.6,6.2,7.8,8.1999999999999993,8,7.7,7.2,6.6,5.8,5.4,5.5,5.3,6.6]
[null,"WINNEMUCCA, NV",46,7.6,8,8.6,8.6,8.6,8.5,8.4,7.8,7.6,7.3,7.2,7.4,8]
[null,"CONCORD, NH",60,7.2,7.9,8.1,7.8,7,6.5,5.7,5.4,5.6,6,6.6,7,6.7]
[null,"MT. WASHINGTON, NH",67,46.1,44.3,41.4,35.799999999999997,29.7,27.3,25.3,24.7,28.8,33.799999999999997,39.5,44.5,35.1]
[null,"ATLANTIC CITY AP, NJ",44,10.7,11.1,11.8,11.4,10.1,9.1,8.3000000000000007,7.9,8.3000000000000007,8.6999999999999993,9.9,10.3,9.8000000000000007]
[null,"NEWARK, NJ",58,11.2,11.5,11.9,11.2,10,9.5,8.9,8.6999999999999993,9,9.4,10.199999999999999,10.8,10.199999999999999]
[null,"ALBUQUERQUE, NM",63,8,8.8000000000000007,9.9,10.7,10.5,9.8000000000000007,8.9,8.1,8.4,8.1999999999999993,7.9,7.6,8.9]
[null,"CLAYTON, NM",10,11.9,12.4,13.1,14.4,13.2,12.9,11.2,10.199999999999999,11.3,11.8,11.8,12.1,12.2]
[null,"ROSWELL, NM",29,7.7,8.6,10.1,10.199999999999999,9.9,9.6999999999999993,8.6,7.9,8,7.9,7.7,7.6,8.6999999999999993]
[null,"ALBANY, NY",64,9.8000000000000007,10.1,10.6,10.5,9,8.3000000000000007,7.5,7,7.4,8,9.1,9.3000000000000007,8.9]
[null,"BINGHAMTON, NY",51,11.3,11.3,11.5,11.2,9.9,9.3000000000000007,8.4,8.1999999999999993,8.8000000000000007,9.6999999999999993,10.8,11,10.1]
[null,"BUFFALO, NY",63,14,13.3,13.1,12.3,11.4,10.8,10.199999999999999,9.6999999999999993,10.199999999999999,11.1,12.6,13.1,11.8]
[null,"ISLIP, NY",19,9.6,10.1,10.5,9.8000000000000007,9,8.4,7.7,7.4,7.7,8.3000000000000007,9.4,9.3000000000000007,8.9]
[null,"NEW YORK C.PARK, NY",65,10.6,10.7,11,10.199999999999999,8.8000000000000007,8.1,7.6,7.5,8.1,8.8000000000000007,9.8000000000000007,10.1,9.3000000000000007]
[null,"NEW YORK (JFK AP), NY",44,13,13.3,13.5,12.7,11.6,10.7,10.199999999999999,10,10.4,11,12.2,12.7,11.8]
[null,"NEW YORK (LAGUARDIA AP), NY",54,13.7,13.8,13.9,12.9,11.6,11,10.4,10.3,11,11.6,12.8,13.4,12.2]
[null,"ROCHESTER, NY",62,11.6,11.1,11,10.7,9.3000000000000007,8.6,8,7.7,8.1,8.8000000000000007,10.199999999999999,10.7,9.6]
[null,"SYRACUSE, NY",53,10.6,10.6,10.7,10.4,9,8.3000000000000007,7.9,7.5,8.1999999999999993,8.6999999999999993,10.199999999999999,10.3,9.4]
[null,"ASHEVILLE, NC",38,9.1999999999999993,9.1999999999999993,9.1999999999999993,8.6,6.9,5.8,5.8,5.2,5.5,6.6,7.9,8.6,7.4]
[null,"CAPE HATTERAS, NC",44,11.8,11.7,11.9,11.7,10.6,10.6,10,9.5,10.3,10.6,10.6,11.2,10.9]
[null,"CHARLOTTE, NC",53,7.8,8.1999999999999993,8.8000000000000007,8.6,7.5,6.9,6.6,6.4,6.6,6.7,6.9,7.3,7.4]
[null,"GREENSBORO-WNSTN-SALM-HGHPT,NC",74,8.1,8.5,9.1,8.8000000000000007,7.6,6.9,6.5,6.2,6.6,7,7.5,7.6,7.5]
[null,"RALEIGH, NC",53,8.1999999999999993,8.6,9.3000000000000007,8.8000000000000007,7.7,7,6.7,6.3,6.7,6.6,7.1,7.7,7.6]
[null,"WILMINGTON, NC",51,9,9.6,10,10.1,9.1,8.4,7.9,7.3,7.8,7.9,8.1,8.4,8.6]
[null,"BISMARCK, ND",63,10,9.9,10.9,11.9,11.6,10.4,9.1999999999999993,9.4,9.9,10,9.9,9.5,10.199999999999999]
[null,"FARGO, ND",60,12.6,12.4,13.1,13.6,12.9,11.6,10.5,11,11.8,12.5,12.8,12.2,12.2]
[null,"GRAND FORKS, ND",5,10.8,11.5,11,11,11.3,10,8.3000000000000007,8.9,9.1999999999999993,10.3,10.3,10.7,10.3]
[null,"WILLISTON, ND",38,9.5,9.6999999999999993,10.1,11,11.1,10.3,9.3000000000000007,9.4,9.6999999999999993,9.9,9,9.4,9.9]
[null,"AKRON, OH",54,11.6,11.1,11.4,10.8,9.1,8.4,7.6,7.3,8,9.1,10.8,11.3,9.6999999999999993]
[null,"CLEVELAND, OH",61,12.2,11.8,12,11.5,10,9.1999999999999993,8.6,8.1999999999999993,8.9,9.9,11.8,12,10.5]
[null,"COLUMBUS, OH",53,9.8000000000000007,9.6,10.1,9.6,8.1,7.2,6.5,6.2,6.4,7.4,9.1,9.4,8.3000000000000007]
[null,"DAYTON, OH",59,11.4,11.3,11.7,11.3,9.6999999999999993,8.8000000000000007,7.9,7.3,8.1,9,11,11.1,9.9]
[null,"MANSFIELD, OH",18,12.6,11.9,11.8,11.4,9.9,9.1,7.9,7.8,8.5,9.9,11.1,11.7,10.3]
[null,"TOLEDO, OH",47,11,10.5,11,10.9,9.5,8.4,7.5,7.1,7.7,8.8000000000000007,10.199999999999999,10.4,9.4]
[null,"YOUNGSTOWN, OH",53,11.4,11.1,11.3,10.8,9.4,8.4,7.7,7.4,8.1,9.1999999999999993,10.8,11.1,9.6999999999999993]
[null,"OKLAHOMA CITY, OK",54,12.5,13.1,14.3,14.2,12.5,11.8,10.9,10.4,10.8,11.8,12.3,12.3,12.2]
[null,"TULSA, OK",54,10.3,10.7,11.9,11.9,10.6,9.9,9.3000000000000007,8.8000000000000007,9.1,9.6,10.3,10.1,10.199999999999999]
[null,"ASTORIA, OR",49,9.1,9,8.8000000000000007,8.6999999999999993,8.5,8.6,8.6999999999999993,8,7.5,7.5,8.6,9.1,8.5]
[null,"EUGENE, OR",50,7.8,7.8,8.1999999999999993,7.7,7.4,7.6,8,7.6,7.4,6.7,7.4,7.6,7.6]
[null,"MEDFORD, OR",53,4.0999999999999996,4.5,5.2,5.6,5.7,5.9,5.8,5.3,4.5,3.7,3.6,3.7,4.8]
[null,"PENDLETON, OR",49,7.6,8.1999999999999993,9.1,9.8000000000000007,9.5,9.5,9,8.6,8.3000000000000007,7.6,7.8,7.8,8.6]
[null,"PORTLAND, OR",54,9.9,9.3000000000000007,8.3000000000000007,7.4,7.1,7.2,7.6,7.1,6.5,6.5,8.6,9.6,7.9]
[null,"SALEM, OR",54,7.9,7.8,7.8,7.2,6.7,6.6,6.7,6.3,6.1,6,7.4,7.8,7]
[null,"SEXTON SUMMIT, OR",54,12.8,12.5,11.4,10.4,10.199999999999999,10.8,11.6,10.7,10.8,11.6,14,13.2,11.7]
[null,"GUAM, PC",12,9.9,11.3,10.8,10.8,9.6,8.3000000000000007,6.9,6.8,6.2,7.5,9.6999999999999993,11.2,9.1]
[null,"JOHNSTON ISLAND, PC",23,14.4,15.8,16.899999999999999,16.7,15.9,16.100000000000001,16,15.4,14.4,15,16,16.899999999999999,15.8]
[null,"KOROR, PC",37,7.8,7.8,7.7,7,6.3,5.9,6.3,6.7,6.5,6.7,6.2,6.9,6.8]
[null,"KWAJALEIN, MARSHALL IS., PC",36,16.8,16.3,16.3,15,13.9,13.1,11.2,9.8000000000000007,9.1,10,12.2,16.5,13.3]
[null,"MAJURO, MARSHALL IS, PC",38,12.7,13.2,12.9,12.2,11.2,10,8.4,7.4,7.1,7.4,8.6999999999999993,12,10.3]
[null,"PAGO PAGO, AMER SAMOA, PC",35,9.3000000000000007,9.1999999999999993,8.8000000000000007,8.8000000000000007,10.7,12.5,13.1,13.2,12.8,12.2,10.8,9.6999999999999993,10.9]
[null,"POHNPEI, CAROLINE IS., PC",28,8.1,8.4,7.7,7.1,6.5,5.8,5,4.7,5,4.9000000000000004,5.4,7.2,6.3]
[null,"CHUUK, E. CAROLINE IS., PC",37,11,11.3,10.9,9.9,8.8000000000000007,7.5,7.4,7.7,7.9,7.8,8.1,9.9,9]
[null,"WAKE ISLAND, PC",43,13.6,13.5,14.5,15.6,14.3,12.6,12.6,12,12.4,14,16,14.9,13.8]
[null,"YAP, W CAROLINE IS., PC",33,9.6,10.1,9.6999999999999993,8.9,7.8,6.9,6.6,6.9,6.9,6.4,7.4,8.8000000000000007,8]
[null,"ALLENTOWN, PA",53,10.1,10.5,11.1,10.3,9,8.1,7.2,6.8,7.3,8,9.1999999999999993,9.5,8.9]
[null,"ERIE, PA.",48,13.1,12,11.9,11.2,9.9,9.6,9,9,9.9,11.1,12.8,13,11]
[null,"HARRISBURG, PA",48,8.1999999999999993,9,9.5,9.1,7.6,6.8,6.2,5.8,6,6.6,7.8,8,7.5]
[null,"MIDDLETOWN/HARRISBURG INTL APT",60,8.6,9.1,9.8000000000000007,9.3000000000000007,7.8,6.9,6.3,5.9,6.1,6.6,7.9,8.1,7.7]
[null,"PHILADELPHIA, PA",62,10.3,10.9,11.3,10.8,9.5,8.8000000000000007,8.1999999999999993,8,8.3000000000000007,8.8000000000000007,9.6,10,9.5]
[null,"PITTSBURGH, PA",50,10.4,10.3,10.6,10.199999999999999,8.6999999999999993,8,7.3,6.8,7.4,8.3000000000000007,9.6999999999999993,10.1,9]
[null,"AVOCA, PA",47,8.8000000000000007,9,9.4,9.3000000000000007,8.4,7.7,7.2,6.9,7.4,7.7,8.5,8.6999999999999993,8.1999999999999993]
[null,"WILLIAMSPORT, PA",40,8.6,8.6999999999999993,9,8.9,7.7,6.8,6.3,5.9,6.1,6.6,7.9,8.1999999999999993,7.6]
[null,"BLOCK IS.,RI",6,12.6,12.1,11.8,10.9,10.199999999999999,9.9,9.6,8.1,8,9.3000000000000007,12.6,11.8,10.6]
[null,"PROVIDENCE, RI",49,10.9,11.4,11.9,11.8,10.6,9.9,9.4,9.1999999999999993,9.3000000000000007,9.5,10.199999999999999,10.5,10.4]
[null,"CHARLESTON AP,SC",53,9.1,9.8000000000000007,10,9.6999999999999993,8.6,8.3000000000000007,7.8,7.4,7.7,8,8.1,8.5,8.6]
[null,"COLUMBIA, SC",54,7.2,7.7,8.1999999999999993,8.1999999999999993,7,6.6,6.3,5.8,6,6.1,6.3,6.7,6.8]
[null,"GREENVILLE-SPARTANBURG AP, SC",40,7.6,8,8.3000000000000007,8,7,6.5,6.1,5.7,6.2,6.5,6.8,7.4,7]
[null,"ABERDEEN, SD",26,11.1,11.3,12.1,12.7,12.2,10.5,9.1999999999999993,9.8000000000000007,10.4,10.8,10.9,10.5,11]
[null,"HURON, SD",63,11.4,11.3,12.3,13.2,12.3,11.2,10.3,10.4,11.1,11.3,11.7,11.1,11.5]
[null,"RAPID CITY, SD",52,10.7,11.1,12.4,13.1,12.2,10.9,10.1,10.199999999999999,11,11.2,10.9,10.5,11.2]
[null,"SIOUX FALLS, SD",54,10.9,11.1,12.2,12.9,11.8,10.7,9.8000000000000007,9.8000000000000007,10.3,10.7,11.3,10.7,11]
[null,"BRISTOL-JHNSN CTY-KNGSPRT,TN",48,6.4,6.6,7.1,6.9,5.3,4.7,4.3,3.9,4.3,4.5999999999999996,5.4,5.8,5.4]
[null,"CHATTANOOGA, TN",62,6.9,7.3,7.7,7.3,5.9,5.3,5,4.5999999999999996,4.9000000000000004,4.9000000000000004,6,6.4,6]
[null,"KNOXVILLE, TN",60,7.7,8,8.4,8.4,6.8,6.3,6,5.5,5.6,5.7,6.7,7.2,6.9]
[null,"MEMPHIS, TN",54,10,10.1,10.7,10.199999999999999,8.8000000000000007,7.9,7.5,6.9,7.5,7.7,9,9.6,8.8000000000000007]
[null,"NASHVILLE, TN",61,9.1,9.3000000000000007,9.9,9.1999999999999993,7.6,7,6.5,6.2,6.5,6.8,8.4,8.9,8]
[null,"OAK RIDGE,TN",19,4.5999999999999996,4.7,5,5.4,4.2,3.9,3.6,3.3,3.4,3.2,3.8,4.2,4.0999999999999996]
[null,"ABILENE, TX",58,11.7,12.5,13.7,13.8,13,12.4,10.8,10.1,10.3,11,11.6,11.7,11.9]
[null,"AMARILLO, TX",61,12.8,13.8,15.2,15.2,14.5,14.2,12.7,12,12.8,12.8,13,12.7,13.5]
[null,"AUSTIN/CITY, TX",61,9.3000000000000007,9.6999999999999993,10.4,10.1,9.5,9,8.3000000000000007,7.7,7.7,7.9,8.6,8.8000000000000007,8.9]
[null,"AUSTIN/BERGSTROM, TX",13,7.2,7.4,8.3000000000000007,7.5,7.6,6.4,6.3,6,6.1,6.1,7,7.1,6.9]
[null,"BROWNSVILLE, TX",60,11.1,11.9,13.1,13.6,12.9,12,11.3,10.199999999999999,9.3000000000000007,9.4,10.5,10.6,11.3]
[null,"CORPUS CHRISTI, TX",60,12,12.9,14,14.3,12.8,11.7,11.5,11,10.4,10.4,11.7,11.6,12]
[null,"DALLAS-FORT WORTH, TX",49,11,11.7,12.6,12.4,11.1,10.6,9.8000000000000007,8.9,9.3000000000000007,9.6999999999999993,10.7,10.8,10.7]
[null,"DALLAS-LOVE FIELD, TX",3,9.1,10.1,10.199999999999999,11.4,11.8,10.3,9.1,8.5,8.1,9,8.3000000000000007,9,9.6]
[null,"DEL RIO, TX",23,8.6,9.1999999999999993,10.7,10.9,10.7,11.3,10.7,9.9,8.8000000000000007,8.9,8,8.1999999999999993,9.6999999999999993]
[null,"EL PASO, TX",60,8.3000000000000007,9.1,10.9,11,10.3,9.3000000000000007,8.3000000000000007,7.7,7.6,7.5,8,7.9,8.8000000000000007]
[null,"GALVESTON, TX",60,11.6,11.8,11.9,12.1,11.5,10.7,9.8000000000000007,9.4,10.1,10.3,11.2,11.3,11]
[null,"HOUSTON, TX",33,8.1,8.5,9.1,9,8.1,7.4,6.7,6.1,6.5,6.9,7.6,7.7,7.6]
[null,"LUBBOCK, TX",53,12,13.2,14.6,14.7,14.2,13.6,11.4,10.1,10.5,11.2,11.7,11.8,12.4]
[null,"MIDLAND-ODESSA, TX",49,10.4,11.2,12.5,12.8,12.5,12.3,10.8,10.1,10.1,10.1,10.4,10.1,11.1]
[null,"PORT ARTHUR, TX",49,10.7,11.2,11.5,11.5,10.1,8.6999999999999993,7.4,7.1,8.1999999999999993,8.8000000000000007,9.9,10.3,9.6]
[null,"SAN ANGELO, TX",53,10.199999999999999,10.8,12,12.1,11.1,10.8,9.8000000000000007,8.9,8.9,9.3000000000000007,10,9.9,10.3]
[null,"SAN ANTONIO, TX",60,8.8000000000000007,9.3000000000000007,10.1,10.1,9.8000000000000007,9.6999999999999993,9.1,8.4,8.3000000000000007,8.3000000000000007,8.6,8.4,9.1]
[null,"VICTORIA, TX",41,10.4,10.9,11.4,11.7,10.7,9.6999999999999993,8.9,8.3000000000000007,8.5,8.9,9.6,10,9.9]
[null,"WACO, TX",53,11.3,11.7,12.7,12.6,11.5,11,10.7,9.8000000000000007,9.6,10,10.8,10.9,11.1]
[null,"WICHITA FALLS, TX",54,11.3,11.9,13.1,13.1,12.2,12.1,11.1,10.3,10.4,10.7,11.4,11.1,11.6]
[null,"SALT LAKE CITY, UT",73,7.5,8.1,9.3000000000000007,9.6,9.4,9.4,9.5,9.6999999999999993,9.1,8.5,8,7.6,8.8000000000000007]
[null,"BURLINGTON, VT",59,9.6999999999999993,9.4,9.4,9.5,9,8.5,8,7.7,8.3000000000000007,8.8000000000000007,9.6,9.9,9]
[null,"LYNCHBURG, VA",35,8,8.1,8.5,8.4,7,6.3,5.9,5.6,6.2,6.5,7.2,7.1,7.1]
[null,"NORFOLK, VA",54,11.4,11.8,12.3,11.8,10.4,9.6999999999999993,8.9,8.8000000000000007,9.6,10.199999999999999,10.3,10.9,10.5]
[null,"RICHMOND, VA",54,8.1,8.6,9.1,9,7.9,7.4,6.9,6.5,6.7,7,7.6,7.8,7.7]
[null,"ROANOKE, VA",54,9.3000000000000007,9.4,10,9.6,7.8,6.8,6.5,6.1,6,6.8,8.1,8.6,7.9]
[null,"OLYMPIA, WA",49,7,7,7.2,7.3,6.9,6.7,6.2,6,5.7,5.8,6.8,7.1,6.6]
[null,"QUILLAYUTE, WA",36,6.7,6.8,6.6,6.2,5.9,5.7,5.4,5.0999999999999996,4.8,5.3,6.3,6.5,5.9]
[null,"SEATTLE SEA-TAC AP, WA",54,9.5,9.4,9.4,9.4,8.9,8.6,8.1,7.8,8,8.3000000000000007,9.1,9.6,8.8000000000000007]
[null,"SPOKANE, WA",55,8.6999999999999993,9.1999999999999993,9.6999999999999993,10,9.1999999999999993,9.3000000000000007,8.6,8.3000000000000007,8.1999999999999993,8.1999999999999993,8.6,8.6999999999999993,8.9]
[null,"YAKIMA, WA",48,5.6,6.4,7.9,8.6,8.5,8.1999999999999993,7.8,7.4,7.3,6.6,5.8,5.0999999999999996,7.1]
[null,"SAN JUAN, PR",47,8.4,8.6999999999999993,9.1,8.9,8.4,9,9.6999999999999993,8.8000000000000007,7.6,6.7,7.4,8,8.4]
[null,"BECKLEY, WV",38,9.8000000000000007,9.8000000000000007,10.3,9.9,8.4,7.3,6.5,6.2,6.8,7.8,9.1,9.6,8.5]
[null,"CHARLESTON, WV",55,6.9,6.9,7.5,7.1,5.7,5.2,4.8,4.3,4.5999999999999996,4.8,6,6.4,5.8]
[null,"ELKINS, WV",31,7,7.5,7.7,7.4,6.2,4.5,4,3.9,4,4.5,6.3,6.4,5.8]
[null,"HUNTINGTON, WV",40,7.5,7.6,8,7.7,6.2,5.7,5.3,5.0999999999999996,5.3,5.8,6.8,7.3,6.5]
[null,"GREEN BAY, WI",53,10.8,10.5,10.7,11.2,10,9.1,8.1999999999999993,7.9,8.9,9.8000000000000007,10.8,10.3,9.9]
[null,"LA CROSSE, WI",50,8.6999999999999993,8.6999999999999993,9.3000000000000007,10.4,9.4,8.4,7.6,7.5,8.1999999999999993,9.3000000000000007,9.8000000000000007,8.9,8.9]
[null,"MADISON, WI",56,10.3,10.3,10.9,11.3,10,9,8,7.9,8.4,9.5,10.3,9.8000000000000007,9.6]
[null,"MILWAUKEE, WI",62,12.6,12.3,12.7,12.8,11.5,10.4,9.6999999999999993,9.5,10.4,11.4,12.5,12.2,11.5]
[null,"CASPER, WY",52,16,14.8,13.4,12.5,11.6,10.9,10.1,10.3,10.9,11.9,14.4,15.9,12.7]
[null,"CHEYENNE, WY",45,15.2,14.6,14.4,14.1,12.6,11.4,10.4,10.4,11.2,12.3,13.5,14.7,12.9]
[null,"LANDER, WY",56,5.9,5.9,7,7.8,7.8,7.8,7.5,7.4,6.9,6,5.6,5.6,6.8]
[null,"SHERIDAN, WY",59,7.7,7.8,8.9,9.8000000000000007,9,8.1,7.3,7.4,7.5,7.5,7.6,7.6,8]
[null,"Data source: http://www.ncdc.noaa.gov/oa/climate/online/ccd/avgwind.html"]

{"sheet":"Electricity","index":20,"n_rows":83,"n_cols":21,"rows_kept":83,"cut":false,"hidden":false,"merged":[[23,2,23,3],[23,4,23,5],[40,2,40,4],[40,5,40,7]]}
["Supplemental worksheet: Electricity generation",null,null,null,null,null,null,"Active field:",null,{"$f":"'Active Field'!C9","v":"Generic"}]
[]
["This supplemental worksheet calculates the amount of electricity generation, fuel consumption and GHG emissions"]
[]
[]
["1  Input assumptions and data"]
[]
[]
[null,null,null,null,null,null,null,null,null,null,null,null,"User","Default","Unit","User reference",null,"Default reference",null,null,"Notes"]
["1.1 Fraction of electricity demand generated onsite (exceed 1.0 in case of export)",null,null,null,null,null,null,null,null,null,null,null,{"$f":"'Active Field'!J103","v":0},{"$f":"'Active Field'!K103","v":0},"[-]",null,null,null,null,null,"Excluding co-generation and combined heat and electricity"]
["1.2 Electricity generation capacity required",null,null,null,null,null,null,null,null,null,null,null,{"$f":"M10*'Energy Consumption'!E27","v":0},{"$f":"N10*'Energy Consumption'!E27","v":0},"kWh/d"]
[null,null,null,null,null,null,null,null,null,null,null,null,{"$f":"M11/24","v":0},{"$f":"N11/24","v":0},"kW"]
[null,null,null,null,null,null,null,null,null,null,null,null,{"$f":"M12/'Input Data'!E59","v":0},{"$f":"N12/'Input Data'!E59","v":0},"bhp"]
[]
["1.2 Generator type",null,null,null,null,null,null,null,null,null,null,null,1,1,"NA"]
[null,"1= Natural gas generator set"]
[null,"2= Natural gas turbine"]
[null,"3= Diesel generator set"]
[]
["1.3 Energy intensity of on-site electricity generation",null,null,null,null,null,null,null,null,null,null,null,{"$f":"1/0.96*IF(M15=1,(HLOOKUP(M13,Drivers!C35:AE36,2,TRUE)),IF(M15=2, (HLOOKUP(M13,Drivers!C66:AS67,2,TRUE)),IF(M15=3,(M13*Drivers!K89+Drivers!K88),\"ERROR\")))","v":8252.5},{"$f":"1/0.96*IF(N15=1,(HLOOKUP(N13,Drivers!C35:AE36,2,TRUE)),IF(N15=2, (HLOOKUP(N13,Drivers!C66:AS67,2,TRUE)),IF(N15=3,(N13*Drivers!K89+Drivers!K88),\"ERROR\")))","v":8252.5},"Btu/kWh",null,null,null,null,null,"A typical CAT generator efficiency of 96% is assumed"]
[]
["1.4   Electricity mix and efficiencies"]
[]
[null,null,"Displaced electricity",null,"Purchased grid electricity"]
[null,"Electricity type","Power Mix (%)","Efficiency (%)","Power Mix (%)","Efficiency (%)","Notes:"]
[null,"Biomass",0,22.1,0.2,22.1,"GREET1_2016 default efficiency 22.1%"]
[null,"Coal",0,36,34.299999999999997,36,"GREET1_2016 default efficiency 36%"]
[null,"Natural Gas",100,50.1,31.9,50.1,"GREET1_2016 default efficiency 50.1% (34% boiler, 55% CC, 34% simple-cycle, 34% IC engine) "]
[null,"Nuclear",0,100,20.399999999999999,100,"GREET1_2016 default efficiency 100%"]
[null,"Renewables",0,100,12.6,100,"GREET1_2016 default efficiency 100%"]
[null,"Oil",0,34.5,0.6,34.5,"GREET1_2016 default efficiency 31.9% (boiler 35%, IC 38%, GT 32%) "]
[null,"Check:",{"$f":"SUM(C26:C31)","v":100},{"$f":"IF(C32=100,\"OK\",\"ERROR\")","v":"OK"},{"$f":"SUM(E26:E31)","v":100},{"$f":"IF(E32=100,\"OK\",\"ERROR\")","v":"OK"}]
[]
["1.5 Grid transmissions efficiencies"]
[null,"1.5.1 Grid transmission efficiency for displaced electricity",null,null,null,null,null,null,null,null,null,null,93.5,93.5,"%"]
[null,"1.5.2 Grid transmissions efficiency for purchased grid electricity",null,null,null,null,null,null,null,null,null,null,93.5,93.5,"%"]
[]
[]
[]
["1.6 Displaced electricity fuel cycle GHG emissions (grams per MMBtu electricity supplied to end user - LHV) and energy (MMBtu/MMBtu electricity supplied to end user - LHV)"]
[null,"Electricity supply GHG emissions","Emissions",null,null,"Energy"]
[null,null,"Feedstock","Fuel","Total","Feedstock","Fuel","Total"]
[null,null,"gCO2eq/MMBtu","gCO2eq/MMBtu","gCO2eq/MMBtu","MMBtu/MMBtu","MMBtu/MMBtu","MMBtu/MMBtu"]
[null,"Biomass",{"$f":"'Fuel Specs'!C372*('Fuel Specs'!C384/D26)*('Fuel Specs'!$C$390/$M$35)","v":13447.474230632924},{"$f":"'Fuel Specs'!C358*(100/D26)*(100/M35)","v":9600.7435752280908},{"$f":"SUM(C44:D44)","v":23048.217805861015},{"$f":"'Fuel Specs'!D372*('Fuel Specs'!C384/D26)*('Fuel Specs'!$C$390/$M$35)","v":0.16549442928711602},{"$f":"1*(100/D26)*(100/$M$35)","v":4.8394512062332131},{"$f":"SUM(F44:G44)","v":5.004945635520329}]
[null,"Coal",{"$f":"'Fuel Specs'!C373*('Fuel Specs'!C385/D27)*('Fuel Specs'!$C$390/$M$35)","v":18388.041593363847},{"$f":"'Fuel Specs'!C359*(100/D27)*(100/M35)","v":298252.49132688099},316640.53292024485,{"$f":"'Fuel Specs'!D373*('Fuel Specs'!C385/D27)*('Fuel Specs'!$C$390/$M$35)","v":6.6300525520107997E-2},2.9708853238265003,3.0371858493466082]
[null,"NG",{"$f":"'Fuel Specs'!C374*('Fuel Specs'!C386/D28)*('Fuel Specs'!$C$390/$M$35)","v":29072.578014017519},{"$f":"'Fuel Specs'!C360*(100/D28)*(100/M35)","v":126934.761694662},156007.33970867953,{"$f":"'Fuel Specs'!D374*('Fuel Specs'!C386/D28)*('Fuel Specs'!$C$390/$M$35)","v":0.20531412763349199},2.1347678973603594,2.3400820249938512]
[null,"Nuclear",{"$f":"'Fuel Specs'!C375*('Fuel Specs'!C387/D29)*('Fuel Specs'!$C$390/$M$35)","v":2663.0988522080061},{"$f":"'Fuel Specs'!C361*(100/D29)*(100/M35)","v":0},2663.0988522080061,{"$f":"'Fuel Specs'!D375*('Fuel Specs'!C387/D29)*('Fuel Specs'!$C$390/$M$35)","v":3.5804837151185695E-2},1.0695187165775402,1.1053235537287258]
[null,"Renewables",{"$f":"'Fuel Specs'!C376*('Fuel Specs'!C388/D30)*('Fuel Specs'!$C$390/$M$35)","v":0},{"$f":"'Fuel Specs'!C362*(100/D30)*(100/M35)","v":0},0,{"$f":"'Fuel Specs'!D376*('Fuel Specs'!C388/D30)*('Fuel Specs'!$C$390/$M$35)","v":0},1.0695187165775402,1.0695187165775402]
[null,"Oil",{"$f":"'Fuel Specs'!C377*('Fuel Specs'!C389/D31)*('Fuel Specs'!$C$390/$M$35)","v":49213.847554467939},{"$f":"'Fuel Specs'!C363*(100/D31)*(100/M35)","v":264261.71457330807},313475.56212777598,{"$f":"'Fuel Specs'!D377*('Fuel Specs'!C389/D31)*('Fuel Specs'!$C$390/$M$35)","v":0.47800726096458601},3.1000542509493916,3.5780615119139778]
[]
["1.7 Grid electricity fuel cycle GHG emissions (grams per MMBtu electricity supplied to end user - LHV) and energy (MMBtu/MMBtu electricity supplied to end user - LHV)"]
[null,"Electricity supply GHG emissions","Emissions",null,null,"Energy"]
[null,null,"Feedstock","Fuel","Total","Feedstock","Fuel","Total"]
[null,null,"gCO2eq/MMBtu","gCO2eq/MMBtu","gCO2eq/MMBtu","MMBtu/MMBtu","MMBtu/MMBtu","MMBtu/MMBtu"]
[null,"Biomass",{"$f":"'Fuel Specs'!C372*('Fuel Specs'!C384/F26)*('Fuel Specs'!$C$390/$M$36)","v":13447.474230632924},{"$f":"'Fuel Specs'!C358*(100/F26)*(100/M36)","v":9600.7435752280908},{"$f":"SUM(C55:D55)","v":23048.217805861015},{"$f":"'Fuel Specs'!D372*('Fuel Specs'!C384/F26)*('Fuel Specs'!$C$390/$M$36)","v":0.16549442928711602},{"$f":"1*(100/F26)*(100/$M$36)","v":4.8394512062332131},{"$f":"SUM(F55:G55)","v":5.004945635520329}]
[null,"Coal",{"$f":"'Fuel Specs'!C373*('Fuel Specs'!C385/F27)*('Fuel Specs'!$C$390/$M$36)","v":18388.041593363847},{"$f":"'Fuel Specs'!C359*(100/F27)*(100/M36)","v":298252.49132688099},316640.53292024485,{"$f":"'Fuel Specs'!D373*('Fuel Specs'!C385/F27)*('Fuel Specs'!$C$390/$M$36)","v":6.6300525520107997E-2},2.9708853238265003,3.0371858493466082]
[null,"NG",{"$f":"'Fuel Specs'!C374*('Fuel Specs'!C386/F28)*('Fuel Specs'!$C$390/$M$36)","v":29072.578014017519},{"$f":"'Fuel Specs'!C360*(100/F28)*(100/M36)","v":126934.761694662},156007.33970867953,{"$f":"'Fuel Specs'!D374*('Fuel Specs'!C386/F28)*('Fuel Specs'!$C$390/$M$36)","v":0.20531412763349199},2.1347678973603594,2.3400820249938512]
[null,"Nuclear",{"$f":"'Fuel Specs'!C375*('Fuel Specs'!C387/F29)*('Fuel Specs'!$C$390/$M$36)","v":2663.0988522080061},{"$f":"'Fuel Specs'!C361*(100/F29)*(100/M36)","v":0},2663.0988522080061,{"$f":"'Fuel Specs'!D375*('Fuel Specs'!C387/F29)*('Fuel Specs'!$C$390/$M$36)","v":3.5804837151185695E-2},1.0695187165775402,1.1053235537287258]
[null,"Renewables",{"$f":"'Fuel Specs'!C376*('Fuel Specs'!C388/F30)*('Fuel Specs'!$C$390/$M$36)","v":0},{"$f":"'Fuel Specs'!C362*(100/F30)*(100/M36)","v":0},0,{"$f":"'Fuel Specs'!D376*('Fuel Specs'!C388/F30)*('Fuel Specs'!$C$390/$M$36)","v":0},1.0695187165775402,1.0695187165775402]
[null,"Oil",{"$f":"'Fuel Specs'!C377*('Fuel Specs'!C389/F31)*('Fuel Specs'!$C$390/$M$36)","v":49213.847554467939},{"$f":"'Fuel Specs'!C363*(100/F31)*(100/M36)","v":264261.71457330807},313475.56212777598,{"$f":"'Fuel Specs'!D377*('Fuel Specs'!C389/F31)*('Fuel Specs'!$C$390/$M$36)","v":0.47800726096458601},3.1000542509493916,3.5780615119139778]
[]
[]
["2  Calculations"]
[]
[]
["2.1 Electricity displacement results",null,null,null,null,null,null,null,null,null,null,null,"Value","Unit"]
[null,"2.1.1 Avoided emissions",null,null,null,null,null,null,null,null,null,null,{"$f":"SUMPRODUCT(C26:C31,E44:E49)/100","v":156007.33970867953},"gCO2/MMBtu"]
[null,"2.1.2 Electricity export GHG credit",null,null,null,null,null,null,null,null,null,null,{"$f":"M67*M35/100","v":145866.86262761537},"gCO2/MMBtu"]
[null,"2.1.3 Avoided energy",null,null,null,null,null,null,null,null,null,null,{"$f":"SUMPRODUCT(C26:C31,H44:H49)/100","v":2.3400820249938512},"MMBtu/MMBtu"]
[null,"2.1.4 Electricity export energy credit",null,null,null,null,null,null,null,null,null,null,{"$f":"M69*M35/100","v":2.1879766933692508},"MMBtu/MMBtu"]
[]
["2.2 Electricity grid purchase results"]
[null,"2.2.1 Electricity import GHG emissions",null,null,null,null,null,null,null,null,null,null,{"$f":"SUMPRODUCT(E26:E31,E55:E60)/100","v":160844.26613294156},"gCO2/MMBtu"]
[null,"2.2.2 Electricity import energy credit",null,null,null,null,null,null,null,null,null,null,{"$f":"SUMPRODUCT(E26:E31,H55:H60)/100","v":2.1799645358908797},"MMBtu/MMBtu"]
[]
[null,null,null,null,null,null,null,null,null,null,null,null,"Value","Unit"]
["2.1   Electricity production on site",null,null,null,null,null,null,null,null,null,null,null,{"$f":"M10*'Energy Consumption'!E27","v":0},"kWh/d"]
[]
[null,null,null,null,null,null,null,null,null,null,null,null,"Natural gas","Upgrader process gas","NGL","Crude oil","Diesel","Residual fuel","Petroleum coke","Electricity"]
[null,null,null,null,null,null,null,null,null,null,null,null,"MMBtu/d","MMBtu/d","MMBtu/d","MMBtu/d","MMBtu/d","MMBtu/d","MMBtu/d","kWh/d"]
["2.2   Fuel consumption for on site electricity generation",null,null,null,null,null,null,null,null,null,null,null,{"$f":"IF(M15=1,M20*M77/1000000,IF(M15=2,M20*M77/1000000,0))","v":0},0,0,0,{"$f":"IF(M15=3,M77*M20/1000000,0)","v":0},0,0,0]
[]
["2.3   GHG emissions",null,null,null,null,null,null,null,null,null,null,null,{"$f":"(M81*IF(M15=1,'Emissions Factors'!H17,IF(M15=2,'Emissions Factors'!G17,'Emissions Factors'!K17)))/1000000","v":0},"tCO2eq/d"]

{"sheet":"Drivers","index":21,"n_rows":137,"n_cols":45,"rows_kept":137,"cut":false,"hidden":false,"merged":[]}
["Supplemental worksheet: Drivers",null,null,null,null,null,null,"Active field:",null,{"$f":"'Active Field'!C9","v":"Generic"}]
[]
["This supplemental worksheet calculates energy use for prime movers (engines) and motors used in processes."]
[]
["1 Prime mover and motor data tables"]
[]
[]
[null,"Table 1.1 Natural gas engines"]
[null,null,null,"G3304","G3306","G3408/TM9151-05","G3408/TM8633-01","G3408/TM9213-04","G3412/DM8646-00","G3412/DM5206-04","G3512 LE/DM8619-01","G3512 LE/DM8617-01","G3516B/DM5490","G3608/DM5047","G3608/DM5046","G3520C"]
[null,"Power (bhp)",null,95,145,255,332,400,500,600,860,1004,1532,2391,2546,2774]
[null,"Btu LHV/bhp-hr","100% load",7567,7775,7568,7507,7008,7800,7210,7402,7368,6715.7,6501.4,6649.9,6050.8]
[null,"Btu LHV/bhp-hr","75% load",7842,8318,8225,7874,7350,7964,7813,7676,7665]
[null,"Btu LHV/bhp-hr","Median",{"$f":"MEDIAN(D11:D12)","v":7704.5},{"$f":"MEDIAN(E11:E12)","v":8046.5},7896.5,7690.5,7179,7882,7511.5,7539,7516.5,6715.7,6501.4,6649.9,6050.8]
[null,null,"Source: Caterpillar technical data sheets (http://www.catoilandgasinfo.com/gas_compression.asp?src=11cpt22&regstatus=true)"]
[null,null,"Note(s):"]
[null,null,"NA= Not available"]
[null,null,"For G3516 to G3520 the energy consumption  of the engine is calculated from the given generator set efficiency"]
[]
[]
[]
[null,null,null,null,null,null,null,null,null,"y-int",7922.4]
[null,null,null,null,null,null,null,null,null,"slope",-0.60350000000000004]
[null,null,null,null,null,null,null,null,null,"min observed",6050.8]
[null,null,null,null,null,null,null,null,null,"min input",2774,"bhp"]
[]
[]
[]
[]
[]
[]
[]
[]
[]
[null,"Resulting NG engine efficiency tables"]
[null,"bhp",0,100,200,300,400,500,600,700,800,900,1000,1100,1200,1300,1400,1500,1600,1700,1800,1900,2000,2100,2200,2300,2400,2500,2600,2700,2800]
[null,"Efficiency",{"$f":"$K$21+$K$22*C35","v":7922.4},{"$f":"$K$21+$K$22*D35","v":7862.0499999999993},7801.7,7741.3499999999995,7681,7620.65,7560.2999999999993,7499.95,7439.5999999999995,7379.25,7318.9,7258.5499999999993,7198.2,7137.8499999999995,7077.5,7017.15,6956.7999999999993,6896.45,6836.0999999999995,6775.75,6715.4,6655.0499999999993,6594.7,6534.3499999999995,6474,6413.65,6353.2999999999993,6292.95,6232.5999999999995]
[]
[]
[]
[]
[]
[]
[null,"Table 1.2 Natural gas turbines"]
[null,null,null,"Saturn 20","Centaur 40","Centaur 50","Taurus 60","Taurus 70","Mars 90","Mars 100","Titan 130"]
[null,"Power (bhp)",null,1590,4700,6130,7770,10915,13220,15900,20500]
[null,"Btu LHV/bhp-hr","100% load",10370,7775,8500,7507,7205,7655,7395,7025]
[null,"Notes: ",null,"Source: Solar Turbines (Caterpillar) technical data sheets (http://mysolar.cat.com/cda/layout?m=35881&x=7)"]
[]
[]
[]
[]
[null,null,null,null,null,null,null,null,null,"y-int",9219.6]
[null,null,null,null,null,null,null,null,null,"slope",-0.12790000000000001]
[null,null,null,null,null,null,null,null,null,"min observed",7025]
[null,null,null,null,null,null,null,null,null,"min input",20500]
[]
[]
[]
[]
[]
[]
[]
[]
[]
[null,"Resulting NG turbine efficiency tables"]
[null,"bhp",0,500,1000,1500,2000,2500,3000,3500,4000,4500,5000,5500,6000,6500,7000,7500,8000,8500,9000,9500,10000,10500,11000,11500,12000,12500,13000,13500,14000,14500,15000,15500,16000,16500,17000,17500,18000,18500,19000,19500,20000,20500,21000]
[null,"Efficiency",{"$f":"$K$52+$K$53*C66","v":9219.6},{"$f":"$K$52+$K$53*D66","v":9155.65},9091.7000000000007,9027.75,8963.8000000000011,8899.85,8835.9,8771.9500000000007,8708,8644.0500000000011,8580.1,8516.15,8452.2000000000007,8388.25,8324.3000000000011,8260.35,8196.4,8132.4500000000007,8068.5,8004.55,7940.6,7876.6500000000005,7812.7000000000007,7748.75,7684.8,7620.85,7556.9,7492.9500000000007,7429,7365.05,7301.1,7237.15,7173.2,7109.25,7045.3,6981.35,6917.4,6853.4500000000007,6789.5,6725.55,6661.6,6597.65,6533.7000000000007]
[]
[]
[]
[]
[null,"Table 1.3 Diesel engine energy consumption"]
[null,null,null,"3406C","C18","3412C",3512,"3512B","3512B-HD",3516,"3516B","C175-16"]
[null,"Power (bhp)",null,{"$f":"(275/0.96)*'Input Data'!$E$58","v":383.85416666666674},{"$f":"(545/0.96)*'Input Data'!$E$58","v":760.72916666666674},{"$f":"(648/0.96)*'Input Data'!$E$58","v":904.5},{"$f":"(1020/0.96)*'Input Data'!$E$58","v":1423.75},{"$f":"(1200/0.96)*'Input Data'!$E$58","v":1675},{"$f":"(1360/0.96)*'Input Data'!$E$58","v":1898.3333333333335},{"$f":"(1460/0.96)*'Input Data'!$E$58","v":2037.916666666667},{"$f":"(1600/0.96)*'Input Data'!$E$58","v":2233.3333333333335},{"$f":"(2000/0.96)*'Input Data'!$E$58","v":2791.666666666667}]
[null,"Btu LHV/bhp-hr","100% Load",7027.2781546811384,6737.1611666438439,6447.3521282476504,6306.3424056189642,6257.6238805970152,6157.4802458296745,6372.3385810672653,5964.2977611940296,6280.6298507462679]
[null,"Btu LHV/bhp-hr","75% Load",7272.6751696065112,7339.3969601533618,6513.624470241386,6459.7155399473222,6278.0736318407962,6198.0790166812994,6479.4896749131049,6027.5641791044773,6484.6161194029846]
[null,"Btu LHV/bhp-hr","50% Load",7897.322116689279,7969.7746131726681,6816.5837479270313,6712.3301141352067,6579.7074626865669,6482.2704126426688,6971.1241054998964,6338.1447761194022,6984.6125373134319]
[null,"Btu LHV/bhp-hr","Median",7272.6751696065112,7339.3969601533618,6513.624470241386,6459.7155399473222,6278.0736318407962,6198.0790166812994,6479.4896749131049,6027.5641791044773,6484.6161194029846]
[null,"Source: Caterpillar technical data sheets"]
[null,"Notes:"]
[null,"NA= Not available"]
[]
[]
[]
[]
[]
[]
[null,null,null,null,null,null,null,null,null,"y-int",7235.4]
[null,null,null,null,null,null,null,null,null,"slope",-0.4299]
[null,null,null,null,null,null,null,null,null,"min observed",5964.3]
[null,null,null,null,null,null,null,null,null,"min input",2792]
[]
[]
[]
[]
[]
[]
[]
[]
[]
[]
[]
[]
[null,"Resulting diesel engine efficiency tables"]
[null,"bhp",0,100,200,300,400,500,600,700,800,900,1000,1100,1200,1300,1400,1500,1600,1700,1800,1900,2000,2100,2200,2300,2400,2500,2600,2700,2800,2900,3000]
[null,"efficiency",{"$f":"$K$88+C105*$K$89","v":7235.4},{"$f":"$K$88+D105*$K$89","v":7192.41},7149.42,7106.4299999999994,7063.44,7020.45,6977.46,6934.4699999999993,6891.48,6848.49,6805.5,6762.5099999999993,6719.5199999999995,6676.53,6633.54,6590.5499999999993,6547.5599999999995,6504.57,6461.58,6418.5899999999992,6375.5999999999995,6332.61,6289.62,6246.6299999999992,6203.6399999999994,6160.65,6117.66,6074.67,6031.6799999999994,5988.69,5945.7]
[]
[]
[null,"Table 1.4: Electric motors energy consumption"]
[null,null,null,"841 IEC/N495","841 IEC/N424","841 IEC/N434","841 IEC/N437","841 IEC/N443","841 IEC/N455","841 IEC/N462","841 IEC/N468","Quantum-LMV","Quantum-LMV","Quantum-LMV","Quantum-LMV","Quantum-LMV"]
[null,"Power",null,{"$f":"1.1*'Input Data'!$E$58","v":1.4740000000000002},{"$f":"4*'Input Data'!$E$58","v":5.36},{"$f":"11*'Input Data'!$E$58","v":14.74},{"$f":"15*'Input Data'!$E$58","v":20.100000000000001},{"$f":"22*'Input Data'!$E$58","v":29.48},{"$f":"55*'Input Data'!$E$58","v":73.7},{"$f":"110*'Input Data'!$E$58","v":147.4},{"$f":"220*'Input Data'!$E$58","v":294.8},{"$f":"350*'Input Data'!$E$58","v":469},{"$f":"400*'Input Data'!$E$58","v":536},{"$f":"450*'Input Data'!$E$58","v":603},{"$f":"500*'Input Data'!$E$58","v":670},{"$f":"600*'Input Data'!$E$58","v":804}]
[null,"Btu LHV/bhp-hr","100% Load",3038.6328785665942,2877.2591550720963,2792.0771406127255,2770.8099589105614,2746.8978988552381,2700.2909355660718,2671.9562982568791,2663.5714981577466,2658.0108060947869,2658.0108060947869,2658.0108060947869,2658.0108060947869,2658.0108060947869]
[null,"Btu LHV/bhp-hr","Median",{"$f":"D112","v":3038.6328785665942},{"$f":"E112","v":2877.2591550720963},2792.0771406127255,2770.8099589105614,2746.8978988552381,2700.2909355660718,2671.9562982568791,2663.5714981577466,2658.0108060947869,2658.0108060947869,2658.0108060947869,2658.0108060947869,2658.0108060947869]
[null,"Source: General Electric (GE) technical data sheets"]
[null,"Notes: NA= Not available"]
[]
[]
[]
[]
[]
[]
[]
[null,null,null,null,null,null,null,null,null,"constant",2967]
[null,null,null,null,null,null,null,null,null,"r",-1.7999999999999999E-2]
[null,null,null,null,null,null,null,null,null,"min observed",2658.01]
[null,null,null,null,null,null,null,null,null,"min input",804]
[]
[]
[]
[]
[]
[]
[]
[]
[null,"Resulting electric motor efficiency tables"]
[null,"bhp",0,50,100,150,200,250,300,350,400,450,500,550,600,650,700,750,800,850,900,950,1000]
[null,"Efficiency",3038,{"$f":"$K$123*D136^$K$124","v":2765.26073032665},{"$f":"$K$123*E136^$K$124","v":2730.9738793916595},2711.1147739657158,2697.1121558720133,2686.3007056300999,2677.4992862458175,2670.0802937565468,2663.6702885539862,2658.0290375536961,2652.9928909815985,2648.4453627982616,2644.3006016157392,2640.493519195963,2636.9735982422785,2633.700847980434,2630.6430715823608,2627.7739659687832,2625.0717672348442,2622.5182639342293,2620.0980645418758]

{"sheet":"Fuel Cycle","index":22,"n_rows":79,"n_cols":15,"rows_kept":79,"cut":false,"hidden":false,"merged":[[34,1,34,3],[72,1,72,2],[74,1,74,2],[54,1,54,2],[67,1,67,2],[39,1,39,3],[61,1,61,2],[47,1,47,2],[48,1,48,2],[49,1,49,2],[51,1,51,2],[59,1,59,2],[75,1,75,2],[19,1,19,3],[20,1,20,3],[21,1,21,3],[22,1,22,3],[23,1,23,3],[29,1,29,3],[41,1,41,3],[45,1,45,2],[46,1,46,2],[24,1,24,3],[30,1,30,3],[25,1,25,3],[26,1,26,3],[27,1,27,3],[28,1,28,3]]}
["Supplemental worksheet: Fuel cycle emissions",null,null,null,null,null,null,"Active field:",null,{"$f":"'Active Field'!C9","v":"Generic"}]
[]
["This supplemental worksheet calculates upstream emissions associated with other fuel cycles (e.g., natural gas production, etc.)"]
["The choice between co-product displacement and allocation is made in this sheet."]
["This sheet is based on outputs from the CA-GREET model."]
[]
[]
["1   Calculation of impacts from products and co-products"]
[]
["1.1 Method for addressing co-production",null,null,null,null,1,1,"NA",null,null,null,"Co-product displacement?"]
[null,"1= ","Co-product displacement",null,null,null,null,null,null,"Natural gas",null,1,{"$f":"IF(AND(F10=1,L11=1),\"OK\",IF(AND(F10=2,L11=0),\"OK\",IF(AND(F10=3,OR(L11=1,L11=0)),\"OK\",\"ERROR\")))","v":"OK"},null,"0= Energy-based allocation, 1= Co-product displacement"]
[null,"2= ","Allocation by energy value",null,null,null,null,null,null,"NGL",null,1,{"$f":"IF(AND(F10=1,L12=1),\"OK\",IF(AND(F10=2,L12=0),\"OK\",IF(AND(F10=3,OR(L12=1,L12=0)),\"OK\",\"ERROR\")))","v":"OK"}]
[null,"3=","Mix by output stream",null,null,null,null,null,null,"Electricity",null,1,{"$f":"IF(AND(F10=1,L13=1),\"OK\",IF(AND(F10=2,L13=0),\"OK\",IF(AND(F10=3,OR(L13=1,L13=0)),\"OK\",\"ERROR\")))","v":"OK"}]
[]
["2   Fuel cycle efficiencies and emissions"]
[]
[]
[]
[null,"Table 2.1: Fuel transport and distribution (T&D)"]
[null,null,null,null,"NG","Diesel","Pet Coke","Residual fuel","Notes:"]
[null,"Loss factor",null,null,1.0036144221369208,1.0000440875118408,1,1,"From sheets \"Petroleum\" and \"NG\", loss factors"]
[null,"Energy use (Btu/Btu)",null,null,{"$f":"34808.0743097783/1000000","v":3.4808074309778295E-2},{"$f":"5770.82950004766/1000000","v":5.7708295000476603E-3},1.0888546838141761E-3,{"$f":"5946.52572285752/1000000","v":5.9465257228575197E-3},"Only includes transportation and distribution of refined fuel, from \"Petroleum\" (Table 3 for conventional diesel and petroleum coke)  and \"NG\" (Table 3 for NG transmission and distribution) "]
[null,"Emissions (g/MMBtu):"]
[null,"VOC",null,null,3.8843794677480075,0.11907314941262395,2.232140662066865E-2,0.22114415612182484]
[null,"CO",null,null,19.937709959606899,0.62300502029941829,7.4576152199966605E-2,0.83825615828140299]
[null,"CH4: combustion",null,null,21.471527451603464,0.86193824335539548,0.17523368378711232,0.8641336776773485]
[null,"N2O",null,null,1.3884515650789577,6.7974104464655835E-3,3.0855898400372828E-4,1.0234684254039127E-2]
[null,"CO2",null,null,1790.1758084330731,443.29213061045482,82.941874629870583,472.41514190308101]
[null,"Other",null,null,74.551883373353206,0.20699999999999999,null,null,"Other NG: CH4 leak; Other Diesel: VOC from bulk terminal"]
[null,"Other",null,null,null,0.88,null,null,"VOC from service stations"]
[null,"GHG",null,null,{"$f":"E24*'Input Data'!C74+E25*'Input Data'!C72+E26*'Input Data'!C73+E27*'Input Data'!C75+E28+E29*'Input Data'!C73","v":4648.4615577359091},{"$f":"(F24+F29+F30)*'Input Data'!C74+F25*'Input Data'!C72+F26*'Input Data'!C73+F27*'Input Data'!C75+F28","v":471.60184980304467},{"$f":"(G24+G29+G30)*'Input Data'!D74+G25*'Input Data'!D72+G26*'Input Data'!D73+G27*'Input Data'!D75+G28","v":82.941874629870583},{"$f":"(H24+H29+H30)*'Input Data'!D74+H25*'Input Data'!D72+H26*'Input Data'!D73+H27*'Input Data'!D75+H28","v":472.41514190308101}]
[null,"Source: GREET1_2016"]
[]
[null,"Table 2.2: Energy consumption of displaced system",null,null,null,null,null,"Table 2.2a: Holder for energy consumption of displaced system from different GREET model versions"]
[null,"Fuel type",null,null,"Value","Source"]
[null,null,null,null,"Btu/Btu"]
[null,"Natural gas",null,null,{"$f":"(D57-E22)/E21","v":7.6846460840109196E-2},"GREET1_2016"]
[null,"Diesel",null,null,{"$f":"(D58-F22)/F21","v":0.20491826218233758},"GREET1_2016"]
[null,"Electricity",null,null,{"$f":"Electricity!M70","v":2.1879766933692508},"GREET1_2016"]
[null,"Pet coke",null,null,{"$f":"(D60-G22)/G21","v":0.17310608311555362},"GREET1_2016"]
[null,"Residual fuel",null,null,{"$f":"(D61-H22)/H21","v":0.14847527514154177},"GREET1_2016"]
[null,"Still gas",null,null,{"$f":"\"--\"","v":"--"}]
[]
[null,"Table 2.3: GHG emissions of displaced system"]
[null,"Fuel type",null,"Value","Value","Source","Notes:"]
[null,null,null,"gCO2eq/MMBtu","gCO2eq/scf"]
[null,"Natural gas",null,{"$f":"(D70-E31)/E21","v":11229.290813987403},{"$f":"D47*('Fuel Specs'!E341/1000000)","v":11.038392870149616},"GREET1_2016"]
[null,"Diesel",null,{"$f":"(D71-F31)/F21","v":19148.956772354632},null,"GREET1_2016"]
[null,"Electricity",null,{"$f":"Electricity!M68","v":145866.86262761537},null,"GREET1_2016"]
[null,"Pet coke",null,{"$f":"(D73-G31)/G21","v":16106.345643138229},null,"GREET1_2016"]
[null,"Residual fuel",null,{"$f":"(D74-H31)/H21","v":15428.030363936479},null,"GREET1_2016"]
[null,"Still gas",null,{"$f":"D47","v":11229.290813987403},{"$f":"D52*('Fuel Specs'!E341/1000000)","v":11.038392870149616},"GREET1_2016","Assume still gas would be replaced by natural gas if unavailable"]
[]
[null,"Table 2.4: Total fuel cycle energy consumption"]
[null,"Fuel type",null,"Value","Source","Notes:"]
[null,null,null,"Btu/Btu"]
[null,"Natural gas",null,{"$f":"111932.290699092/1000000","v":0.111932290699092},"GREET1_2016","From \"NG\" sheet, table 4, total energy use for NG as a stationary fuel"]
[null,"Diesel",null,{"$f":"(126884.162306687+83813.9637120086)/1000000","v":0.21069812601869559},"GREET1_2016","From \"Petroleum\" sheet, Table 5. Includes both extraction and processing emissions for conventional diesel."]
[null,"Electricity",null,{"$f":"Electricity!M74","v":2.1799645358908797},"GREET1_2016"]
[null,"Pet coke",null,{"$f":"(90380.9740873592+83813.9637120086)/1000000","v":0.17419493779936779},"GREET1_2016","From \"Petroleum\" sheet, Table 5. Includes both extraction and processing emissions for petroleum coke."]
[null,"Residual fuel",null,{"$f":"(70607.8371523907+83813.9637120086)/1000000","v":0.1544218008643993},"GREET1_2016","From \"Petroleum\" sheet, Table 5. Includes both extraction and processing emissions for residual fuel."]
[null,"Still gas",null,{"$f":"\"--\"","v":"--"}]
[null,"Note(s):"]
[null,"NGL is substituted by natural gas"]
[null,"Calculated from GREET1_2016"]
[]
[null,"Table 2.5: Total fuel cycle GHG emissions"]
[null,"Fuel type",null,"Value","Source"]
[null,null,null,"gCO2eq/MMBtu"]
[null,"Natural gas",null,15918.339769023309,"GREET1_2016","From \"NG\" sheet, table 4, total energy use for NG as a stationary fuel"]
[null,"Diesel",null,{"$f":"8802.31080996442+10819.0920420517","v":19621.402852016119},"GREET1_2016","From \"Petroleum\" sheet, Table 5. Includes both extraction and processing emissions for conventional diesel."]
[null,"Electricity",null,{"$f":"Electricity!M73","v":160844.26613294156},"GREET1_2016"]
[null,"Pet coke",null,{"$f":"5370.1954757164+10819.0920420517","v":16189.2875177681},"GREET1_2016","From \"Petroleum\" sheet, Table 5. Includes both extraction and processing emissions for petroleum coke."]
[null,"Residual fuel",null,{"$f":"5081.35346378786+10819.0920420517","v":15900.44550583956},"GREET1_2016","From \"Petroleum\" sheet, Table 5. Includes both extraction and processing emissions for residual fuel."]
[null,"Still gas",null,{"$f":"D70","v":15918.339769023309},"GREET1_2016","Assume still gas would be replaced by natural gas if unavailable"]
[null,"CO2 drilled for use in EOR",null,4647,"GREET_1_2016","Modified GREET 2016 to estimate emissions from producing wells for CO2 rather than producing natural gas.  Sheet 'Inputs' F117 and F118 changed to represent 100% conventional gas.  Sheet 'NG' modified as follows: B67 changed to 0 to represent no CH4 leakage. Cells C56-C67 changed to 0 to represent no gas processing. Cell D66 changed to 0 to represent no direct venting of CO2 from AGR unit. Cells H64 and H67 change to 0 to represent no methane leakage or slip during transport. Model is recomputed after these changes and value is pulled from cell B103."]
[null,"Note(s):"]
[null,"NGL is substituted by natural gas"]
[null,"Calculated from GREET1_2016"]

{"sheet":"Emissions Factors","index":23,"n_rows":173,"n_cols":21,"rows_kept":173,"cut":false,"hidden":false,"merged":[[166,3,166,5],[166,6,166,8],[166,9,166,11],[166,12,166,14],[165,3,165,11],[165,12,165,14],[9,8,9,11],[156,3,156,5],[156,6,156,8],[156,9,156,11],[9,2,9,7],[83,10,83,13],[155,3,155,11],[155,12,155,14],[156,12,156,14],[20,2,20,4],[20,5,20,7],[20,10,20,11],[167,1,167,2],[169,1,169,2],[170,1,170,2],[171,1,171,2],[157,1,157,2],[159,1,159,2],[160,1,160,2],[161,1,161,2]]}
["Supplemental worksheet: Emissions factors",null,null,null,null,null,null,"Active field:",null,{"$f":"'Active Field'!C9","v":"Generic"}]
[]
["This supplemental worksheet includes emissions factors for combustion of a variety of fuels in a variety of combustion devices."]
["This worksheet also contains emissions factors for fugitive emissions from operations."]
[]
["1 Emissions factors tables"]
[]
[]
[null,"Table 1.1: Stationary-applications emissions factors (on-site g/MMBtu of fuel burned - LHV)"]
[null,null,"Natural Gas",null,null,null,null,null,"Diesel Fuel",null,null,null,"Crude","Residual oil","Pet. Coke","Coal","Upgrader process gas","NGL","Notes: "]
[null,null,"Utility/ Industrial Boiler (>100 MMBtu/hr input)","Small Industrial Boiler (10-100 MMBtu/hr input)","Large Gas Turbine","CC Gas Turbine","Small Turbine","Stationary Reciprocating Engine","Industrial Boiler","Commercial Boiler","Stationary Reciprocating Engine","Turbine","Industrial Boiler","Industrial Boiler","Industrial Boiler","Industrial Boiler","Stationary reciprocating engine","Diluent combustion","Unless specified elsewhere, data from GREET1_2016, Data taken from sheet \"EF\", rows 6-16 for each technology. Data for upgrader process gas uses NG Efs, as does GREET 2016. NGLs are modeled as oil sands diluent."]
[null,"VOC",2.54,2.54,1.056,0.26700000000000002,1.056,133.316,0.8,1.2010000000000001,2.0270000000000001,0.25800000000000001,0.81999999284744263,0.90500000000000003,0.47154493127067021,0.47154493127067021,{"$f":"H12","v":133.316},2.5]
[null,"CO",22.21,24.97,41.286000000000001,14.532999999999999,41.286000000000001,705.99300000000005,20.867000000000001,25.114999999999998,657.005,1.56,23.739999771118164,36.017000000000003,23.954809379648633,23.954809379648633,705.99300000000005,26]
[null,"CH4",1.06,1.06,1.056,1.1419999999999999,1.056,392.35399999999998,0.19800000000000001,0.76300000000000001,4.2210000000000001,3.024,0.36000001430511475,3.2309999999999999,1.246,1.246,392.35399999999998,49]
[null,"N2O",0.75,0.35,0.10199999999999999,0.11899999999999999,0.10199999999999999,0.111,0.91800000000000004,0.91800000000000004,0.6,0.60299999999999998,2,1.712,0.85699999999999998,0.85699999999999998,0.111,1.1000000238418579]
[null,"CO2",59366.949503269869,59362.612360412735,59341.609065174642,59385.872043746065,59341.609065174642,56808.789660412731,78163.223975801229,78153.745013896463,77148.691147229794,78187.481280563123,{"$f":"VLOOKUP('Active Field'!J73,'Fuel Specs'!B73:T114,19,TRUE)","v":75004.334336762491},85012.926813631188,106933.47159684247,100001.60646895067,56808.789660412731,64819.984012604291,"CO2 emissions are computed dynamically from CO2 content of the produced crude"]
[null,"GHG",{"$f":"C12*'Input Data'!C74+C13*'Input Data'!C72+C14*'Input Data'!C73+C15*'Input Data'!C75+C16*'Input Data'!C71","v":59660.359503269872},{"$f":"D12*'Input Data'!C74+D13*'Input Data'!C72+D14*'Input Data'!C73+D15*'Input Data'!C75+D16*'Input Data'!C71","v":59541.238360412732},{"$f":"E12*'Input Data'!C74+E13*'Input Data'!C72+E14*'Input Data'!C73+E15*'Input Data'!C75+E16*'Input Data'!C71","v":59467.736265174644},{"$f":"F12*'Input Data'!C74+F13*'Input Data'!C72+F14*'Input Data'!C73+F15*'Input Data'!C75+F16*'Input Data'!C71","v":59473.964543746064},{"$f":"G12*'Input Data'!C74+G13*'Input Data'!C72+G14*'Input Data'!C73+G15*'Input Data'!C75+G16*'Input Data'!C71","v":59467.736265174644},{"$f":"H12*'Input Data'!C74+H13*'Input Data'!C72+H14*'Input Data'!C73+H15*'Input Data'!C75+H16*'Input Data'!C71","v":68193.586060412737},{"$f":"I12*'Input Data'!C74+I13*'Input Data'!C72+I14*'Input Data'!C73+I15*'Input Data'!C75+I16*'Input Data'!C71","v":78477.605175801233},{"$f":"J12*'Input Data'!C74+J13*'Input Data'!C72+J14*'Input Data'!C73+J15*'Input Data'!C75+J16*'Input Data'!C71","v":78490.29111389647},{"$f":"K12*'Input Data'!C74+K13*'Input Data'!C72+K14*'Input Data'!C73+K15*'Input Data'!C75+K16*'Input Data'!C71","v":78490.50784722979},{"$f":"L12*'Input Data'!C74+L13*'Input Data'!C72+L14*'Input Data'!C73+L15*'Input Data'!C75+L16*'Input Data'!C71","v":78446.071080563124},{"$f":"M12*'Input Data'!$C$74+M13*'Input Data'!$C$72+M14*'Input Data'!$C$73+M15*'Input Data'!$C$75+M16*'Input Data'!$C$71","v":75649.860336731741},{"$f":"N12*'Input Data'!$C$74+N13*'Input Data'!$C$72+N14*'Input Data'!$C$73+N15*'Input Data'!$C$75+N16*'Input Data'!$C$71","v":85664.310513631193},{"$f":"O12*'Input Data'!$C$74+O13*'Input Data'!$C$72+O14*'Input Data'!$C$73+O15*'Input Data'!$C$75+O16*'Input Data'!$C$71","v":107259.79708113684},{"$f":"P12*'Input Data'!$C$74+P13*'Input Data'!$C$72+P14*'Input Data'!$C$73+P15*'Input Data'!$C$75+P16*'Input Data'!$C$71","v":100327.93195324505},68193.586060412737,{"$f":"R12*'Input Data'!C74+R13*'Input Data'!C72+R14*'Input Data'!C73+R15*'Input Data'!C75+R16*'Input Data'!C71","v":66422.134019709163}]
[]
[]
[null,"Table 1.2 Transport-specific emissions factors (on-site g/MMBtu of fuel burned - LHV)"]
[null,null,"Ocean tanker",null,null,"Barge",null,null,"Locomotive","Pipeline turbine","Pipeline engine",null,"Heavy HDV truck"]
[null,null,"Diesel","Residual oil","Natural gas","Diesel","Residual oil","Natural gas","Diesel","Natural gas","Natural gas","Diesel","Diesel"]
[null,"VOC",79.908003051108707,79.908003051108707,79.908003051108707,20.987999780002628,20.987999780002628,20.987999780002628,41.05120026850549,0.90800000000000003,133.316,40.86,16.71903464383028]
[null,"CO",181.59600634510556,181.59600634510556,90.798003172552782,202.08099652393116,202.08099652393116,101.04049826196558,137.7594087373416,77.180000000000007,705.99300000000005,459.6,68.316154145581933]
[null,"CH4",4.5809998512268066,4.5809998512268066,91.619997024536133,1.0284119892201289,1.0284119892201289,20.568239784402579,6.8245112110180699,23.154,500,4.54,19.145192681977424]
[null,"N2O",2,2,2,2,2,2,2.1321383520886243,2,50,2,8.2522382249902687E-2]
[null,"CO2",77652.043297206372,84534.221277893477,58768.998087433873,77813.256225169389,84695.434205856494,59131.929080612965,77835.863424927782,59224.895974698455,56512.763160412738,77336.992237705985,77986.941914771363]
[null,"GHG",{"$f":"C23*'Input Data'!$C$74+C24*'Input Data'!$C$72+C25*'Input Data'!$C$73+C26*'Input Data'!$C$75+C27*'Input Data'!$C$71","v":78900.836713097655},{"$f":"D23*'Input Data'!$C$74+D24*'Input Data'!$C$72+D25*'Input Data'!$C$73+D26*'Input Data'!$C$75+D27*'Input Data'!$C$71","v":85783.01469378476},{"$f":"E23*'Input Data'!$C$74+E24*'Input Data'!$C$72+E25*'Input Data'!$C$73+E26*'Input Data'!$C$75+E27*'Input Data'!$C$71","v":62048.489627581796},{"$f":"F23*'Input Data'!$C$74+F24*'Input Data'!$C$72+F25*'Input Data'!$C$73+F26*'Input Data'!$C$75+F27*'Input Data'!$C$71","v":78823.358918656188},{"$f":"G23*'Input Data'!$C$74+G24*'Input Data'!$C$72+G25*'Input Data'!$C$73+G26*'Input Data'!$C$75+G27*'Input Data'!$C$71","v":85705.536899343293},{"$f":"H23*'Input Data'!$C$74+H24*'Input Data'!$C$72+H25*'Input Data'!$C$73+H26*'Input Data'!$C$75+H27*'Input Data'!$C$71","v":60468.86267176018},{"$f":"I23*'Input Data'!$C$74+I24*'Input Data'!$C$72+I25*'Input Data'!$C$73+I26*'Input Data'!$C$75+I27*'Input Data'!$C$71","v":78989.527208937754},{"$f":"J23*'Input Data'!$C$74+J24*'Input Data'!$C$72+J25*'Input Data'!$C$73+J26*'Input Data'!$C$75+J27*'Input Data'!$C$71","v":60526.048774698458},{"$f":"K23*'Input Data'!$C$74+K24*'Input Data'!$C$72+K25*'Input Data'!$C$73+K26*'Input Data'!$C$75+K27*'Input Data'!$C$71","v":85455.63156041273},{"$f":"L23*'Input Data'!$C$74+L24*'Input Data'!$C$72+L25*'Input Data'!$C$73+L26*'Input Data'!$C$75+L27*'Input Data'!$C$71","v":78908.518237705983},{"$f":"M23*'Input Data'!$C$74+M24*'Input Data'!$C$72+M25*'Input Data'!$C$73+M26*'Input Data'!$C$75+M27*'Input Data'!$C$71","v":78651.298255760077}]
[null,"Notes: Emissions factors from GREET 1_2016, sheet 'EF', Table 2.2 and 2.3, \"Emission Factors of Fuel Combustion: Feedstock and Fuel Transportation from Product Origin to Product Destination back to Poduct Origin (grams per MMBtu of fuel burned)\""]
[]
[]
[]
[null,"Table 1.3: Weighted emissions factors by process stage"]
[null,null,"Natural gas","Upgrader process gas","NGL","Crude oil","Diesel","Residual fuel","Petroleum coke"]
[null,null,"g GHGs/MMBtu LHV","g GHGs/MMBtu LHV","g GHGs/MMBtu LHV","g GHGs/MMBtu LHV","g GHGs/MMBtu LHV","g GHGs/MMBtu LHV","g GHGs/MMBtu LHV",null,"Notes: "]
[null,"Exploration",{"$f":"H28","v":60468.86267176018},{"$f":"$Q$17","v":68193.586060412737},{"$f":"$R$17","v":66422.134019709163},{"$f":"$M$17","v":75649.860336731741},{"$f":"F28","v":78823.358918656188},{"$f":"D28","v":85783.01469378476},{"$f":"O17","v":107259.79708113684},null,"All exploration emissions from transport equipment, except upgrader process gas, petroleum coke and NGL, which have no transport-specific emissions factors. NG for exploration assumes barge-sized engine (not tanker). Diesel for exploration uses barge-sized engine (not tanker)."]
[null,"Drilling & Development",{"$f":"H28","v":60468.86267176018},{"$f":"D36","v":68193.586060412737},{"$f":"$R$17","v":66422.134019709163},75649.860336731741,{"$f":"K17","v":78490.50784722979},85783.01469378476,107259.79708113684,null,"All drilling emissions from transport equipment, except upgrader process gas, petroleum coke and NGL, which have no transport-specific emissions factors. NG for drilling assumes barge-sized engine (not tanker). Diesel for drilling uses reciprocating engine."]
[null,"Production & Extraction",{"$f":"'Production & Extraction'!M319*H17+'Production & Extraction'!M320*'Emissions Factors'!G17+'Production & Extraction'!M321*'Emissions Factors'!D17","v":68193.586060412737},{"$f":"$Q$17","v":68193.586060412737},66422.134019709163,{"$f":"$M$17","v":75649.860336731741},{"$f":"K17","v":78490.50784722979},{"$f":"N17","v":85664.310513631193},{"$f":"O17","v":107259.79708113684},null,"NG EF is weighted average of different technologies used on production sheet.  Diesel is assumed used in recip engine in production sector."]
[null,"Surface Processing",{"$f":"H17*'Surface Processing'!M526+G17*'Surface Processing'!M527+D17*'Surface Processing'!M528","v":60355.81164164553},68193.586060412737,66422.134019709163,75649.860336731741,{"$f":"I17","v":78477.605175801233},{"$f":"N17","v":85664.310513631193},{"$f":"O17","v":107259.79708113684},null,"NG EF is weighted average of different technologies used in surface processing sheet. Diesel is assumed used in industrial boiler."]
[null,"Maintenance",{"$f":"D17","v":59541.238360412732},68193.586060412737,66422.134019709163,75649.860336731741,{"$f":"I17","v":78477.605175801233},{"$f":"N17","v":85664.310513631193},{"$f":"O17","v":107259.79708113684},null,"NG and diesel for maintenance assumes industrial boiler."]
[null,"Waste disposal",{"$f":"D17","v":59541.238360412732},68193.586060412737,66422.134019709163,75649.860336731741,{"$f":"I17","v":78477.605175801233},{"$f":"N17","v":85664.310513631193},{"$f":"O17","v":107259.79708113684},null,"NG and diesel for waste disposal assumes industrial boiler."]
[null,"Transport",{"$f":"E28","v":62048.489627581796},{"$f":"E28","v":62048.489627581796},66422.134019709163,75649.860336731741,{"$f":"C28","v":78900.836713097655},{"$f":"D28","v":85783.01469378476},{"$f":"O17","v":107259.79708113684},null,"NG for transport assumes ocean tanker powered by transport."]
[null,"Other",{"$f":"H17","v":68193.586060412737},68193.586060412737,66422.134019709163,75649.860336731741,{"$f":"K17","v":78490.50784722979},{"$f":"N17","v":85664.310513631193},{"$f":"O17","v":107259.79708113684},null,"NG and deisel for \"other\" assumes stationary recpirocating engines."]
[null,"Fuel consumed for electricity generation",{"$f":"E17","v":59467.736265174644},68193.586060412737,66422.134019709163,75649.860336731741,{"$f":"K17","v":78490.50784722979},{"$f":"N17","v":85664.310513631193},{"$f":"O17","v":107259.79708113684},null,"NG assumes small turbine EF.  Diesel EF assumes stationary recip engine."]
[null,"Notes:",null,"All upgrader gas uses NG stationary engine, as is used in GREET2013 for upgrader gas.","All NGLs modeled using GREET diluent combustion Efs","All crude oil combustion modeled using GREET crude oil burned in industrial boiler.",null,"Residual oil uses ocean tanker for transport figures and industrial boiler for non-transport applications","All petroleum coke combustion using GREET pet coke industrial boilers"]
[]
[]
[null,"Table 1.4: Emission Factors of Venting (unit specified below)"]
[null,"Venting source",null,null,null,null,"CO2","CH4","VOC","Unit","Reference",null,null,"Note(s)"]
[null,"Well workovers"]
[null,null,"Ultra-Heavy Oil (API<10) ",null,null,null,0,0,{"$f":"\"--\"","v":"--"},"g/Event","ARB (2007), Table 4-8",null,null,"No emissions reported for ultra-heavy oil facilities",null,null,null,null,null,null," "]
[null,null,"Heavy Oil (API >=10, <20)",null,null,null,{"$f":"1000000*405/12889","v":31422.142912561099},{"$f":"1000000*1428/12889","v":110792.14834354876},{"$f":"\"--\"","v":"--"},"g/Event","ARB (2007), Table 4-8",null,null,"Total emissions divided by total number of reported events"]
[null,null,"Light Oil (API >= 20, <30)",null,null,null,{"$f":"1000000*225/5424","v":41482.300884955752},{"$f":"1000000*575/5424","v":106010.32448377581},{"$f":"\"--\"","v":"--"},"g/Event","ARB (2007), Table 4-8",null,null,"Total emissions divided by total number of reported events"]
[null,null,"Ultra-Light Oil (API >=30)",null,null,null,{"$f":"1000000*9/599","v":15025.041736227045},{"$f":"1000000*65/599","v":108514.19031719533},"--","g/Event","ARB (2007), Table 4-8",null,null,"Total emissions divided by total number of reported events"]
[null,"Well cleanups"]
[null,null,"Ultra-Heavy Oil (API<10) ",null,null,null,0,0,"--","g/Event","ARB (2007), Table 4-10",null,null,"No emissions reported for ultra-heavy oil facilities"]
[null,null,"Heavy Oil (API >=10, <20)",null,null,null,{"$f":"1000000*103/956","v":107740.58577405858},{"$f":"1000000*90/956","v":94142.259414225948},"--","g/Event","ARB (2007), Table 4-10",null,null,"Total emissions divided by total number of reported events"]
[null,null,"Light Oil (API >= 20, <30)",null,null,null,{"$f":"1000000*113/1977","v":57157.309054122408},{"$f":"1000000*201/1977","v":101669.19575113809},"--","g/Event","ARB (2007), Table 4-10",null,null,"Total emissions divided by total number of reported events"]
[null,null,"Ultra-Light Oil (API >=30)",null,null,null,{"$f":"1000000*3/187","v":16042.780748663101},{"$f":"1000000*21/187","v":112299.46524064172},"--","g/Event","ARB (2007), Table 4-10",null,null,"Total emissions divided by total number of reported events"]
[null,"Compressors"]
[null,null,"Startups",null,null,null,{"$f":"1000000*4/1071","v":3734.8272642390289},{"$f":"1000000*69/1071","v":64425.770308123247},"--","g/unit-yr","ARB (2007), Tables 15-1 & 15-5",null,null,"Total emissions divided by total number of compressor years "]
[null,null,"Blowdowns",null,null,null,{"$f":"1000000*172/1071","v":160597.57236227824},{"$f":"1000000*3238/1071","v":3023342.670401494},"--","g/unit-yr","ARB (2007), Tables 15-1 & 15-6",null,null,"Total emissions divided by total number of compressor years "]
[null,"Gathering pipeline maintenance and pigging"]
[null,null,"Maintenance",null,null,null,{"$f":"1000000*2659/2295","v":1158605.6644880173},{"$f":"1000000*2490/2295","v":1084967.3202614379},"--","g/mile-yr","ARB (2007), Tables 16-3 & 16-4 ",null,null,"Total emissions divided by total number of gathering system pipeline miles"]
[null,null,"Pigging",null,null,null,{"$f":"1000000*104/1417","v":73394.495412844029},{"$f":"1000000*5/1417","v":3528.5815102328866},"--","g/Event","ARB (2007), Tables 16-1 & 16-4 ",null,null,"Total emissions divided by total number of openings - event is defined as opening of launchers/receivers"]
[null,"Gas dehydrator"]
[null,null,"Without vapor recovery system",null,null,null,148,13677,"--","g/MMscf","ARB (2013), data from S. Detwiler and  J. Duffy",null,null,"Venting emissions of glycol dehydrators without VRS divided by the total input volume to systems without VRS. Data from ARB survey, updated 2013 edition. Data processed by S. Detwiler and J. Duffy to separate systems with and without vapor recovery.  See documentation."]
[null,null,"With vapor recovery system",null,null,null,466,1782,"--","g/MMscf","ARB (2013), data from S. Detwiler and  J. Duffy",null,null,"Venting emissions of glycol dehydrators with VRS divided by the total input volume to systems with VRS. Data from ARB survey, updated 2013 edition. Data processed by S. Detwiler and J. Duffy to separate systems with and without vapor recovery.  See documentation."]
[null,"Storage tanks"]
[null,null,"Oil storage tank",null,null,null,{"$f":"'Venting & Fugitives'!N363","v":186.74603537227759},{"$f":"'Venting & Fugitives'!N362","v":141.98625153890731},"--","g/bbl oil","EPA (2014), Annex 3.6",null,null,"Fugitive emissions from storage tanks from US EPA emissions factors.  Because California storage tanks typically have vapor recovery, and this practice is not likely typical at other producing regions, we assume no vapor recovery. Converted from 7.39 scf CH4/bbl of crude, as reported by EPA."]
[null,null,"Water storage tank (at 50 psi, water salt content: 20%)",null,null,null,null,1.5E-5,null,"g/bbl water","Shires and Harrison, 1996 (GRI/EPA study)"]
[null,"Pneumatic controllers"]
[null,null,"Low-bleed pneumatic controllers",null,null,null,{"$f":"'Venting & Fugitives'!N379*365","v":20274.905964993031},{"$f":"'Venting & Fugitives'!N373*365","v":364668.34292401362},"--","g/unit-yr","EPA (2014), Annex 3.6",null,null,"See `Venting & Fugitives' sheet"]
[null,null,"High-bleed pneumatic controllers",null,null,null,{"$f":"'Venting & Fugitives'!N380*365","v":129373.20949090792},{"$f":"'Venting & Fugitives'!N374*365","v":2314241.4070177786},"--","g/unit-yr","EPA (2014), Annex 3.6",null,null,"See `Venting & Fugitives' sheet"]
[null,"Pneumatic chemical injection pumps",null,null,null,null,{"$f":"'Venting & Fugitives'!M388*365","v":97184.382592199923},{"$f":"'Venting & Fugitives'!M387*365","v":1739187.4816376034},"--","g/unit-yr","EPA (2014), Annex 3.6",null,null,"See `Venting & Fugitives' sheet"]
[null,"Ryan-Holmes Process",null,null,null,null,"--","--",1897.2179452054795,"g/MMscf","NETL (2010)"]
[null,"Method limitation(s):"]
[null,"1- Emissions are allocated evenly between units (e.g. compressors) irrespective of unit type (e.g. reciprocating), age, specs and size"]
[null,"2- Units/events/pipelines (e.g. compressors, openings, miles) are allocated evenly between facilities irrespective of facility type (e.g. onshore crude, natural gas processing) and size"]
[null,"Source: ARB (2007)"]
[]
[]
[null,"Table 1.5: Emission Factors of Fugitives (unit specified below)"]
[null,"Fugitives source",null,null,null,null,"CO2","CH4","VOC","Unit","Reference",null,null,null,"Note(s)"]
[null,"Active wells"]
[null,null,"Ultra-Heavy Oil (API<10) ",null,null,null,{"$f":"0/47","v":0},{"$f":"0/47","v":0},{"$f":"\"--\"","v":"--"},"g/unit-yr","ARB (2007), Table 4-5",null,null,null,"Total emissions divided by number of wells associated with ultra-heavy oil production"]
[null,null,"Heavy Oil (API 10-20)",null,null,null,{"$f":"1000000*66/36619","v":1802.3430459597478},{"$f":"1000000*155/36619","v":4232.7753352084983},{"$f":"\"--\"","v":"--"},"g/unit-yr","ARB (2007), Table 4-5",null,null,null,"Total emissions divided by number of wells associated with heavy oil production"]
[null,null,"Light Oil (API 20-30)",null,null,null,{"$f":"1000000*459/14261","v":32185.681228525347},{"$f":"1000000*1415/14261","v":99221.653460486647},{"$f":"\"--\"","v":"--"},"g/unit-yr","ARB (2007), Table 4-5",null,null,null,"Total emissions divided by number of wells associated with light oil production"]
[null,null,"Ultra-Light Oil (API>30)",null,null,null,{"$f":"1000000*19/1323","v":14361.30007558579},{"$f":"1000000*139/1323","v":105064.24792139078},"--","g/unit-yr","ARB (2007), Table 4-5",null,null,null,"Total emissions divided by number of wells associated with ultra-light oil production"]
[null,"Well cellars"]
[null,null,"Ultra-Heavy Oil (API<10) ",null,null,null,{"$f":"\"--\"","v":"--"},{"$f":"1000000*3/22","v":136363.63636363635},"--","g/unit-yr","ARB (2007), Table 4-7",null,null,null,"Total emissions divided by number of wells associated with ultra-heavy oil production"]
[null,null,"Heavy Oil (API 10-20)",null,null,null,{"$f":"\"--\"","v":"--"},{"$f":"1000000*933/7461","v":125050.26135906715},"--","g/unit-yr","ARB (2007), Table 4-7",null,null,null,"Total emissions divided by number of wells associated with heavy oil production"]
[null,null,"Light Oil (API 20-30)",null,null,null,{"$f":"\"--\"","v":"--"},{"$f":"1000000*850/4998","v":170068.02721088435},"--","g/unit-yr","ARB (2007), Table 4-7",null,null,null,"Total emissions divided by number of wells associated with light oil production"]
[null,null,"Ultra-Light Oil (API>30)",null,null,null,{"$f":"\"--\"","v":"--"},{"$f":"1000000*369/2168","v":170202.9520295203},"--","g/unit-yr","ARB (2007), Table 4-7",null,null,null,"Total emissions divided by number of wells associated with ultra-light oil production"]
[null,"Gas dehydrator"]
[null,null,"Without vapor recovery system",null,null,null,172,3925,"--","g/MMscf","ARB (2013), data from S. Detwiler and  J. Duffy",null,null,null,"Fugitive emissions of glycol dehydrators without VRS divided by the total input volume to systems without VRS. Data from ARB survey, updated 2013 edition. Data processed by S. Detweiler and J. Duffy to separate systems with and without vapor recovery.  See documentation."]
[null,null,"With vapor recovery system",null,null,null,25863,748,"--","g/MMscf","ARB (2013), data from S. Detwiler and  J. Duffy",null,null,null,"Fugitive emissions of glycol dehydrators with VRS divided by the total input volume to systems with VRS. Data from ARB survey, updated 2013 edition. Data processed by S. Detweiler and J. Duffy to separate systems with and without vapor recovery.  See documentation."]
[null,"AGR unit",null,null,null,null,0,{"$f":"IF(OR('Active Field'!J116=3, 'Active Field'!J116=5,'Active Field'!J116=7),965*'Input Data'!D84,0)","v":18540.829869424295},"--","g/MMscf","EPA (1996), p. 23",null,null,null,"Zero CO2 fugitives. All remaining CO2 is vented."]
[null,"Gathering pipeline",null,null,null,null,{"$f":"1000000*327/2295","v":142483.66013071896},{"$f":"1000000*867/2295","v":377777.77777777775},"--","g/mile-yr","ARB (2007), Table 16-5",null,null,null,"Total fugitives of gathering pipelines divided by number of pipeline miles"]
[null,"Separators (e.g. free knock out, etc)",null,null,null,null,{"$f":"1000000*11/4618","v":2381.9835426591599},{"$f":"1000000*170/4618","v":36812.472932005199},"--","g/unit-yr","ARB (2007), Table 17-3",null,null,null,"Total fugitives of separators divided by number of separators"]
[null,"Sumps and pits",null,null,null,null,{"$f":"\"--\"","v":"--"},{"$f":"1000000*264/250","v":1056000},"--","g/unit-yr","ARB (2007), Table 18-1",null,null,null,"Total fugitives of crude oil sumps and pits divided by total number of sumps and pits"]
[null,"Components <10,000 ppmv"]
[null,null,"Valves"]
[null,null,null,"Gas service",null,null,{"$f":"\"--\"","v":"--"},{"$f":"0.687*1.3*10^-3*'Input Data'!$E$24","v":147.86272116115504},{"$f":"0.171*1.3*10^-3*'Input Data'!$E$24","v":36.804258105615006},"g/unit-yr","API (1996), Pub. 4638, Tables 2 & 3"]
[null,null,null,"Heavy oil service",null,null,{"$f":"\"--\"","v":"--"},{"$f":"0.942*4.4*10^-4*'Input Data'!$E$24","v":68.621812413924005},{"$f":"0.03*4.4*10^-4*'Input Data'!$E$24","v":2.1854080386599999},"g/unit-yr","API (1996), Pub. 4638, Tables 2 & 3"]
[null,null,null,"Light oil service",null,null,"--",{"$f":"0.612*1*10^-3*'Input Data'!$E$24","v":101.3234636106},{"$f":"0.296*1*10^-3*'Input Data'!$E$24","v":49.006119654799996},"g/unit-yr","API (1996), Pub. 4638, Tables 2 & 3"]
[null,null,"Connectors"]
[null,null,null,"Gas service",null,null,"--",{"$f":"0.687*5.3*10^-4*'Input Data'!$E$24","v":60.282494011855512},{"$f":"0.171*5.3*10^-4*'Input Data'!$E$24","v":15.0048129199815},"g/unit-yr","API (1996), Pub. 4638, Tables 2 & 3"]
[null,null,null,"Heavy oil service",null,null,"--",{"$f":"0.942*4*10^-4*'Input Data'!$E$24","v":62.383465830840002},{"$f":"0.03*4*10^-4*'Input Data'!$E$24","v":1.9867345806000001},"g/unit-yr","API (1996), Pub. 4638, Tables 2 & 3"]
[null,null,null,"Light oil service",null,null,"--",{"$f":"0.612*5.1*10^-4*'Input Data'!$E$24","v":51.674966441405999},{"$f":"0.296*5.1*10^-4*'Input Data'!$E$24","v":24.993121023947996},"g/unit-yr","API (1996), Pub. 4638, Tables 2 & 3"]
[null,null,"Flanges"]
[null,null,null,"Gas service",null,null,"--",{"$f":"0.687*3*10^-4*'Input Data'!$E$24","v":34.122166421804998},{"$f":"0.171*3*10^-4*'Input Data'!$E$24","v":8.4932903320650013},"g/unit-yr","API (1996), Pub. 4638, Tables 2 & 3"]
[null,null,null,"Heavy oil service",null,null,"--",{"$f":"0.942*2.1*10^-5*'Input Data'!$E$24","v":3.2751319561191004},{"$f":"0.03*2.1*10^-5*'Input Data'!$E$24","v":0.10430356548149999},"g/unit-yr","API (1996), Pub. 4638, Tables 2 & 3"]
[null,null,null,"Light oil service",null,null,"--",{"$f":"0.612*1.3*10^-4*'Input Data'!$E$24","v":13.172050269378001},{"$f":"0.296*1.3*10^-4*'Input Data'!$E$24","v":6.3707955551239994},"g/unit-yr","API (1996), Pub. 4638, Tables 2 & 3"]
[null,null,"Open end lines"]
[null,null,null,"Gas service",null,null,"--",{"$f":"0.687*7.9*10^-4*'Input Data'!$E$24","v":89.855038244086515},{"$f":"0.171*7.9*10^-4*'Input Data'!$E$24","v":22.365664541104508},"g/unit-yr","API (1996), Pub. 4638, Tables 2 & 3"]
[null,null,null,"Heavy oil service",null,null,"--",{"$f":"0.942*3.8*10^-4*'Input Data'!$E$24","v":59.264292539297998},{"$f":"0.03*3.8*10^-4*'Input Data'!$E$24","v":1.8873978515699998},"g/unit-yr","API (1996), Pub. 4638, Tables 2 & 3"]
[null,null,null,"Light oil service",null,null,"--",{"$f":"0.612*7.4*10^-4*'Input Data'!$E$24","v":74.979363071844006},{"$f":"0.296*7.4*10^-4*'Input Data'!$E$24","v":36.264528544552},"g/unit-yr","API (1996), Pub. 4638, Tables 2 & 3"]
[null,null,"Pump seals"]
[null,null,null,"Gas service",null,null,"--",{"$f":"0.687*1.9*10^-2*'Input Data'!$E$24","v":2161.0705400476504},{"$f":"0.171*1.9*10^-2*'Input Data'!$E$24","v":537.90838769745005},"g/unit-yr","API (1996), Pub. 4638, Tables 2 & 3"]
[null,null,null,"Heavy oil service",null,null,"--",{"$f":"\"--\"","v":"--"},{"$f":"\"--\"","v":"--"},"g/unit-yr","API (1996), Pub. 4638, Tables 2 & 3"]
[null,null,null,"Light oil service",null,null,"--",{"$f":"0.612*2.7*10^-2*'Input Data'!$E$24","v":2735.7335174862001},{"$f":"0.296*2.7*10^-2*'Input Data'!$E$24","v":1323.1652306796002},"g/unit-yr","API (1996), Pub. 4638, Tables 2 & 3"]
[null,null,"Others (compressors, hatches, etc)"]
[null,null,null,"Gas service",null,null,"--",{"$f":"0.687*6.3*10^-3*'Input Data'!$E$24","v":716.56549485790504},{"$f":"0.171*6.3*10^-3*'Input Data'!$E$24","v":178.35909697336504},"g/unit-yr","API (1996), Pub. 4638, Tables 2 & 3"]
[null,null,null,"Heavy oil service",null,null,"--",{"$f":"0.942*1.7*10^-3*'Input Data'!$E$24","v":265.12972978107001},{"$f":"0.03*1.7*10^-3*'Input Data'!$E$24","v":8.4436219675499995},"g/unit-yr","API (1996), Pub. 4638, Tables 2 & 3"]
[null,null,null,"Light oil service",null,null,"--",{"$f":"0.612*5.8*10^-3*'Input Data'!$E$24","v":587.67608894147997},{"$f":"0.296*5.8*10^-3*'Input Data'!$E$24","v":284.23549399783997},"g/unit-yr","API (1996), Pub. 4638, Tables 2 & 3"]
[null,"Components >=10,000 ppmv"]
[null,null,"Valves"]
[null,null,null,"Gas service",null,null,"--",{"$f":"0.687*5.2*'Input Data'!$E$24","v":591450.88464462012},{"$f":"0.171*5.2*'Input Data'!$E$24","v":147217.03242246},"g/unit-yr","API (1996), Pub. 4638, Tables 2 & 3"]
[null,null,null,"Heavy oil service",null,null,"--",{"$f":"\"--\"","v":"--"},{"$f":"\"--\"","v":"--"},"g/unit-yr","API (1996), Pub. 4638, Tables 2 & 3"]
[null,null,null,"Light oil service",null,null,"--",{"$f":"0.612*4.6*'Input Data'!$E$24","v":466087.93260875996},{"$f":"0.296*4.6*'Input Data'!$E$24","v":225428.15041207999},"g/unit-yr","API (1996), Pub. 4638, Tables 2 & 3"]
[null,null,"Connectors"]
[null,null,null,"Gas service",null,null,"--",{"$f":"0.687*1.4*'Input Data'!$E$24","v":159236.77663509001},{"$f":"0.171*1.4*'Input Data'!$E$24","v":39635.354882970001},"g/unit-yr","API (1996), Pub. 4638, Tables 2 & 3"]
[null,null,null,"Heavy oil service",null,null,"--",{"$f":"\"--\"","v":"--"},{"$f":"\"--\"","v":"--"},"g/unit-yr","API (1996), Pub. 4638, Tables 2 & 3"]
[null,null,null,"Light oil service",null,null,"--",{"$f":"0.612*1.4*'Input Data'!$E$24","v":141852.84905483999},{"$f":"0.296*1.4*'Input Data'!$E$24","v":68608.567516719995},"g/unit-yr","API (1996), Pub. 4638, Tables 2 & 3"]
[null,null,"Flanges"]
[null,null,null,"Gas service",null,null,"--",{"$f":"0.687*4.3*'Input Data'!$E$24","v":489084.38537920499},{"$f":"0.171*4.3*'Input Data'!$E$24","v":121737.16142626501},"g/unit-yr","API (1996), Pub. 4638, Tables 2 & 3"]
[null,null,null,"Heavy oil service",null,null,"--",{"$f":"\"--\"","v":"--"},{"$f":"\"--\"","v":"--"},"g/unit-yr","API (1996), Pub. 4638, Tables 2 & 3"]
[null,null,null,"Light oil service",null,null,"--",{"$f":"0.612*3.9*'Input Data'!$E$24","v":395161.50808134},{"$f":"0.296*3.9*'Input Data'!$E$24","v":191123.86665371998},"g/unit-yr","API (1996), Pub. 4638, Tables 2 & 3"]
[null,null,"Open end lines"]
[null,null,null,"Gas service",null,null,"--",{"$f":"0.687*2.9*'Input Data'!$E$24","v":329847.60874411504},{"$f":"0.171*2.9*'Input Data'!$E$24","v":82101.806543294995},"g/unit-yr","API (1996), Pub. 4638, Tables 2 & 3"]
[null,null,null,"Heavy oil service",null,null,"--",{"$f":"0.942*1.6*'Input Data'!$E$24","v":249533.86332336001},{"$f":"0.03*1.6*'Input Data'!$E$24","v":7946.9383224000003},"g/unit-yr","API (1996), Pub. 4638, Tables 2 & 3"]
[null,null,null,"Light oil service",null,null,"--",{"$f":"0.612*2.3*'Input Data'!$E$24","v":233043.96630437998},{"$f":"0.296*2.3*'Input Data'!$E$24","v":112714.07520604},"g/unit-yr","API (1996), Pub. 4638, Tables 2 & 3"]
[null,null,"Pump seals"]
[null,null,null,"Gas service",null,null,"--",{"$f":"0.687*3.9*'Input Data'!$E$24","v":443588.16348346497},{"$f":"0.171*3.9*'Input Data'!$E$24","v":110412.77431684501},"g/unit-yr","API (1996), Pub. 4638, Tables 2 & 3"]
[null,null,null,"Heavy oil service",null,null,"--",{"$f":"\"--\"","v":"--"},{"$f":"\"--\"","v":"--"},"g/unit-yr","API (1996), Pub. 4638, Tables 2 & 3"]
[null,null,null,"Light oil service",null,null,"--",{"$f":"0.612*5.3*'Input Data'!$E$24","v":537014.35713617993},{"$f":"0.296*5.3*'Input Data'!$E$24","v":259732.43417043998},"g/unit-yr","API (1996), Pub. 4638, Tables 2 & 3"]
[null,null,"Others (compressors, hatches, etc)"]
[null,null,null,"Gas service",null,null,"--",{"$f":"0.687*4.7*'Input Data'!$E$24","v":534580.60727494501},{"$f":"0.171*4.7*'Input Data'!$E$24","v":133061.54853568503},"g/unit-yr","API (1996), Pub. 4638, Tables 2 & 3"]
[null,null,null,"Heavy oil service",null,null,"--",{"$f":"\"--\"","v":"--"},{"$f":"\"--\"","v":"--"},"g/unit-yr","API (1996), Pub. 4638, Tables 2 & 3"]
[null,null,null,"Light oil service",null,null,"--",{"$f":"0.612*4.4*'Input Data'!$E$24","v":445823.23988663999},{"$f":"0.296*4.4*'Input Data'!$E$24","v":215626.92648112},"g/unit-yr","API (1996), Pub. 4638, Tables 2 & 3"]
[null,"Ryan-Holmes Process",null,null,null,null,"--","--",3147.6695981735161,"g/MMscf","NETL (2010)"]
[]
[]
[null,"Table 1.6: Emission Factors of Land Use Change - 150 year analysis timeframe (gCO2eq./MJ)"]
[null,null,null,"Conventional oil and in situ production",null,null,null,null,null,null,null,null,"Oil sands mining"]
[null,null,null,"Low carbon stock (semi-arid grasslands)",null,null,"Moderate carbon stock (mixed)",null,null,"High carbon stock (forested)"]
[null,null,null,"Low intensity","Moderate intensity","High intensity","Low intensity","Moderate intensity","High intensity","Low intensity","Moderate intensity","High intensity","Low intensity","Moderate intensity","High intensity"]
[null,"Scenario number",null,1,2,3,4,5,6,7,8,9,10,11,12]
[null,"Soil carbon",null,0.03,0.13,0.35,{"$f":"AVERAGE(D160,J160)","v":9.5000000000000001E-2},0.35,1.5,0.16,0.56999999999999995,2.65,0.77,1.21,2.16]
[null,"Biomass",null,0,0,0,0.01,8.5000000000000006E-2,0.32500000000000001,0.02,0.17,0.65,0.03,0.04,0.13]
[null,"Foregone sequestration",null,0,0,0,1.4999999999999999E-2,2.5000000000000001E-2,4.4999999999999998E-2,0.03,0.05,0.09,0.03,0.03,0.04]
[]
[]
[null,"Table 1.7: Emission Factors of Land Use Change - 30 year analysis timeframe (gCO2eq./MJ)"]
[null,null,null,"Conventional oil and in situ production",null,null,null,null,null,null,null,null,"Oil sands mining"]
[null,null,null,"Low carbon stock (semi-arid grasslands)",null,null,"Moderate carbon stock (mixed)",null,null,"High carbon stock (forested)"]
[null,null,null,"Low intensity","Moderate intensity","High intensity","Low intensity","Moderate intensity","High intensity","Low intensity","Moderate intensity","High intensity","Low intensity","Moderate intensity","High intensity"]
[null,"Scenario number",null,1,2,3,4,5,6,7,8,9,10,11,12]
[null,"Soil carbon",null,0.03,0.13,0.35,{"$f":"AVERAGE(D170,J170)","v":0.21500000000000002},0.57000000000000006,1.93,0.4,1.01,3.51,0.96,1.4,2.39]
[null,"Biomass",null,0,0,0,0.34,0.68,1.47,0.68,1.36,2.94,0.24299999999999999,0.31,0.47]
[null,"Foregone sequestration",null,0,0,0,5.0000000000000001E-3,5.0000000000000001E-3,0.01,0.01,0.01,0.02,0.01,0.01,0.01]
[null,"Notes: Calculations of Yeh et al. (2010) performed over 30 year timeframe instead of 50 year timeframe.  See documentation for more details. This shorter timeframe results in lower emissions from foregone sequestration, but much higher emissions from biomass carbon because the biomass does not have time to regrow over 30 year project lifetime (assumed project life is 30 years)."]

{"sheet":"Embodied Emissions","index":24,"n_rows":665,"n_cols":40,"rows_kept":665,"cut":false,"hidden":false,"merged":[[561,2,561,3],[561,4,561,5],[232,9,232,11],[232,12,232,14],[232,15,232,17],[289,4,289,8],[328,3,328,6],[532,2,532,3],[532,4,532,5],[232,3,232,5],[232,6,232,8],[91,2,91,4],[176,2,176,7],[184,2,184,7],[192,2,192,7],[200,2,200,7],[71,2,71,4],[10,19,10,22],[10,23,10,26],[11,2,11,3],[11,4,11,5],[11,19,11,20],[11,21,11,22],[11,23,11,24],[11,25,11,26],[38,1,38,2],[58,2,58,4],[58,5,58,7],[58,8,58,10],[58,11,58,13]]}
["Supplemental worksheet: Embodied emissions",null,null,null,null,null,null,"Active field:",null,{"$f":"'Active Field'!C9","v":"Generic"}]
[]
[]
[]
["1   Material GHG intensities"]
[null,null,null,null,null,null,null,null,null,null,null,null,"User","Default",null,null,"User reference",null,"Default reference"]
["1.1 Include embodied emissions? (1=yes, 0=no)",null,null,null,null,null,null,null,null,null,null,null,0,0]
[]
["1.2 Chosen embodied emissions values (1=Ecoinvent, 2= GREET)",null,null,null,null,null,null,null,null,null,null,null,1,1]
[]
["1.3 GHG and energy intensities of materials (choose input dataset above)",null,null,null,null,null,null,null,null,null,null,null,null,null,null,null,null,null,null,"Mixed units",null,null,null,"SI units"]
[null,null,"Selected values",null,"Selected values (SI)",null,null,null,null,null,null,null,null,null,null,null,null,null,null,"GREET",null,"Ecoinvent",null,"GREET",null,"Ecoinvent",null,null,null,null,null,null,null,null,null,null,"Ecoinvent process descriptions, from Ecoinvent v 3.0"]
[null,"Material","Embodied emissions (gCO2e/lb)","Embodied energy (MMBtu/lb)","Embodied emissions (gCO2/kg)","Embodied energy (MJ/kg)",null,null,null,null,null,null,null,null,null,null,null,null,"Material","Embodied emissions (gCO2e/lb)","Embodied energy (MMBtu/lb)","Embodied emissions (gCO2e/lb)","Embodied energy (MMBtu/lb)","Embodied emissions (gCO2e/kg)","Embodied energy (MJ/kg)","Embodied emissions (gCO2e/kg)","Embodied energy (MJ/kg)",null,null,null,null,null,null,null,null,null,"Term","Functional unit","Process description","Notes"]
[null,"Barite",{"$f":"IF($M$9=1,V14,IF($M$9=2,T14,\"ERROR\"))","v":128.15700249606033},{"$f":"IF($M$9=1,W14,IF($M$9=2,U14,\"ERROR\"))","v":1.4528548198962021E-3},{"$f":"C14*2.204","v":282.458033501317},{"$f":"D14*2.204*1055.05","v":3.3783671889201998},null,null,null,null,null,null,null,null,null,null,null,null,"Barite",0,0,{"$f":"Z14/2.204","v":128.15700249606033},{"$f":"AA14/1055.05/2.204","v":1.4528548198962021E-3},{"$f":"T14*2.204","v":0},{"$f":"U14*1055.05*2.204","v":0},282.458033501317,3.3783671889201994,"GREET:",null,null,null,null,null,null,null,null,"Barite","1 kg barite","Barite production, RoW"]
[null,"Bentonite clay",{"$f":"IF($M$9=1,V15,IF($M$9=2,T15,\"ERROR\"))","v":14.279306817939656},1.9265438327624549E-4,{"$f":"C15*2.204","v":31.471592226739002},{"$f":"D15*2.204*1055.05","v":0.44798505559462859},null,null,null,null,null,null,null,null,null,null,null,null,"Bentonite clay",0,0,{"$f":"Z15/2.204","v":14.279306817939656},{"$f":"AA15/1055.05/2.204","v":1.9265438327624549E-4},{"$f":"T15*2.204","v":0},{"$f":"U15*1055.05*2.204","v":0},31.471592226739002,0.44798505559462859,"Data from GREET2_2016, sheet \"Mat_Sum\" column \"average steel\" and sheet \"Cement_Concrete\".",null,null,null,null,null,null,null,null,"Bentonite clay        ","1 kg bentonite clay","Bentonite quarry operation, RoW "]
[null,"Deisel drilling fluid additive",279.67332123411973,4.3456193877325468E-3,616.4,10.105,null,null,null,null,null,null,null,null,null,null,null,null,"Diesel drilling fluid additive",400.3,4.2313100000000003E-3,279.67332123411973,4.3456193877325468E-3,{"$f":"T16*2.204","v":882.26120000000014},9.8391929285620012,616.4,10.105]
[null,"Portland cement",556.7069222344054,2.3579802002618461E-3,1226.9820566046296,5.483082570670919,null,null,null,null,null,null,null,null,null,null,null,null,"Portland cement",869.81140893601855,2.4254642922130671E-3,556.7069222344054,2.3579802002618461E-3,1917.0643452949851,5.6400053677046698,1226.9820566046296,5.483082570670919,"Ecoinvent: ",null,null,null,null,null,null,null,null,"Cement","1 kg portland cement","Cement production, Portland, RoW","Mitchell (2006) suggests that \"almost all drilling cements are made of Portland cement, a calcined (burned) blend of limestone and clay.\"  The types of cement included in SPE documents are ASTM type I, II, III, and IV, which correspond to API classes A, C, G, H."]
[null,"Sand",1.9950134778539024,2.3484749309770306E-5,4.3970097051900012,5.4609796809438046E-2,null,null,null,null,null,null,null,null,null,null,null,null,"Sand",0,0,1.9950134778539024,2.3484749309770306E-5,0,0,4.3970097051900012,5.4609796809438046E-2,"Data from Ecoinvent v. 3.0, representing summed primary inputs of oil, coal, and natural gas.",null,null,null,null,null,null,null,null,"Fracturing sand","1 kg sand","Gravel and sand quarry operation ROW","No specific entry was available for hydraulic fracturing proppant sand."]
[null,"Steel, low alloy",1246.7579563073955,1.1932721110984536E-2,2747.8545357015,27.747516767549897,null,null,null,null,null,null,null,null,null,null,null,null,"Steel, low alloy",1746.0021842830315,1.9212009705917864E-2,1246.7579563073955,1.1932721110984536E-2,3848.188814159802,44.674266371863936,2747.8545357015,27.747516767549897,null,null,null,null,null,null,null,null,null,"Hematite","1 kg hematite ore","Iron mine operation, crude ore, 46% Fe, GLO"]
[null,"Steel, unalloyed",1032.9887488506802,9.5197849936601367E-3,2276.7072024668992,22.136643543264725,null,null,null,null,null,null,null,null,null,null,null,null,"Steel, unalloyed",1746.0021842830315,1.9212009705917864E-2,1032.9887488506802,9.5197849936601367E-3,3848.188814159802,44.674266371863936,2276.7072024668992,22.136643543264725,null,null,null,null,null,null,null,null,null,"Steel, low alloy","1 kg steel","Steel production, converter, low-alloyed, ROW","Mitchell (2006) suggests that \"almost without exception, casing is manufactured of mild (0.3 carbon) steel, normalized with small amounts of manganese. Strength can also be increased with quenching and tempering.:"]
[null,"Iron ore (hematite)",2.7154732764531762,3.1383693216228501E-5,5.9849031013028009,7.2977449623231258E-2,null,null,null,null,null,null,null,null,null,null,null,null,"Iron ore (hematite)",0,0,2.7154732764531762,3.1383693216228501E-5,0,0,5.9849031013028009,7.2977449623231258E-2,null,null,null,null,null,null,null,null,null,"Steel, unalloyed","1 kg steel","Steel production, converter, unalloyed, ROW"]
[]
["1.4 Density of steel",null,null,null,null,null,null,null,null,null,null,null,0.3,0.3,"lb/in3",null,"From Mitchell (2006) central estimate for tabulated steel casing weights.  See Table 7.10"]
[]
[]
[]
["2   Wellbore construction"]
[]
["2.1   General wellbore design",null,null,null,null,null,null,null,null,null,null,null,"User","Default"]
[null,"2.1.1  Casing thickness (1 = thin, 2 = average, 3 = thick)",null,null,null,null,null,null,null,null,null,null,2,2]
[null,"2.1.2  Casing complexity (0 = user defined, 1 = simple well, 2 = moderate well, 3 = complex well)",null,null,null,null,null,null,null,null,null,null,2,2]
[null,"2.1.2  Cemeting design (1 = min cement, 2= moderate cement, 3 = max cement)",null,null,null,null,null,null,null,null,null,null,2,2]
[null,"2.1.3  Cement properties (1 = low density, 2 = moderate density, 3 = high density, 4 = high strength)",null,null,null,null,null,null,null,null,null,null,2,2]
[]
[]
[]
["2.2   Casing sizing and design"]
[null,"2.2.1 Casing and hole diameters for generic small and large diameter wellbores"]
[null,"Diameters",null,"Notes: "]
[null,"Casing diam","Hole diam","Diameters from Mitchell and Miska (2011), Figure 7.18"]
[null,4.5,{"$f":"6+1/8","v":6.125},"No hole diameter given for 24 or 30 inch conductor casing, so we assume 6 inch excess as for 20 inch casing"]
[null,5,{"$f":"6.5","v":6.5},"Only commonly used bit sizes for each casing size are selected"]
[null,5.5,{"$f":"7+7/8","v":7.875},"Smallest of commonly used bit sizes are used."]
[null,{"$f":"6+5/8","v":6.625},8.5]
[null,{"$f":"7","v":7},8.75]
[null,{"$f":"7+5/8","v":7.625},9.5]
[null,{"$f":"8+5/8","v":8.625},{"$f":"10+5/8","v":10.625}]
[null,{"$f":"9+5/8","v":9.625},12.25]
[null,10.75,{"$f":"14.75","v":14.75}]
[null,11.75,14.75]
[null,{"$f":"13+3/8","v":13.375},17.5]
[null,16,20]
[null,20,26]
[null,24,{"$f":"B54+6","v":30}]
[null,30,{"$f":"B55+6","v":36}]
[]
[]
[null,"2.2.2 Default casing designs used in calculations"]
[null,null,"Complex well",null,null,"Moderate well (default)",null,null,"Simple well",null,null,"User-defined well",null,null,"Notes: "]
[null,"Casing section","Casing diam (in)","Hole diam (in)","Length (ft)","Casing diam (in)","Hole diam (in)","Length (ft)","Casing diam (in)","Hole diam (in)","Length (ft)","Casing diam (in)","Hole diam (in)","Length (ft)","Complex well design is from Mitchell and Miska (2011), Figure 7.1, for deepwater GOM well"]
[null,"Conductor 1",{"$f":"B55","v":30},{"$f":"C55","v":36},200,{"$f":"B53","v":20},{"$f":"C53","v":26},50,{"$f":"B50","v":11.75},{"$f":"C50","v":14.75},50,null,null,null,"Moderate well design is is from Nguyen, J.P. Drilling (1996) Oil and Gas Field Development Techniques, p. 37 for Parentis oil field, modified to recognize OPGEE default."]
[null,"Conductor 2",{"$f":"B53","v":20},{"$f":"C53","v":26},600,null,null,0,null,null,0,null,null,null,"Simple well design is from Nguyen, J.P. Drilling (1996) Oil and Gas Field Development Techniques, p. 37, for Villipuerde oil field."]
[null,"Surface casing",{"$f":"B51","v":13.375},{"$f":"C51","v":17.5},4000,{"$f":"B50","v":11.75},{"$f":"C50","v":14.75},1000]
[null,"Intermediate casing",{"$f":"B48","v":9.625},{"$f":"C48","v":12.25},13000,null,null,null,null,null,0]
[null,"Production casing",{"$f":"B46","v":7.625},{"$f":"C46","v":9.5},{"$f":"17000-13000","v":4000},{"$f":"B45","v":7},{"$f":"C45","v":8.75},{"$f":"'Active Field'!J62","v":7240},{"$f":"B41","v":4.5},{"$f":"C41","v":6.125},{"$f":"1850*3.28","v":6068}]
[null,"Production tubing",4.5,{"$f":"C42","v":6.5},20000,{"$f":"2+3/8","v":2.375},6,{"$f":"'Active Field'!J62","v":7240},{"$f":"B98","v":2.375},{"$f":"C41","v":6.125},{"$f":"1900*3.28","v":6232}]
[]
[]
[]
["2.3   Steel casing"]
[null,"2.3.1 Steel casing mass per unit length (US units)"]
[null,"Outside diam (in)","Mass of steel per unit length (lbm/ft)",null,null,"Notes:"]
[null,null,"Min","Average","Max","Data from Mitchell, ed. (2006) Petroleum Engineering Handbook, Volume II: Drilling Engineering, Table 7.10"]
[null,4.5,9.5,11.275,13.5,"Data are max, min, and average of between 1 and 10 inner diameters for each outer diameter"]
[null,5,11.5,14.375,18,"For sizes where steel mass/length is unavailable, specific mass of 0.3 lbm/in3 is assumed."]
[null,5.5,13,17.083333333333332,23,"No data available on inner diameter of 30 inch conductor casing, so data from GE used. Wall thickness ranges from 5/8 in to 1.5 in for oilfield service.  http://site.ge-energy.com/businesses/ge_oilandgas/en/literature/en/downloads/specialty_connectors_pipe.pdf"]
[null,{"$f":"6+5/8","v":6.625},17,13.25,32,"Only one thickness available for 18.625 and 20 in OD conductor casing"]
[null,7,17,27.5,38]
[null,7.625,20,28.8,39]
[null,8.625,24,36.142857142857146,49]
[null,9.625,29.3,40.228571428571435,53.5]
[null,10.75,32.75,50.117142857142859,65.37]
[null,11.75,38,48.2,60]
[null,13.375,48,60.7,72]
[null,16,55,77.599999999999994,109]
[null,18.625,87.5,87.5,87.5]
[null,20,94,94,94]
[null,30,103.73012445858632,168.05736023686896,245.28352798291402]
[]
[]
[null,"2.3.2 Production tubing mass per unit length"]
[null,"Nominal diam (in.)","Mass of steel per unit length (lbm/ft)",null,null,"Notes:"]
[null,null,"Min","Average","Max","Production tubing from API Tubing Table (www.oilproduction.net)"]
[null,0.75,1.1399999999999999,1.1399999999999999,1.1399999999999999,"For production tubing, many grades have same weight"]
[null,1,1.7,1.7,1.7,"Therefore, we use the single reported value, or average high and low directly"]
[null,1.25,2.2999999999999998,2.2999999999999998,2.2999999999999998]
[null,1.5,2.75,2.75,2.75]
[null,2.375,4,{"$f":"AVERAGE(C98,E98)","v":4.9000000000000004},5.8]
[null,2.875,6.4,{"$f":"AVERAGE(C99,E99)","v":7.5},8.6]
[null,3.5,7.7,{"$f":"AVERAGE(C100,E100)","v":10.199999999999999},12.7]
[null,4,9.5,9.5,9.5]
[null,4.5,12.6,12.6,12.6]
[]
[]
[null,"2.3.3  Mass of casing per well length (lbm/ft)"]
[null,null,"Complex well","Moderate well (default)","Simple well","User-defined well"]
[null,"Conductor 1",{"$f":"IF(C61=\"\",0,VLOOKUP(C61,$B$74:$E$88,IF($M$30=1,2,IF($M$30=2,3,IF($M$30=3,4,\"ERROR\")))))","v":168.05736023686896},{"$f":"IF(F61=\"\",0,VLOOKUP(F61,$B$74:$E$88,IF($M$30=1,2,IF($M$30=2,3,IF($M$30=3,4,\"ERROR\")))))","v":94},{"$f":"IF(I61=\"\",0,VLOOKUP(I61,$B$74:$E$88,IF($M$30=1,2,IF($M$30=2,3,IF($M$30=3,4,\"ERROR\")))))","v":48.2},{"$f":"IF(L61=\"\",0,VLOOKUP(L61,$B$74:$E$88,IF($M$30=1,2,IF($M$30=2,3,IF($M$30=3,4,\"ERROR\")))))","v":0}]
[null,"Conductor 2",{"$f":"IF(C62=\"\",0,VLOOKUP(C62,$B$74:$E$88,IF($M$30=1,2,IF($M$30=2,3,IF($M$30=3,4,\"ERROR\")))))","v":94},{"$f":"IF(F62=\"\",0,VLOOKUP(F62,$B$74:$E$88,IF($M$30=1,2,IF($M$30=2,3,IF($M$30=3,4,\"ERROR\")))))","v":0},{"$f":"IF(I62=\"\",0,VLOOKUP(I62,$B$74:$E$88,IF($M$30=1,2,IF($M$30=2,3,IF($M$30=3,4,\"ERROR\")))))","v":0},0]
[null,"Surface casing",{"$f":"IF(C63=\"\",0,VLOOKUP(C63,$B$74:$E$88,IF($M$30=1,2,IF($M$30=2,3,IF($M$30=3,4,\"ERROR\")))))","v":60.7},{"$f":"IF(F63=\"\",0,VLOOKUP(F63,$B$74:$E$88,IF($M$30=1,2,IF($M$30=2,3,IF($M$30=3,4,\"ERROR\")))))","v":48.2},{"$f":"IF(I63=\"\",0,VLOOKUP(I63,$B$74:$E$88,IF($M$30=1,2,IF($M$30=2,3,IF($M$30=3,4,\"ERROR\")))))","v":0},0]
[null,"Intermediate casing",{"$f":"IF(C64=\"\",0,VLOOKUP(C64,$B$74:$E$88,IF($M$30=1,2,IF($M$30=2,3,IF($M$30=3,4,\"ERROR\")))))","v":40.228571428571435},{"$f":"IF(F64=\"\",0,VLOOKUP(F64,$B$74:$E$88,IF($M$30=1,2,IF($M$30=2,3,IF($M$30=3,4,\"ERROR\")))))","v":0},{"$f":"IF(I64=\"\",0,VLOOKUP(I64,$B$74:$E$88,IF($M$30=1,2,IF($M$30=2,3,IF($M$30=3,4,\"ERROR\")))))","v":0},0]
[null,"Production casing",{"$f":"IF(C65=\"\",0,VLOOKUP(C65,$B$74:$E$88,IF($M$30=1,2,IF($M$30=2,3,IF($M$30=3,4,\"ERROR\")))))","v":28.8},{"$f":"IF(F65=\"\",0,VLOOKUP(F65,$B$74:$E$88,IF($M$30=1,2,IF($M$30=2,3,IF($M$30=3,4,\"ERROR\")))))","v":27.5},{"$f":"IF(I65=\"\",0,VLOOKUP(I65,$B$74:$E$88,IF($M$30=1,2,IF($M$30=2,3,IF($M$30=3,4,\"ERROR\")))))","v":11.275},0]
[null,"Production tubing",{"$f":"IF(C66=\"\",0,VLOOKUP(C66,$B$93:$E$102,IF($M$30=1,2,IF($M$30=2,3,IF($M$30=3,4,\"ERROR\")))))","v":12.6},{"$f":"IF(F66=\"\",0,VLOOKUP(F66,$B$93:$E$102,IF($M$30=1,2,IF($M$30=2,3,IF($M$30=3,4,\"ERROR\")))))","v":4.9000000000000004},{"$f":"IF(I66=\"\",0,VLOOKUP(I66,$B$93:$E$102,IF($M$30=1,2,IF($M$30=2,3,IF($M$30=3,4,\"ERROR\")))))","v":4.9000000000000004},0]
[]
[]
[null,"2.3.4  Mass of steel required",null,null,null,null,null,null,null,null,null,null,"User","Default","Units"]
[null,null,"2.3.4.1 Complex well",null,null,null,null,null,null,null,null,null,{"$f":"SUMPRODUCT(E61:E66,C107:C112)","v":1222982.9006188023},"NA","lb"]
[null,null,"2.3.4.2 Moderate well (default)",null,null,null,null,null,null,null,null,null,{"$f":"SUMPRODUCT(H61:H66,D107:D112)","v":287476},"NA","lb"]
[null,null,"2.3.4.3 Simple well",null,null,null,null,null,null,null,null,null,{"$f":"SUMPRODUCT(K61:K66,E107:E112)","v":101363.5},"NA","lb"]
[null,null,"2.3.4.4 User-defined well",null,null,null,null,null,null,null,null,null,{"$f":"SUMPRODUCT(N61:N66,F107:F112)","v":0},"NA","lb"]
[]
[null,"2.3.5  Length-specific mass of steel required"]
[null,null,"2.3.5.1 Complex well",null,null,null,null,null,null,null,null,null,{"$f":"M116/E66","v":61.149145030940112},"NA","lb/ft"]
[null,null,"2.3.5.2 Moderate well (default)",null,null,null,null,null,null,null,null,null,{"$f":"M117/H66","v":39.706629834254144},"NA","lb/ft"]
[null,null,"2.3.5.3 Simple well",null,null,null,null,null,null,null,null,null,{"$f":"M118/K66","v":16.265003209242618},"NA","lb/ft"]
[null,null,"2.3.5.4 User-defined well",null,null,null,null,null,null,null,null,null,{"$f":"IFERROR(M119/N66,\"\")","v":""},"NA","lb/ft"]
[]
[null,"2.3.6 Mass of steel required"]
[null,null,"2.3.6.1 Mass of steel required for oil production wells",null,null,null,null,null,null,null,null,null,{"$f":"'Active Field'!J62*'Active Field'!J64*(IF(M31=1,M124,IF(M31=2,M123,IF(M31=3,M122,IF(M31=0,M125,\"ERROR\")))))","v":2299808},null,"lb steel per field"]
[null,null,"2.3.6.2 Mass of steel required for water reinjection wells",null,null,null,null,null,null,null,null,null,{"$f":"'Active Field'!J62*'Active Field'!J65*(IF(M31=1,M124,IF(M31=2,M123,IF(M31=3,M122,IF(M31=0,M125,\"ERROR\")))))","v":1437380},null,"lb steel per field"]
[]
[]
[]
["2.4   Cement"]
[]
[null,"2.4.1 Cement properties table"]
[null,"Cement type:","Low density","Moderate density","High density","High strength","Notes:"]
[null,"Additives:","16% bentonite, 5% sodium chloride","3% bentonite","5% hematite","2% calcium chloride","Data from Mitchell and Miska (2011), Fundamentals of Drilling Engineering"]
[null,"lb/sack of cement",null,null,null,null,"Data on water content from Mitchell and Miska (2011) Table 4.2 for API Class A cement"]
[null,"  - Class A cement",94,94,94,94,"Data on bulk weight, specific gravity, and absolute volumes for different additives from Mitchell and Miska (2011), Table 4.4 for various additives"]
[null,"  - Bentonite",15.040000000000001,2.82,0,0,"Data on water requirements of additives from Mitchell and Miska (2011), Table 4.5"]
[null,"  - Hematite",0,0,4.7,0,"Data on properties of additives from Mitchell and Miska (2011), Table 4.7"]
[null,"  - Calcium chloride",0,0,0,1.8800000000000001,"Moderate density cement composition and calculations based on Mitchell and Miska (2011), Example 4.3"]
[null,"  - Sodium chloride",4.7,0,0,0,"High density cement composition and calculations based on Mitchell and Miska (2011), Example 4.4"]
[null,"  - Water",108.29,58.186,37.625943599999999,43.316000000000003,"Low density cement composition and calculations based on Mitchell and Miska (2011), Example 4.5"]
[null,null,null,null,null,null,"High strength cement composition and calculations based on Mitchell and Miska (2011), Example 4.5"]
[null,"kg/kg slurry"]
[null,"  - Class A cement",0.42336621177318373,0.60642813826561548,0.68952392712431587,0.6753067616885543]
[null,"  - Bentonite",6.7738593883709397E-2,1.8192844147968464E-2,0,0]
[null,"  - Hematite",0,0,3.4476196356215794E-2,0]
[null,"  - Calcium chloride",0,0,0,1.3506135233771087E-2]
[null,"  - Sodium chloride",2.1168310588659187E-2,0,0,0]
[null,"  - Water",0.48772688375444756,0.37537901758641601,0.27599987651946828,0.31118710307767466]
[]
[null,"Slurry density"]
[null," - lb/gal",12.393122690199778,14.477534236980107,16.578392792435224,15.748376384026136]
[null," - lb/ft3",{"$f":"C155*7.48","v":92.700557722694342},{"$f":"D155*7.48","v":108.2919560926112},{"$f":"E155*7.48","v":124.00637808741548},{"$f":"F155*7.48","v":117.7978553525155}]
[null," - kg/l",1.4856047357392441,1.7354700636743217,1.987306949108409,1.8878101283395068]
[]
[null,"Slurry yield"]
[null," - ft3/sack cement",2.3444303393526909,1.4313713187287795,1.0993462247877293,1.1816513941060265]
[null," - l/kg cement",1.5565897160710571,0.95036215715731764,0.72991336069238866,0.78456006014421453]
[null,"Carbon intensity (gCO2/sack)",{"$f":"C139*C17+C140*C15+C21*C141","v":52545.211464575921},{"$f":"D139*C17+D140*C15+C21*D141","v":52370.718335260695},{"$f":"E139*C17+E140*C15+C21*E141","v":52343.213414433434},{"$f":"F139*C17+F140*C15+C21*F141","v":52330.450690034108}]
[null,"Carbon intenisty (gCO2/ft3)",{"$f":"C162/C160","v":22412.784283914327},{"$f":"D162/D160","v":36587.793572510484},{"$f":"E162/E160","v":47613.037853056972},{"$f":"F162/F160","v":44285.86210032316}]
[null,"Energy intensity (MMBtu/sack)",{"$f":"C139*$D$17+C140*$D$15+$D$21*C141","v":0.22454766074908827},{"$f":"D139*$D$17+D140*$D$15+$D$21*D141","v":0.22219342418545254},{"$f":"E139*$D$17+E140*$D$15+$D$21*E141","v":0.22179764218272982},{"$f":"F139*$D$17+F140*$D$15+$D$21*F141","v":0.22165013882461354}]
[null,"Energy intenisty (MMBtu/ft3)",{"$f":"C164/C160","v":9.577919931333384E-2},{"$f":"D164/D160","v":0.15523115580014946},{"$f":"E164/E160","v":0.20175413093864611},{"$f":"F164/F160","v":0.18757658978797384}]
[]
[]
[null,"2.4.2 Cement fill-up (vertical)",null,null,null,null,null,null,null,null,null,null,"User","Default","Units",null,"User reference",null,"Default reference"]
[null,null,"2.4.2.1  Minimum cement fill up (vertical) for each casing string",null,null,null,null,null,null,null,null,null,300,300,"ft",null,null,null,"Mitchell and Miska (2011), section 4.5.11"]
[null,null,"2.4.2.2  Maximum cement fill up (vertical) for each casing string",null,null,null,null,null,null,null,null,null,"Total length","Total length","ft"]
[null,null,"2.4.2.3  Default cement fill up (vertical) for each casing string",null,null,null,null,null,null,null,null,null,{"$f":"M169*2","v":600},{"$f":"N169*2","v":600},"ft",null,null,null,"Assume additional 300 feet safety factor"]
[]
[null,"2.4.3 Cement excess factor to account for drilling enlargement and cement infilitration",null,null,null,null,null,null,null,null,null,null,1.75,1.75,"ft3/ft3",null,null,null,"Mitchell and Miska (2011), Example 4.5"]
[]
[]
[null,"2.4.4 Cement volumes required (edit well casing diameters and depths above)"]
[null,null,"Complex well"]
[null,"Casing section","Casing diam (in)","Hole diam (in)","Length (ft)","Volume of void space (ft3/ft)","Volume of cement required (ft3)","Volume of wellbore (ft3)","Notes:"]
[null,"Conductor 1",{"$f":"C61","v":30},36,200,{"$f":"PI()*((D179/2/12)^2-(C179/2/12)^2)","v":2.1598449493429825},{"$f":"F179*E179*$M$173","v":755.94573227004389},{"$f":"(E179-0)*((D179/12/2)^2*PI())","v":1413.7166941154069},"See documentation for assumptions regarding cementing design."]
[null,"Conductor 2",20,26,600,1.5053464798451084,{"$f":"F180*E180*$M$173","v":1580.6138038373638},{"$f":"(E180-E179)*((D180/12/2)^2*PI())","v":1474.8032179352083},"Conductor and surface casing assumed cemented along entire length to protect groundwater"]
[null,"Surface casing",13.375,17.5,4000,0.6946376334475477,{"$f":"F181*E181*$M$173","v":4862.4634341328338},{"$f":"(E181-E180)*((D181/12/2)^2*PI())","v":5679.1377613721725},"All other casing assumed cemented as given cement fill-up assumptions above"]
[null,"Intermediate casing",9.625,12.25,13000,0.31318774419331818,{"$f":"F182*$M$173*IF($M$32=1,MIN(E182,$M$169),IF($M$32=2,MIN(E182,$M$171),IF($M$32=3,E182,\"ERROR\")))","v":328.84713140298408},{"$f":"(E182-E181)*((D182/12/2)^2*PI())","v":7366.1757434268466},"Production tubing assumed in open hole"]
[null,"Production casing",7.625,9.5,4000,0.1751294732836107,{"$f":"F183*$M$173*IF($M$32=1,MIN(E183,$M$169),IF($M$32=2,MIN(E183,$M$171),IF($M$32=3,E183,\"ERROR\")))","v":183.88594694779124},{"$f":"(E183)*((D183/12/2)^2*PI())","v":1968.9495624061028}]
[null,"Production tubing",4.5,6.5,20000,0.11999138607461012,{"$f":"0","v":0}]
[null,null,"Moderate well"]
[null,"Casing section","Casing diam (in)","Hole diam (in)","Length (ft)","Volume of void space (ft3/ft)","Volume of cement required (ft3)","Volume of wellbore (ft3)"]
[null,"Conductor 1",{"$f":"F61","v":20},26,50,{"$f":"PI()*((D187/2/12)^2-(C187/2/12)^2)","v":1.5053464798451084},{"$f":"F187*E187*$M$173","v":131.71781698644696},{"$f":"(E187-0)*((D187/12/2)^2*PI())","v":184.35040224190104}]
[null,"Conductor 2",0,0,0,0,{"$f":"F188*E188*$M$173","v":0},{"$f":"(E188-E187)*((D188/12/2)^2*PI())","v":0}]
[null,"Surface casing",11.75,14.75,1000,0.43360523604234141,{"$f":"F189*E189*$M$173","v":758.80916307409746},{"$f":"(E189-E188)*((D189/12/2)^2*PI())","v":1186.6193605844262}]
[null,"Intermediate casing",0,0,0,0,{"$f":"F190*$M$173*IF($M$32=1,MIN(E190,$M$169),IF($M$32=2,MIN(E190,$M$171),IF($M$32=3,E190,\"ERROR\")))","v":0},{"$f":"(E190-E189)*((D190/12/2)^2*PI())","v":0}]
[null,"Production casing",7,8.75,7240,0.15033011721279271,{"$f":"F191*$M$173*IF($M$32=1,MIN(E191,$M$169),IF($M$32=2,MIN(E191,$M$171),IF($M$32=3,E191,\"ERROR\")))","v":157.84662307343237},{"$f":"(E191-E189)*((D191/12/2)^2*PI())","v":2605.7220316884086}]
[null,"Production tubing",2.375,6,7240,0.16558470393676672,{"$f":"0","v":0}]
[null,null,"Simple well"]
[null,"Casing section","Casing diam (in)","Hole diam (in)","Length (ft)","Volume of void space (ft3/ft)","Volume of cement required (ft3)","Volume of wellbore (ft3)"]
[null,"Conductor 1",{"$f":"I61","v":11.75},14.75,50,{"$f":"PI()*((D195/2/12)^2-(C195/2/12)^2)","v":0.43360523604234141},{"$f":"F195*E195*$M$173","v":37.940458153704874},{"$f":"(E195-0)*((D195/12/2)^2*PI())","v":59.33096802922131}]
[null,"Conductor 2",0,0,0,0,{"$f":"F196*E196*$M$173","v":0},{"$f":"(E196-E195)*((D196/12/2)^2*PI())","v":0}]
[null,"Surface casing",0,0,0,0,{"$f":"F197*E197*$M$173","v":0},{"$f":"(E197-E196)*((D197/12/2)^2*PI())","v":0}]
[null,"Intermediate casing",0,0,0,0,{"$f":"F198*$M$173*IF($M$32=1,MIN(E198,$M$169),IF($M$32=2,MIN(E198,$M$171),IF($M$32=3,E198,\"ERROR\")))","v":0},{"$f":"(E198-E197)*((D198/12/2)^2*PI())","v":0}]
[null,"Production casing",4.5,6.125,6068,9.4169376145201808E-2,{"$f":"F199*$M$173*IF($M$32=1,MIN(E199,$M$169),IF($M$32=2,MIN(E199,$M$171),IF($M$32=3,E199,\"ERROR\")))","v":98.877844952461899},{"$f":"(E199-E197)*((D199/12/2)^2*PI())","v":1241.6098447531697}]
[null,"Production tubing",2.375,6.125,6232,0.17385115596037262,{"$f":"0","v":0}]
[null,null,"User-defined well"]
[null,"Casing section","Casing diam (in)","Hole diam (in)","Length (ft)","Volume of void space (ft3/ft)","Volume of cement required (ft3)","Volume of wellbore (ft3)"]
[null,"Conductor 1",{"$f":"L61","v":0},0,0,{"$f":"PI()*((D203/2/12)^2-(C203/2/12)^2)","v":0},{"$f":"F203*E203*$M$173","v":0},{"$f":"(E203-0)*((D203/12/2)^2*PI())","v":0}]
[null,"Conductor 2",0,0,0,0,{"$f":"F204*E204*$M$173","v":0},{"$f":"(E204-E203)*((D204/12/2)^2*PI())","v":0}]
[null,"Surface casing",0,0,0,0,{"$f":"F205*E205*$M$173","v":0},{"$f":"(E205-E204)*((D205/12/2)^2*PI())","v":0}]
[null,"Intermediate casing",0,0,0,0,{"$f":"F206*$M$173*IF($M$32=1,MIN(E206,$M$169),IF($M$32=2,MIN(E206,$M$171),IF($M$32=3,E206,\"ERROR\")))","v":0},{"$f":"(E206-E205)*((D206/12/2)^2*PI())","v":0}]
[null,"Production casing",0,0,0,0,{"$f":"F207*$M$173*IF($M$32=1,MIN(E207,$M$169),IF($M$32=2,MIN(E207,$M$171),IF($M$32=3,E207,\"ERROR\")))","v":0},{"$f":"(E207-E205)*((D207/12/2)^2*PI())","v":0}]
[null,"Production tubing",0,0,0,0,{"$f":"0","v":0}]
[]
[]
[null,"2.4.5 Length-specific cement volumes required",null,null,null,null,null,null,null,null,null,null,"User","Default","Units",null,"User reference",null,"Default reference"]
[null,null,"2.4.5.1 Complex well",null,null,null,null,null,null,null,null,null,{"$f":"SUM(G179:G184)/E184","v":0.38558780242955082},"NA","ft3/ft well"]
[null,null,"2.4.5.2 Moderate well",null,null,null,null,null,null,null,null,null,{"$f":"SUM(G187:G192)/E192","v":0.14480298385828408},"NA","ft3/ft well"]
[null,null,"2.4.5.3 Simple well",null,null,null,null,null,null,null,null,null,{"$f":"SUM(G195:G200)/E200","v":2.1954156467613412E-2},"NA","ft3/ft well"]
[null,null,"2.4.5.4 User-defined well",null,null,null,null,null,null,null,null,null,{"$f":"IFERROR(SUM(G203:G208)/E208,\"NA\")","v":"NA"},"NA","ft3/ft well"]
[]
[null,"2.4.6 Volume of cement required"]
[null,null,"2.4.6.1 Volume of cement required for production wells",null,null,null,null,null,null,null,null,null,{"$f":"'Active Field'!J62*'Active Field'!J64*(IF(M31=1,M214,IF(M31=2,M213,IF(M31=3,M212,IF(M31=0,M215,\"ERROR\")))))","v":8386.9888250718141},null,"ft3"]
[null,null,"2.4.6.2 Volume of cement required for water injection wells",null,null,null,null,null,null,null,null,null,{"$f":"'Active Field'!J62*'Active Field'!J65*(IF(M31=1,M214,IF(M31=2,M213,IF(M31=3,M212,IF(M31=0,M215,\"ERROR\")))))","v":5241.8680156698838},null,"ft3"]
[]
["2.5 Drilling mud",null,null,null,null,null,null,null,null,null,null,null,"User","Default","Units",null,"User reference",null,"Default reference"]
[null,"2.5.1 Maximum volume of mud required (multiple of full wellbore volume)",null,null,null,null,null,null,null,null,null,null,1,1,"-",null,null,null,"While wellbore will be partially filled with drillstring, we assume that the maximum mud volume required is equal to total wellbore volume due to mud infiltration and mud tank volumes"]
[null,"2.5.2 Length specific volumes of mud required"]
[null,null,"2.5.2.1 Complex well",null,null,null,null,null,null,null,null,null,{"$f":"SUM(H179:H183)/E184","v":0.89513914896278679},"NA","ft3/ft well"]
[null,null,"2.5.2.2 Moderate well",null,null,null,null,null,null,null,null,null,{"$f":"SUM(H187:H191)/E192","v":0.54926682244678671},"NA","ft3/ft well"]
[null,null,"2.5.2.3 Simple well",null,null,null,null,null,null,null,null,null,{"$f":"SUM(H195:H199)/E200","v":0.20875173504210381},"NA","ft3/ft well"]
[null,null,"2.5.2.4 User-defined well",null,null,null,null,null,null,null,null,null,"NA","NA","ft3/ft well"]
[]
[null,"2.5.3 Total volume of mud required (gal)"]
[null,null,"2.5.3.1 Volume of mud required for production wells",null,null,null,null,null,null,null,null,null,{"$f":"'Active Field'!J62*'Active Field'!J64*(IF(M31=1,M226,IF(M31=2,M225,IF(M31=3,M224,IF(M31=0,M227,\"ERROR\")))))*M222","v":31813.534356117885},null,"ft3 per field  "]
[null,null,"2.5.3.2 Volume of mud required for injection wells",null,null,null,null,null,null,null,null,null,{"$f":"'Active Field'!J62*'Active Field'!J65*(IF(M31=1,M226,IF(M31=2,M225,IF(M31=3,M224,IF(M31=0,M227,\"ERROR\")))))*M222","v":19883.458972573681},null,"ft3 per field  "]
[null,"2.5.4 Mud properties"]
[null,"Mud type","Mud density","Water",null,null,"Bentonite",null,null,"Barite",null,null,"Diesel",null,null,"Calcium chloride"]
[null,"[-]","lb/gallon drilling fluid","lb per gallon drilling fluid","Volume per gallon water (gal)","Density (lb/gal)","lb per gallon drilling fluid","Volume per gallon water (gal)","Density (lb/gal)","lb per gallon drilling fluid","Volume per gallon water (gal)","Density (lb/gal)","lb per gallon drilling fluid","Volume per gallon water (gal)","Density (lb/gal)","lb per gallon drilling fluid","Volume per gallon water (gal)","Density (lb/gal)",null,"Notes:"]
[null,"Light",{"$f":"(E235*F235+H235*I235+K235*L235)/(E235+H235+K235)","v":11.042290748898679},{"$f":"E235*F235/(E235+H235+K235)","v":7.3480176211453738},1,8.34,{"$f":"H235*I235/(E235+H235+K235)","v":0.76475770925110131},0.04,21.7,{"$f":"K235*L235/(E235+H235+K235)","v":2.929515418502203},9.5000000000000001E-2,35,0,"-",{"$f":"0.81*$F$235","v":6.7554000000000007},0,"-",{"$f":"2.1*$F$238","v":17.430000000000003},null,"Mud ingredient properties from Mian (1992), Table 8-19"]
[null,"Medium",{"$f":"(E236*F236+H236*I236+K236*L236)/(E236+H236+K236)","v":14.020370370370371},{"$f":"E236*F236/(E236+H236+K236)","v":6.1777777777777771},1,8.34,{"$f":"H236*I236/(E236+H236+K236)","v":2.0092592592592591},0.125,21.7,{"$f":"K236*L236/(E236+H236+K236)","v":5.833333333333333},0.22500000000000001,35,0,"-",{"$f":"0.81*$F$235","v":6.7554000000000007},0,"-",{"$f":"2.1*$F$238","v":17.430000000000003},null,"Mud density calculation from Mian (1992, ch. 8)"]
[null,"Heavy",{"$f":"(E237*F237+H237*I237+K237*L237)/(E237+H237+K237)","v":15.991803278688526},{"$f":"E237*F237/(E237+H237+K237)","v":5.4688524590163938},1,8.34,{"$f":"H237*I237/(E237+H237+K237)","v":2.4901639344262292},0.17499999999999999,21.7,{"$f":"K237*L237/(E237+H237+K237)","v":8.0327868852459012},0.35,35,0,"-",{"$f":"0.81*$F$235","v":6.7554000000000007},0,"-",{"$f":"2.1*$F$238","v":17.430000000000003}]
[null,"Oil-based mud",13.1,2.5,1,8.3000000000000007,1.0900000000000001,"-",21.7,6,"-",35,3.6,"-",{"$f":"0.81*$F$235","v":6.7554000000000007},0.72,"-",{"$f":"2.1*$F$238","v":17.430000000000003},null,"Diesel-based drilling mud based on mud from Mitchell and Miska p. 93, made slightly more dense for deep shale drilling applications."]
[]
[null,null,null,null,null,null,null,null,null,null,null,null,"User",null,"Units",null,"User reference",null,"Default reference"]
[null,"2.5.5 Type of mud required (1=light, 2=medium, 3=heavy, 4 = oil-based)",null,null,null,null,null,null,null,null,null,null,2,null,"-"]
[null,"2.5.6 Mass of mud required",null,null,null,null,null,null,null,null,null,null,{"$f":"'Input Data'!E32/'Input Data'!E31*(M230+M231)*IF(M241=1,C235,IF(M241=2,C236,IF(M241=3,C237,IF(M241=4,C238,C236))))","v":5429725.3219611133},null,"lb per field"]
[null,null,"2.5.6.1 Mass of water required",null,null,null,null,null,null,null,null,null,{"$f":"'Input Data'!E32/'Input Data'!E31*(M230+M231)*IF(M241=1,D235,IF(M241=2,D236,IF(M241=3,D237,IF(M241=4,D238,D236))))","v":2392492.8905114611},null,"lb per field"]
[null,null,"2.5.6.2 Mass of bentonite clay required",null,null,null,null,null,null,null,null,null,{"$f":"'Input Data'!E32/'Input Data'!E31*(M230+M231)*IF(M241=1,G235,IF(M241=2,G237,IF(M241=3,J237,IF(M241=4,G238,G236))))","v":964375.81985441037},null,"lb per field"]
[null,null,"2.5.6.3 Mass of barite required",null,null,null,null,null,null,null,null,null,{"$f":"'Input Data'!E32/'Input Data'!E31*(M230+M231)*IF(M241=1,J235,IF(M241=2,J236,IF(M241=3,J237,IF(M241=4,J238,J236))))","v":2259098.5027311458},null,"lb per field"]
[null,null,"2.5.6.4 Mass of diesel required",null,null,null,null,null,null,null,null,null,{"$f":"'Input Data'!E32/'Input Data'!E31*(M230+M231)*IF(M241=1,M235,IF(M241=2,M236,IF(M241=3,M237,IF(M241=4,M238,M236))))","v":0},null,"lb per field"]
[null,null,"2.5.6.5 Mass of calcium chloride required",null,null,null,null,null,null,null,null,null,{"$f":"'Input Data'!E32/'Input Data'!E31*(M230+M231)*IF(M241=1,P235,IF(M241=2,P236,IF(M241=3,P237,IF(M241=4,P238,P236))))","v":0},null,"lb per field"]
[]
[]
["2.6   Fracturing materials",null,null,null,null,null,null,null,null,null,null,null,"User","Default","Units"]
[null,"2.6.1 Are the production wells fractured (1=yes, 0=no)",null,null,null,null,null,null,null,null,null,null,0,0,"-"]
[null,"2.6.2 Fracturing water requirements per well",null,null,null,null,null,null,null,null,null,null,2000000,2000000,"gallon/well",null,null,null,"From Brandt et al. (2015) study of Bakken wells. Median well is 2.2 million gallons of water per well."]
[null,"2.6.3 Fracturing water requirements (field, lbs)",null,null,null,null,null,null,null,null,null,null,{"$f":"'Active Field'!J64*M252*8.34","v":133440000},133440000,"lb water per field"]
[null,"2.6.3 Sand consumption per unit fracturing water",null,null,null,null,null,null,null,null,null,null,1.1000000000000001,1.1000000000000001,"lb sand/gallon water",null,null,null,"From Brandt et al. (2015) study of Bakken wells. Median well consumes 2.5 million lbs of sand."]
[null,"2.6.4 Sand consumption (field)",null,null,null,null,null,null,null,null,null,null,{"$f":"M252*M254","v":2200000},{"$f":"N252*N254","v":2200000},"lb sand per field"]
[]
[]
["3   Production and surface processing facilities"]
[]
["3.1 Surface tubing properties"]
[null,"Pipe nominal diam.","Std. strength (lb/ft)","Extra-strengh (lb/ft)"]
[null,0.5,0.85099999999999998,1.0880000000000001,"Notes:"]
[null,0.75,1.131,2.4740000000000002,"From \"Oilfield data handbook\", Apex Distribution Inc."]
[null,1,1.679,2.1720000000000002,"Data for pipe weight be line foot, p. 26."]
[null,1.25,2.2730000000000001,2.9969999999999999,"See: http://www.monarchapex.com/pdf/Oilfield%20Data%20Handbook.pdf"]
[null,2,3.653,5.0220000000000002]
[null,2.5,5.7939999999999996,7.6619999999999999]
[null,3,7.58,10.25]
[null,3.5,9.11,12.51]
[null,4,10.79,14.99]
[null,5,14.62,20.78]
[null,6,18.98,28.58]
[null,8,28.56,43.4]
[null,10,40.5,54.7]
[null,12,49.6,65.400000000000006]
[null,14,54.6,72.099999999999994]
[null,16,62.6,82.8]
[]
[]
["3.2 Surface tubing per well (within site, not gathering network)",null,null,null,null,null,null,null,null,null,null,null,"User","Default","Units"]
[null,"3.2.1 Average diameter of surface tubing",null,null,null,null,null,null,null,null,null,null,2,2,"in."]
[null,"3.2.2 Tubing strength (1 = std., 2 = extra strength)",null,null,null,null,null,null,null,null,null,null,1,1]
[null,"3.2.3 Weight per foot of tubing (lb)",null,null,null,null,null,null,null,null,null,null,{"$f":"VLOOKUP(M281,B262:D277,IF(M282=1,2,IF(M282=2,3,\"ERROR\")))","v":3.653},{"$f":"VLOOKUP(N281,B262:D277,IF(N282=1,2,IF(N282=2,3,\"ERROR\")))","v":3.653},"lb/ft"]
[null,"3.2.4 Average length of surface tubing per well (production or injection)",null,null,null,null,null,null,null,null,null,null,250,250,"ft/well"]
[null,"3.2.5 Mass of surface tubing",null,null,null,null,null,null,null,null,null,null,{"$f":"M283*M284*('Active Field'!J64+'Active Field'!J65)","v":11872.25},{"$f":"M283*M284*('Active Field'!J64+'Active Field'!J65)","v":11872.25},"lb steel per field"]
[]
[]
["3.3 Mass of separators"]
[null,"3.3.1 Tabulated capacities and weights of horizontal 3-phase, high pressure separators"]
[null,null,"Working pressure","Liquid","Gas Capacity (MMSCFD @ given pressure)",null,null,null,null,"Weight","How many  separators needed?","Purchase this type?"]
[null,"Size","psig","Capacity",600,800,1000,1200,1440,"(lb)"]
[null,null,null,"bbl/d","psig","psig","psig","psig","psig"]
[null,"24\" OD x 10'",720,780,11.5,null,null,null,null,1692,{"$f":"IF($M$314=C293,ROUNDUP($M$315/D293,0),\"NA\")","v":"NA"},{"$f":"IF(K293=MIN($K$293:$K$308),1,0)","v":0}]
[null,"36\" OD x 10'",720,1770,26.3,null,null,null,null,4031,"NA",0]
[null,"42\" OD x 10'",720,2420,34.9,null,null,null,null,5570,"NA",0]
[null,"48\" OD x 10'",720,3170,43.5,null,null,null,null,7730,"NA",0]
[null,"24\" OD x 10'",1000,750,10.9,12.5,14.2,null,null,2485,11,0]
[null,"36\" OD x 10'",1000,1750,25.3,29.2,33,null,null,5555,5,0]
[null,"42\" OD x 10'",1000,2420,33.6,38.700000000000003,43.8,null,null,7441,4,0]
[null,"48\" OD x 10'",1000,3170,42.1,48.7,54.8,null,null,9773,3,1]
[null,"24\" OD x 10'",1200,740,10.8,12.4,14,15.4,null,2884,{"$f":"IF($M$314<=C301,ROUNDUP($M$315/D301,0),\"NA\")","v":11},0]
[null,"36\" OD x 10'",1200,1690,25.2,29,32.799999999999997,36.1,null,6464,{"$f":"IF($M$314<=C302,ROUNDUP($M$315/D302,0),\"NA\")","v":5},0]
[null,"42\" OD x 10'",1200,2270,32.700000000000003,37.700000000000003,42.6,46.8,null,9184,4,0]
[null,"48\" OD x 10'",1200,2990,41.2,47.5,53.6,58.9,null,11964,3,1]
[null,"24\" OD x 10'",1440,720,10.6,12.1,13.7,15.1,16.399999999999999,3215,12,0]
[null,"36\" OD x 10'",1440,1630,23.5,27.1,30.6,33.700000000000003,34.200000000000003,7695,5,0]
[null,"42\" OD x 10'",1440,2230,32.1,37,41.7,45.9,49.8,10650,4,0]
[null,"48\" OD x 10'",1440,2910,40,46.2,52.2,57.2,62,14375,3,1]
[null,"Notes: From http://www.surfaceequip.com/two-three-phase-vertical-horizontal-separators-gas-scrubbers.html, accessed April 21, 2014"]
[null,"We assume that it is cheapest to buy a smaller number of larger separators"]
[]
[null,null,null,null,null,null,null,null,null,null,null,null,"User","Default","Units",null,"User reference",null,"Default reference"]
[null,"3.3.2 Wellhead pressure",null,null,null,null,null,null,null,null,null,null,{"$f":"'Production & Extraction'!M56","v":1000},350,"psig"]
[null,"3.3.2 Selected wellhead pressure",null,null,null,null,null,null,null,null,null,null,{"$f":"IF(M313<=C293,C293,IF(M313<=C297,C297,IF(M313<=C301,C301,IF(M313<=C305,C305,\"ERROR\"))))","v":1000},{"$f":"IF(N313<=C293,C293,IF(N313<=C297,C297,IF(N313<=C301,C301,IF(N313<=C305,C305,\"ERROR\"))))","v":720},"psig"]
[null,"3.3.3 Liquid production rate",null,null,null,null,null,null,null,null,null,null,{"$f":"'Active Field'!J63*(1+'Active Field'!J86)","v":7962.5535861680128},{"$f":"M315","v":7962.5535861680128},"bbl liquid per day"]
[null,"3.3.4 Gas production rate",null,null,null,null,null,null,null,null,null,null,{"$f":"'Active Field'!J63*'Active Field'!J85/1000000","v":1.3620000000000001},{"$f":"M316","v":1.3620000000000001},"mmscf/d"]
[null,"3.3.5 Gas capacity per separator",null,null,null,null,null,null,null,null,null,null,{"$f":"IF(M314=E291,SUMPRODUCT(E293:E308,L293:L308),IF(M314=F291,SUMPRODUCT(F293:F308,L293:L308),IF(M314=G291,SUMPRODUCT(G293:G308,L293:L308),IF(M314=H291,SUMPRODUCT(H293:H308,L293:L308),IF(M314=I291,SUMPRODUCT(I293:I308,L293:L308))))))","v":160.60000000000002},"NA","mmscf/d"]
[null,"3.3.6 Total gas throughput",null,null,null,null,null,null,null,null,null,null,{"$f":"M317*MIN(K293:K308)","v":481.80000000000007},"NA","mmscf/d"]
[null,"3.3.7 Enough gas processing capacity? (if error, manually increse number of separators required)",null,null,null,null,null,null,null,null,null,null,{"$f":"IF(M316<M318,\"Yes\",\"ERROR\")","v":"Yes"},"NA"]
[null,"3.3.8 Multiplier for additional material associated with separators",null,null,null,null,null,null,null,null,null,null,1.5,1.5,"lbm total mass per lbm separator"]
[null,"3.3.8 Mass of separators",null,null,null,null,null,null,null,null,null,null,{"$f":"SUMPRODUCT(L293:L308,K293:K308,J293:J308)*M320","v":162504},{"$f":"SUMPRODUCT(L293:L308,K293:K308,J293:J308)*N320","v":162504},"lbm steel per field"]
[]
[]
[]
["3.4 Mass of gas sweetening equipment",null,null,null,null,null,null,null,null,null,null,null,"User","Default","Units"]
[null,"3.4.1 Contact tower height",null,null,null,null,null,null,null,null,null,null,{"$f":"20*1.5","v":30},{"$f":"20*1.5","v":30},"ft.",null,null,null,"Manning and Thompson (1991, vol 1) p. 116. Typically 20 trays, spaced 18 to 24 inches. Assume 20 trays at 18 inches."]
[null,"3.4.2 Gas flow rate",null,null,null,null,null,null,null,null,null,null,{"$f":"M316","v":1.3620000000000001},{"$f":"N316","v":1.3620000000000001},"MMscf/d",null,null,null,"In OPGEE, this should reference the inputs to gas processing, after vents and flares"]
[null,"3.4.2 Contact tower diameter"]
[null,null,null,"Gas flow rate (MMscf/d)"]
[null,null,null,0.1,1,10,100]
[null,null,"psig","ID (in.)","ID (in.)","ID (in.)","ID (in.)"]
[null,null,200,4,12,38,120]
[null,null,500,3.5,9,30,95]
[null,null,1000,3,8,26,80]
[null,null,1500,2.5,7,24,72]
[null,null,"Notes:"]
[null,null,"Data from Manning and Thompson (1991), derived from Khan and Manning (1985)"]
[]
[]
[null,"3.4.4 Graphical relationship between gas flow rate and required absorber diameter"]
[]
[]
[]
[]
[]
[]
[]
[]
[]
[]
[]
[]
[]
[]
[]
[]
[]
[]
[]
[]
[]
[]
[]
[]
[]
[null,null,null,null,null,null,null,null,null,null,null,null,"User","Default","Units",null,"User reference",null,"Default reference"]
[null,"3.4.5 Required inner diameter",null,null,null,null,null,null,null,null,null,null,{"$f":"IF('Surface Processing'!M103<=C332,\"ERROR\",IF('Surface Processing'!M103<=C333,12.259*M327^0.4992,IF('Surface Processing'!M103<=C334,9.933*M327^0.4824,IF('Surface Processing'!M103<=C334,8.6115*M327^0.479,IF('Surface Processing'!M103<=C335,7.49*M327^0.4913,\"ERROR\")))))","v":14.303300310908377},null,"in."]
[null,"3.4.6 Assumed steel diameter",null,null,null,null,null,null,null,null,null,null,0.5,null,"in."]
[null,"3.4.7 Area of shell",null,null,null,null,null,null,null,null,null,null,{"$f":"PI()*M367/12*M326+2*PI()*(M367/12/2)^2","v":114.56952755612573},null,"ft2"]
[null,"3.4.8 Mass of absorber shell",null,null,null,null,null,null,null,null,null,null,{"$f":"M368/E506*G506*M369","v":2337.2183621449649},null,"lbm",null,"Use steel density from API spec 12F, scaled to thickness of absorber. See below."]
[null,"3.4.9 Mass of absorber trays and auxilliary piping",null,null,null,null,null,null,null,null,null,null,{"$f":"M370","v":2337.2183621449649},null,"lbm",null,"Assume auxiiary piping, trays, and other materials weigh as much as the shell."]
[null,"3.4.10 Mass of desorber",null,null,null,null,null,null,null,null,null,null,{"$f":"M370+M371","v":4674.4367242899298},null,"lbm",null,"No relations found for sizing desorber. Assume weighs as much as the absortion unit and auxilliary systems."]
[null,"3.4.11 Ancillary materials factor",null,null,null,null,null,null,null,null,null,null,2,null,"lbm/lbm"]
[null,"3.4.12 Total mass of gas sweetening equipment",null,null,null,null,null,null,null,null,null,null,{"$f":"(M370+M371+M372)*M373","v":18697.746897159719},null,"lbm per field"]
[]
[]
["3.5 Mass of glycol dehydration unit"]
[null,"3.5.1 Tabulated capacities and dimensions of vertical, trayed absorbtion towers"]
[null,"Pressure (psig)","Throughput (MMSCF/d)","OD (in.)","ID (in.)","Height (ft.)","Estimated thickness","Rounded thickness"]
[null,400,0,16,{"$f":"D380-H380","v":15.6},15,{"$f":"0.05+0.1+((B380*D380)/(2*(17000*1+B380*0.4)))*(100/(100-12.5))","v":0.36312021312021314},{"$f":"ROUNDUP(G380,1)","v":0.4},"Notes: "]
[null,400,3.1,20,19.5,15,0.41640026640026639,0.5,"Data for absorber tower sizing from Exterran, glycol dehydrator vendor. http://www.exterran.com/Content/Docs/Products/Glycol-Dehydration-Unit-English-Letter.pdf"]
[null,400,4.5999999999999996,24,23.5,15,0.4696803196803197,0.5,"Outer diameters given for sizes 16-42 in. Inner diameters given for sizes 36-72 in."]
[null,400,6.8,30,29.4,20,0.54960039960039953,0.6,"Wall thickness estimated using ANSI/ASME Standard B31.3 (Arnold 2006, eq. 9.27).  This standard is for high pressure pipe, but we assume it holds for glycol absorption towers."]
[null,400,14.3,36,35.299999999999997,20,0.62952047952047951,0.7,"Wall thickness assumptions include: corrosion allowance 0.05 in, thread depth 0.1 in, allowable stress for pipe for API 5L pipe, Grade B @650 F, weld factor = 1 (seamless) derating factor = 0.4, manufacturers tolerance 12.5%"]
[null,400,16.8,42,41.2,20,0.7094405594405595,0.79999999999999993,"Wall thickness rounded up to nearest 0.1 in."]
[null,400,23.4,{"$f":"E386+H386","v":42.8},42,25,{"$f":"0.05+0.1+((B386*E386)/(2*(17000*1+B386*0.4)))*(100/(100-12.5))","v":0.7094405594405595},0.79999999999999993,"Column heights estimated. Exterran shows 29ft high absoprtion column for 500 Mbtu/hr unit."]
[null,400,25.5,48.8,48,25,0.78936063936063938,0.79999999999999993]
[null,400,34.4,54.9,54,25,0.86928071928071926,0.9]
[null,400,43.6,61,60,30,0.94920079920079914,1]
[null,400,53,67.099999999999994,66,30,1.029120879120879,1.1000000000000001]
[null,400,61.1,73.2,72,30,1.1090409590409589,1.2000000000000002]
[null,400,77.400000000000006,"NA","NA","NA","NA","NA"]
[null,600,0,16,{"$f":"D393-H393","v":15.5},15,{"$f":"0.05+0.1+((B393*D393)/(2*(17000*1+B393*0.4)))*(100/(100-12.5))","v":0.46819688432217432},{"$f":"ROUNDUP(G393,1)","v":0.5}]
[null,600,3.7,20,19.399999999999999,15,0.54774610540271795,0.6]
[null,600,5.8,24,23.3,15,0.62729532648326147,0.7]
[null,600,8.1999999999999993,30,29.2,20,0.74661915810407697,0.79999999999999993]
[null,600,17.5,36,35.1,20,0.86594298972489214,0.9]
[null,600,20.6,42,41,20,0.98526682134570753,1]
[null,600,28.7,{"$f":"E399+H399","v":43},42,25,{"$f":"0.05+0.1+((B399*E399)/(2*(17000*1+B399*0.4)))*(100/(100-12.5))","v":0.98526682134570753},1]
[null,600,31.2,49.2,48,25,1.104590652966523,1.2000000000000002]
[null,600,42.1,55.3,54,25,1.2239144845873384,1.3]
[null,600,53.5,61.4,60,30,1.3432383162081538,1.4000000000000001]
[null,600,65.3,67.5,66,30,1.4625621478289692,1.5]
[null,600,79.5,73.599999999999994,72,30,1.5818859794497842,1.6]
[null,600,93.8,"NA","NA","NA","NA","NA"]
[null,800,0,16,{"$f":"D406-H406","v":15.4},15,{"$f":"0.05+0.1+((B406*D406)/(2*(17000*1+B406*0.4)))*(100/(100-12.5))","v":0.57230287033982186},0.6]
[null,800,4.0999999999999996,20,19.3,15,0.67787858792477729,0.7]
[null,800,6.6,24,23.2,15,0.78345430550973272,0.79999999999999993]
[null,800,9.5,30,29,20,0.94181788188716598,1]
[null,800,20.6,36,34.799999999999997,20,1.1001814582645992,1.2000000000000002]
[null,800,24,42,40.700000000000003,20,1.2585450346420322,1.3]
[null,800,33.5,{"$f":"E412+H412","v":43.3},42,25,{"$f":"0.05+0.1+((B412*E412)/(2*(17000*1+B412*0.4)))*(100/(100-12.5))","v":1.2585450346420322},1.3]
[null,800,36.4,49.5,48,25,1.4169086110194655,1.5]
[null,800,49.2,55.6,54,25,1.5752721873968984,1.6]
[null,800,62.2,61.8,60,30,1.7336357637743318,1.8]
[null,800,76,67.900000000000006,66,30,1.8919993401517652,1.9000000000000001]
[null,800,93,74.099999999999994,72,30,2.0503629165291981,2.1]
[null,800,110.1,"NA","NA","NA","NA","NA"]
[null,1000,0,16,{"$f":"D419-H419","v":15.3},15,{"$f":"0.05+0.1+((B419*D419)/(2*(17000*1+B419*0.4)))*(100/(100-12.5))","v":0.67545155993431849},0.7]
[null,1000,4.5999999999999996,20,19.100000000000001,15,0.80681444991789819,0.9]
[null,1000,7.2,24,23,15,0.93817733990147789,1]
[null,1000,10.4,30,28.8,20,1.1352216748768473,1.2000000000000002]
[null,1000,23.2,36,34.6,20,1.332266009852217,1.4000000000000001]
[null,1000,26.9,42,40.4,20,1.5293103448275862,1.6]
[null,1000,37.700000000000003,{"$f":"E425+H425","v":43.6},42,25,{"$f":"0.05+0.1+((B425*E425)/(2*(17000*1+B425*0.4)))*(100/(100-12.5))","v":1.5293103448275862},1.6]
[null,1000,41,49.8,48,25,1.7263546798029559,1.8]
[null,1000,55.4,56,54,25,1.9233990147783251,2]
[null,1000,70.099999999999994,62.2,60,30,2.1204433497536943,2.2000000000000002]
[null,1000,86.1,68.400000000000006,66,30,2.317487684729064,2.4]
[null,1000,98.6,74.599999999999994,72,30,2.5145320197044336,2.6]
[null,1000,124.9,"NA","NA","NA","NA","NA"]
[null,1200,0,16,{"$f":"D432-H432","v":15.2},15,{"$f":"0.05+0.1+((B432*D432)/(2*(17000*1+B432*0.4)))*(100/(100-12.5))","v":0.77765609676364822},0.79999999999999993]
[null,1200,5,20,19,15,0.93457012095456027,1]
[null,1200,7.9,24,22.9,15,1.0914841451454724,1.1000000000000001]
[null,1200,11.3,30,28.6,20,1.3268551814318403,1.4000000000000001]
[null,1200,25.5,36,34.4,20,1.5622262177182087,1.6]
[null,1200,29.9,42,40.200000000000003,20,1.7975972540045766,1.8]
[null,1200,42.5,{"$f":"E438+H438","v":43.8},42,25,{"$f":"0.05+0.1+((B438*E438)/(2*(17000*1+B438*0.4)))*(100/(100-12.5))","v":1.7975972540045766},1.8]
[null,1200,45.8,50.1,48,25,2.0329682902909445,2.1]
[null,1200,61,56.3,54,25,2.2683393265773129,2.3000000000000003]
[null,1200,77.7,62.6,60,30,2.5037103628636808,2.6]
[null,1200,96,68.8,66,30,2.7390813991500487,2.8000000000000003]
[null,1200,108.4,75,72,30,2.974452435436417,3]
[null,1200,137.6,"NA","NA","NA","NA","NA"]
[]
[null,null,null,null,null,null,null,null,null,null,null,null,"User","Default","Units",null,"User reference",null,"Default reference",null,null,"Notes"]
[null,"3.5.2 Required gas throughput",null,null,null,null,null,null,null,null,null,null,{"$f":"M327","v":1.3620000000000001},{"$f":"N327","v":1.3620000000000001},"MMscf/d",null,null,null,"In OPGEE, this should reference the inputs to gas processing, after vents and flares",null,null,"From gas balance sheet"]
[null,"3.5.3 Required gas treatment pressure",null,null,null,null,null,null,null,null,null,null,{"$f":"'Surface Processing'!M103","v":350},350,"psig",null,null,null,null,null,null,"Assume pressure is same as pressure in amine gas sweeteing unit"]
[null,"3.5.4 Outer diameter of unit",null,null,null,null,null,null,null,null,null,null,{"$f":"IF(M448<=B380,VLOOKUP(M447,C380:H392,2,TRUE),IF(M448<=B393,VLOOKUP(M447,C393:H405,2,TRUE),IF(M448<=B406,VLOOKUP(M447,C406:H418,2,TRUE),IF(M448<=B419,VLOOKUP(M447,C419:H431,2,TRUE),IF(M448<=B432,VLOOKUP(M447,C432:H444,2,TRUE),\"ERROR: Gas pressure too high\")))))","v":16},{"$f":"IF(N448<=B380,VLOOKUP(N447,C380:H392,2,TRUE),IF(N448<=B393,VLOOKUP(N447,C393:H405,2,TRUE),IF(N448<=B406,VLOOKUP(N447,C406:H418,2,TRUE),IF(N448<=B419,VLOOKUP(N447,C419:H431,2,TRUE),IF(N448<=B432,VLOOKUP(N447,C432:H444,2,TRUE),\"ERROR: Gas pressure too high\")))))","v":16},"in."]
[null,"3.5.5 Inner diameter of unit",null,null,null,null,null,null,null,null,null,null,{"$f":"IF(M448<=B380,VLOOKUP(M447,C380:H392,3,TRUE),IF(M448<=B393,VLOOKUP(M447,C393:H405,3,TRUE),IF(M448<=B406,VLOOKUP(M447,C406:H418,3,TRUE),IF(M448<=B419,VLOOKUP(M447,C419:H431,3,TRUE),IF(M448<=B432,VLOOKUP(M447,C432:H444,3,TRUE),\"ERROR: Gas pressure too high\")))))","v":15.6},{"$f":"IF(N448<=B380,VLOOKUP(N447,C380:H392,3,TRUE),IF(N448<=B393,VLOOKUP(N447,C393:H405,3,TRUE),IF(N448<=B406,VLOOKUP(N447,C406:H418,3,TRUE),IF(N448<=B419,VLOOKUP(N447,C419:H431,3,TRUE),IF(N448<=B432,VLOOKUP(N447,C432:H444,3,TRUE),\"ERROR: Gas pressure too high\")))))","v":15.6},"in."]
[null,"3.5.6 Height of unit",null,null,null,null,null,null,null,null,null,null,{"$f":"IF(M448<=B380,VLOOKUP(M447,C380:H392,4,TRUE),IF(M448<=B393,VLOOKUP(M447,C393:H405,4,TRUE),IF(M448<=B406,VLOOKUP(M447,C406:H418,4,TRUE),IF(M448<=B419,VLOOKUP(M447,C419:H431,4,TRUE),IF(M448<=B432,VLOOKUP(M447,C432:H444,4,TRUE),\"ERROR: Gas pressure too high\")))))","v":15},{"$f":"IF(N448<=B380,VLOOKUP(N447,C380:H392,4,TRUE),IF(N448<=B393,VLOOKUP(N447,C393:H405,4,TRUE),IF(N448<=B406,VLOOKUP(N447,C406:H418,4,TRUE),IF(N448<=B419,VLOOKUP(N447,C419:H431,4,TRUE),IF(N448<=B432,VLOOKUP(N447,C432:H444,4,TRUE),\"ERROR: Gas pressure too high\")))))","v":15},"ft."]
[null,"3.4.7 Volume of steel required for shell",null,null,null,null,null,null,null,null,null,null,{"$f":"IFERROR(((M449/2)^2-(M450/2)^2)*M451*12,0)","v":568.80000000000064},{"$f":"IFERROR(((N449/2)^2-(N450/2)^2)*N451*12,0)","v":568.80000000000064},"in3"]
[null,"3.5.8 Additional steel for trays, piping, support, etc.",null,null,null,null,null,null,null,null,null,null,{"$f":"M452","v":568.80000000000064},{"$f":"N452","v":568.80000000000064},"in3",null,null,null,"Assume trays etc. are equal to shell mass."]
[null,"3.5.9 Ancillary materials factor",null,null,null,null,null,null,null,null,null,null,2,2,"lbm/lbm",null,null,null,"Assume double mass for ancillary requirements."]
[null,"3.5.10 Mass of steel for absorption unit",null,null,null,null,null,null,null,null,null,null,{"$f":"(M452+M453)*M23*M454","v":682.56000000000074},{"$f":"(N452+N453)*N23*N454","v":682.56000000000074},"lbm"]
[]
[]
[null,"3.5.11 Tabulated glycol reboiler specifications"]
[null,"Glycol circulation rate (gal/h, above this rate)","Firetube rating","Reboiler OD (in.)","Reboiler ID (in.)","Reboiler length (ft.)","Skid width (ft)","Skid length (ft)","Thickness (in.)"]
[null,0,125,20,{"$f":"D460-I460","v":19.100000000000001},6,3,10,{"$f":"ROUNDUP((0.05+0.1+((1000*D460)/(2*(17000*1+1000*0.4)))*(100/(100-12.5))),1)","v":0.9},"Notes:"]
[null,40,200,20,{"$f":"D461-I461","v":19.100000000000001},9,3,14,0.9,"Data for regenerator sizing from Exterran, glycol dehydrator vendor. http://www.exterran.com/Content/Docs/Products/Glycol-Dehydration-Unit-English-Letter.pdf"]
[null,90,300,24,23,10,5,19,1,"Wall thickness estimated using ANSI/ASME Standard B31.3 (Arnold 2006, eq. 9.27).  This standard is for high pressure pipe, but we assume it holds for glycol desorbtion towers."]
[null,180,500,36,34.6,10,5,19,1.4000000000000001,"Wall thickness assumptions include: corrosion allowance 0.05 in, thread depth 0.1 in, allowable stress for pipe for API 5L pipe, Grade B @650 F, weld factor = 1 (seamless) derating factor = 0.4, manufacturers tolerance 12.5%. Assume rated for 1000 psig max operating pressure."]
[null,250,750,36,34.6,15,6,28,1.4000000000000001,"Wall thickness rounded up to nearest 0.1 in."]
[null,400,1000,42,40.4,17,6.4,29,1.6]
[null,500,1500,48,46.2,22.5,10.5,30,1.8]
[null,900,2000,60,57.8,28,12,38.5,2.2000000000000002]
[null,1440,2500,60,57.8,35.25,12,40,2.2000000000000002]
[null,1780,"NA","NA","NA","NA","NA","NA","NA"]
[]
[null,null,null,null,null,null,null,null,null,null,null,null,"User","Default","Units",null,"User reference",null,"Default reference",null,null,"Notes"]
[null,"3.5.12 Required TEG circulation rate",null,null,null,null,null,null,null,null,null,null,{"$f":"'Surface Processing'!M387/24","v":4.1436653158330659},{"$f":"'Surface Processing'!M387/24","v":4.1436653158330659},"gal TEG/h"]
[null,"3.5.13 Reboiler OD",null,null,null,null,null,null,null,null,null,null,{"$f":"VLOOKUP(M472,B460:I469,3,TRUE)","v":20},{"$f":"VLOOKUP(N472,B460:I469,3,TRUE)","v":20},"in."]
[null,"3.5.14 Reboiler ID",null,null,null,null,null,null,null,null,null,null,{"$f":"VLOOKUP(M472,B460:I469,4,TRUE)","v":19.100000000000001},{"$f":"VLOOKUP(N472,B460:I469,4,TRUE)","v":19.100000000000001},"in."]
[null,"3.5.15 Reboiler length",null,null,null,null,null,null,null,null,null,null,{"$f":"VLOOKUP(M472,B460:I469,5,TRUE)","v":6},{"$f":"VLOOKUP(N472,B460:I469,5,TRUE)","v":6},"ft."]
[null,"3.5.16 Volume of steel required for shell",null,null,null,null,null,null,null,null,null,null,{"$f":"IFERROR(((M473/2)^2-(M474/2)^2)*M475*12,0)","v":633.41999999999894},{"$f":"IFERROR(((N473/2)^2-(N474/2)^2)*N475*12,0)","v":633.41999999999894},"in3"]
[null,"3.5.17 Volume of steel required for piping, support, exhaust, skid, etc.",null,null,null,null,null,null,null,null,null,null,{"$f":"M476*1","v":633.41999999999894},{"$f":"N476*1","v":633.41999999999894},"in3"]
[null,"3.5.18 Ancillary materials factor",null,null,null,null,null,null,null,null,null,null,2,2,"lbm/lbm"]
[null,"3.5.18 Mass of steel for regeneration unit",null,null,null,null,null,null,null,null,null,null,{"$f":"(M476+M477)*M23*M478","v":760.10399999999868},{"$f":"(N476+N477)*N23*N478","v":760.10399999999868},"lbm"]
[]
[]
["3.8 Gas compression",null,null,null,null,null,null,null,null,null,null,null,"User","Default","Units",null,"User reference",null,"Default reference",null,null,"Notes"]
[null,"3.8.1 Gas injection compressor horsepower requirements",null,null,null,null,null,null,null,null,null,null,{"$f":"IFERROR('Production & Extraction'!M218+'Production & Extraction'!M286,0)","v":0},{"$f":"IFERROR('Production & Extraction'!M218+'Production & Extraction'!M286,0)","v":0},"bhp"]
[null,"3.8.2 Gas injection compressor volumes",null,null,null,null,null,null,null,null,null,null,{"$f":"IFERROR('Gas Balance'!CT57+'Production & Extraction'!M49,0)","v":0},{"$f":"IFERROR('Gas Balance'!CT57+'Production & Extraction'!N49,0)","v":0},"mscf/d"]
[null,"3.8.3 Gas injection compressor weight",null,null,null,null,null,null,null,null,null,null,{"$f":"IFERROR(IF(M484=0,0,(M484/0.85*0.782+2887)/0.454),0)","v":0},{"$f":"IFERROR(IF(N484=0,0,(N484/0.85*0.782+2887)/0.454),0)","v":0},"lb",null,null,null,"From relationship for centrifugal compressors from MS thesis of Y. Sun 2015.  Relationship is M = 2887 + 0.7820*Qg, where M is mass of compressor in kg, and Qg is gas flow rate in m3/hr.  Conversion factor of 0.85 is used to convert from mscf/d to m3/hr."]
[null,"3.8.4 Auxiliary materials factor",null,null,null,null,null,null,null,null,null,null,2,2,"lb/lb"]
[null,"3.8.5 Gas lifting compressor horsepower requirements",null,null,null,null,null,null,null,null,null,null,{"$f":"'Production & Extraction'!M252","v":"NA"},{"$f":"'Production & Extraction'!M252","v":"NA"},"bhp"]
[null,"3.8.6 Gas lifting compressor volumes",null,null,null,null,null,null,null,null,null,null,{"$f":"'Production & Extraction'!M229","v":"NA"},{"$f":"'Production & Extraction'!M229","v":"NA"},"mscf/d"]
[null,"3.8.7 Gas lifting compressor weight",null,null,null,null,null,null,null,null,null,null,{"$f":"IFERROR(IF(M488=0,0,(M488/0.85*0.782+2887)/0.454),0)","v":0},{"$f":"IFERROR(IF(N488=0,0,(N488/0.85*0.782+2887)/0.454),0)","v":0},"lb"]
[null,"3.8.8 Auxiliary materials factor",null,null,null,null,null,null,null,null,null,null,2,2,"lb/lb"]
[null,"3.8.9 Total compressor mass of steel",null,null,null,null,null,null,null,null,null,null,{"$f":"M485*M486+M489*M490","v":0},{"$f":"N485*N486+N489*N490","v":0},"lb per field"]
[]
[]
["3.7 Other processing equipment"]
[null,"3.5.1 Assumed multiplier for small equipment and equipment not modeled.",null,null,null,null,null,null,null,null,null,null,1.5,1.5,"lbm/lbm",null,null,null,"We know that we are not accounting for all equipment, so add factor to be conservative."]
[]
["3.6 Estimated mass of steel in surface processing facilities",null,null,null,null,null,null,null,null,null,null,null,{"$f":"(M285+M321+M374+M455+M479+M491)*M495","v":291774.99134573957},null,"lb per field"]
[]
[]
[]
["4  Ancillary structures and construction"]
[]
["4.1 Crude oil and produced water storage"]
[null,"4.1.1 API Standard 12F storage tank dimensions and steel thickness"]
[null,"Capacity (bbl)","Height (ft)","Outside diameter (ft)","Top/bottom thickness (in)","Shell thickness (in)","Steel weight per area (lb/ft2)","Steel weight per area (lb/ft2)","Area of tank (ft2)","Weight of tank (lb)"]
[null,100,8,9.5,0.25,0.25,10.199999999999999,10.199999999999999,{"$f":"2*PI()*(D506/2)^2+PI()*D506*C506","v":380.52541016606369},{"$f":"I506*H506","v":3881.3591836938494}]
[null,200,10,12,0.25,0.25,10.199999999999999,10.199999999999999,603.18578948924028,6152.4950527902502]
[null,300,15,12,0.25,0.25,10.199999999999999,10.199999999999999,791.68134870462791,8075.1497567872038]
[null,400,20,12,0.25,0.25,10.199999999999999,10.199999999999999,980.17690792001542,9997.8044607841566]
[null,500,25,12,0.25,0.25,10.199999999999999,10.199999999999999,1168.6724671354029,11920.459164781108]
[null,750,24,15.5,0.25,0.25,10.199999999999999,10.199999999999999,1546.056284647877,15769.774103408345]
[null,"Notes:"]
[null,"Data from API std. 12F, Table 1, for oilfield storage tanks (low pressure). Larger producing fields would use purpose built large tanks"]
[]
[null,"4.1.2 Number of days of storage required",null,null,null,null,null,null,null,null,null,null,"User","Default","Units",null,"User reference",null,"Default reference"]
[null,null,"4.1.2.1 Oil storage desired",null,null,null,null,null,null,null,null,null,2,2,"days"]
[null,null,"4.1.2.2 Produced water storage desired",null,null,null,null,null,null,null,null,null,0,0,"days"]
[null,"4.1.3 Volume of storage required"]
[null,null,"4.1.3.1 Oil storage volume required",null,null,null,null,null,null,null,null,null,3000,3000,"bbl oil"]
[null,null,"4.1.3.2 Water storage volume required",null,null,null,null,null,null,null,null,null,0,0,"bbl water"]
[null,"4.1.3 Number of tanks required"]
[null,null,"4.1.3.1 Oil tanks required",null,null,null,null,null,null,null,null,null,{"$f":"M519/B511","v":4},{"$f":"N519/B511","v":4},"tanks",null,"Assume that the largest tanks are used by default"]
[null,null,"4.1.3.2 Water tanks required",null,null,null,null,null,null,null,null,null,{"$f":"M520/B511","v":0},{"$f":"N520/B511","v":0},"tanks",null,"Assume that the largest tanks are used by default"]
[null,"4.1.4 Mass of steel tanks required",null,null,null,null,null,null,null,null,null,null,{"$f":"(M522+M523)*J511","v":63079.096413633379},{"$f":"(N522+N523)*J511","v":63079.096413633379},"lb steel per field"]
[]
[]
[]
[]
["5  Crude oil transport infrastructure"]
[]
["5.1 Large diameter crude transmission pipeline infrastructure"]
[null,"5.1.1 Large diameter pipeline characteristics"]
[null,null,"STD",null,"XH"]
[null,"Nominal diam (in)","Wall thickness (in.)","Weight (lb/ft)","Wall thickness (in.)","Weight (lbm/ft)"]
[null,12,0.375,49.56,0.5,65.42,"Notes:"]
[null,16,0.375,62.58,0.5,82.77,"Values from Arnold (2006), Editor L. Lake, Table 9.7"]
[null,20,0.375,78.599999999999994,0.5,104.1,"Thicknessed given by ANSI pipe schedules. By default, two of the most commonly available schedules are used. See Table 9.7 for other thicknesses."]
[null,24,0.375,94.62,0.5,125.5,"Other thicknesses can be entered by hand below if desired"]
[null,28,0.375,110.6,0.5,146.80000000000001]
[null,32,0.375,126.7,0.5,168.2]
[null,36,0.375,142.69999999999999,0.5,189.6]
[null,42,0.375,166.7,0.5,221.6]
[null,48,0.375,190.7,0.5,253.6]
[]
[null,"Because we do not know the type of pipeline network that crude will be transported over, we compute the steel intensity of crude transport for the entire US pipeline system",null,null,null,null,null,null,null,null,null,null,"User","Default","Units",null,"User reference",null,"Default reference",null,null,"Notes"]
[null,"5.1.2 Petroleum pipeline length in USA",null,null,null,null,null,null,null,null,null,null,240000,240000,"km",null,null,null,"From CIA World Factbook, for 2013",null,null,"For petroleum product pipelines"]
[null,"5.1.3 Average pipeline nominal diameter",null,null,null,null,null,null,null,null,null,null,24,24,"in"]
[null,"5.1.4 Pipeline thickness (1 = STD, 2 = XH)",null,null,null,null,null,null,null,null,null,null,1,1,"[-]"]
[null,"5.1.3 Assumed average pipe specific weight",null,null,null,null,null,null,null,null,null,null,{"$f":"VLOOKUP(M547,B535:F543,IF(M548=1,3,IF(M548=2,5,\"ERROR\")))","v":94.62},{"$f":"VLOOKUP(N547,B535:F543,IF(N548=1,3,IF(N548=2,5,\"ERROR\")))","v":94.62},"lb/ft",null,null,null,null,null,null,"See above for source."]
[null,"5.1.4 Mass of US pipeline system (only pipe)",null,null,null,null,null,null,null,null,null,null,{"$f":"M546*1000*3.28*M549","v":74484864000},{"$f":"N546*1000*3.28*N549","v":74484864000},"lb"]
[null,"5.1.5 Mass of ancillary steel (supports, reinforcement, casing and trenching)",null,null,null,null,null,null,null,null,null,null,{"$f":"M550*0.5","v":37242432000},{"$f":"N550*0.5","v":37242432000},"lb",null,null,null,null,null,null,"Assume additional steel is equal to 0.75 times the mass of the pipe"]
[null,"5.1.6 Crude oil transported (only raw produced crude, not products or imports)",null,null,null,null,null,null,null,null,null,null,10,10,"MMbbl/d",null,null,null,null,null,null,"Assume average production over life of US infrastructure of 10 MMbbl/d"]
[null,"5.1.7 Life of current pipeline infrastructure",null,null,null,null,null,null,null,null,null,null,30,30,"years",null,null,null,null,null,null,"Assume pipe last 30 years"]
[null,"5.1.8 Total crude transported over pipeline system life",null,null,null,null,null,null,null,null,null,null,{"$f":"M552*365*M553","v":109500},{"$f":"N552*365*N553","v":109500},"MMbbl/pipe life",null,null,null,null,null,null,"Use average crude oil energy density"]
[null,"5.1.9 Energy content of crude transported over pipeline system life",null,null,null,null,null,null,null,null,null,null,{"$f":"M554/(M551/1000000)","v":2.9401946682751543},{"$f":"N554/(N551/1000000)","v":2.9401946682751543},"bbl oil transported/lb of steel"]
[null,"5.1.10 Mass of steel required per to support transport of produced crude",null,null,null,null,null,null,null,null,null,null,{"$f":"'Drilling & Development'!M104/M555","v":2176726.6191780823},{"$f":"'Drilling & Development'!M104/N555","v":2176726.6191780823},"lb steel per field"]
[null,"5.1.11 Mass of steel required to support modeled field"]
[]
[]
["5.2 Small diameter crude gathering system infrastructure"]
[null,"5.2.1 Small diameter pipeline characteristics"]
[null,null,"STD",null,"XH"]
[null,"Nominal diam (in)","Wall thickness (in.)","Weight (lb/ft)","Wall thickness (in.)","Weight (lbm/ft)"]
[null,1,0.13300000000000001,1.679,0.17899999999999999,2.1720000000000002,"Notes:"]
[null,1.5,0.14499999999999999,2.718,0.2,3.6309999999999998,"Values from Arnold (2006), Editor L. Lake, Table 9.7"]
[null,2,0.154,3.653,0.218,5.0199999999999996,"Thicknessed given by ANSI pipe schedules. By default, two of the most commonly available schedules are used. See Table 9.7 for other thicknesses."]
[null,3,0.216,7.5759999999999996,0.3,10.25]
[null,4,0.23699999999999999,10.79,0.33700000000000002,14.98]
[null,5,0.25800000000000001,14.62,0.375,20.78]
[null,6,0.28000000000000003,18.97,0.432,28.57]
[null,8,0.33200000000000002,28.55,0.5,43.39]
[null,10,0.36499999999999999,40.479999999999997,0.5,54.74]
[]
[null,null,null,null,null,null,null,null,null,null,null,null,"User","Default","Units",null,"User reference",null,"Default reference"]
[null,"5.2.2. Pipeline thickness (1 = STD, 2 = XH)",null,null,null,null,null,null,null,null,null,null,1,1,"[-]"]
[null,"5.2.2 Average distance of gathering line per well",null,null,null,null,null,null,null,null,null,null,{"$f":"2.3*1000*3.28*0.5","v":3772},{"$f":"2.3*1000*3.28*0.5","v":3772},"ft",null,null,null,"Beath et al. (2014) Appendix C suggests average of 2.3 km per well. We think this is likely longer than average."]
[null,"5.2.3 Average diameter of gathering line",null,null,null,null,null,null,null,null,null,null,2,2,"in",null,null,null,"Beath et al. (2014) Appendix C"]
[null,null,null,null,null,null,null,null,null,null,null,null,{"$f":"VLOOKUP(M577,B564:F572,IF(M575=1,3,IF(M575=2,5,\"ERROR\")),TRUE)*M576","v":13779.116},{"$f":"VLOOKUP(N577,B564:F572,IF(N575=1,3,IF(N575=2,5,\"ERROR\")),TRUE)*N576","v":13779.116},"lb steel per well"]
[null,"5.2.5 Gathering system steel requirements per well",null,null,null,null,null,null,null,null,null,null,{"$f":"M578*('Active Field'!J64+'Active Field'!J65)","v":179128.508},{"$f":"N578*('Active Field'!J64+'Active Field'!J65)","v":179128.508},"lb steel per field"]
[]
[]
[]
[]
[]
["6  Shipment of oilfield material goods"]
[]
["6.1 Input material requirements",null,null,null,null,null,null,null,null,null,null,null,"User",null,"Units",null,"User reference",null,"Default reference",null,null,"Notes"]
[null,"6.1.1 Total steel requirements",null,null,null,null,null,null,null,null,null,null,{"$f":"M128+M129+M497+M524+M556+M579","v":6447897.214937455},null,"lb steel"]
[null,"6.1.2 Total cement requirements",null,null,null,null,null,null,null,null,null,null,{"$f":"(M218+M219+M631)*IF(M33=1,C156,IF(M33=2,D156,IF(M33=3,E156,IF(M33=4,F156,\"ERROR\"))))","v":2481948.6552510196},null,"lb cement"]
[null,"6.1.3 Total drilling mud requirements",null,null,null,null,null,null,null,null,null,null,{"$f":"M242","v":5429725.3219611133},null,"lb drilling mud"]
[null,"6.1.4 Total fracturing sand requirements",null,null,null,null,null,null,null,null,null,null,{"$f":"IF(M251=1,M255,IF(M251=0,0,\"ERROR\"))","v":0},null,"lb sand"]
[null,"6.1.5 Total fracturing water requirements",null,null,null,null,null,null,null,null,null,null,{"$f":"8.3436*IF(M251=1,M252,IF(M251=0,0,\"ERROR\"))","v":0},null,"lb fracturing water"]
[]
["6.2 Shipment distances"]
[null,"6.2.1 Shipment distance for steel",null,null,null,null,null,null,null,null,null,null,1000,null,"mi"]
[null,"6.2.2 Shipment distance for cement",null,null,null,null,null,null,null,null,null,null,100,null,"mi"]
[null,"6.2.3 Shipment distance for drilling mud",null,null,null,null,null,null,null,null,null,null,1000,null,"mi"]
[null,"6.2.4 Shipment distance for fracturing sand",null,null,null,null,null,null,null,null,null,null,1000,null,"mi"]
[null,"6.2.5 Shipment distance for fracturing water",null,null,null,null,null,null,null,null,null,null,100,null,"mi"]
[]
["6.3 Shipment modes (1=truck, 2=rail)"]
[null,"6.3.1 Shipment mode for steel",null,null,null,null,null,null,null,null,null,null,2,null,"-"]
[null,"6.3.2 Shipment mode for cement",null,null,null,null,null,null,null,null,null,null,1,null,"-"]
[null,"6.3.3 Shipment mode for drilling mud",null,null,null,null,null,null,null,null,null,null,2,null,"-"]
[null,"6.3.4 Shipment mode for fracturing sand",null,null,null,null,null,null,null,null,null,null,2,null,"-"]
[null,"6.3.5 Shipment mode for fracturing water",null,null,null,null,null,null,null,null,null,null,1,null,"-"]
[]
["6.4 Shipment energy"]
[null,"6.4.1 Shipment energy for steel",null,null,null,null,null,null,null,null,null,null,{"$f":"M588/2000*M595*IF(M602=1,Transport!M94,IF(M602=2,Transport!M93,\"ERROR\"))/1000000","v":1192.8609847634291},null,"MMBtu"]
[null,"6.4.2 Shipment energy for cement",null,null,null,null,null,null,null,null,null,null,{"$f":"M589/2000*M596*IF(M603=1,Transport!M94,IF(M603=2,Transport!M93,\"ERROR\"))/1000000","v":120.2504123469119},null,"MMBtu"]
[null,"6.4.3 Shipment energy for drilling mud",null,null,null,null,null,null,null,null,null,null,{"$f":"M590/2000*M597*IF(M604=1,Transport!M94,IF(M604=2,Transport!M93,\"ERROR\"))/1000000","v":1004.499184562806},null,"mmbtu"]
[null,"6.4.4 Shipment energy for fracturing sand",null,null,null,null,null,null,null,null,null,null,{"$f":"M591/2000*M598*IF(M605=1,Transport!M94,IF(M605=2,Transport!M93,\"ERROR\"))/1000000","v":0},null,"MMBtu"]
[null,"6.4.5 Shipment energy for fracturing water",null,null,null,null,null,null,null,null,null,null,{"$f":"M592/2000*M599*IF(M606=1,Transport!M94,IF(M606=2,Transport!M93,\"ERROR\"))/1000000","v":0},null,"MMBtu"]
[]
["6.5 Shipment emissions"]
[null,"6.4.1 Shipment emissions for steel",null,null,null,null,null,null,null,null,null,null,{"$f":"M609*IF(M602=1,'Emissions Factors'!$M$28,IF(M602=2,'Emissions Factors'!$I$28,\"ERROR\"))","v":94223525.21245116},null,"gCO2"]
[null,"6.4.2 Shipment emissions for cement",null,null,null,null,null,null,null,null,null,null,{"$f":"M610*IF(M603=1,'Emissions Factors'!$M$28,IF(M603=2,'Emissions Factors'!$I$28,\"ERROR\"))","v":9457851.0468751024},null,"gCO2"]
[null,"6.4.3 Shipment emissions for drilling mud",null,null,null,null,null,null,null,null,null,null,{"$f":"M611*IF(M604=1,'Emissions Factors'!$M$28,IF(M604=2,'Emissions Factors'!$I$28,\"ERROR\"))","v":79344915.670379549},null,"gCO2"]
[null,"6.4.3 Shipment emissions for fracturing sand",null,null,null,null,null,null,null,null,null,null,{"$f":"M612*IF(M605=1,'Emissions Factors'!$M$28,IF(M605=2,'Emissions Factors'!$I$28,\"ERROR\"))","v":0},null,"gCO2"]
[null,"6.4.4 Shipment emissions for fracturing water",null,null,null,null,null,null,null,null,null,null,{"$f":"M613*IF(M606=1,'Emissions Factors'!$M$28,IF(M606=2,'Emissions Factors'!$I$28,\"ERROR\"))","v":0},null,"gCO2"]
[]
[]
[]
["7 Oilfield abandonment"]
[]
["7.1 Abandonment design",null,null,null,null,null,null,null,null,null,null,null,"User","Default","Units",null,"User reference",null,"Default reference"]
[null,"7.1.1 Number of wellbore plugs needed for abandonment",null,null,null,null,null,null,null,null,null,null,4,4,"Plugs",null,null,null,"Benediktus, 2009, p. 11"]
[null,"7.1.2 Length of wellbore plugs",null,null,null,null,null,null,null,null,null,null,{"$f":"N628","v":321},{"$f":"100*3.21","v":321},"ft",null,null,null,"Benediktus, 2009, p. 11"]
[null,"7.1.3 Diameter of wellbore plugs",null,null,null,null,null,null,null,null,null,null,{"$f":"N629","v":7},{"$f":"IF(M31=1,I65,IF(M31=2,F65,IF(M31=3,C65,IF(M31=0,L65,\"ERROR\"))))","v":7},"in"]
[null,"7.1.4 Volume of wellbore plugs",null,null,null,null,null,null,null,null,null,null,{"$f":"N630","v":85.788386889433781},{"$f":"(PI()*(N629/2/12)^2)*N628","v":85.788386889433781},"ft3"]
[null,"7.1.5 Weight of wellbore plugs",null,null,null,null,null,null,null,null,null,null,{"$f":"N631","v":9290.1922262865046},{"$f":"N630*D156","v":9290.1922262865046},"lb"]
[]
[]
["8 Summary results"]
[]
["8.1 Input material requirements (mixed units)",null,null,null,null,null,null,null,null,null,null,null,"User",null,"Units",null,"User reference",null,"Default reference",null,null,"Notes"]
[null,"8.1.1 Total steel requirements",null,null,null,null,null,null,null,null,null,null,{"$f":"M128+M129+M497+M524+M556+M579","v":6447897.214937455},null,"lb steel per field"]
[null,"8.1.2 Total cement requirements",null,null,null,null,null,null,null,null,null,null,{"$f":"M218+M219+M630","v":13714.64522763113},null,"ft3 cement per field"]
[null,"8.1.3 Total drilling mud requirements",null,null,null,null,null,null,null,null,null,null,{"$f":"M242","v":5429725.3219611133},null,"lb drilling mud per field"]
[null,"8.1.4 Total fracturing sand requirements",null,null,null,null,null,null,null,null,null,null,{"$f":"IF(M251=1,M255,IF(M251=0,0,\"ERROR\"))","v":0},null,"lb sand per field"]
[null,"8.1.5 Total fracturing water requirements",null,null,null,null,null,null,null,null,null,null,{"$f":"IF(M251=1,M252,IF(M251=0,0,\"ERROR\"))","v":0},null,"gallon fracturing water per field"]
[]
["8.2 Emissions from materials"]
[null,"8.2.1 Emissions from steel",null,null,null,null,null,null,null,null,null,null,{"$f":"M637*C19","v":8038967154.1755686},null,"gCO2 per field"]
[null,"8.2.2 Emissions from cement",null,null,null,null,null,null,null,null,null,null,{"$f":"M638*IF(M33=1,C163,IF(M33=2,D163,IF(M33=3,E163,IF(M33=4,F163,\"ERROR\"))))","v":501788608.50878382},null,"gCO2 per field"]
[null,"8.2.3 Emissions from drilling mud",null,null,null,null,null,null,null,null,null,null,{"$f":"M244*C15+M245*C14+M246*C16","v":303289910.67286485},null,"gCO2 per field"]
[null,"8.2.3 Emissions from fracturing sand",null,null,null,null,null,null,null,null,null,null,{"$f":"M640*C18","v":0},null,"gCO2 per field"]
[null,"8.2.4 Emissions from fracturing water",null,null,null,null,null,null,null,null,null,null,{"$f":"M641*0","v":0},null,"gCO2 per field",null,null,null,null,null,null,"No data on embodied emissions in water from GREET model."]
[null,"8.2.5 Emissions from transporting materials",null,null,null,null,null,null,null,null,null,null,{"$f":"SUM(M616:M620)","v":183026291.9297058},null,"gCO2 per field"]
[]
["8.3 Total embodied emissions"]
[null,"8.3.1 Emissions per bbl of crude oil",null,null,null,null,null,null,null,null,null,null,{"$f":"SUM(M644:M649)/'Drilling & Development'!M104","v":1410.4799945760819},null,"gCO2/bbl"]
[null,"8.3.2 Emissions per MJ of crude oil",null,null,null,null,null,null,null,null,null,null,{"$f":"SUM(M644:M649)/'Drilling & Development'!M106/'Input Data'!E46","v":0.24242637774313991},null,"gCO2/MJ"]
[]
["8.4 Energy use in materials"]
[null,"8.4.1 Energy use from steel",null,null,null,null,null,null,null,null,null,null,{"$f":"M637*D19","v":76940.959218142569},null,"MMBtu per field"]
[null,"8.4.2 Energy use from cement",null,null,null,null,null,null,null,null,null,null,{"$f":"M638*IF(M33=1,C165,IF(M33=2,D165,IF(M33=3,E165,IF(M33=4,F165,\"ERROR\"))))","v":2128.940230074184},null,"MMBtu per field"]
[null,"8.4.3 Energy use from drilling mud",null,null,null,null,null,null,null,null,null,null,{"$f":"M244*D15+M245*D14","v":3467.9333771338133},null,"MMBtu per field"]
[null,"8.4.3 Energy use from fracturing sand",null,null,null,null,null,null,null,null,null,null,{"$f":"M640*D18","v":0},null,"MMBtu per field"]
[null,"8.4.4 Energy use from fracturing water",null,null,null,null,null,null,null,null,null,null,{"$f":"M641*0","v":0},null,"MMBtu per field"]
[null,"8.4.5 Energy use in transporting materials",null,null,null,null,null,null,null,null,null,null,{"$f":"SUM(M609:M613)","v":2317.610581673147},null,"MMBtu per field"]
[]
["8.5 Total embodied energy"]
[null,"8.5.1 Energy per bbl of crude oil",null,null,null,null,null,null,null,null,null,null,{"$f":"SUM(M656:M661)/'Drilling & Development'!M104","v":1.3258663032347453E-2},null,"MMBtu/bbl"]
[null,"8.5.1 Energy per unit of crude oil energy content",null,null,null,null,null,null,null,null,null,null,{"$f":"SUM(M656:M661)/'Drilling & Development'!M106","v":2.4042837254465337E-3},null,"MMBtu/MMBtu"]

{"sheet":"Compressors","index":25,"n_rows":177,"n_cols":12,"rows_kept":177,"cut":false,"hidden":false,"merged":[[5,0,5,11],[58,0,58,11],[7,0,7,11],[98,0,98,11],[137,0,137,11],[135,0,135,11]]}
["Supplemental worksheet: Compressors",null,null,null,null,null,null,"Active field:",null,{"$f":"'Active Field'!C9","v":"Generic"}]
[]
["This supplemental worksheet performs calculations to determine the energy consumption of compressors in the \"Production & Extraction\" and \"Surface Processing\" worksheets"]
[]
[]
["\"Production & Extraction\" Worksheet Compressors"]
[]
["Gas Reinjection and Gas Lifting Compressor "]
[]
[]
[]
["Pseudocritical Properties Calculator (Stewart, Burkhardt, Voo, 1959)"]
[null,"Tc","Pc","Share of Composition","Constant J Term 1 (At Bottom)","Constant J Term 2 (At Bottom)","Constant J","Constant K (At Bottom)","Tpc","Ppc"]
[null,"Rankine","PSIA","% Molar","Σyj(Tc/Pc)j","Σyj[(Tc/Pc)j^0.5]","(1/3)(Term1) + (2/3)(Term2^2)","Σyj(Tc/Pc^0.5)j","K^2/J","Tpc/J"]
["N2",{"$f":"'Input Data'!C121","v":227.5},{"$f":"'Input Data'!D121","v":493.1},{"$f":"IF(OR('Active Field'!$J$116=1,'Active Field'!$J$116=2,'Active Field'!$J$116=3,'Active Field'!$J$116=4,'Active Field'!$J$116=5),'Gas Balance'!CA23,IF('Active Field'!$J$116=6,'Gas Balance'!CG73,IF('Active Field'!$J$116=7,'Gas Balance'!DT107,IF('Active Field'!$J$116=8,'Gas Balance'!BB224,\"NA\"))))","v":2.3724573054634641},{"$f":"(D15/100)*(B15/C15)","v":1.0945731839240276E-2},{"$f":"(D15/100)*(B15/C15)^0.5","v":1.6114676995102831E-2},{"$f":"(1/3)*E22+(2/3)*F22^2","v":0.51496947924477821},{"$f":"($D$15/100)*($B$15/$C$15^0.5)","v":0.24305933500763333},{"$f":"($H$22^2)/$G$15","v":341.41847352939129},{"$f":"$I$15/$G$15","v":662.98778333444943}]
["CO2",{"$f":"'Input Data'!C122","v":547.9},{"$f":"'Input Data'!D122","v":1071},{"$f":"IF(OR('Active Field'!$J$116=1,'Active Field'!$J$116=2,'Active Field'!$J$116=3,'Active Field'!$J$116=4,'Active Field'!$J$116=5),'Gas Balance'!CA24,IF('Active Field'!$J$116=6,'Gas Balance'!CG74,IF('Active Field'!$J$116=7,'Gas Balance'!DT108,IF('Active Field'!$J$116=8,'Gas Balance'!BB225,\"NA\"))))","v":0},{"$f":"($D$16/100)*($B$16/$C$16)","v":0},{"$f":"($D$16/100)*($B$16/$C$16)^0.5","v":0},null,{"$f":"($D$16/100)*($B$16/$C$16^0.5)","v":0}]
["C1",{"$f":"'Input Data'!C123","v":343.3},{"$f":"'Input Data'!D123","v":666.4},{"$f":"IF(OR('Active Field'!$J$116=1,'Active Field'!$J$116=2,'Active Field'!$J$116=3,'Active Field'!$J$116=4,'Active Field'!$J$116=5),'Gas Balance'!CA25,IF('Active Field'!$J$116=6,'Gas Balance'!CG75,IF('Active Field'!$J$116=7,'Gas Balance'!DT109,IF('Active Field'!$J$116=8,'Gas Balance'!BB226,\"NA\"))))","v":97.17354422277235},{"$f":"($D$17/100)*($B$17/$C$17)","v":0.50059540413682091},{"$f":"($D$17/100)*($B$17/$C$17)^0.5","v":0.69745702119633124},null,{"$f":"($D$17/100)*($B$17/$C$17^0.5)","v":12.922732433956579}]
["C2",{"$f":"'Input Data'!C124","v":549.9},{"$f":"'Input Data'!D124","v":706.5},{"$f":"IF(OR('Active Field'!$J$116=1,'Active Field'!$J$116=2,'Active Field'!$J$116=3,'Active Field'!$J$116=4,'Active Field'!$J$116=5),'Gas Balance'!CA26,IF('Active Field'!$J$116=6,'Gas Balance'!CG76,IF('Active Field'!$J$116=7,'Gas Balance'!DT110,IF('Active Field'!$J$116=8,'Gas Balance'!BB227,\"NA\"))))","v":0.45399847176418373},{"$f":"($D$18/100)*($B$18/$C$18)","v":3.5336696337314169E-3},{"$f":"($D$18/100)*($B$18/$C$18)^0.5","v":4.0053471927331916E-3},null,{"$f":"($D$18/100)*($B$18/$C$18^0.5)","v":9.3925178164702888E-2}]
["C3",{"$f":"'Input Data'!C125","v":666.1},{"$f":"'Input Data'!D125","v":616},{"$f":"IF(OR('Active Field'!$J$116=1,'Active Field'!$J$116=2,'Active Field'!$J$116=3,'Active Field'!$J$116=4,'Active Field'!$J$116=5),'Gas Balance'!CA27,IF('Active Field'!$J$116=6,'Gas Balance'!CG77,IF('Active Field'!$J$116=7,'Gas Balance'!DT111,IF('Active Field'!$J$116=8,'Gas Balance'!BB228,\"NA\"))))","v":0},{"$f":"($D$19/100)*($B$19/$C$19)","v":0},{"$f":"($D$19/100)*($B$19/$C$19)^0.5","v":0},null,{"$f":"($D$19/100)*($B$19/$C$19^0.5)","v":0}]
["C4",{"$f":"'Input Data'!C126","v":765.6},{"$f":"'Input Data'!D126","v":550.6},{"$f":"IF(OR('Active Field'!$J$116=1,'Active Field'!$J$116=2,'Active Field'!$J$116=3,'Active Field'!$J$116=4,'Active Field'!$J$116=5),'Gas Balance'!CA28,IF('Active Field'!$J$116=6,'Gas Balance'!CG78,IF('Active Field'!$J$116=7,'Gas Balance'!DT112,IF('Active Field'!$J$116=8,'Gas Balance'!BB229,\"NA\"))))","v":0},{"$f":"($D$20/100)*($B$20/$C$20)","v":0},{"$f":"($D$20/100)*($B$20/$C$20)^0.5","v":0},null,{"$f":"($D$20/100)*($B$20/$C$20^0.5)","v":0}]
["H2S",{"$f":"'Input Data'!C127","v":672.4},{"$f":"'Input Data'!D127","v":1300},{"$f":"IF(OR('Active Field'!$J$116=1,'Active Field'!$J$116=2,'Active Field'!$J$116=3,'Active Field'!$J$116=4,'Active Field'!$J$116=5),'Gas Balance'!CA29,IF('Active Field'!$J$116=6,'Gas Balance'!CG79,IF('Active Field'!$J$116=7,'Gas Balance'!DT113,IF('Active Field'!$J$116=8,'Gas Balance'!BB230,\"NA\"))))","v":0},{"$f":"($D$21/100)*($B$21/$C$21)","v":0},{"$f":"($D$21/100)*($B$21/$C$21)^0.5","v":0},null,{"$f":"($D$21/100)*($B$21/$C$21^0.5)","v":0}]
[null,null,null,null,{"$f":"SUM($E$15:$E$21)","v":0.51507480560979257},{"$f":"SUM($F$15:$F$21)","v":0.71757704538416722},null,{"$f":"SUM($H$15:$H$21)","v":13.259716947128915}]
[]
[]
["Acid Gas Correction Factor  (Wichert and Aziz, 1972)"]
["Factor","Value"]
["CO2+H2S",{"$f":"IF(OR('Active Field'!$J$116=1, 'Active Field'!$J$116=2, 'Active Field'!$J$116=3, 'Active Field'!$J$116=4, 'Active Field'!$J$116=5), ('Gas Balance'!CA24+'Gas Balance'!CA29)/100, IF('Active Field'!$J$116=6, ('Gas Balance'!CG74+'Gas Balance'!CG79)/100,IF('Active Field'!$J$116=7,('Gas Balance'!DT108+'Gas Balance'!DT113)/100, IF('Active Field'!$J$116=8, ('Gas Balance'!BB225+'Gas Balance'!BB230)/100, \"NA\"))))","v":0},"Mole Fraction"]
["H2S",{"$f":"IF(OR('Active Field'!$J$116=1, 'Active Field'!$J$116=2, 'Active Field'!$J$116=3, 'Active Field'!$J$116=4, 'Active Field'!$J$116=5), 'Gas Balance'!CA29/100,IF('Active Field'!$J$116=6,'Gas Balance'!CG79/100,IF('Active Field'!$J$116=7, 'Gas Balance'!DT113/100, IF('Active Field'!$J$116=7, 'Gas Balance'!BB230/100, \"NA\"))))","v":0},"Mole Percentage"]
["ε",{"$f":"120*(B27^0.9 - B27^1.6) + 15*(B28^0.5 - B28^4)","v":0},"Rankine"]
[]
["Corrected Pseudocritical Temperature"]
["Original Tpc",{"$f":"$I$15","v":341.41847352939129},"Rankine"]
["Corrected T'pc",{"$f":"$B$32-$B$29","v":341.41847352939129},"Rankine"]
[]
["Corrected Pseudocritical Pressure"]
["Original Ppc",{"$f":"$J$15","v":662.98778333444943},"psi"]
["Corrected P'pc",{"$f":"($B$36*($B$32 - $B$29)) / ($B$32 + $B$28*(1 - $B$28)*$B$29)","v":662.98778333444943},"psi"]
[]
[]
[]
["Z Factors (Standing (1977) modification of the Beggs and Brill (1974) correlation of Standing and Katz (1942)) and temperature, pressure, and adiabatic work calculations for gas reinjection compressor"]
[" Stage","Inlet Temperature (°F)","Inlet Temperature (°R)","Inlet Pressure (PSI)","Inlet Reduced Temperature ","Inlet Reduced Pressure ","Constant A ","Constant B","Constant C","Constant D","Inlet Z Factor","Adiabatic Work of Compression"]
["First  ",{"$f":"$C$43-460","v":196.70000000000005},{"$f":"'Production & Extraction'!$M$79+460","v":656.7},{"$f":"'Production & Extraction'!$M$77","v":125},{"$f":"$C$43/$B$33","v":1.9234460080950115},{"$f":"$D$43/$B$37","v":0.18854042735345963},{"$f":"1.39*($E$43 - 0.92)^0.5 - 0.36*$E$43 - 0.101","v":0.59895235298287552},{"$f":"$F$43*(0.62 - 0.23*$E$43) + $F$43^2*(0.066/($E$43 - 0.86) - 0.037) + 0.32*$F$43^6/(10^(9*$E$43-9))","v":3.4377083613690823E-2},{"$f":"0.132 - 0.32*LOG($E$43)","v":4.1094400002331083E-2},{"$f":"10^(0.3106 - 0.49*$E$43 + 0.1824*$E$43^2)","v":1.1038920895960165},{"$f":"$G$43 + (1 - $G$43)*EXP(-1*$H$43) + $I$43*$F$43^$J$43","v":0.99296232952037233},{"$f":"IF('Production & Extraction'!$M$16=1, ('Production & Extraction'!$M$80/('Production & Extraction'!$M$80-1))*(3.027*14.7/(60+460))*($C$43)*(('Production & Extraction'!$M$196^$K$43)^(('Production & Extraction'!$M$80-1)/'Production & Extraction'!$M$80)-1), \"NA\")","v":91.585851151023675}]
["Second ",{"$f":"IF(AND('Production & Extraction'!$M$16=1, 'Production & Extraction'!$M$197>1), $C$44-460, \"NA\")","v":243.52524206598196},{"$f":"IF(AND('Production & Extraction'!$M$16=1, 'Production & Extraction'!$M$197>1), (((($C$43)*('Production & Extraction'!$M$196^($K$43*('Production & Extraction'!$M$80-1)/'Production & Extraction'!$M$80))))-$C$43)*0.2+$C$43, \"NA\")","v":703.52524206598196},{"$f":"IF(AND('Production & Extraction'!$M$16=1, 'Production & Extraction'!$M$197>1), 'Production & Extraction'!$M$77*'Production & Extraction'!$M$196, \"NA\")","v":508.8344524499102},{"$f":"IF(AND('Production & Extraction'!$M$16=1, 'Production & Extraction'!$M$197>1), $C$44/$B$33, \"NA\")","v":2.0605951247843604},{"$f":"IF(AND('Production & Extraction'!$M$16=1, 'Production & Extraction'!$M$197>1), $D$44/$B$37, \"NA\")","v":0.76748692093655768},{"$f":"IF(AND('Production & Extraction'!$M$16=1, 'Production & Extraction'!$M$197>1), 1.39*($E$44 - 0.92)^0.5 - 0.36*$E$44 - 0.101, \"NA\")","v":0.64168696443916629},{"$f":"IF(AND('Production & Extraction'!$M$16=1, 'Production & Extraction'!$M$197>1), $F$44*(0.62 - 0.23*$E$44) + $F$44^2*(0.066/($E$44 - 0.86) - 0.037) + 0.32*$F$44^6/(10^(9*$E$44-9)), \"NA\")","v":0.12268812746382304},{"$f":"IF(AND('Production & Extraction'!$M$16=1, 'Production & Extraction'!$M$197>1), 0.132 - 0.32*LOG($E$44), \"NA\")","v":3.1522346245646177E-2},{"$f":"IF(AND('Production & Extraction'!$M$16=1, 'Production & Extraction'!$M$197>1), 10^(0.3106 - 0.49*$E$44 + 0.1824*$E$44^2), \"NA\")","v":1.1895653969661115},{"$f":"IF(AND('Production & Extraction'!$M$16=1, 'Production & Extraction'!$M$197>1), $G$44 + (1 - $G$44)*EXP(-1*$H$44) + $I$44*$F$44^$J$44, \"NA\")","v":0.98163826771173324},{"$f":"IF(AND('Production & Extraction'!$M$16=1, 'Production & Extraction'!$M$197>1), ('Production & Extraction'!$M$80/('Production & Extraction'!$M$80-1))*(3.027*14.7/(60+460))*($C$44)*(('Production & Extraction'!$M$196^$K$44)^(('Production & Extraction'!$M$80-1)/'Production & Extraction'!$M$80)-1), \"NA\")","v":96.820327933306629}]
["Third ",{"$f":"IF(AND('Production & Extraction'!$M$16=1, 'Production & Extraction'!$M$197>2), $C$45-460, \"NA\")","v":"NA"},{"$f":"IF(AND('Production & Extraction'!$M$16=1, 'Production & Extraction'!$M$197>2), (((($C$44)*('Production & Extraction'!$M$196^($K$44*('Production & Extraction'!$M$80-1)/'Production & Extraction'!$M$80))))-$C$44)*0.2+$C$44, \"NA\")","v":"NA"},{"$f":"IF(AND('Production & Extraction'!$M$16=1, 'Production & Extraction'!$M$197>2), 'Production & Extraction'!$M$77*'Production & Extraction'!$M$196^2, \"NA\")","v":"NA"},{"$f":"IF(AND('Production & Extraction'!$M$16=1, 'Production & Extraction'!$M$197>2), $C$45/$B$33, \"NA\")","v":"NA"},{"$f":"IF(AND('Production & Extraction'!$M$16=1, 'Production & Extraction'!$M$197>2), $D$45/$B$37, \"NA\")","v":"NA"},{"$f":"IF(AND('Production & Extraction'!$M$16=1, 'Production & Extraction'!$M$197>2), 1.39*($E$45 - 0.92)^0.5 - 0.36*$E$45 - 0.101, \"NA\")","v":"NA"},{"$f":"IF(AND('Production & Extraction'!$M$16=1, 'Production & Extraction'!$M$197>2), $F$45*(0.62 - 0.23*$E$45) + $F$45^2*(0.066/($E$45 - 0.86) - 0.037) + 0.32*$F$45^6/(10^(9*$E$45-9)), \"NA\")","v":"NA"},{"$f":"IF(AND('Production & Extraction'!$M$16=1, 'Production & Extraction'!$M$197>2), 0.132 - 0.32*LOG($E$45), \"NA\")","v":"NA"},{"$f":"IF(AND('Production & Extraction'!$M$16=1, 'Production & Extraction'!$M$197>2), 10^(0.3106 - 0.49*$E$45 + 0.1824*$E$45^2), \"NA\")","v":"NA"},{"$f":"IF(AND('Production & Extraction'!$M$16=1, 'Production & Extraction'!$M$197>2), $G$45 + (1 - $G$45)*EXP(-1*$H$45) + $I$45*$F$45^$J$45, \"NA\")","v":"NA"},{"$f":"IF(AND('Production & Extraction'!$M$16=1, 'Production & Extraction'!$M$197>2), ('Production & Extraction'!$M$80/('Production & Extraction'!$M$80-1))*(3.027*14.7/(60+460))*($C$45)*(('Production & Extraction'!$M$196^$K$45)^(('Production & Extraction'!$M$80-1)/'Production & Extraction'!$M$80)-1), \"NA\")","v":"NA"}]
["Fourth ",{"$f":"IF(AND('Production & Extraction'!$M$16=1, 'Production & Extraction'!$M$197>3), $C$46-460, \"NA\")","v":"NA"},{"$f":"IF(AND('Production & Extraction'!$M$16=1, 'Production & Extraction'!$M$197>3), (((($C$45)*('Production & Extraction'!$M$196^($K$45*('Production & Extraction'!$M$80-1)/'Production & Extraction'!$M$80))))-$C$45)*0.2+$C$45, \"NA\")","v":"NA"},{"$f":"IF(AND('Production & Extraction'!$M$16=1, 'Production & Extraction'!$M$197>3), 'Production & Extraction'!$M$77*'Production & Extraction'!$M$196^3, \"NA\")","v":"NA"},{"$f":"IF(AND('Production & Extraction'!$M$16=1, 'Production & Extraction'!$M$197>3), $C$46/$B$33, \"NA\")","v":"NA"},{"$f":"IF(AND('Production & Extraction'!$M$16=1, 'Production & Extraction'!$M$197>3), $D$46/$B$37, \"NA\")","v":"NA"},{"$f":"IF(AND('Production & Extraction'!$M$16=1, 'Production & Extraction'!$M$197>3), 1.39*($E$46 - 0.92)^0.5 - 0.36*$E$46 - 0.101, \"NA\")","v":"NA"},{"$f":"IF(AND('Production & Extraction'!$M$16=1, 'Production & Extraction'!$M$197>3), $F$46*(0.62 - 0.23*$E$46) + $F$46^2*(0.066/($E$46 - 0.86) - 0.037) + 0.32*$F$46^6/(10^(9*$E$46-9)), \"NA\")","v":"NA"},{"$f":"IF(AND('Production & Extraction'!$M$16=1, 'Production & Extraction'!$M$197>3), 0.132 - 0.32*LOG($E$46), \"NA\")","v":"NA"},{"$f":"IF(AND('Production & Extraction'!$M$16=1, 'Production & Extraction'!$M$197>3), 10^(0.3106 - 0.49*$E$46 + 0.1824*$E$46^2), \"NA\")","v":"NA"},{"$f":"IF(AND('Production & Extraction'!$M$16=1, 'Production & Extraction'!$M$197>3), $G$46 + (1 - $G$46)*EXP(-1*$H$46) + $I$46*$F$46^$J$46, \"NA\")","v":"NA"},{"$f":"IF(AND('Production & Extraction'!$M$16=1, 'Production & Extraction'!$M$197>3), ('Production & Extraction'!$M$80/('Production & Extraction'!$M$80-1))*(3.027*14.7/(60+460))*($C$46)*(('Production & Extraction'!$M$196^$K$46)^(('Production & Extraction'!$M$80-1)/'Production & Extraction'!$M$80)-1), \"NA\")","v":"NA"}]
["Fifth",{"$f":"IF(AND('Production & Extraction'!$M$16=1, 'Production & Extraction'!$M$197>4), $C$47-460, \"NA\")","v":"NA"},{"$f":"IF(AND('Production & Extraction'!$M$16=1, 'Production & Extraction'!$M$197>4), (((($C$46)*('Production & Extraction'!$M$196^($K$46*('Production & Extraction'!$M$80-1)/'Production & Extraction'!$M$80))))-$C$46)*0.2+$C$46, \"NA\")","v":"NA"},{"$f":"IF(AND('Production & Extraction'!$M$16=1, 'Production & Extraction'!$M$197>4), 'Production & Extraction'!$M$77*'Production & Extraction'!$M$196^4, \"NA\")","v":"NA"},{"$f":"IF(AND('Production & Extraction'!$M$16=1, 'Production & Extraction'!$M$197>4), $C$47/$B$33, \"NA\")","v":"NA"},{"$f":"IF(AND('Production & Extraction'!$M$16=1, 'Production & Extraction'!$M$197>4), $D$47/$B$37, \"NA\")","v":"NA"},{"$f":"IF(AND('Production & Extraction'!$M$16=1, 'Production & Extraction'!$M$197>4), 1.39*($E$47 - 0.92)^0.5 - 0.36*$E$47 - 0.101, \"NA\")","v":"NA"},{"$f":"IF(AND('Production & Extraction'!$M$16=1, 'Production & Extraction'!$M$197>4), $F$47*(0.62 - 0.23*$E$47) + $F$47^2*(0.066/($E$47 - 0.86) - 0.037) + 0.32*$F$47^6/(10^(9*$E$47-9)), \"NA\")","v":"NA"},{"$f":"IF(AND('Production & Extraction'!$M$16=1, 'Production & Extraction'!$M$197>4), 0.132 - 0.32*LOG($E$47), \"NA\")","v":"NA"},{"$f":"IF(AND('Production & Extraction'!$M$16=1, 'Production & Extraction'!$M$197>4), 10^(0.3106 - 0.49*$E$47 + 0.1824*$E$47^2), \"NA\")","v":"NA"},{"$f":"IF(AND('Production & Extraction'!$M$16=1, 'Production & Extraction'!$M$197>4), $G$47 + (1 - $G$47)*EXP(-1*$H$47) + $I$47*$F$47^$J$47, \"NA\")","v":"NA"},{"$f":"IF(AND('Production & Extraction'!$M$16=1, 'Production & Extraction'!$M$197>4), ('Production & Extraction'!$M$80/('Production & Extraction'!$M$80-1))*(3.027*14.7/(60+460))*($C$47)*(('Production & Extraction'!$M$196^$K$47)^(('Production & Extraction'!$M$80-1)/'Production & Extraction'!$M$80)-1), \"NA\")","v":"NA"}]
[]
[]
[]
[" Z Factors (Standing (1977) modification of the Beggs and Brill (1974) correlation of Standing and Katz (1942)) and temperature, pressure, and adiabatic work calculations for gas lifting compressor"]
[" Stage","Inlet Temperature (°F)","Inlet Temperature (°R)","Inlet Pressure (PSI)","Inlet Reduced Temperature ","Inlet Reduced Pressure ","Constant A ","Constant B","Constant C","Constant D","Inlet Z Factor","Adiabatic Work of Compression"]
["First  ",{"$f":"$C$53-460","v":196.70000000000005},{"$f":"'Production & Extraction'!$M$87+460","v":656.7},{"$f":"'Production & Extraction'!$M$85","v":125},{"$f":"$C$53/$B$33","v":1.9234460080950115},{"$f":"$D$53/$B$37","v":0.18854042735345963},{"$f":"1.39*($E$53 - 0.92)^0.5 - 0.36*$E$53 - 0.101","v":0.59895235298287552},{"$f":"$F$53*(0.62 - 0.23*$E$53) + $F$53^2*(0.066/($E$53 - 0.86) - 0.037) + 0.32*$F$53^6/(10^(9*$E$53-9))","v":3.4377083613690823E-2},{"$f":"0.132 - 0.32*LOG($E$53)","v":4.1094400002331083E-2},{"$f":"10^(0.3106 - 0.49*$E$53 + 0.1824*$E$53^2)","v":1.1038920895960165},{"$f":"$G$53 + (1 - $G$53)*EXP(-1*$H$53) + $I$53*$F$53^$J$53","v":0.99296232952037233},{"$f":"IF('Production & Extraction'!$M$18=1, ('Production & Extraction'!$M$88/('Production & Extraction'!$M$88-1))*(3.027*14.7/(60+460))*($C$53)*(('Production & Extraction'!$M$230^$K$53)^(('Production & Extraction'!$M$88-1)/'Production & Extraction'!$M$88)-1), \"NA\")","v":"NA"}]
["Second ",{"$f":"IF(AND('Production & Extraction'!$M$18=1, 'Production & Extraction'!$M$231>1), $C$54-460, \"NA\")","v":"NA"},{"$f":"IF(AND('Production & Extraction'!$M$18=1, 'Production & Extraction'!$M$231>1), (((($C$53)*('Production & Extraction'!$M$230^($K$53*('Production & Extraction'!$M$88-1)/'Production & Extraction'!$M$88))))-$C$53)*0.2+$C$53, \"NA\")","v":"NA"},{"$f":"IF(AND('Production & Extraction'!$M$18=1, 'Production & Extraction'!$M$231>1), 'Production & Extraction'!$M$85*'Production & Extraction'!$M$230, \"NA\")","v":"NA"},{"$f":"IF(AND('Production & Extraction'!$M$18=1, 'Production & Extraction'!$M$231>1), $C$54/$B$33, \"NA\")","v":"NA"},{"$f":"IF(AND('Production & Extraction'!$M$18=1, 'Production & Extraction'!$M$231>1), $D$54/$B$37, \"NA\")","v":"NA"},{"$f":"IF(AND('Production & Extraction'!$M$18=1, 'Production & Extraction'!$M$231>1), 1.39*($E$54 - 0.92)^0.5 - 0.36*$E$54 - 0.101, \"NA\")","v":"NA"},{"$f":"IF(AND('Production & Extraction'!$M$18=1, 'Production & Extraction'!$M$231>1), $F$54*(0.62 - 0.23*$E$54) + $F$54^2*(0.066/($E$54 - 0.86) - 0.037) + 0.32*$F$54^6/(10^(9*$E$54-9)), \"NA\")","v":"NA"},{"$f":"IF(AND('Production & Extraction'!$M$18=1, 'Production & Extraction'!$M$231>1), 0.132 - 0.32*LOG($E$54), \"NA\")","v":"NA"},{"$f":"IF(AND('Production & Extraction'!$M$18=1, 'Production & Extraction'!$M$231>1), 10^(0.3106 - 0.49*$E$54 + 0.1824*$E$54^2), \"NA\")","v":"NA"},{"$f":"IF(AND('Production & Extraction'!$M$18=1, 'Production & Extraction'!$M$231>1), $G$54 + (1 - $G$54)*EXP(-1*$H$54) + $I$54*$F$54^$J$54, \"NA\")","v":"NA"},{"$f":"IF(AND('Production & Extraction'!$M$18=1, 'Production & Extraction'!$M$231>1), ('Production & Extraction'!$M$88/('Production & Extraction'!$M$88-1))*(3.027*14.7/(60+460))*($C$54)*(('Production & Extraction'!$M$230^$K$54)^(('Production & Extraction'!$M$88-1)/'Production & Extraction'!$M$88)-1), \"NA\")","v":"NA"}]
["Third ",{"$f":"IF(AND('Production & Extraction'!$M$18=1, 'Production & Extraction'!$M$231>2), $C$55-460, \"NA\")","v":"NA"},{"$f":"IF(AND('Production & Extraction'!$M$18=1, 'Production & Extraction'!$M$231>2), (((($C$54)*('Production & Extraction'!$M$230^($K$54*('Production & Extraction'!$M$88-1)/'Production & Extraction'!$M$88))))-$C$54)*0.2+$C$54, \"NA\")","v":"NA"},{"$f":"IF(AND('Production & Extraction'!$M$18=1, 'Production & Extraction'!$M$231>2), 'Production & Extraction'!$M$85*'Production & Extraction'!$M$230^2, \"NA\")","v":"NA"},{"$f":"IF(AND('Production & Extraction'!$M$18=1, 'Production & Extraction'!$M$231>2), $C$55/$B$33, \"NA\")","v":"NA"},{"$f":"IF(AND('Production & Extraction'!$M$18=1, 'Production & Extraction'!$M$231>2), $D$55/$B$37, \"NA\")","v":"NA"},{"$f":"IF(AND('Production & Extraction'!$M$18=1, 'Production & Extraction'!$M$231>2), 1.39*($E$55 - 0.92)^0.5 - 0.36*$E$55 - 0.101, \"NA\")","v":"NA"},{"$f":"IF(AND('Production & Extraction'!$M$18=1, 'Production & Extraction'!$M$231>2), $F$55*(0.62 - 0.23*$E$55) + $F$55^2*(0.066/($E$55 - 0.86) - 0.037) + 0.32*$F$55^6/(10^(9*$E$55-9)), \"NA\")","v":"NA"},{"$f":"IF(AND('Production & Extraction'!$M$18=1, 'Production & Extraction'!$M$231>2), 0.132 - 0.32*LOG($E$55), \"NA\")","v":"NA"},{"$f":"IF(AND('Production & Extraction'!$M$18=1, 'Production & Extraction'!$M$231>2), 10^(0.3106 - 0.49*$E$55 + 0.1824*$E$55^2), \"NA\")","v":"NA"},{"$f":"IF(AND('Production & Extraction'!$M$18=1, 'Production & Extraction'!$M$231>2), $G$55 + (1 - $G$55)*EXP(-1*$H$55) + $I$55*$F$55^$J$55, \"NA\")","v":"NA"},{"$f":"IF(AND('Production & Extraction'!$M$18=1, 'Production & Extraction'!$M$231>2), ('Production & Extraction'!$M$88/('Production & Extraction'!$M$88-1))*(3.027*14.7/(60+460))*($C$55)*(('Production & Extraction'!$M$230^$K$55)^(('Production & Extraction'!$M$88-1)/'Production & Extraction'!$M$88)-1), \"NA\")","v":"NA"}]
["Fourth ",{"$f":"IF(AND('Production & Extraction'!$M$18=1, 'Production & Extraction'!$M$231>3), $C$56-460, \"NA\")","v":"NA"},{"$f":"IF(AND('Production & Extraction'!$M$18=1, 'Production & Extraction'!$M$231>3), (((($C$55)*('Production & Extraction'!$M$230^($K$55*('Production & Extraction'!$M$88-1)/'Production & Extraction'!$M$88))))-$C$55)*0.2+$C$55, \"NA\")","v":"NA"},{"$f":"IF(AND('Production & Extraction'!$M$18=1, 'Production & Extraction'!$M$231>3), 'Production & Extraction'!$M$85*'Production & Extraction'!$M$230^3, \"NA\")","v":"NA"},{"$f":"IF(AND('Production & Extraction'!$M$18=1, 'Production & Extraction'!$M$231>3), $C$56/$B$33, \"NA\")","v":"NA"},{"$f":"IF(AND('Production & Extraction'!$M$18=1, 'Production & Extraction'!$M$231>3), $D$56/$B$37, \"NA\")","v":"NA"},{"$f":"IF(AND('Production & Extraction'!$M$18=1, 'Production & Extraction'!$M$231>3), 1.39*($E$56 - 0.92)^0.5 - 0.36*$E$56 - 0.101, \"NA\")","v":"NA"},{"$f":"IF(AND('Production & Extraction'!$M$18=1, 'Production & Extraction'!$M$231>3), $F$56*(0.62 - 0.23*$E$56) + $F$56^2*(0.066/($E$56 - 0.86) - 0.037) + 0.32*$F$56^6/(10^(9*$E$56-9)), \"NA\")","v":"NA"},{"$f":"IF(AND('Production & Extraction'!$M$18=1, 'Production & Extraction'!$M$231>3), 0.132 - 0.32*LOG($E$56), \"NA\")","v":"NA"},{"$f":"IF(AND('Production & Extraction'!$M$18=1, 'Production & Extraction'!$M$231>3), 10^(0.3106 - 0.49*$E$56 + 0.1824*$E$56^2), \"NA\")","v":"NA"},{"$f":"IF(AND('Production & Extraction'!$M$18=1, 'Production & Extraction'!$M$231>3), $G$56 + (1 - $G$56)*EXP(-1*$H$56) + $I$56*$F$56^$J$56, \"NA\")","v":"NA"},{"$f":"IF(AND('Production & Extraction'!$M$18=1, 'Production & Extraction'!$M$231>3), ('Production & Extraction'!$M$88/('Production & Extraction'!$M$88-1))*(3.027*14.7/(60+460))*($C$56)*(('Production & Extraction'!$M$230^$K$56)^(('Production & Extraction'!$M$88-1)/'Production & Extraction'!$M$88)-1), \"NA\")","v":"NA"}]
["Fifth",{"$f":"IF(AND('Production & Extraction'!$M$18=1, 'Production & Extraction'!$M$231>4), $C$57-460, \"NA\")","v":"NA"},{"$f":"IF(AND('Production & Extraction'!$M$18=1, 'Production & Extraction'!$M$231>4), (((($C$56)*('Production & Extraction'!$M$230^($K$56*('Production & Extraction'!$M$88-1)/'Production & Extraction'!$M$88))))-$C$56)*0.2+$C$56, \"NA\")","v":"NA"},{"$f":"IF(AND('Production & Extraction'!$M$18=1, 'Production & Extraction'!$M$231>4), 'Production & Extraction'!$M$85*'Production & Extraction'!$M$230^4, \"NA\")","v":"NA"},{"$f":"IF(AND('Production & Extraction'!$M$18=1, 'Production & Extraction'!$M$231>4), $C$57/$B$33, \"NA\")","v":"NA"},{"$f":"IF(AND('Production & Extraction'!$M$18=1, 'Production & Extraction'!$M$231>4), $D$57/$B$37, \"NA\")","v":"NA"},{"$f":"IF(AND('Production & Extraction'!$M$18=1, 'Production & Extraction'!$M$231>4), 1.39*($E$57 - 0.92)^0.5 - 0.36*$E$57 - 0.101, \"NA\")","v":"NA"},{"$f":"IF(AND('Production & Extraction'!$M$18=1, 'Production & Extraction'!$M$231>4), $F$57*(0.62 - 0.23*$E$57) + $F$57^2*(0.066/($E$57 - 0.86) - 0.037) + 0.32*$F$57^6/(10^(9*$E$57-9)), \"NA\")","v":"NA"},{"$f":"IF(AND('Production & Extraction'!$M$18=1, 'Production & Extraction'!$M$231>4), 0.132 - 0.32*LOG($E$57), \"NA\")","v":"NA"},{"$f":"IF(AND('Production & Extraction'!$M$18=1, 'Production & Extraction'!$M$231>4), 10^(0.3106 - 0.49*$E$57 + 0.1824*$E$57^2), \"NA\")","v":"NA"},{"$f":"IF(AND('Production & Extraction'!$M$18=1, 'Production & Extraction'!$M$231>4), $G$57 + (1 - $G$57)*EXP(-1*$H$57) + $I$57*$F$57^$J$57, \"NA\")","v":"NA"},{"$f":"IF(AND('Production & Extraction'!$M$18=1, 'Production & Extraction'!$M$231>4), ('Production & Extraction'!$M$88/('Production & Extraction'!$M$88-1))*(3.027*14.7/(60+460))*($C$57)*(('Production & Extraction'!$M$230^$K$57)^(('Production & Extraction'!$M$88-1)/'Production & Extraction'!$M$88)-1), \"NA\")","v":"NA"}]
[]
["Natural Gas Flooding Compressor "]
[]
[]
[]
["Pseudocritical Properties Calculator (Stewart, Burkhardt, and Voo, 1959)"]
[null,"Tc","Pc","Share of Composition","Constant J Term 1 (At Bottom)","Constant J Term 2 (At Bottom)","Constant J","Constant K (At Bottom)","Tpc","Ppc"]
[null,"Rankine","PSIA","% Molar","Σyj(Tc/Pc)j","Σyj[(Tc/Pc)j^0.5]","(1/3)(Term1) + (2/3)(Term2^2)","Σyj(Tc/Pc^0.5)j","K^2/J","Tpc/J"]
["N2",{"$f":"'Input Data'!$C$121","v":227.5},{"$f":"'Input Data'!$D$121","v":493.1},{"$f":"'Production & Extraction'!$M$92","v":2},{"$f":"($D$66/100)*($B$66/$C$66)","v":9.2273372541066719E-3},{"$f":"($D$66/100)*($B$66/$C$66)^0.5","v":1.3584798308481928E-2},{"$f":"(1/3)*$E$73+(2/3)*$F$73^2","v":0.54113258487707694},{"$f":"($D$66/100)*($B$66/$C$66^0.5)","v":0.20490091387347534},{"$f":"($H$73^2)/$G$66","v":375.63994123492989},{"$f":"$I$66/$G$66","v":694.17357544687468}]
["CO2",{"$f":"'Input Data'!$C$122","v":547.9},{"$f":"'Input Data'!$D$122","v":1071},{"$f":"'Production & Extraction'!$M$93","v":6},{"$f":"($D$67/100)*($B$67/$C$67)","v":3.0694677871148456E-2},{"$f":"($D$67/100)*($B$67/$C$67)^0.5","v":4.291480714472462E-2},null,{"$f":"($D$67/100)*($B$67/$C$67^0.5)","v":1.004518213043514}]
["C1",{"$f":"'Input Data'!$C$123","v":343.3},{"$f":"'Input Data'!$D$123","v":666.4},{"$f":"'Production & Extraction'!$M$94","v":84},{"$f":"($D$68/100)*($B$68/$C$68)","v":0.43273109243697483},{"$f":"($D$68/100)*($B$68/$C$68)^0.5","v":0.60290473347541296},null,{"$f":"($D$68/100)*($B$68/$C$68^0.5)","v":11.170833925371701}]
["C2",{"$f":"'Input Data'!$C$124","v":549.9},{"$f":"'Input Data'!$D$124","v":706.5},{"$f":"'Production & Extraction'!$M$95","v":4},{"$f":"($D$69/100)*($B$69/$C$69)","v":3.1133757961783439E-2},{"$f":"($D$69/100)*($B$69/$C$69)^0.5","v":3.5289521369258288E-2},null,{"$f":"($D$69/100)*($B$69/$C$69^0.5)","v":0.82753739500241841}]
["C3",{"$f":"'Input Data'!$C$125","v":666.1},{"$f":"'Input Data'!$D$125","v":616},{"$f":"'Production & Extraction'!$M$96","v":2},{"$f":"($D$70/100)*($B$70/$C$70)","v":2.1626623376623379E-2},{"$f":"($D$70/100)*($B$70/$C$70)^0.5","v":2.0797414924275268E-2},null,{"$f":"($D$70/100)*($B$70/$C$70^0.5)","v":0.5367586763373059}]
["C4",{"$f":"'Input Data'!$C$126","v":765.6},{"$f":"'Input Data'!$D$126","v":550.6},{"$f":"'Production & Extraction'!$M$97","v":1},{"$f":"($D$71/100)*($B$71/$C$71)","v":1.3904831093352705E-2},{"$f":"($D$71/100)*($B$71/$C$71)^0.5","v":1.1791874784508487E-2},null,{"$f":"($D$71/100)*($B$71/$C$71^0.5)","v":0.32627501720283197}]
["H2S",{"$f":"'Input Data'!$C$127","v":672.4},{"$f":"'Input Data'!$D$127","v":1300},{"$f":"'Production & Extraction'!$M$98","v":1},{"$f":"($D$72/100)*($B$72/$C$72)","v":5.1723076923076913E-3},{"$f":"($D$72/100)*($B$72/$C$72)^0.5","v":7.1918757583176399E-3},null,{"$f":"($D$72/100)*($B$72/$C$72^0.5)","v":0.18649020597092203}]
[null,null,null,null,{"$f":"SUM($E$66:$E$72)","v":0.54449062768629719},{"$f":"SUM($F$66:$F$72)","v":0.73447502576497914},null,{"$f":"SUM($H$66:$H$72)","v":14.257314346802167}]
[]
[]
["Acid Gas Correction Factor  (Wichert and Aziz, 1972)"]
["Factor","Value"]
["CO2+H2S",{"$f":"('Production & Extraction'!$M$93+'Production & Extraction'!$M$98)/100","v":7.0000000000000007E-2},"Mole Fraction"]
["H2S",{"$f":"'Production & Extraction'!$M$98/100","v":0.01},"Mole Fraction"]
["ε",{"$f":"120*($B$78^0.9 - $B$78^1.6) + 15*($B$79^0.5 - $B$79^4)","v":10.755479189056354},"Rankine"]
[]
["Corrected Pseudocritical Temperature"]
["Original Tpc",{"$f":"$I$66","v":375.63994123492989},"Rankine"]
["Corrected T'pc",{"$f":"$B$83-$B$80","v":364.88446204587353},"Rankine"]
[]
["Corrected Pseudocritical Pressure"]
["Original Ppc",{"$f":"$J$66","v":694.17357544687468},"psi"]
["Corrected P'pc",{"$f":"($B$87*($B$83 - $B$80)) / ($B$83 + $B$79*(1 - $B$79)*$B$80)","v":674.10662574127196},"psi"]
[]
[]
["Z Factors (Standing (1977) modification of the Beggs and Brill (1974) correlation of Standing and Katz (1942)) and temperature, pressure, and adiabatic work calculations"]
[" Stage","Inlet Temperature (°F)","Inlet Temperature (°R)","Inlet Pressure (PSI)","Inlet Reduced Temperature ","Inlet Reduced Pressure ","Constant A ","Constant B","Constant C","Constant D","Inlet Z Factor","Adiabatic Work of Compression"]
["First  ",{"$f":"$C$93-460","v":196.70000000000005},{"$f":"'Production & Extraction'!$M$110+460","v":656.7},{"$f":"'Production & Extraction'!$M$108","v":125},{"$f":"$C$93/$B$84","v":1.7997477785651483},{"$f":"$D$93/$B$88","v":0.18543060582225473},{"$f":"1.39*($E$93 - 0.92)^0.5 - 0.36*$E$93 - 0.101","v":0.55483950363372514},{"$f":"$F$93*(0.62 - 0.23*$E$93) + $F$93^2*(0.066/($E$93 - 0.86) - 0.037) + 0.32*$F$93^6/(10^(9*$E$93-9))","v":3.9352114433297496E-2},{"$f":"0.132 - 0.32*LOG($E$93)","v":5.0332273220722479E-2},{"$f":"10^(0.3106 - 0.49*$E$93 + 0.1824*$E$93^2)","v":1.0460055320890242},{"$f":"$G$93 + (1 - $G$93)*EXP(-1*$H$93) + $I$93*$F$93^$J$93","v":0.99145914837271154},{"$f":"IF('Production & Extraction'!$M$19=1, ('Production & Extraction'!$M$111/('Production & Extraction'!$M$111-1))*(3.027*14.7/(60+460))*($C$93)*(('Production & Extraction'!$M$263^$K$93)^(('Production & Extraction'!$M$111-1)/'Production & Extraction'!$M$111)-1), \"NA\")","v":"NA"}]
["Second ",{"$f":"IF(AND('Production & Extraction'!$M$19=1, 'Production & Extraction'!$M$264>1), $C$94-460, \"NA\")","v":"NA"},{"$f":"IF(AND('Production & Extraction'!$M$19=1, 'Production & Extraction'!$M$264>1), (((($C$93)*('Production & Extraction'!$M$263^($K$93*('Production & Extraction'!$M$111-1)/'Production & Extraction'!$M$111))))-$C$93)*0.2+$C$93, \"NA\")","v":"NA"},{"$f":"IF(AND('Production & Extraction'!$M$19=1, 'Production & Extraction'!$M$264>1), 'Production & Extraction'!$M$108*'Production & Extraction'!$M$263, \"NA\")","v":"NA"},{"$f":"IF(AND('Production & Extraction'!$M$19=1, 'Production & Extraction'!$M$264>1), $C$94/$B$84, \"NA\")","v":"NA"},{"$f":"IF(AND('Production & Extraction'!$M$19=1, 'Production & Extraction'!$M$264>1), $D$94/$B$88, \"NA\")","v":"NA"},{"$f":"IF(AND('Production & Extraction'!$M$19=1, 'Production & Extraction'!$M$264>1), 1.39*($E$94 - 0.92)^0.5 - 0.36*$E$94 - 0.101, \"NA\")","v":"NA"},{"$f":"IF(AND('Production & Extraction'!$M$19=1, 'Production & Extraction'!$M$264>1), $F$94*(0.62 - 0.23*$E$94) + $F$94^2*(0.066/($E$94 - 0.86) - 0.037) + 0.32*$F$94^6/(10^(9*$E$94-9)), \"NA\")","v":"NA"},{"$f":"IF(AND('Production & Extraction'!$M$19=1, 'Production & Extraction'!$M$264>1), 0.132 - 0.32*LOG($E$94), \"NA\")","v":"NA"},{"$f":"IF(AND('Production & Extraction'!$M$19=1, 'Production & Extraction'!$M$264>1), 10^(0.3106 - 0.49*$E$94 + 0.1824*$E$94^2), \"NA\")","v":"NA"},{"$f":"IF(AND('Production & Extraction'!$M$19=1, 'Production & Extraction'!$M$264>1), $G$94 + (1 - $G$94)*EXP(-1*$H$94) + $I$94*$F$94^$J$94, \"NA\")","v":"NA"},{"$f":"IF(AND('Production & Extraction'!$M$19=1, 'Production & Extraction'!$M$264>1), ('Production & Extraction'!$M$111/('Production & Extraction'!$M$111-1))*(3.027*14.7/(60+460))*($C$94)*(('Production & Extraction'!$M$263^$K$94)^(('Production & Extraction'!$M$111-1)/'Production & Extraction'!$M$111)-1), \"NA\")","v":"NA"}]
["Third ",{"$f":"IF(AND('Production & Extraction'!$M$19=1, 'Production & Extraction'!$M$264>2), $C$95-460, \"NA\")","v":"NA"},{"$f":"IF(AND('Production & Extraction'!$M$19=1, 'Production & Extraction'!$M$264>2), (((($C$94)*('Production & Extraction'!$M$263^($K$94*('Production & Extraction'!$M$111-1)/'Production & Extraction'!$M$111))))-$C$94)*0.2+$C$94, \"NA\")","v":"NA"},{"$f":"IF(AND('Production & Extraction'!$M$19=1, 'Production & Extraction'!$M$264>2), 'Production & Extraction'!$M$108*'Production & Extraction'!$M$263^2, \"NA\")","v":"NA"},{"$f":"IF(AND('Production & Extraction'!$M$19=1, 'Production & Extraction'!$M$264>2), $C$95/$B$84, \"NA\")","v":"NA"},{"$f":"IF(AND('Production & Extraction'!$M$19=1, 'Production & Extraction'!$M$264>2), $D$95/$B$88, \"NA\")","v":"NA"},{"$f":"IF(AND('Production & Extraction'!$M$19=1, 'Production & Extraction'!$M$264>2), 1.39*($E$95 - 0.92)^0.5 - 0.36*$E$95 - 0.101, \"NA\")","v":"NA"},{"$f":"IF(AND('Production & Extraction'!$M$19=1, 'Production & Extraction'!$M$264>2), $F$95*(0.62 - 0.23*$E$95) + $F$95^2*(0.066/($E$95 - 0.86) - 0.037) + 0.32*$F$95^6/(10^(9*$E$95-9)), \"NA\")","v":"NA"},{"$f":"IF(AND('Production & Extraction'!$M$19=1, 'Production & Extraction'!$M$264>2), 0.132 - 0.32*LOG($E$95), \"NA\")","v":"NA"},{"$f":"IF(AND('Production & Extraction'!$M$19=1, 'Production & Extraction'!$M$264>2), 10^(0.3106 - 0.49*$E$95 + 0.1824*$E$95^2), \"NA\")","v":"NA"},{"$f":"IF(AND('Production & Extraction'!$M$19=1, 'Production & Extraction'!$M$264>2), $G$95 + (1 - $G$95)*EXP(-1*$H$95) + $I$95*$F$95^$J$95, \"NA\")","v":"NA"},{"$f":"IF(AND('Production & Extraction'!$M$19=1, 'Production & Extraction'!$M$264>2), ('Production & Extraction'!$M$111/('Production & Extraction'!$M$111-1))*(3.027*14.7/(60+460))*($C$95)*(('Production & Extraction'!$M$263^$K$95)^(('Production & Extraction'!$M$111-1)/'Production & Extraction'!$M$111)-1), \"NA\")","v":"NA"}]
["Fourth ",{"$f":"IF(AND('Production & Extraction'!$M$19=1, 'Production & Extraction'!$M$264>3), $C$96-460, \"NA\")","v":"NA"},{"$f":"IF(AND('Production & Extraction'!$M$19=1, 'Production & Extraction'!$M$264>3), (((($C$95)*('Production & Extraction'!$M$263^($K$95*('Production & Extraction'!$M$111-1)/'Production & Extraction'!$M$111))))-$C$95)*0.2+$C$95, \"NA\")","v":"NA"},{"$f":"IF(AND('Production & Extraction'!$M$19=1, 'Production & Extraction'!$M$264>3), 'Production & Extraction'!$M$108*'Production & Extraction'!$M$263^3, \"NA\")","v":"NA"},{"$f":"IF(AND('Production & Extraction'!$M$19=1, 'Production & Extraction'!$M$264>3), $C$96/$B$84, \"NA\")","v":"NA"},{"$f":"IF(AND('Production & Extraction'!$M$19=1, 'Production & Extraction'!$M$264>3), $D$96/$B$88, \"NA\")","v":"NA"},{"$f":"IF(AND('Production & Extraction'!$M$19=1, 'Production & Extraction'!$M$264>3), 1.39*($E$96 - 0.92)^0.5 - 0.36*$E$96 - 0.101, \"NA\")","v":"NA"},{"$f":"IF(AND('Production & Extraction'!$M$19=1, 'Production & Extraction'!$M$264>3), $F$96*(0.62 - 0.23*$E$96) + $F$96^2*(0.066/($E$96 - 0.86) - 0.037) + 0.32*$F$96^6/(10^(9*$E$96-9)), \"NA\")","v":"NA"},{"$f":"IF(AND('Production & Extraction'!$M$19=1, 'Production & Extraction'!$M$264>3), 0.132 - 0.32*LOG($E$96), \"NA\")","v":"NA"},{"$f":"IF(AND('Production & Extraction'!$M$19=1, 'Production & Extraction'!$M$264>3), 10^(0.3106 - 0.49*$E$96 + 0.1824*$E$96^2), \"NA\")","v":"NA"},{"$f":"IF(AND('Production & Extraction'!$M$19=1, 'Production & Extraction'!$M$264>3), $G$96 + (1 - $G$96)*EXP(-1*$H$96) + $I$96*$F$96^$J$96, \"NA\")","v":"NA"},{"$f":"IF(AND('Production & Extraction'!$M$19=1, 'Production & Extraction'!$M$264>3), ('Production & Extraction'!$M$111/('Production & Extraction'!$M$111-1))*(3.027*14.7/(60+460))*($C$96)*(('Production & Extraction'!$M$263^$K$96)^(('Production & Extraction'!$M$111-1)/'Production & Extraction'!$M$111)-1), \"NA\")","v":"NA"}]
["Fifth",{"$f":"IF(AND('Production & Extraction'!$M$19=1, 'Production & Extraction'!$M$264>4), $C$97-460, \"NA\")","v":"NA"},{"$f":"IF(AND('Production & Extraction'!$M$19=1, 'Production & Extraction'!$M$264>4), (((($C$96)*('Production & Extraction'!$M$263^($K$96*('Production & Extraction'!$M$111-1)/'Production & Extraction'!$M$111))))-$C$96)*0.2+$C$96, \"NA\")","v":"NA"},{"$f":"IF(AND('Production & Extraction'!$M$19=1, 'Production & Extraction'!$M$264>4), 'Production & Extraction'!$M$108*'Production & Extraction'!$M$263^4, \"NA\")","v":"NA"},{"$f":"IF(AND('Production & Extraction'!$M$19=1, 'Production & Extraction'!$M$264>4), $C$97/$B$84, \"NA\")","v":"NA"},{"$f":"IF(AND('Production & Extraction'!$M$19=1, 'Production & Extraction'!$M$264>4), $D$97/$B$88, \"NA\")","v":"NA"},{"$f":"IF(AND('Production & Extraction'!$M$19=1, 'Production & Extraction'!$M$264>4), 1.39*($E$97 - 0.92)^0.5 - 0.36*$E$97 - 0.101, \"NA\")","v":"NA"},{"$f":"IF(AND('Production & Extraction'!$M$19=1, 'Production & Extraction'!$M$264>4), $F$97*(0.62 - 0.23*$E$97) + $F$97^2*(0.066/($E$97 - 0.86) - 0.037) + 0.32*$F$97^6/(10^(9*$E$97-9)), \"NA\")","v":"NA"},{"$f":"IF(AND('Production & Extraction'!$M$19=1, 'Production & Extraction'!$M$264>4), 0.132 - 0.32*LOG($E$97), \"NA\")","v":"NA"},{"$f":"IF(AND('Production & Extraction'!$M$19=1, 'Production & Extraction'!$M$264>4), 10^(0.3106 - 0.49*$E$97 + 0.1824*$E$97^2), \"NA\")","v":"NA"},{"$f":"IF(AND('Production & Extraction'!$M$19=1, 'Production & Extraction'!$M$264>4), $G$97 + (1 - $G$97)*EXP(-1*$H$97) + $I$97*$F$97^$J$97, \"NA\")","v":"NA"},{"$f":"IF(AND('Production & Extraction'!$M$19=1, 'Production & Extraction'!$M$264>4), ('Production & Extraction'!$M$111/('Production & Extraction'!$M$111-1))*(3.027*14.7/(60+460))*($C$97)*(('Production & Extraction'!$M$263^$K$97)^(('Production & Extraction'!$M$111-1)/'Production & Extraction'!$M$111)-1), \"NA\")","v":"NA"}]
[]
["Nitrogen, Carbon Dioxide, Air, and Oxygen Flooding Compressor"]
[]
[]
[]
["Nitrogen Z-Factor Lookup and Compressor Stages (NIST REFPROP; Span, Lemmon, Jacobsen, Wagner, and Yokozeki, 2000)"]
[" Stage","Inlet Temperature (°F)","Inlet Temperature (°R)","Rounded Inlet Temp (°F)","Inlet Pressure (PSI)","Rounded Inlet Pressure (PSI)","Inlet Z Factor","Adiabatic Work of Compression"]
["First  ",{"$f":"$C$105-460","v":196.70000000000005},{"$f":"'Production & Extraction'!$M$110+460","v":656.7},{"$f":"IF($B$105<200, MROUND($B$105, 10), MROUND($B$105, 25))","v":200},{"$f":"'Production & Extraction'!$M$108","v":125},{"$f":"IF(AND($E$105>=25, $E$105<500), MROUND($E$105, 25), IF($E$105>=500, MROUND($E$105, 100), 10))","v":125},{"$f":"INDEX('Input Data'!$B$134:$D$2289,MATCH(1,(('Input Data'!$B$134:$B$2289-F105)=0)*(('Input Data'!$C$134:$C$2289-D105)=0),0),3)","v":1.0016576877603471},{"$f":"IF('Production & Extraction'!$M$19=1, ('Production & Extraction'!$M$111/('Production & Extraction'!$M$111-1))*(3.027*14.7/(60+460))*($C$105)*(('Production & Extraction'!$M$263^$G$105)^(('Production & Extraction'!$M$111-1)/'Production & Extraction'!$M$111)-1), \"NA\")","v":"NA"}]
["Second ",{"$f":"IF(AND('Production & Extraction'!$M$19=1, 'Production & Extraction'!$M$264>1), $C$106-460, \"NA\")","v":"NA"},{"$f":"IF(AND('Production & Extraction'!$M$19=1, 'Production & Extraction'!$M$264>1), (((($C$105)*('Production & Extraction'!$M$263^($G$105*('Production & Extraction'!$M$111-1)/'Production & Extraction'!$M$111))))-$C$105)*0.2+$C$105, \"NA\")","v":"NA"},{"$f":"IF(AND('Production & Extraction'!$M$19=1, 'Production & Extraction'!$M$264>1), IF($B$106<200, MROUND($B$106, 10), MROUND($B$106, 25)), \"NA\")","v":"NA"},{"$f":"IF(AND('Production & Extraction'!$M$19=1, 'Production & Extraction'!$M$264>1), 'Production & Extraction'!$M$108*'Production & Extraction'!$M$263, \"NA\")","v":"NA"},{"$f":"IF(AND('Production & Extraction'!$M$19=1, 'Production & Extraction'!$M$264>1), IF(AND($E$106>=25, $E$106<500), MROUND($E$106, 25), IF($E$106>=500, MROUND($E$106, 100), 10)), \"NA\")","v":"NA"},{"$f":"IF(AND('Production & Extraction'!$M$19=1, 'Production & Extraction'!$M$264>1), INDEX('Input Data'!$B$134:$D$2289,MATCH(1,(('Input Data'!$B$134:$B$2289-F106)=0)*(('Input Data'!$C$134:$C$2289-D106)=0),0),3), \"NA\")","v":"NA"},{"$f":"IF(AND('Production & Extraction'!$M$19=1, 'Production & Extraction'!$M$264>1), ('Production & Extraction'!$M$111/('Production & Extraction'!$M$111-1))*(3.027*14.7/(60+460))*($C$106)*(('Production & Extraction'!$M$263^$G$106)^(('Production & Extraction'!$M$111-1)/'Production & Extraction'!$M$111)-1), \"NA\")","v":"NA"}]
["Third ",{"$f":"IF(AND('Production & Extraction'!$M$19=1, 'Production & Extraction'!$M$264>2), $C$107-460, \"NA\")","v":"NA"},{"$f":"IF(AND('Production & Extraction'!$M$19=1, 'Production & Extraction'!$M$264>2), (((($C$106)*('Production & Extraction'!$M$263^($G$106*('Production & Extraction'!$M$111-1)/'Production & Extraction'!$M$111))))-$C$106)*0.2+$C$106, \"NA\")","v":"NA"},{"$f":"IF(AND('Production & Extraction'!$M$19=1, 'Production & Extraction'!$M$264>2), IF($B$107<200, MROUND($B$107, 10), MROUND($B$107, 25)), \"NA\")","v":"NA"},{"$f":"IF(AND('Production & Extraction'!$M$19=1, 'Production & Extraction'!$M$264>2), 'Production & Extraction'!$M$108*'Production & Extraction'!$M$263^2, \"NA\")","v":"NA"},{"$f":"IF(AND('Production & Extraction'!$M$19=1, 'Production & Extraction'!$M$264>2), IF(AND($E$107>=25, $E$107<500), MROUND($E$107, 25), IF($E$107>=500, MROUND($E$107, 100), 10)), \"NA\")","v":"NA"},{"$f":"IF(AND('Production & Extraction'!$M$19=1, 'Production & Extraction'!$M$264>2), INDEX('Input Data'!$B$134:$D$2289,MATCH(1,(('Input Data'!$B$134:$B$2289-F107)=0)*(('Input Data'!$C$134:$C$2289-D107)=0),0),3), \"NA\")","v":"NA"},{"$f":"IF(AND('Production & Extraction'!$M$19=1, 'Production & Extraction'!$M$264>2), ('Production & Extraction'!$M$111/('Production & Extraction'!$M$111-1))*(3.027*14.7/(60+460))*($C$107)*(('Production & Extraction'!$M$263^$G$107)^(('Production & Extraction'!$M$111-1)/'Production & Extraction'!$M$111)-1), \"NA\")","v":"NA"}]
["Fourth ",{"$f":"IF(AND('Production & Extraction'!$M$19=1, 'Production & Extraction'!$M$264>3), $C$108-460, \"NA\")","v":"NA"},{"$f":"IF(AND('Production & Extraction'!$M$19=1, 'Production & Extraction'!$M$264>3), (((($C$107)*('Production & Extraction'!$M$263^($G$107*('Production & Extraction'!$M$111-1)/'Production & Extraction'!$M$111))))-$C$107)*0.2+$C$107, \"NA\")","v":"NA"},{"$f":"IF(AND('Production & Extraction'!$M$19=1, 'Production & Extraction'!$M$264>3), IF($B$108<200, MROUND($B$108, 10), MROUND($B$108, 25)), \"NA\")","v":"NA"},{"$f":"IF(AND('Production & Extraction'!$M$19=1, 'Production & Extraction'!$M$264>3), 'Production & Extraction'!$M$108*'Production & Extraction'!$M$263^3, \"NA\")","v":"NA"},{"$f":"IF(AND('Production & Extraction'!$M$19=1, 'Production & Extraction'!$M$264>3), IF(AND($E$108>=25, $E$108<500), MROUND($E$108, 25), IF($E$108>=500, MROUND($E$108, 100), 10)), \"NA\")","v":"NA"},{"$f":"IF(AND('Production & Extraction'!$M$19=1, 'Production & Extraction'!$M$264>3), INDEX('Input Data'!$B$134:$D$2289,MATCH(1,(('Input Data'!$B$134:$B$2289-F108)=0)*(('Input Data'!$C$134:$C$2289-D108)=0),0),3), \"NA\")","v":"NA"},{"$f":"IF(AND('Production & Extraction'!$M$19=1, 'Production & Extraction'!$M$264>3), ('Production & Extraction'!$M$111/('Production & Extraction'!$M$111-1))*(3.027*14.7/(60+460))*($C$108)*(('Production & Extraction'!$M$263^$G$108)^(('Production & Extraction'!$M$111-1)/'Production & Extraction'!$M$111)-1), \"NA\")","v":"NA"}]
["Fifth",{"$f":"IF(AND('Production & Extraction'!$M$19=1, 'Production & Extraction'!$M$264>4), $C$109-460, \"NA\")","v":"NA"},{"$f":"IF(AND('Production & Extraction'!$M$19=1, 'Production & Extraction'!$M$264>4), (((($C$108)*('Production & Extraction'!$M$263^($G$108*('Production & Extraction'!$M$111-1)/'Production & Extraction'!$M$111))))-$C$108)*0.2+$C$108, \"NA\")","v":"NA"},{"$f":"IF(AND('Production & Extraction'!$M$19=1, 'Production & Extraction'!$M$264>4), IF($B$109<200, MROUND($B$109, 10), MROUND($B$109, 25)), \"NA\")","v":"NA"},{"$f":"IF(AND('Production & Extraction'!$M$19=1, 'Production & Extraction'!$M$264>4), 'Production & Extraction'!$M$108*'Production & Extraction'!$M$263^4, \"NA\")","v":"NA"},{"$f":"IF(AND('Production & Extraction'!$M$19=1, 'Production & Extraction'!$M$264>4), IF(AND($E$109>=25, $E$109<500), MROUND($E$109, 25), IF($E$109>=500, MROUND($E$109, 100), 10)), \"NA\")","v":"NA"},{"$f":"IF(AND('Production & Extraction'!$M$19=1, 'Production & Extraction'!$M$264>4), INDEX('Input Data'!$B$134:$D$2289,MATCH(1,(('Input Data'!$B$134:$B$2289-F109)=0)*(('Input Data'!$C$134:$C$2289-D109)=0),0),3), \"NA\")","v":"NA"},{"$f":"IF(AND('Production & Extraction'!$M$19=1, 'Production & Extraction'!$M$264>4), ('Production & Extraction'!$M$111/('Production & Extraction'!$M$111-1))*(3.027*14.7/(60+460))*($C$109)*(('Production & Extraction'!$M$263^$G$109)^(('Production & Extraction'!$M$111-1)/'Production & Extraction'!$M$111)-1), \"NA\")","v":"NA"}]
[]
["Carbon Dioxide Z-Factor Lookup and Compressor Stages (NIST REFPROP; Span and Wagner, 1996)"]
[" Stage","Inlet Temperature (°F)","Inlet Temperature (°R)","Rounded Inlet Temp (°F)","Inlet Pressure (PSI)","Rounded Inlet Pressure (PSI)","Inlet Z Factor","Adiabatic Work of Compression"]
["First  ",{"$f":"$C$113-460","v":196.70000000000005},{"$f":"'Production & Extraction'!$M$110+460","v":656.7},{"$f":"IF($B$113<200, MROUND($B$113, 10), MROUND($B$113, 25))","v":200},{"$f":"'Production & Extraction'!$M$108","v":125},{"$f":"IF(AND($E$113>=25, $E$113<500), MROUND($E$113, 25), IF($E$113>=500, MROUND($E$113, 100), 10))","v":125},{"$f":"INDEX('Input Data'!$F$134:$H$2289,MATCH(1,(('Input Data'!$F$134:$F$2289-F113)=0)*(('Input Data'!$G$134:$G$2289-D113)=0),0),3)","v":0.97851022988591185},{"$f":"IF('Production & Extraction'!$M$19=1, ('Production & Extraction'!$M$111/('Production & Extraction'!$M$111-1))*(3.027*14.7/(60+460))*($C$113)*(('Production & Extraction'!$M$263^$G$113)^(('Production & Extraction'!$M$111-1)/'Production & Extraction'!$M$111)-1), \"NA\")","v":"NA"}]
["Second ",{"$f":"IF(AND('Production & Extraction'!$M$19=1, 'Production & Extraction'!$M$264>1), $C$114-460, \"NA\")","v":"NA"},{"$f":"IF(AND('Production & Extraction'!$M$19=1, 'Production & Extraction'!$M$264>1), (((($C$113)*('Production & Extraction'!$M$263^($G$113*('Production & Extraction'!$M$111-1)/'Production & Extraction'!$M$111))))-$C$113)*0.2+$C$113, \"NA\")","v":"NA"},{"$f":"IF(AND('Production & Extraction'!$M$19=1, 'Production & Extraction'!$M$264>1), IF($B$114<200, MROUND($B$114, 10), MROUND($B$114, 25)), \"NA\")","v":"NA"},{"$f":"IF(AND('Production & Extraction'!$M$19=1, 'Production & Extraction'!$M$264>1), 'Production & Extraction'!$M$108*'Production & Extraction'!$M$263, \"NA\")","v":"NA"},{"$f":"IF(AND('Production & Extraction'!$M$19=1, 'Production & Extraction'!$M$264>1), IF(AND($E$114>=25, $E$114<500), MROUND($E$114, 25), IF($E$114>=500, MROUND($E$114, 100), 10)), \"NA\")","v":"NA"},{"$f":"IF(AND('Production & Extraction'!$M$19=1, 'Production & Extraction'!$M$264>1), INDEX('Input Data'!$F$134:$H$2289,MATCH(1,(('Input Data'!$B$134:$B$2289-F114)=0)*(('Input Data'!$C$134:$C$2289-D114)=0),0),3), \"NA\")","v":"NA"},{"$f":"IF(AND('Production & Extraction'!$M$19=1, 'Production & Extraction'!$M$264>1), ('Production & Extraction'!$M$111/('Production & Extraction'!$M$111-1))*(3.027*14.7/(60+460))*($C$114)*(('Production & Extraction'!$M$263^$G$114)^(('Production & Extraction'!$M$111-1)/'Production & Extraction'!$M$111)-1), \"NA\")","v":"NA"}]
["Third ",{"$f":"IF(AND('Production & Extraction'!$M$19=1, 'Production & Extraction'!$M$264>2), $C$115-460, \"NA\")","v":"NA"},{"$f":"IF(AND('Production & Extraction'!$M$19=1, 'Production & Extraction'!$M$264>2), (((($C$114)*('Production & Extraction'!$M$263^($G$114*('Production & Extraction'!$M$111-1)/'Production & Extraction'!$M$111))))-$C$114)*0.2+$C$114, \"NA\")","v":"NA"},{"$f":"IF(AND('Production & Extraction'!$M$19=1, 'Production & Extraction'!$M$264>2), IF($B$115<200, MROUND($B$115, 10), MROUND($B$115, 25)), \"NA\")","v":"NA"},{"$f":"IF(AND('Production & Extraction'!$M$19=1, 'Production & Extraction'!$M$264>2), 'Production & Extraction'!$M$108*'Production & Extraction'!$M$263^2, \"NA\")","v":"NA"},{"$f":"IF(AND('Production & Extraction'!$M$19=1, 'Production & Extraction'!$M$264>2), IF(AND($E$115>=25, $E$115<500), MROUND($E$115, 25), IF($E$115>=500, MROUND($E$115, 100), 10)), \"NA\")","v":"NA"},{"$f":"IF(AND('Production & Extraction'!$M$19=1, 'Production & Extraction'!$M$264>2), INDEX('Input Data'!$F$134:$H$2289,MATCH(1,(('Input Data'!$B$134:$B$2289-F115)=0)*(('Input Data'!$C$134:$C$2289-D115)=0),0),3), \"NA\")","v":"NA"},{"$f":"IF(AND('Production & Extraction'!$M$19=1, 'Production & Extraction'!$M$264>2), ('Production & Extraction'!$M$111/('Production & Extraction'!$M$111-1))*(3.027*14.7/(60+460))*($C$115)*(('Production & Extraction'!$M$263^$G$115)^(('Production & Extraction'!$M$111-1)/'Production & Extraction'!$M$111)-1), \"NA\")","v":"NA"}]
["Fourth ",{"$f":"IF(AND('Production & Extraction'!$M$19=1, 'Production & Extraction'!$M$264>3), $C$116-460, \"NA\")","v":"NA"},{"$f":"IF(AND('Production & Extraction'!$M$19=1, 'Production & Extraction'!$M$264>3), (((($C$115)*('Production & Extraction'!$M$263^($G$115*('Production & Extraction'!$M$111-1)/'Production & Extraction'!$M$111))))-$C$115)*0.2+$C$115, \"NA\")","v":"NA"},{"$f":"IF(AND('Production & Extraction'!$M$19=1, 'Production & Extraction'!$M$264>3), IF($B$116<200, MROUND($B$116, 10), MROUND($B$116, 25)), \"NA\")","v":"NA"},{"$f":"IF(AND('Production & Extraction'!$M$19=1, 'Production & Extraction'!$M$264>3), 'Production & Extraction'!$M$108*'Production & Extraction'!$M$263^3, \"NA\")","v":"NA"},{"$f":"IF(AND('Production & Extraction'!$M$19=1, 'Production & Extraction'!$M$264>3), IF(AND($E$116>=25, $E$116<500), MROUND($E$116, 25), IF($E$116>=500, MROUND($E$116, 100), 10)), \"NA\")","v":"NA"},{"$f":"IF(AND('Production & Extraction'!$M$19=1, 'Production & Extraction'!$M$264>3), INDEX('Input Data'!$F$134:$H$2289,MATCH(1,(('Input Data'!$B$134:$B$2289-F116)=0)*(('Input Data'!$C$134:$C$2289-D116)=0),0),3), \"NA\")","v":"NA"},{"$f":"IF(AND('Production & Extraction'!$M$19=1, 'Production & Extraction'!$M$264>3), ('Production & Extraction'!$M$111/('Production & Extraction'!$M$111-1))*(3.027*14.7/(60+460))*($C$116)*(('Production & Extraction'!$M$263^$G$116)^(('Production & Extraction'!$M$111-1)/'Production & Extraction'!$M$111)-1), \"NA\")","v":"NA"}]
["Fifth",{"$f":"IF(AND('Production & Extraction'!$M$19=1, 'Production & Extraction'!$M$264>4), $C$117-460, \"NA\")","v":"NA"},{"$f":"IF(AND('Production & Extraction'!$M$19=1, 'Production & Extraction'!$M$264>4), (((($C$116)*('Production & Extraction'!$M$263^($G$116*('Production & Extraction'!$M$111-1)/'Production & Extraction'!$M$111))))-$C$116)*0.2+$C$116, \"NA\")","v":"NA"},{"$f":"IF(AND('Production & Extraction'!$M$19=1, 'Production & Extraction'!$M$264>4), IF($B$117<200, MROUND($B$117, 10), MROUND($B$117, 25)), \"NA\")","v":"NA"},{"$f":"IF(AND('Production & Extraction'!$M$19=1, 'Production & Extraction'!$M$264>4), 'Production & Extraction'!$M$108*'Production & Extraction'!$M$263^4, \"NA\")","v":"NA"},{"$f":"IF(AND('Production & Extraction'!$M$19=1, 'Production & Extraction'!$M$264>4), IF(AND($E$117>=25, $E$117<500), MROUND($E$117, 25), IF($E$117>=500, MROUND($E$117, 100), 10)), \"NA\")","v":"NA"},{"$f":"IF(AND('Production & Extraction'!$M$19=1, 'Production & Extraction'!$M$264>4), INDEX('Input Data'!$F$134:$H$2289,MATCH(1,(('Input Data'!$B$134:$B$2289-F117)=0)*(('Input Data'!$C$134:$C$2289-D117)=0),0),3), \"NA\")","v":"NA"},{"$f":"IF(AND('Production & Extraction'!$M$19=1, 'Production & Extraction'!$M$264>4), ('Production & Extraction'!$M$111/('Production & Extraction'!$M$111-1))*(3.027*14.7/(60+460))*($C$117)*(('Production & Extraction'!$M$263^$G$117)^(('Production & Extraction'!$M$111-1)/'Production & Extraction'!$M$111)-1), \"NA\")","v":"NA"}]
[]
["Air Z-Factor Lookup and Compressor Stages (NIST REPROP; Lemmon, Jacobsen, Penoncello, and Friend, 2000)"]
[" Stage","Inlet Temperature (°F)","Inlet Temperature (°R)","Rounded Inlet Temp (°F)","Inlet Pressure (PSI)","Rounded Inlet Pressure (PSI)","Inlet Z Factor","Adiabatic Work of Compression"]
["First  ",{"$f":"$C$121-460","v":196.70000000000005},{"$f":"'Production & Extraction'!$M$110+460","v":656.7},{"$f":"IF($B$121<200, MROUND($B$121, 10), MROUND($B$121, 25))","v":200},{"$f":"'Production & Extraction'!$M$108","v":125},{"$f":"IF(AND($E$121>=25, $E$121<500), MROUND($E$121, 25), IF($E$121>=500, MROUND($E$121, 100), 10))","v":125},{"$f":"INDEX('Input Data'!$J$134:$L$2289,MATCH(1,(('Input Data'!$J$134:$J$2289-F121)=0)*(('Input Data'!$K$134:$K$2289-D121)=0),0),3)","v":1.0008084710686282},{"$f":"IF('Production & Extraction'!$M$19=1, ('Production & Extraction'!$M$111/('Production & Extraction'!$M$111-1))*(3.027*14.7/(60+460))*($C$121)*(('Production & Extraction'!$M$263^$G$121)^(('Production & Extraction'!$M$111-1)/'Production & Extraction'!$M$111)-1), \"NA\")","v":"NA"}]
["Second ",{"$f":"IF(AND('Production & Extraction'!$M$19=1, 'Production & Extraction'!$M$264>1), $C$122-460, \"NA\")","v":"NA"},{"$f":"IF(AND('Production & Extraction'!$M$19=1, 'Production & Extraction'!$M$264>1), (((($C$121)*('Production & Extraction'!$M$263^($G$121*('Production & Extraction'!$M$111-1)/'Production & Extraction'!$M$111))))-$C$121)*0.2+$C$121, \"NA\")","v":"NA"},{"$f":"IF(AND('Production & Extraction'!$M$19=1, 'Production & Extraction'!$M$264>1), IF($B$122<200, MROUND($B$122, 10), MROUND($B$122, 25)), \"NA\")","v":"NA"},{"$f":"IF(AND('Production & Extraction'!$M$19=1, 'Production & Extraction'!$M$264>1), 'Production & Extraction'!$M$108*'Production & Extraction'!$M$263, \"NA\")","v":"NA"},{"$f":"IF(AND('Production & Extraction'!$M$19=1, 'Production & Extraction'!$M$264>1), IF(AND($E$122>=25, $E$122<500), MROUND($E$122, 25), IF($E$122>=500, MROUND($E$122, 100), 10)), \"NA\")","v":"NA"},{"$f":"IF(AND('Production & Extraction'!$M$19=1, 'Production & Extraction'!$M$264>1), INDEX('Input Data'!$J$134:$L$2289,MATCH(1,(('Input Data'!$J$134:$J$2289-F122)=0)*(('Input Data'!$K$134:$K$2289-D122)=0),0),3), \"NA\")","v":"NA"},{"$f":"IF(AND('Production & Extraction'!$M$19=1, 'Production & Extraction'!$M$264>1), ('Production & Extraction'!$M$111/('Production & Extraction'!$M$111-1))*(3.027*14.7/(60+460))*($C$122)*(('Production & Extraction'!$M$263^$G$122)^(('Production & Extraction'!$M$111-1)/'Production & Extraction'!$M$111)-1), \"NA\")","v":"NA"}]
["Third ",{"$f":"IF(AND('Production & Extraction'!$M$19=1, 'Production & Extraction'!$M$264>2), $C$123-460, \"NA\")","v":"NA"},{"$f":"IF(AND('Production & Extraction'!$M$19=1, 'Production & Extraction'!$M$264>2), (((($C$122)*('Production & Extraction'!$M$263^($G$122*('Production & Extraction'!$M$111-1)/'Production & Extraction'!$M$111))))-$C$122)*0.2+$C$122, \"NA\")","v":"NA"},{"$f":"IF(AND('Production & Extraction'!$M$19=1, 'Production & Extraction'!$M$264>2), IF($B$123<200, MROUND($B$123, 10), MROUND($B$123, 25)), \"NA\")","v":"NA"},{"$f":"IF(AND('Production & Extraction'!$M$19=1, 'Production & Extraction'!$M$264>2), 'Production & Extraction'!$M$108*'Production & Extraction'!$M$263^2, \"NA\")","v":"NA"},{"$f":"IF(AND('Production & Extraction'!$M$19=1, 'Production & Extraction'!$M$264>2), IF(AND($E$123>=25, $E$123<500), MROUND($E$123, 25), IF($E$123>=500, MROUND($E$123, 100), 10)), \"NA\")","v":"NA"},{"$f":"IF(AND('Production & Extraction'!$M$19=1, 'Production & Extraction'!$M$264>2), INDEX('Input Data'!$J$134:$L$2289,MATCH(1,(('Input Data'!$J$134:$J$2289-F123)=0)*(('Input Data'!$K$134:$K$2289-D123)=0),0),3), \"NA\")","v":"NA"},{"$f":"IF(AND('Production & Extraction'!$M$19=1, 'Production & Extraction'!$M$264>2), ('Production & Extraction'!$M$111/('Production & Extraction'!$M$111-1))*(3.027*14.7/(60+460))*($C$123)*(('Production & Extraction'!$M$263^$G$123)^(('Production & Extraction'!$M$111-1)/'Production & Extraction'!$M$111)-1), \"NA\")","v":"NA"}]
["Fourth ",{"$f":"IF(AND('Production & Extraction'!$M$19=1, 'Production & Extraction'!$M$264>3), $C$124-460, \"NA\")","v":"NA"},{"$f":"IF(AND('Production & Extraction'!$M$19=1, 'Production & Extraction'!$M$264>3), (((($C$123)*('Production & Extraction'!$M$263^($G$123*('Production & Extraction'!$M$111-1)/'Production & Extraction'!$M$111))))-$C$123)*0.2+$C$123, \"NA\")","v":"NA"},{"$f":"IF(AND('Production & Extraction'!$M$19=1, 'Production & Extraction'!$M$264>3), IF($B$124<200, MROUND($B$124, 10), MROUND($B$124, 25)), \"NA\")","v":"NA"},{"$f":"IF(AND('Production & Extraction'!$M$19=1, 'Production & Extraction'!$M$264>3), 'Production & Extraction'!$M$108*'Production & Extraction'!$M$263^3, \"NA\")","v":"NA"},{"$f":"IF(AND('Production & Extraction'!$M$19=1, 'Production & Extraction'!$M$264>3), IF(AND($E$124>=25, $E$124<500), MROUND($E$124, 25), IF($E$124>=500, MROUND($E$124, 100), 10)), \"NA\")","v":"NA"},{"$f":"IF(AND('Production & Extraction'!$M$19=1, 'Production & Extraction'!$M$264>3), INDEX('Input Data'!$J$134:$L$2289,MATCH(1,(('Input Data'!$J$134:$J$2289-F124)=0)*(('Input Data'!$K$134:$K$2289-D124)=0),0),3), \"NA\")","v":"NA"},{"$f":"IF(AND('Production & Extraction'!$M$19=1, 'Production & Extraction'!$M$264>3), ('Production & Extraction'!$M$111/('Production & Extraction'!$M$111-1))*(3.027*14.7/(60+460))*($C$124)*(('Production & Extraction'!$M$263^$G$124)^(('Production & Extraction'!$M$111-1)/'Production & Extraction'!$M$111)-1), \"NA\")","v":"NA"}]
["Fifth",{"$f":"IF(AND('Production & Extraction'!$M$19=1, 'Production & Extraction'!$M$264>4), $C$125-460, \"NA\")","v":"NA"},{"$f":"IF(AND('Production & Extraction'!$M$19=1, 'Production & Extraction'!$M$264>4), (((($C$124)*('Production & Extraction'!$M$263^($G$124*('Production & Extraction'!$M$111-1)/'Production & Extraction'!$M$111))))-$C$124)*0.2+$C$124, \"NA\")","v":"NA"},{"$f":"IF(AND('Production & Extraction'!$M$19=1, 'Production & Extraction'!$M$264>4), IF($B$125<200, MROUND($B$125, 10), MROUND($B$125, 25)), \"NA\")","v":"NA"},{"$f":"IF(AND('Production & Extraction'!$M$19=1, 'Production & Extraction'!$M$264>4), 'Production & Extraction'!$M$108*'Production & Extraction'!$M$263^4, \"NA\")","v":"NA"},{"$f":"IF(AND('Production & Extraction'!$M$19=1, 'Production & Extraction'!$M$264>4), IF(AND($E$125>=25, $E$125<500), MROUND($E$125, 25), IF($E$125>=500, MROUND($E$125, 100), 10)), \"NA\")","v":"NA"},{"$f":"IF(AND('Production & Extraction'!$M$19=1, 'Production & Extraction'!$M$264>4), INDEX('Input Data'!$J$134:$L$2289,MATCH(1,(('Input Data'!$J$134:$J$2289-F125)=0)*(('Input Data'!$K$134:$K$2289-D125)=0),0),3), \"NA\")","v":"NA"},{"$f":"IF(AND('Production & Extraction'!$M$19=1, 'Production & Extraction'!$M$264>4), ('Production & Extraction'!$M$111/('Production & Extraction'!$M$111-1))*(3.027*14.7/(60+460))*($C$125)*(('Production & Extraction'!$M$263^$G$125)^(('Production & Extraction'!$M$111-1)/'Production & Extraction'!$M$111)-1), \"NA\")","v":"NA"}]
[]
["Oxygen Z-Factor Lookup and Compressor Stages (NIST REPFROP; Schmidt and Wagner, 1985)"]
[" Stage","Inlet Temperature (°F)","Inlet Temperature (°R)","Rounded Inlet Temp (°F)","Inlet Pressure (PSI)","Rounded Inlet Pressure (PSI)","Inlet Z Factor","Adiabatic Work of Compression"]
["First  ",{"$f":"$C$129-460","v":196.70000000000005},{"$f":"'Production & Extraction'!$M$110+460","v":656.7},{"$f":"IF($B$129<200, MROUND($B$129, 10), MROUND($B$129, 25))","v":200},{"$f":"'Production & Extraction'!$M$108","v":125},{"$f":"IF(AND($E$129>=25, $E$129<500), MROUND($E$129, 25), IF($E$129>=500, MROUND($E$129, 100), 10))","v":125},{"$f":"INDEX('Input Data'!$N$134:$P$2289,MATCH(1,(('Input Data'!$N$134:$N$2289-F129)=0)*(('Input Data'!$O$134:$O$2289-D129)=0),0),3)","v":0.99878958805328188},{"$f":"IF('Production & Extraction'!$M$19=1, ('Production & Extraction'!$M$111/('Production & Extraction'!$M$111-1))*(3.027*14.7/(60+460))*($C$129)*(('Production & Extraction'!$M$263^$G$129)^(('Production & Extraction'!$M$111-1)/'Production & Extraction'!$M$111)-1), \"NA\")","v":"NA"}]
["Second ",{"$f":"IF(AND('Production & Extraction'!$M$19=1, 'Production & Extraction'!$M$264>1), $C$130-460, \"NA\")","v":"NA"},{"$f":"IF(AND('Production & Extraction'!$M$19=1, 'Production & Extraction'!$M$264>1), (((($C$129)*('Production & Extraction'!$M$263^($G$129*('Production & Extraction'!$M$111-1)/'Production & Extraction'!$M$111))))-$C$129)*0.2+$C$129, \"NA\")","v":"NA"},{"$f":"IF(AND('Production & Extraction'!$M$19=1, 'Production & Extraction'!$M$264>1), IF($B$130<200, MROUND($B$130, 10), MROUND($B$130, 25)), \"NA\")","v":"NA"},{"$f":"IF(AND('Production & Extraction'!$M$19=1, 'Production & Extraction'!$M$264>1), 'Production & Extraction'!$M$108*'Production & Extraction'!$M$263, \"NA\")","v":"NA"},{"$f":"IF(AND('Production & Extraction'!$M$19=1, 'Production & Extraction'!$M$264>1), IF(AND($E$130>=25, $E$130<500), MROUND($E$130, 25), IF($E$130>=500, MROUND($E$130, 100), 10)), \"NA\")","v":"NA"},{"$f":"IF(AND('Production & Extraction'!$M$19=1, 'Production & Extraction'!$M$264>1), INDEX('Input Data'!$N$134:$P$2289,MATCH(1,(('Input Data'!$N$134:$N$2289-F130)=0)*(('Input Data'!$O$134:$O$2289-D130)=0),0),3), \"NA\")","v":"NA"},{"$f":"IF(AND('Production & Extraction'!$M$19=1, 'Production & Extraction'!$M$264>1), ('Production & Extraction'!$M$111/('Production & Extraction'!$M$111-1))*(3.027*14.7/(60+460))*($C$130)*(('Production & Extraction'!$M$263^$G$130)^(('Production & Extraction'!$M$111-1)/'Production & Extraction'!$M$111)-1), \"NA\")","v":"NA"}]
["Third ",{"$f":"IF(AND('Production & Extraction'!$M$19=1, 'Production & Extraction'!$M$264>2), $C$131-460, \"NA\")","v":"NA"},{"$f":"IF(AND('Production & Extraction'!$M$19=1, 'Production & Extraction'!$M$264>2), (((($C$130)*('Production & Extraction'!$M$263^($G$130*('Production & Extraction'!$M$111-1)/'Production & Extraction'!$M$111))))-$C$130)*0.2+$C$130, \"NA\")","v":"NA"},{"$f":"IF(AND('Production & Extraction'!$M$19=1, 'Production & Extraction'!$M$264>2), IF($B$131<200, MROUND($B$131, 10), MROUND($B$131, 25)), \"NA\")","v":"NA"},{"$f":"IF(AND('Production & Extraction'!$M$19=1, 'Production & Extraction'!$M$264>2), 'Production & Extraction'!$M$108*'Production & Extraction'!$M$263^2, \"NA\")","v":"NA"},{"$f":"IF(AND('Production & Extraction'!$M$19=1, 'Production & Extraction'!$M$264>2), IF(AND($E$131>=25, $E$131<500), MROUND($E$131, 25), IF($E$131>=500, MROUND($E$131, 100), 10)), \"NA\")","v":"NA"},{"$f":"IF(AND('Production & Extraction'!$M$19=1, 'Production & Extraction'!$M$264>2), INDEX('Input Data'!$N$134:$P$2289,MATCH(1,(('Input Data'!$N$134:$N$2289-F131)=0)*(('Input Data'!$O$134:$O$2289-D131)=0),0),3), \"NA\")","v":"NA"},{"$f":"IF(AND('Production & Extraction'!$M$19=1, 'Production & Extraction'!$M$264>2), ('Production & Extraction'!$M$111/('Production & Extraction'!$M$111-1))*(3.027*14.7/(60+460))*($C$131)*(('Production & Extraction'!$M$263^$G$131)^(('Production & Extraction'!$M$111-1)/'Production & Extraction'!$M$111)-1), \"NA\")","v":"NA"}]
["Fourth ",{"$f":"IF(AND('Production & Extraction'!$M$19=1, 'Production & Extraction'!$M$264>3), $C$132-460, \"NA\")","v":"NA"},{"$f":"IF(AND('Production & Extraction'!$M$19=1, 'Production & Extraction'!$M$264>3), (((($C$131)*('Production & Extraction'!$M$263^($G$131*('Production & Extraction'!$M$111-1)/'Production & Extraction'!$M$111))))-$C$131)*0.2+$C$131, \"NA\")","v":"NA"},{"$f":"IF(AND('Production & Extraction'!$M$19=1, 'Production & Extraction'!$M$264>3), IF($B$132<200, MROUND($B$132, 10), MROUND($B$132, 25)), \"NA\")","v":"NA"},{"$f":"IF(AND('Production & Extraction'!$M$19=1, 'Production & Extraction'!$M$264>3), 'Production & Extraction'!$M$108*'Production & Extraction'!$M$263^3, \"NA\")","v":"NA"},{"$f":"IF(AND('Production & Extraction'!$M$19=1, 'Production & Extraction'!$M$264>3), IF(AND($E$132>=25, $E$132<500), MROUND($E$132, 25), IF($E$132>=500, MROUND($E$132, 100), 10)), \"NA\")","v":"NA"},{"$f":"IF(AND('Production & Extraction'!$M$19=1, 'Production & Extraction'!$M$264>3), INDEX('Input Data'!$N$134:$P$2289,MATCH(1,(('Input Data'!$N$134:$N$2289-F132)=0)*(('Input Data'!$O$134:$O$2289-D132)=0),0),3), \"NA\")","v":"NA"},{"$f":"IF(AND('Production & Extraction'!$M$19=1, 'Production & Extraction'!$M$264>3), ('Production & Extraction'!$M$111/('Production & Extraction'!$M$111-1))*(3.027*14.7/(60+460))*($C$132)*(('Production & Extraction'!$M$263^$G$132)^(('Production & Extraction'!$M$111-1)/'Production & Extraction'!$M$111)-1), \"NA\")","v":"NA"}]
["Fifth",{"$f":"IF(AND('Production & Extraction'!$M$19=1, 'Production & Extraction'!$M$264>4), $C$133-460, \"NA\")","v":"NA"},{"$f":"IF(AND('Production & Extraction'!$M$19=1, 'Production & Extraction'!$M$264>4), (((($C$132)*('Production & Extraction'!$M$263^($G$132*('Production & Extraction'!$M$111-1)/'Production & Extraction'!$M$111))))-$C$132)*0.2+$C$132, \"NA\")","v":"NA"},{"$f":"IF(AND('Production & Extraction'!$M$19=1, 'Production & Extraction'!$M$264>4), IF($B$133<200, MROUND($B$133, 10), MROUND($B$133, 25)), \"NA\")","v":"NA"},{"$f":"IF(AND('Production & Extraction'!$M$19=1, 'Production & Extraction'!$M$264>4), 'Production & Extraction'!$M$108*'Production & Extraction'!$M$263^4, \"NA\")","v":"NA"},{"$f":"IF(AND('Production & Extraction'!$M$19=1, 'Production & Extraction'!$M$264>4), IF(AND($E$133>=25, $E$133<500), MROUND($E$133, 25), IF($E$133>=500, MROUND($E$133, 100), 10)), \"NA\")","v":"NA"},{"$f":"IF(AND('Production & Extraction'!$M$19=1, 'Production & Extraction'!$M$264>4), INDEX('Input Data'!$N$134:$P$2289,MATCH(1,(('Input Data'!$N$134:$N$2289-F133)=0)*(('Input Data'!$O$134:$O$2289-D133)=0),0),3), \"NA\")","v":"NA"},{"$f":"IF(AND('Production & Extraction'!$M$19=1, 'Production & Extraction'!$M$264>4), ('Production & Extraction'!$M$111/('Production & Extraction'!$M$111-1))*(3.027*14.7/(60+460))*($C$133)*(('Production & Extraction'!$M$263^$G$133)^(('Production & Extraction'!$M$111-1)/'Production & Extraction'!$M$111)-1), \"NA\")","v":"NA"}]
[]
[]
["\"Surface Processing\" Worksheet Compressors"]
[]
["Pre-Membrane Compressor "]
[]
[]
[]
["Pseudocritical Properties Calculator (Stewart, Burkhardt, Voo, 1959)"]
[null,"Tc","Pc","Share of Composition","Constant J Term 1 (At Bottom)","Constant J Term 2 (At Bottom)","Constant J","Constant K (At Bottom)","Tpc","Ppc"]
[null,"Rankine","PSIA","% Molar","Σyj(Tc/Pc)j","Σyj[(Tc/Pc)j^0.5]","(1/3)(Term1) + (2/3)(Term2^2)","Σyj(Tc/Pc^0.5)j","K^2/J","Tpc/J"]
["N2",{"$f":"'Input Data'!$C$121","v":227.5},{"$f":"'Input Data'!$D$121","v":493.1},{"$f":"IF('Active Field'!$J$116=7, 'Gas Balance'!BP108, \"NA\")","v":"NA"},{"$f":"IF('Active Field'!$J$116=7, (D145/100)*(B145/C145), \"NA\")","v":"NA"},{"$f":"IF('Active Field'!$J$116=7, (D145/100)*(B145/C145)^0.5, \"NA\")","v":"NA"},{"$f":"IF('Active Field'!$J$116=7, (1/3)*$E$152+(2/3)*$F$152^2, \"NA\")","v":"NA"},{"$f":"IF('Active Field'!$J$116=7,  (D145/100)*(B145/C145^0.5), \"NA\")","v":"NA"},{"$f":"IF('Active Field'!$J$116=7, ($H$152^2)/$G$145, \"NA\")","v":"NA"},{"$f":"IF('Active Field'!$J$116=7, $I$145/$G$145, \"NA\")","v":"NA"}]
["CO2",{"$f":"'Input Data'!$C$122","v":547.9},{"$f":"'Input Data'!$D$122","v":1071},{"$f":"IF('Active Field'!$J$116=7, 'Gas Balance'!BP109, \"NA\")","v":"NA"},{"$f":"IF('Active Field'!$J$116=7, (D146/100)*(B146/C146), \"NA\")","v":"NA"},{"$f":"IF('Active Field'!$J$116=7, (D146/100)*(B146/C146)^0.5, \"NA\")","v":"NA"},null,{"$f":"IF('Active Field'!$J$116=7,  (D146/100)*(B146/C146^0.5), \"NA\")","v":"NA"}]
["C1",{"$f":"'Input Data'!$C$123","v":343.3},{"$f":"'Input Data'!$D$123","v":666.4},{"$f":"IF('Active Field'!$J$116=7, 'Gas Balance'!BP110, \"NA\")","v":"NA"},{"$f":"IF('Active Field'!$J$116=7, (D147/100)*(B147/C147), \"NA\")","v":"NA"},{"$f":"IF('Active Field'!$J$116=7, (D147/100)*(B147/C147)^0.5, \"NA\")","v":"NA"},null,{"$f":"IF('Active Field'!$J$116=7,  (D147/100)*(B147/C147^0.5), \"NA\")","v":"NA"}]
["C2",{"$f":"'Input Data'!$C$124","v":549.9},{"$f":"'Input Data'!$D$124","v":706.5},{"$f":"IF('Active Field'!$J$116=7, 'Gas Balance'!BP111, \"NA\")","v":"NA"},{"$f":"IF('Active Field'!$J$116=7, (D148/100)*(B148/C148), \"NA\")","v":"NA"},{"$f":"IF('Active Field'!$J$116=7, (D148/100)*(B148/C148)^0.5, \"NA\")","v":"NA"},null,{"$f":"IF('Active Field'!$J$116=7,  (D148/100)*(B148/C148^0.5), \"NA\")","v":"NA"}]
["C3",{"$f":"'Input Data'!$C$125","v":666.1},{"$f":"'Input Data'!$D$125","v":616},{"$f":"IF('Active Field'!$J$116=7, 'Gas Balance'!BP112, \"NA\")","v":"NA"},{"$f":"IF('Active Field'!$J$116=7, (D149/100)*(B149/C149), \"NA\")","v":"NA"},{"$f":"IF('Active Field'!$J$116=7, (D149/100)*(B149/C149)^0.5, \"NA\")","v":"NA"},null,{"$f":"IF('Active Field'!$J$116=7,  (D149/100)*(B149/C149^0.5), \"NA\")","v":"NA"}]
["C4",{"$f":"'Input Data'!$C$126","v":765.6},{"$f":"'Input Data'!$D$126","v":550.6},{"$f":"IF('Active Field'!$J$116=7, 'Gas Balance'!BP113, \"NA\")","v":"NA"},{"$f":"IF('Active Field'!$J$116=7, (D150/100)*(B150/C150), \"NA\")","v":"NA"},{"$f":"IF('Active Field'!$J$116=7, (D150/100)*(B150/C150)^0.5, \"NA\")","v":"NA"},null,{"$f":"IF('Active Field'!$J$116=7,  (D150/100)*(B150/C150^0.5), \"NA\")","v":"NA"}]
["H2S",{"$f":"'Input Data'!$C$127","v":672.4},{"$f":"'Input Data'!$D$127","v":1300},{"$f":"IF('Active Field'!$J$116=7, 'Gas Balance'!BP114, \"NA\")","v":"NA"},{"$f":"IF('Active Field'!$J$116=7, (D151/100)*(B151/C151), \"NA\")","v":"NA"},{"$f":"IF('Active Field'!$J$116=7, (D151/100)*(B151/C151)^0.5, \"NA\")","v":"NA"},null,{"$f":"IF('Active Field'!$J$116=7,  (D151/100)*(B151/C151^0.5), \"NA\")","v":"NA"}]
[null,null,null,null,{"$f":"IF('Active Field'!$J$116=7, SUM($E$145:$E$151), \"NA\")","v":"NA"},{"$f":"IF('Active Field'!$J$116=7, SUM($F$145:$F$151), \"NA\")","v":"NA"},null,{"$f":"IF('Active Field'!$J$116=7, SUM($H$145:$H$151), \"NA\")","v":"NA"}]
[]
[]
["Acid Gas Correction Factor (Wichert and Aziz, 1972)"]
["Factor","Value"]
["CO2+H2S",{"$f":"IF('Active Field'!$J$116=7, ('Gas Balance'!$BP$109+'Gas Balance'!$BP$114)/100, \"NA\")","v":"NA"},"Mole Percentage"]
["H2S",{"$f":"IF('Active Field'!$J$116=7, 'Gas Balance'!$BP$114/100, \"NA\")","v":"NA"},"Mole Percentage"]
["ε",{"$f":"IF('Active Field'!$J$116=7, 120*($B$157^0.9 - $B$157^1.6) + 15*($B$158^0.5 - $B$158^4), \"NA\")","v":"NA"},"Rankine"]
[]
["Corrected Pseudocritical Temperature"]
["Original Tpc",{"$f":"$I$145","v":"NA"},"Rankine"]
["Corrected T'pc",{"$f":"IF('Active Field'!$J$116=7, $B$162-$B$159, \"NA\")","v":"NA"},"Rankine"]
[]
["Corrected Pseudocritical Pressure"]
["Original Ppc",{"$f":"$J$145","v":"NA"},"psi"]
["Corrected P'pc",{"$f":"IF('Active Field'!$J$116=7, ($B$166*($B$162 - $B$159)) / ($B$162 + $B$158*(1 - $B$158)*$B$159), \"NA\")","v":"NA"},"psi"]
[]
[]
[]
["Z-Factors (Standing (1977) modification of the Beggs and Brill (1974) correlation of Standing and Katz (1942)) and temperature, pressure, and adiabatic work calculations for gas reinjection compressor"]
[" Stage","Inlet Temperature (°F)","Inlet Temperature (°R)","Inlet Pressure (PSI)","Inlet Reduced Temperature ","Inlet Reduced Pressure ","Constant A ","Constant B","Constant C","Constant D","Inlet Z Factor","Adiabatic Work of Compression"]
["First  ",{"$f":"$C$173-460","v":196.70000000000005},{"$f":"'Surface Processing'!$M$143+460","v":656.7},{"$f":"'Surface Processing'!$M$141","v":14.5},{"$f":"IF('Active Field'!$J$116=7, $C$173/$B$163, \"NA\")","v":"NA"},{"$f":"IF('Active Field'!$J$116=7, $D$173/$B$167, \"NA\")","v":"NA"},{"$f":"IF('Active Field'!$J$116=7, 1.39*($E$173 - 0.92)^0.5 - 0.36*$E$173 - 0.101, \"NA\")","v":"NA"},{"$f":"IF('Active Field'!$J$116=7, $F$173*(0.62 - 0.23*$E$173) + $F$173^2*(0.066/($E$173 - 0.86) - 0.037) + 0.32*$F$173^6/(10^(9*$E$173-9)), \"NA\")","v":"NA"},{"$f":"IF('Active Field'!$J$116=7, 0.132 - 0.32*LOG($E$173), \"NA\")","v":"NA"},{"$f":"IF('Active Field'!$J$116=7, 10^(0.3106 - 0.49*$E$173 + 0.1824*$E$173^2), \"NA\")","v":"NA"},{"$f":"IF('Active Field'!$J$116=7, $G$173 + (1 - $G$173)*EXP(-1*$H$173) + $I$173*$F$173^$J$173, \"NA\")","v":"NA"},{"$f":"IF('Active Field'!$J$116=7, ('Surface Processing'!$M$144/('Surface Processing'!$M$144-1))*(3.027*14.7/(60+460))*($C$173)*(('Surface Processing'!$M$444^$K$173)^(('Surface Processing'!$M$144-1)/'Surface Processing'!$M$144)-1), \"NA\")","v":"NA"}]
["Second ",{"$f":"IF(AND('Active Field'!$J$116=7, 'Surface Processing'!$M$445>1), $C$174-460, \"NA\")","v":"NA"},{"$f":"IF(AND('Active Field'!$J$116=7, 'Surface Processing'!$M$445>1), (((($C$173)*('Surface Processing'!$M$444^($K$173*('Surface Processing'!$M$144-1)/'Surface Processing'!$M$144))))-$C$173)*0.2+$C$173, \"NA\")","v":"NA"},{"$f":"IF(AND('Active Field'!$J$116=7, 'Surface Processing'!$M$445>1), 'Surface Processing'!$M$141*'Surface Processing'!$M$444, \"NA\")","v":"NA"},{"$f":"IF(AND('Active Field'!$J$116=7, 'Surface Processing'!$M$445>1), $C$174/$B$163, \"NA\")","v":"NA"},{"$f":"IF(AND('Active Field'!$J$116=7, 'Surface Processing'!$M$445>1), $D$174/$B$167, \"NA\")","v":"NA"},{"$f":"IF(AND('Active Field'!$J$116=7, 'Surface Processing'!$M$445>1), 1.39*($E$174 - 0.92)^0.5 - 0.36*$E$174 - 0.101, \"NA\")","v":"NA"},{"$f":"IF(AND('Active Field'!$J$116=7, 'Surface Processing'!$M$445>1), $F$174*(0.62 - 0.23*$E$174) + $F$174^2*(0.066/($E$174 - 0.86) - 0.037) + 0.32*$F$174^6/(10^(9*$E$174-9)), \"NA\")","v":"NA"},{"$f":"IF(AND('Active Field'!$J$116=7, 'Surface Processing'!$M$445>1), 0.132 - 0.32*LOG($E$174), \"NA\")","v":"NA"},{"$f":"IF(AND('Active Field'!$J$116=7, 'Surface Processing'!$M$445>1), 10^(0.3106 - 0.49*$E$174 + 0.1824*$E$174^2), \"NA\")","v":"NA"},{"$f":"IF(AND('Active Field'!$J$116=7, 'Surface Processing'!$M$445>1), $G$174 + (1 - $G$174)*EXP(-1*$H$174) + $I$174*$F$174^$J$174, \"NA\")","v":"NA"},{"$f":"IF(AND('Active Field'!$J$116=7, 'Surface Processing'!$M$445>1), ('Surface Processing'!$M$144/('Surface Processing'!$M$144-1))*(3.027*14.7/(60+460))*($C$174)*(('Surface Processing'!$M$444^$K$174)^(('Surface Processing'!$M$144-1)/'Surface Processing'!$M$144)-1), \"NA\")","v":"NA"}]
["Third ",{"$f":"IF(AND('Active Field'!$J$116=7, 'Surface Processing'!$M$445>2), $C$175-460, \"NA\")","v":"NA"},{"$f":"IF(AND('Active Field'!$J$116=7, 'Surface Processing'!$M$445>2), (((($C$174)*('Surface Processing'!$M$444^($K$174*('Surface Processing'!$M$144-1)/'Surface Processing'!$M$144))))-$C$174)*0.2+$C$174, \"NA\")","v":"NA"},{"$f":"IF(AND('Active Field'!$J$116=7, 'Surface Processing'!$M$445>2), 'Surface Processing'!$M$141*'Surface Processing'!$M$444^2, \"NA\")","v":"NA"},{"$f":"IF(AND('Active Field'!$J$116=7, 'Surface Processing'!$M$445>2), $C$175/$B$163, \"NA\")","v":"NA"},{"$f":"IF(AND('Active Field'!$J$116=7, 'Surface Processing'!$M$445>2), $D$175/$B$167, \"NA\")","v":"NA"},{"$f":"IF(AND('Active Field'!$J$116=7, 'Surface Processing'!$M$445>2), 1.39*($E$175 - 0.92)^0.5 - 0.36*$E$175 - 0.101, \"NA\")","v":"NA"},{"$f":"IF(AND('Active Field'!$J$116=7, 'Surface Processing'!$M$445>2), $F$175*(0.62 - 0.23*$E$175) + $F$175^2*(0.066/($E$175 - 0.86) - 0.037) + 0.32*$F$175^6/(10^(9*$E$175-9)), \"NA\")","v":"NA"},{"$f":"IF(AND('Active Field'!$J$116=7, 'Surface Processing'!$M$445>2), 0.132 - 0.32*LOG($E$175), \"NA\")","v":"NA"},{"$f":"IF(AND('Active Field'!$J$116=7, 'Surface Processing'!$M$445>2), 10^(0.3106 - 0.49*$E$175 + 0.1824*$E$175^2), \"NA\")","v":"NA"},{"$f":"IF(AND('Active Field'!$J$116=7, 'Surface Processing'!$M$445>2), $G$175 + (1 - $G$175)*EXP(-1*$H$175) + $I$175*$F$175^$J$175, \"NA\")","v":"NA"},{"$f":"IF(AND('Active Field'!$J$116=7, 'Surface Processing'!$M$445>2), ('Surface Processing'!$M$144/('Surface Processing'!$M$144-1))*(3.027*14.7/(60+460))*($C$175)*(('Surface Processing'!$M$444^$K$175)^(('Surface Processing'!$M$144-1)/'Surface Processing'!$M$144)-1), \"NA\")","v":"NA"}]
["Fourth ",{"$f":"IF(AND('Active Field'!$J$116=7, 'Surface Processing'!$M$445>3), $C$176-460, \"NA\")","v":"NA"},{"$f":"IF(AND('Active Field'!$J$116=7, 'Surface Processing'!$M$445>3), (((($C$175)*('Surface Processing'!$M$444^($K$175*('Surface Processing'!$M$144-1)/'Surface Processing'!$M$144))))-$C$175)*0.2+$C$175, \"NA\")","v":"NA"},{"$f":"IF(AND('Active Field'!$J$116=7, 'Surface Processing'!$M$445>3), 'Surface Processing'!$M$141*'Surface Processing'!$M$444^3, \"NA\")","v":"NA"},{"$f":"IF(AND('Active Field'!$J$116=7, 'Surface Processing'!$M$445>3), $C$176/$B$163, \"NA\")","v":"NA"},{"$f":"IF(AND('Active Field'!$J$116=7, 'Surface Processing'!$M$445>3), $D$176/$B$167, \"NA\")","v":"NA"},{"$f":"IF(AND('Active Field'!$J$116=7, 'Surface Processing'!$M$445>3), 1.39*($E$176 - 0.92)^0.5 - 0.36*$E$176 - 0.101, \"NA\")","v":"NA"},{"$f":"IF(AND('Active Field'!$J$116=7, 'Surface Processing'!$M$445>3), $F$176*(0.62 - 0.23*$E$176) + $F$176^2*(0.066/($E$176 - 0.86) - 0.037) + 0.32*$F$176^6/(10^(9*$E$176-9)), \"NA\")","v":"NA"},{"$f":"IF(AND('Active Field'!$J$116=7, 'Surface Processing'!$M$445>3), 0.132 - 0.32*LOG($E$176), \"NA\")","v":"NA"},{"$f":"IF(AND('Active Field'!$J$116=7, 'Surface Processing'!$M$445>3), 10^(0.3106 - 0.49*$E$176 + 0.1824*$E$176^2), \"NA\")","v":"NA"},{"$f":"IF(AND('Active Field'!$J$116=7, 'Surface Processing'!$M$445>3), $G$176 + (1 - $G$176)*EXP(-1*$H$176) + $I$176*$F$176^$J$176, \"NA\")","v":"NA"},{"$f":"IF(AND('Active Field'!$J$116=7, 'Surface Processing'!$M$445>3), ('Surface Processing'!$M$144/('Surface Processing'!$M$144-1))*(3.027*14.7/(60+460))*($C$176)*(('Surface Processing'!$M$444^$K$176)^(('Surface Processing'!$M$144-1)/'Surface Processing'!$M$144)-1), \"NA\")","v":"NA"}]
["Fifth",{"$f":"IF(AND('Active Field'!$J$116=7, 'Surface Processing'!$M$445>4), $C$177-460, \"NA\")","v":"NA"},{"$f":"IF(AND('Active Field'!$J$116=7, 'Surface Processing'!$M$445>4), (((($C$176)*('Surface Processing'!$M$444^($K$176*('Surface Processing'!$M$144-1)/'Surface Processing'!$M$144))))-$C$176)*0.2+$C$176, \"NA\")","v":"NA"},{"$f":"IF(AND('Active Field'!$J$116=7, 'Surface Processing'!$M$445>4), 'Surface Processing'!$M$141*'Surface Processing'!$M$444^4, \"NA\")","v":"NA"},{"$f":"IF(AND('Active Field'!$J$116=7, 'Surface Processing'!$M$445>4), $C$177/$B$163, \"NA\")","v":"NA"},{"$f":"IF(AND('Active Field'!$J$116=7, 'Surface Processing'!$M$445>4), $D$177/$B$167, \"NA\")","v":"NA"},{"$f":"IF(AND('Active Field'!$J$116=7, 'Surface Processing'!$M$445>4), 1.39*($E$177 - 0.92)^0.5 - 0.36*$E$177 - 0.101, \"NA\")","v":"NA"},{"$f":"IF(AND('Active Field'!$J$116=7, 'Surface Processing'!$M$445>4), $F$177*(0.62 - 0.23*$E$177) + $F$177^2*(0.066/($E$177 - 0.86) - 0.037) + 0.32*$F$177^6/(10^(9*$E$177-9)), \"NA\")","v":"NA"},{"$f":"IF(AND('Active Field'!$J$116=7, 'Surface Processing'!$M$445>4), 0.132 - 0.32*LOG($E$177), \"NA\")","v":"NA"},{"$f":"IF(AND('Active Field'!$J$116=7, 'Surface Processing'!$M$445>4), 10^(0.3106 - 0.49*$E$177 + 0.1824*$E$177^2), \"NA\")","v":"NA"},{"$f":"IF(AND('Active Field'!$J$116=7, 'Surface Processing'!$M$445>4), $G$177 + (1 - $G$177)*EXP(-1*$H$177) + $I$177*$F$177^$J$177, \"NA\")","v":"NA"},{"$f":"IF(AND('Active Field'!$J$116=7, 'Surface Processing'!$M$445>4), ('Surface Processing'!$M$144/('Surface Processing'!$M$144-1))*(3.027*14.7/(60+460))*($C$177)*(('Surface Processing'!$M$444^$K$177)^(('Surface Processing'!$M$144-1)/'Surface Processing'!$M$144)-1), \"NA\")","v":"NA"}]

{"sheet":"Fuel Specs","index":26,"n_rows":412,"n_cols":29,"rows_kept":412,"cut":false,"hidden":false,"merged":[[21,12,21,14],[21,1,21,2],[21,3,21,5],[21,6,21,8],[70,1,70,2],[70,3,70,6],[70,7,70,10],[70,12,70,15],[329,1,329,3],[330,1,330,3],[331,1,331,3],[332,1,332,3],[21,9,21,11],[328,1,328,3],[70,17,70,19],[345,1,345,3],[346,1,346,3],[347,1,347,3],[348,1,348,3],[344,1,344,3],[338,1,338,3],[340,1,340,3],[341,1,341,3],[342,1,342,3],[343,1,343,3],[333,1,333,3],[334,1,334,3],[335,1,335,3],[336,1,336,3],[337,1,337,3]]}
["Supplemental worksheet: Fuel specifications",null,null,null,null,null,null,"Active field:",null,{"$f":"'Active Field'!C9","v":"Generic"}]
[]
["This sheet provides an overview of crude oil and fuel properties used in the model"]
[]
[]
[]
[]
["1 Crude oil properties"]
[]
[]
["1.1   Crude oil heating value selector",null,null,null,null,null,null,null,null,null,null,null,"User","Default"]
[null,null,"HHV=1",null,null,null,null,null,null,null,null,null,2,2]
[null,null,"LHV=2"]
["1.2   Crude oil API gravity as received at refinery inlet gate",null,null,null,null,null,null,null,null,null,null,null,{"$f":"IF('Active Field'!J111=0,'Active Field'!J73,IF('Active Field'!J111=1,'Surface Processing'!N59,IF('Active Field'!J111=2,'Surface Processing'!O59,IF('Active Field'!J111=3,'Surface Processing'!P59,\"ERROR\"))))","v":30},{"$f":"IF('Active Field'!K111=0,'Active Field'!K73,IF('Active Field'!K111=1,'Surface Processing'!N59,IF('Active Field'!K111=2,'Surface Processing'!O59,IF('Active Field'!K111=3,'Surface Processing'!P59,\"ERROR\"))))","v":30},"deg. API"]
["1.3   Crude oil heating value"]
[null,null,"1.3.1   Btu",null,null,null,null,null,null,null,null,null,{"$f":"IF(M12=1,VLOOKUP(M14,'Fuel Specs'!B24:O65,8,TRUE),VLOOKUP(M14,'Fuel Specs'!B24:O65,5,TRUE))","v":5.5145999999999997},{"$f":"IF(N12=1,VLOOKUP(N14,'Fuel Specs'!B24:O65,8,TRUE),VLOOKUP(N14,'Fuel Specs'!B24:O65,5,TRUE))","v":5.5145999999999997},"MMBtu/bbl"]
[null,null,"1.3.2   MJ",null,null,null,null,null,null,null,null,null,{"$f":"M16*'Input Data'!E48","v":5818.1787299999996},{"$f":"N16*'Input Data'!E48","v":5818.1787299999996},"MJ/bbl"]
[]
[]
[]
[null,"Table 1.1: Crude oil heating values"]
[null,"Crude density",null,"LHV - US Standard Units",null,null,"HHV - US Standard Units",null,null,"LHV - SI units",null,null,"HHV - SI units"]
[null,"Deg API","SG","Btu/lb","Btu/gal","MMBtu/bbl","Btu/lb","Btu/l","MMBtu/bbl","MJ/lb","MJ/kg","MJ/bbl","MJ/lb","MJ/kg","MJ/bbl"]
[null,4,{"$f":"141.5/(B24+131.5)","v":1.0442804428044281},16910,147250,{"$f":"E24*42/1000000","v":6.1844999999999999},17930,{"$f":"G24*2.204*C24","v":41267.582140221406},{"$f":"H24*158.98/1000000","v":6.5607202086523984},{"$f":"D24*1.055/1000","v":17.840049999999998},{"$f":"J24/0.45359","v":39.330783306510284},{"$f":"F24*1055.055","v":6524.9876475000001},{"$f":"G24*1.055/1000","v":18.916149999999998},{"$f":"M24*'Input Data'!$E$18","v":41.691194600000003},{"$f":"N24*C24*'Input Data'!$E$33","v":6921.8776424121343}]
[null,5,1.0366300366300367,16990,146860,{"$f":"E25*42/1000000","v":6.16812},17980,{"$f":"G25*2.204*C25","v":41079.492161172173},{"$f":"H25*158.98/1000000","v":6.5308176637831519},17.92445,{"$f":"J25/0.45359","v":39.516854428007676},{"$f":"F25*1055.055","v":6507.7058466000008},{"$f":"G25*1.055/1000","v":18.968899999999998},{"$f":"M25*'Input Data'!$E$18","v":41.807455599999997},{"$f":"N25*C25*'Input Data'!$E$33","v":6890.3290090001037}]
[null,6,1.0290909090909091,17050,146340,6.14628,18030,40894.138036363634,6.5013500650210903,17.987749999999998,39.656407769130709,6484.6634454000005,19.021649999999998,{"$f":"M26*'Input Data'!$E$18","v":41.923716599999999},{"$f":"N26*C26*'Input Data'!$E$33","v":6859.2392648013374}]
[null,7,1.0216606498194947,17110,145790,6.1231799999999996,18090,40733.977906137188,6.4758878075176893,18.05105,39.795961110253756,6460.2916748999996,19.084949999999996,{"$f":"M27*'Input Data'!$E$18","v":42.063229799999995},{"$f":"N27*C27*'Input Data'!$E$33","v":6832.3753496620066}]
[null,8,1.0143369175627239,17170,145260,6.1009200000000003,18150,40576.113978494628,6.450790600301076,18.114349999999998,39.93551445137679,6436.8061506000004,19.148250000000001,{"$f":"M28*'Input Data'!$E$18","v":42.202743000000005},{"$f":"N28*C28*'Input Data'!$E$33","v":6805.8965802594403}]
[null,9,1.0071174377224199,17230,144700,6.0773999999999999,18210,40420.497224199295,6.4260506487032032,18.177649999999996,40.07506779249983,6411.9912570000006,19.211549999999999,{"$f":"M29*'Input Data'!$E$18","v":42.342256200000001},{"$f":"N29*C29*'Input Data'!$E$33","v":6779.7947328412511}]
[null,10,1,17270,144000,6.048,18260,40245.040000000001,6.3981564591999991,18.219849999999997,40.168103353248526,6380.9726400000009,19.264299999999999,{"$f":"M30*'Input Data'!$E$18","v":42.458517200000003},{"$f":"N30*C30*'Input Data'!$E$33","v":6750.3650116315603}]
[null,11,0.99298245614035086,17310,143410,6.0232200000000002,18310,40072.045333333335,6.3706537670933336,18.262049999999999,40.261138913997222,6354.8283771000006,19.317049999999998,{"$f":"M31*'Input Data'!$E$18","v":42.574778199999997},{"$f":"N31*C31*'Input Data'!$E$33","v":6721.3483391406007}]
[null,12,{"$f":"141.5/(B32+131.5)","v":0.98606271777003485},17350,142720,5.9942399999999996,18360,39901.461742160282,6.3435343877686412,18.30425,40.354174474745918,6324.2528831999998,19.369799999999998,{"$f":"M32*'Input Data'!$E$18","v":42.691039199999999},{"$f":"N32*C32*'Input Data'!$E$33","v":6692.7360802035228}]
[null,13,{"$f":"141.5/(B33+131.5)","v":0.97923875432525953},17400,142030,5.9652599999999998,18410,39733.239169550179,6.3167903631750866,18.356999999999999,40.470468925681779,6293.6773893,19.422549999999998,{"$f":"M33*'Input Data'!$E$18","v":42.8073002},{"$f":"N33*C33*'Input Data'!$E$33","v":6664.5198386911816}]
[null,14,{"$f":"141.5/(B34+131.5)","v":0.97250859106529208},17440,141440,5.94048,18450,39545.894845360825,6.2870063625154637,18.3992,40.563504486430482,6267.5331264000006,19.464749999999999,{"$f":"M34*'Input Data'!$E$18","v":42.900309},{"$f":"N34*C34*'Input Data'!$E$33","v":6633.0962751629659}]
[null,15,{"$f":"141.5/(B35+131.5)","v":0.96587030716723554},17480,140750,5.9115000000000002,18500,39382.39590443686,6.2610133008873712,18.441399999999998,40.656540047179163,6236.9576325000007,19.517499999999998,{"$f":"M35*'Input Data'!$E$18","v":43.016570000000002},{"$f":"N35*C35*'Input Data'!$E$33","v":6605.6723359582356}]
[null,16,0.95932203389830506,17520,140160,5.8867200000000004,18550,39221.113898305091,6.2353726875525437,18.483599999999999,40.749575607927866,6210.8133696000004,19.570250000000001,{"$f":"M36*'Input Data'!$E$18","v":43.13283100000001},{"$f":"N36*C36*'Input Data'!$E$33","v":6578.6202467766216}]
[null,17,0.95286195286195285,17550,139470,5.8577399999999997,18600,39062.004040404041,6.2100774023434342,18.515250000000002,40.81935227848939,6180.2378756999997,19.623000000000001,{"$f":"M37*'Input Data'!$E$18","v":43.249092000000005},{"$f":"N37*C37*'Input Data'!$E$33","v":6551.9324954964413}]
[null,18,0.94648829431438131,17590,138790,5.82918,18650,38905.022742474925,6.1851205155986628,18.557449999999996,40.912387839238072,6150.1055049000006,19.675750000000001,{"$f":"M38*'Input Data'!$E$18","v":43.365353000000006},{"$f":"N38*C38*'Input Data'!$E$33","v":6525.6017709892403}]
[null,19,0.94019933554817281,17630,138190,5.8039800000000001,18700,38750.127574750833,6.1604952818338869,18.599649999999997,41.005423399986768,6123.5181189000004,19.7285,{"$f":"M39*'Input Data'!$E$18","v":43.481614000000008},{"$f":"N39*C39*'Input Data'!$E$33","v":6499.6209564422697}]
[null,20,0.93399339933993397,17660,137510,5.7754200000000004,18740,38576.692013201326,6.1329224962587459,18.6313,41.075200070548291,6093.3857481000005,19.770699999999998,{"$f":"M40*'Input Data'!$E$18","v":43.5746228},{"$f":"N40*C40*'Input Data'!$E$33","v":6470.5303319465165}]
[null,21,0.9278688524590164,17690,136910,5.7502199999999997,18780,38405.531016393448,6.1057113209862299,18.662949999999999,41.144976741109808,6066.7983621000003,19.812899999999999,{"$f":"M41*'Input Data'!$E$18","v":43.6676316},{"$f":"N41*C41*'Input Data'!$E$33","v":6441.8212238375954}]
[null,22,0.92182410423452765,17730,136230,5.72166,18820,38236.600130293162,6.0788546887140074,18.705149999999996,41.238012301858497,6036.6659913000003,19.8551,{"$f":"M42*'Input Data'!$E$18","v":43.760640400000007},{"$f":"N42*C42*'Input Data'!$E$33","v":6413.4861757691815}]
[null,23,0.91585760517799353,17760,135640,5.6968800000000002,18860,38069.856051779934,6.0523457151119739,18.736799999999999,41.307788972420028,6010.5217284000009,19.897299999999998,{"$f":"M43*'Input Data'!$E$18","v":43.8536492},{"$f":"N43*C43*'Input Data'!$E$33","v":6385.5179244395149}]
[null,24,0.909967845659164,17800,135040,5.6716800000000003,18900,37905.256591639874,6.0261776929389068,18.779,41.400824533168723,5983.9343424000008,19.939499999999999,{"$f":"M44*'Input Data'!$E$18","v":43.946657999999999},{"$f":"N44*C44*'Input Data'!$E$33","v":6357.9093933841868}]
[null,25,0.90415335463258784,17830,134350,5.6426999999999996,18940,37742.760638977634,6.000344086384664,18.810649999999999,41.47060120373024,5953.3588485,19.981699999999996,{"$f":"M45*'Input Data'!$E$18","v":44.039666799999999},{"$f":"N45*C45*'Input Data'!$E$33","v":6330.6536870068821}]
[null,26,0.89841269841269844,17860,133760,5.6179199999999998,18980,37582.328126984132,5.9748385256279368,18.842299999999998,41.540377874291757,5927.2145855999997,20.023899999999998,{"$f":"M46*'Input Data'!$E$18","v":44.132675599999999},{"$f":"N46*C46*'Input Data'!$E$33","v":6303.7440848375436}]
[null,27,0.89274447949526814,17890,133170,5.59314,19020,37423.919999999998,5.9496548015999986,18.873949999999997,41.610154544853273,5901.0703227000004,20.066099999999999,{"$f":"M47*'Input Data'!$E$18","v":44.225684399999999},{"$f":"N47*C47*'Input Data'!$E$33","v":6277.1740360078793}]
[null,28,0.88714733542319746,17920,132580,5.5683600000000002,19060,37267.498181818184,5.9247868609454546,18.9056,41.679931215414804,5874.926059800001,20.1083,{"$f":"M48*'Input Data'!$E$18","v":44.318693200000006},{"$f":"N48*C48*'Input Data'!$E$33","v":6250.937153934703}]
[null,29,0.88161993769470404,17950,131890,5.5393800000000004,19090,37093.594641744545,5.8971396761445476,18.937249999999999,41.749707885976321,5844.3505659000011,20.139949999999995,{"$f":"M49*'Input Data'!$E$18","v":44.388449799999997},{"$f":"N49*C49*'Input Data'!$E$33","v":6221.7680346516318}]
[null,30,0.87616099071207432,17980,131300,5.5145999999999997,19130,36941.155294117649,5.8729048686588232,18.968899999999998,41.819484556537837,5818.2063029999999,20.182149999999996,{"$f":"M50*'Input Data'!$E$18","v":44.481458599999996},{"$f":"N50*C50*'Input Data'!$E$33","v":6196.1991387425569}]
[null,31,0.87076923076923074,18000,130710,5.4898199999999999,19160,36771.400369230774,5.8459172307003087,18.989999999999998,41.866002336912189,5792.0620401000006,20.213799999999999,{"$f":"M51*'Input Data'!$E$18","v":44.551215200000001},{"$f":"N51*C51*'Input Data'!$E$33","v":6167.725873328769}]
[null,32,0.86544342507645255,18030,130120,5.4650400000000001,19200,36622.796330275232,5.822292160587156,19.021649999999998,41.935779007473705,5765.9177772000003,20.256,{"$f":"M52*'Input Data'!$E$18","v":44.644224000000001},{"$f":"N52*C52*'Input Data'!$E$33","v":6142.8002798853868}]
[null,33,0.86018237082066873,18050,129530,5.4402600000000003,19230,36457.040607902745,5.7959403158443781,19.042750000000002,41.982296787848064,5739.7735143000009,20.287649999999999,{"$f":"M53*'Input Data'!$E$18","v":44.713980599999999},{"$f":"N53*C53*'Input Data'!$E$33","v":6114.9978071140595}]
[null,34,0.85498489425981872,18080,128940,5.4154799999999996,19270,36312.1318429003,5.7729027203842893,19.074399999999997,42.052073458409573,5713.6292513999997,20.329849999999997,{"$f":"M54*'Input Data'!$E$18","v":44.806989399999999},{"$f":"N54*C54*'Input Data'!$E$33","v":6090.6920278888147}]
[null,35,0.8498498498498499,18110,128350,5.3906999999999998,19300,36150.233033033037,5.7471640475915926,19.10605,42.121850128971097,5687.4849885000003,20.361499999999999,{"$f":"M55*'Input Data'!$E$18","v":44.876746000000004},{"$f":"N55*C55*'Input Data'!$E$33","v":6063.5364812288335}]
[null,36,0.84477611940298503,18130,127560,5.3575200000000001,19330,35990.267343283587,5.7217327022352249,19.127149999999997,42.168367909345434,5652.4782636,20.393149999999999,{"$f":"M56*'Input Data'!$E$18","v":44.946502600000002},{"$f":"N56*C56*'Input Data'!$E$33","v":6036.7051799021056}]
[null,37,0.83976261127596441,18150,127160,5.3407200000000001,19360,35832.200356083085,5.6966032126100883,19.148250000000001,42.214885689719793,5634.7533396000008,20.424799999999998,{"$f":"M57*'Input Data'!$E$18","v":45.0162592},{"$f":"N57*C57*'Input Data'!$E$33","v":6010.1923509946873}]
[null,38,0.83480825958702065,18180,126570,5.3159400000000003,19390,35675.9984660767,5.6717702361368731,19.179899999999996,42.284662360281303,5608.6090767000005,20.456449999999997,{"$f":"M58*'Input Data'!$E$18","v":45.086015799999998},{"$f":"N58*C58*'Input Data'!$E$33","v":5983.992357826588}]
[null,39,0.8299120234604106,18200,125980,5.2911599999999996,19420,35521.628856304989,5.6472285555753672,19.201000000000001,42.331180140655661,5582.4648138000002,20.488099999999999,{"$f":"M59*'Input Data'!$E$18","v":45.155772400000004},{"$f":"N59*C59*'Input Data'!$E$33","v":5958.0996959566492}]
[null,40,0.82507288629737607,18230,125390,5.2663799999999998,19450,35369.059475218659,5.622973075370262,19.23265,42.400956811217178,5556.3205508999999,20.519749999999998,{"$f":"M60*'Input Data'!$E$18","v":45.225529000000002},{"$f":"N60*C60*'Input Data'!$E$33","v":5932.5089893271752}]
[null,41,0.82028985507246377,18250,124800,5.2416,19480,35218.25901449276,5.5989988181240591,19.25375,42.447474591591529,5530.1762880000006,20.551399999999997,{"$f":"M61*'Input Data'!$E$18","v":45.2952856},{"$f":"N61*C61*'Input Data'!$E$33","v":5907.2149865426818}]
[null,42,0.81556195965417866,18280,124310,5.2210200000000002,19510,35069.196887608072,5.5753009211919311,19.285399999999999,42.517251262153046,5508.4632561000008,20.58305,{"$f":"M62*'Input Data'!$E$18","v":45.365042200000005},{"$f":"N62*C62*'Input Data'!$E$33","v":5882.2125572773184}]
[null,43,0.81088825214899718,18300,123720,5.1962400000000004,19530,34903.971232091695,5.5490333464779367,19.3065,42.56376904252739,5482.3189932000005,20.604149999999997,{"$f":"M63*'Input Data'!$E$18","v":45.411546599999994},{"$f":"N63*C63*'Input Data'!$E$33","v":5854.4989934686673}]
[null,44,0.80626780626780625,18320,123120,5.1710399999999996,19560,34758.398632478638,5.5258902145914535,19.327599999999997,42.610286822901735,5455.7316072000003,20.6358,{"$f":"M64*'Input Data'!$E$18","v":45.481303200000006},{"$f":"N64*C64*'Input Data'!$E$33","v":5830.0818682010522}]
[null,45,0.80169971671388107,18340,122530,5.1462599999999998,19590,34614.475580736544,5.5030093278254952,19.348699999999997,42.656804603276079,5429.5873443,20.667449999999999,{"$f":"M65*'Input Data'!$E$18","v":45.551059800000004},{"$f":"N65*C65*'Input Data'!$E$33","v":5805.9414242395842}]
[null,"Source: Schmidt (1985) Fuel Oil Manual"]
[null,"Note(s): Correlations relating crude oil energy density as a function of API gravity"]
[]
[]
[null,"Table 1.2: Crude oil chemical composition"]
[null,"Crude density",null,"wt% of constituents",null,null,null,"Relative molar proportions",null,null,null,"Stoichiometric O2","lbmol/lb crude liquid fuel",null,null,null,"lbmol O2 required","CO2 intensity"]
[null,"Deg API","SG","Carbon","Hydrogen","Sulfur","Oxygen + Nitrogen","C","H","S","N","O2 per C atom","C","H","S","N",null,"kgCO2/kg","gCO2/MJ","gCO2/MMBtu"]
[null,4,{"$f":"141.5/(B73+131.5)","v":1.0442804428044281},{"$f":"100-E73-F73-G73","v":85.964206642066415},{"$f":"IF(B73<=9,24.5-15*C73,IF(B73<=15,25-15*C73,IF(B73<=30,25.2-15*C73,IF(B73<=45,25.45-15*C73,\"ERROR\"))))","v":8.8357933579335786},5,{"$f":"$G$119","v":0.2},{"$f":"(D73/12)/(D73/12)","v":1},{"$f":"(E73/1)/(D73/12)","v":1.233414748264746},{"$f":"(F73/32)/(D73/12)","v":2.1811403527598805E-2},{"$f":"(G73/14)/(D73/12)","v":1.9941854653804623E-3},{"$f":"H73*1+I73/4+J73","v":1.3301650905937854},{"$f":"D73/100/12","v":7.1636838868388675E-2},{"$f":"E73/100/1","v":8.8357933579335787E-2},{"$f":"F73/100/32","v":1.5625000000000001E-3},{"$f":"G73/100/14","v":1.4285714285714287E-4},{"$f":"M73*L73","v":9.5288822263222633E-2},{"$f":"1*D73/100*44/12","v":3.1520209102091017},{"$f":"R73*1000/N24","v":75.603996010445371},{"$f":"S73*1055.05","v":79765.995990820389}]
[null,5,1.0366300366300367,{"$f":"100-E74-F74-G74","v":85.849450549450552},{"$f":"IF(B74<=9,24.5-15*C74,IF(B74<=15,25-15*C74,IF(B74<=30,25.2-15*C74,IF(B74<=45,25.45-15*C74,\"ERROR\"))))","v":8.9505494505494489},5,0.2,{"$f":"(D74/12)/(D74/12)","v":1},{"$f":"(E74/1)/(D74/12)","v":1.2511040282631234},{"$f":"(F74/32)/(D74/12)","v":2.1840559118313427E-2},{"$f":"(G74/14)/(D74/12)","v":1.9968511193886565E-3},{"$f":"H74*1+I74/4+J74","v":1.3346165661840943},{"$f":"D74/100/12","v":7.1541208791208802E-2},{"$f":"E74/100/1","v":8.9505494505494484E-2},{"$f":"F74/100/32","v":1.5625000000000001E-3},{"$f":"G74/100/14","v":1.4285714285714287E-4},{"$f":"M74*L74","v":9.5480082417582435E-2},{"$f":"1*D74/100*44/12","v":3.1478131868131869},{"$f":"R74*1000/N25","v":75.293106017511079},{"$f":"S74*1055.05","v":79437.991503775062}]
[null,6,1.0290909090909091,86.236363636363635,9.0636363636363644,4.5,0.2,1,1.2612270714737508,1.9568311195445921E-2,1.9878919309659349E-3,1.3348750790638837,7.1863636363636366E-2,9.063636363636364E-2,1.4062499999999999E-3,1.4285714285714287E-4,9.5928977272727284E-2,3.1619999999999995,75.422702385122022,79574.72215142299]
[null,7,1.0216606498194947,86.124909747292421,9.1750902527075802,4.5,0.2,1,1.2783883705138199,1.9593634465933957E-2,1.9904644536821799E-3,1.339190727094389,7.177075812274368E-2,9.1750902527075795E-2,1.4062499999999999E-3,1.4285714285714287E-4,9.6114733754512641E-2,3.1579133574007225,75.075389417688569,79208.289605132319]
[null,8,1.0143369175627239,86.015053763440861,9.2849462365591418,4.5,0.2,1,1.2953471510363281,1.9618658899417458E-2,1.9930066183535197E-3,1.3434554466584994,7.1679211469534057E-2,9.2849462365591412E-2,1.4062499999999999E-3,1.4285714285714287E-4,9.6297827060931901E-2,3.1538853046594983,74.731761029360058,78845.744474026331]
[null,9,1.0071174377224199,86.406761565836291,9.3932384341637007,4,0.2,1,1.3045143593777673,1.7359752556599384E-2,1.9839717207542156E-3,1.3434883424010413,7.2005634638196911E-2,9.3932384341637004E-2,1.25E-3,1.4285714285714287E-4,9.673873072360617E-2,3.1682479240806636,74.824730857886209,78943.832291612838]
[null,10,1,85.8,10,4,0.2,1,1.3986013986013988,1.7482517482517484E-2,1.9980019980019984E-3,1.3671328671328671,7.1499999999999994E-2,0.1,1.25E-3,1.4285714285714287E-4,9.774999999999999E-2,3.1460000000000004,74.095851844774273,78174.828488829095]
[null,11,0.99298245614035086,85.694736842105257,10.105263157894736,4,0.2,1,1.4150595749907875,1.7503992138557918E-2,2.0004562444066194E-3,1.371268885886255,7.1412280701754385E-2,0.10105263157894737,1.25E-3,1.4285714285714287E-4,9.7925438596491235E-2,3.142140350877193,73.802858963037266,77865.706348952459]
[null,12,{"$f":"141.5/(B81+131.5)","v":0.98606271777003485},85.590940766550517,10.209059233449477,4,0.2,1,1.4313280085977382,1.752521921789893E-2,2.0028821963313063E-3,1.3753572213673335,7.1325783972125426E-2,0.10209059233449476,1.25E-3,1.4285714285714287E-4,9.8098432055749113E-2,3.138334494773519,73.512721957199844,77559.597300943686]
[null,13,{"$f":"141.5/(B82+131.5)","v":0.97923875432525953},85.488581314878886,10.311418685121106,4,0.2,1,1.4474099618719187,1.7546202977390291E-2,2.0052803402731763E-3,1.3793986934453699,7.1240484429065734E-2,0.10311418685121106,1.25E-3,1.4285714285714287E-4,9.8269031141868496E-2,3.1345813148788921,73.225391469067517,77256.449269439676]
[null,14,{"$f":"141.5/(B83+131.5)","v":0.97250859106529208},85.88762886597938,10.412371134020619,3.5,0.2,1,1.4547898836888287,1.5281595467585313E-2,1.9959634896437963E-3,1.3789790663897925,7.1573024054982823E-2,0.10412371134020619,1.0937500000000001E-3,1.4285714285714287E-4,9.8697701890034378E-2,3.1492130584192441,73.40770105919853,77448.79500250741]
[null,15,{"$f":"141.5/(B84+131.5)","v":0.96587030716723554},85.788054607508528,10.511945392491468,3.5,0.2,1,1.4704068682641163,1.5299332826753767E-2,1.9982802059433495E-3,1.3829010498927827,7.1490045506257108E-2,0.10511945392491467,1.0937500000000001E-3,1.4285714285714287E-4,9.8863658987485767E-2,3.1455620022753124,73.124426291434034,77149.925958777472]
[null,16,0.95932203389830506,85.489830508474569,10.810169491525423,3.5,0.2,1,1.517397252126331,1.5352703265330401E-2,2.0052510387370322E-3,1.3947020162969133,7.1241525423728816E-2,0.10810169491525423,1.0937500000000001E-3,1.4285714285714287E-4,9.9360699152542392E-2,3.1346271186440675,72.673808928610939,76674.502110130969]
[null,17,0.95286195286195285,85.392929292929296,10.907070707070707,3.5,0.2,1,1.5327363701960042,1.5370125031050758E-2,2.0075265346678542E-3,1.3985542175800518,7.1160774410774411E-2,0.10907070707070707,1.0937500000000001E-3,1.4285714285714287E-4,9.9522201178451175E-2,3.1310740740740743,72.396296182913488,76381.712287782866]
[null,18,0.94648829431438131,85.297324414715717,11.00267558528428,3.5,0.2,1,1.5479044381447542,1.5387352522555374E-2,2.0097766560072329E-3,1.402363462058744,7.1081103678929766E-2,0.1100267558528428,1.0937500000000001E-3,1.4285714285714287E-4,9.9681542642140464E-2,3.1275685618729092,72.121367532115073,76091.648814758009]
[null,19,0.94019933554817281,85.202990033222591,11.097009966777406,3.5,0.2,1,1.5629043012387847,1.5404388971422555E-2,2.0120018248388646E-3,1.4061304642811188,7.100249169435216E-2,0.11097009966777406,1.0937500000000001E-3,1.4285714285714287E-4,9.9838766611295676E-2,3.1241096345514952,71.848980457613521,75804.266831805144]
[null,20,0.93399339933993397,85.609900990099007,11.19009900990099,3,0.2,1,1.5685240441329542,1.3141003400180418E-2,2.0024386133608257E-3,1.405272014433419,7.1341584158415836E-2,0.1119009900990099,9.3749999999999997E-4,1.4285714285714287E-4,0.10025433168316832,3.1390297029702974,72.038023539019534,76003.716734842557]
[null,21,0.9278688524590164,85.518032786885243,11.281967213114754,3,0.2,1,1.5831001035157,1.3155120193229307E-2,2.0045897437301805E-3,1.4089301460721544,7.1265027322404376E-2,0.11281967213114755,9.3749999999999997E-4,1.4285714285714287E-4,0.10040744535519128,3.1356612021857924,71.807448384395371,75760.44841795633]
[null,22,0.92182410423452765,85.42736156351792,11.372638436482085,3,0.2,1,1.5975169868299639,1.3169082825571376E-2,2.0067173829442096E-3,1.4125483295330623,7.1189467969598269E-2,0.11372638436482084,9.3749999999999997E-4,1.4285714285714287E-4,0.10055856406080348,3.1323365906623235,71.578856297137804,75519.272336295238]
[null,23,0.91585760517799353,85.337864077669906,11.462135922330097,3,0.2,1,1.6117772873102914,1.3182893808732849E-2,2.0088219137116723E-3,1.4161272156363056,7.1114886731391588E-2,0.11462135922330097,9.3749999999999997E-4,1.4285714285714287E-4,0.10070772653721682,3.1290550161812298,71.352215226395117,75280.154674608159]
[null,24,0.909967845659164,85.249517684887465,11.550482315112539,3,0.2,1,1.6258835421648574,1.3196555599978878E-2,2.0109037104729722E-3,1.4196674411411931,7.1041264737406226E-2,0.1155048231511254,9.3749999999999997E-4,1.4285714285714287E-4,0.10085497052518758,3.1258156484458737,71.127493891478025,75043.062430203892]
[null,25,0.90415335463258784,85.662300319488821,11.637699680511181,2.5,0.2,1,1.6302667059521188,1.0944137578648604E-2,2.0012137286671734E-3,1.4185108140666782,7.1385250266240693E-2,0.11637699680511181,7.8125000000000004E-4,1.4285714285714287E-4,0.10126074946751865,3.14095101171459,71.320953130249165,75247.171600069385]
[null,26,0.89841269841269844,85.576190476190476,11.723809523809523,2.5,0.2,1,1.6439819709532022,1.0955149963830617E-2,2.0032274219575984E-3,1.4219506427021311,7.1313492063492065E-2,0.11723809523809522,7.8125000000000004E-4,1.4285714285714287E-4,0.10140426587301588,3.1377936507936504,71.099103059902632,75013.108683350263]
[null,27,0.89274447949526814,85.491167192429018,11.808832807570978,2.5,0.2,1,1.6575512809632225,1.0966045157505157E-2,2.0052196859438004E-3,1.4253538653983107,7.1242639327024182E-2,0.11808832807570978,7.8125000000000004E-4,1.4285714285714287E-4,0.10154597134595161,3.1346761303890638,70.87908695855171,74780.980695619975]
[null,28,0.88714733542319746,85.907210031347958,11.892789968652037,2,0.2,1,1.6612514778648684,8.7303498708236633E-3,1.9955085419025519E-3,1.4240432193370409,7.1589341692789965E-2,0.11892789968652037,6.2500000000000001E-4,1.4285714285714287E-4,0.10194631661442007,3.1499310344827585,71.074546811835106,74987.20061382663]
[null,29,0.88161993769470404,85.824299065420561,11.975700934579439,2,0.2,1,1.6744489938147924,8.7387838661904353E-3,1.9974363122720997E-3,1.4273510323198886,7.1520249221183801E-2,0.11975700934579439,6.2500000000000001E-4,1.4285714285714287E-4,0.10208450155763241,3.1468909657320872,70.894365086209604,74797.09988420544]
[null,30,0.87616099071207432,86.242414860681109,12.057585139318885,1.5,0.2,1,1.6777246080778856,6.5223127263850551E-3,1.9877524499459218E-3,1.4259534647458565,7.1868679050567583E-2,0.12057585139318885,4.6874999999999998E-4,1.4285714285714287E-4,0.10248139189886479,3.1622218782249738,71.090786537853646,75004.334336762491]
[null,31,0.87076923076923074,85.911538461538456,12.388461538461538,1.5,0.2,1,1.7304024712360659,6.5474325110802707E-3,1.9954080033768445E-3,1.4391480503200968,7.1592948717948704E-2,0.12388461538461538,4.6874999999999998E-4,1.4285714285714287E-4,0.10303285256410255,3.1500897435897435,70.70715645910694,74599.585422180768]
[null,32,0.86544342507645255,85.83165137614678,12.468348623853212,1.5,0.2,1,1.7431819274983569,6.553526478651938E-3,1.9972652125415432E-3,1.4423490083532413,7.1526376146788986E-2,0.12468348623853212,4.6874999999999998E-4,1.4285714285714287E-4,0.10316599770642203,3.147160550458715,70.494237965894868,74374.945765917379]
[null,33,0.86018237082066873,86.252735562310036,12.547264437689968,1,0.2,1,1.7456509903214379,4.3476881927889156E-3,1.9875146024177903E-3,1.4407604357731483,7.1877279635258362E-2,0.12547264437689967,3.1250000000000001E-4,1.4285714285714287E-4,0.10355794072948328,3.1626003039513679,70.729562913290877,74623.225351667541]
[null,34,0.85498489425981872,86.174773413897285,12.625226586102718,1,0.2,1,1.7580866538002407,4.3516215377657642E-3,1.9893127029786354E-3,1.443873284987826,7.181231117824774E-2,0.12625226586102717,3.1250000000000001E-4,1.4285714285714287E-4,0.10368787764350454,3.1597416918429002,70.518946578519746,74401.014587667261]
[null,35,0.8498498498498499,86.097747747747746,12.702252252252251,1,0.2,1,1.7703950569486806,4.3555146308668653E-3,1.9910924026819957E-3,1.4469542788680372,7.174812312312312E-2,0.1270225225225225,3.1250000000000001E-4,1.4285714285714287E-4,0.10381625375375375,3.1569174174174175,70.346397606845585,74218.966795102431]
[null,36,0.84477611940298503,86.521641791044772,12.778358208955224,0.5,0.2,1,1.7722768007314191,2.1670878651704776E-3,1.981337476727294E-3,1.4452362880480252,7.2101368159203968E-2,0.12778358208955223,1.5625E-4,1.4285714285714287E-4,0.10420351368159202,3.1724601990049748,70.583026831657747,74468.622458740501]
[null,37,0.83976261127596441,86.446439169139467,12.853560830860534,0.5,0.2,1,1.7842577606758099,2.1689730867125831E-3,1.983061107851505E-3,1.4482334132556649,7.2038699307616222E-2,0.12853560830860533,1.5625E-4,1.4285714285714287E-4,0.10432885138476755,3.1697027695351139,70.412398228218706,74288.600750682148]
[null,38,0.83480825958702065,86.372123893805309,12.92787610619469,0.5,0.2,1,1.7961178477569275,2.1708392887331519E-3,1.984767349698882E-3,1.4512003012279651,7.1976769911504423E-2,0.12927876106194691,1.5625E-4,1.4285714285714287E-4,0.10445271017699115,3.1669778761061949,70.243019258006711,74109.897468159979]
[null,39,0.8299120234604106,86.298680351906157,13.00131964809384,0.5,0.2,1,1.8078588819774464,2.172686757612262E-3,1.9864564641026397E-3,1.4541374072519737,7.1915566959921795E-2,0.1300131964809384,1.5625E-4,1.4285714285714287E-4,0.10457511608015639,3.1642849462365592,70.074871451796028,73932.493125217399]
[null,40,0.82507288629737607,86.22609329446064,13.073906705539358,0.5,0.2,1,1.8194826469837415,2.1745157740092748E-3,1.9881287076656227E-3,1.4570451775199447,7.1855077745383869E-2,0.13073906705539357,1.5625E-4,1.4285714285714287E-4,0.10469609450923227,3.1616234207968898,69.907936749548909,73756.368667611576]
[null,41,0.82028985507246377,86.154347826086948,13.145652173913042,0.5,0.2,1,1.8309908909691908,2.1763266130049711E-3,1.9897843318902593E-3,1.4599240493553027,7.1795289855072456E-2,0.13145652173913042,1.5625E-4,1.4285714285714287E-4,0.10481567028985507,3.1589927536231883,69.742197488720294,73581.505460474349]
[null,42,0.81556195965417866,86.083429394812683,13.21657060518732,0.5,0.2,1,1.8423853275506803,2.17811954423947E-3,1.9914235833046585E-3,1.4627744514319094,7.1736191162343907E-2,0.13216570605187319,1.5625E-4,1.4285714285714287E-4,0.1049338676753122,3.1563924111431318,69.577636392965417,73407.885276398156]
[null,43,0.81088825214899718,86.013323782234963,13.286676217765041,0.5,0.2,1,1.8536676366192346,2.1798948320460778E-3,1.9930467035849855E-3,1.4655968039868548,7.1677769818529136E-2,0.13286676217765042,1.5625E-4,1.4285714285714287E-4,0.10505071036294174,3.153821872015282,69.449778925064891,73272.989254889704]
[null,44,0.80626780626780625,85.944017094017099,13.355982905982906,0.5,0.2,1,1.8648394651656561,2.1816527355812019E-3,1.994653929674242E-3,1.4683915190269952,7.1620014245014255E-2,0.13355982905982905,1.5625E-4,1.4285714285714287E-4,0.10516622150997151,3.1512806267806273,69.287386355732806,73101.656974615893]
[null,45,0.80169971671388107,85.875495750708211,13.424504249291783,0.5,0.2,1,1.8759024280820278,2.1833935089504704E-3,1.9962454938975732E-3,1.4711590005294573,7.1562913125590169E-2,0.13424504249291783,1.5625E-4,1.4285714285714287E-4,0.10528042374881962,3.1487681775259677,69.126123329538146,72931.516418829211]
[null,"Source: Fuel oil manual, Schmidt (1985), pg. 41"]
[]
[null,"Input values:"]
[null,"Default sulfur content (wt%) for mid-weight crudes",null,null,null,null,1]
[null,"Oxygen + Nitrogen content (wt%)",null,null,null,null,0.2]
[null,"Sulfur content is increased in very heavy crudes and decreased in light crudes as per data from Speight."]
[null,"Assume for stoichiometric combustion that N/O is all N"]
[]
[]
[]
[]
["2 Gaseous fuel properties"]
[]
[null,"Table 2.1: Heat of combustion"]
[null,"Gas","Mol mass","Mol mass","Mol C","Mol H","Btu/scf","Btu/scf","Btu/lb","Btu/lb","Btu/mol","Btu/mol","Btu/lbmol","Btu/lbmol","MJ/kg","MJ/kg","Ratio"]
[null,null,"g/mol","mol/kg","mol/mol","mol/mol","HHV","LHV","HHV","LHV","HHV","LHV","HHV","LHV","HHV","LHV","HHV/LHV"]
[null,"N2, Ar",28.01,{"$f":"1/(C131/1000)","v":35.701535166012135},0,0,0,0,0,0,0,0,{"$f":"K131*453.59","v":0},{"$f":"L131*453.59","v":0},{"$f":"K131*1055.05/1000000*D131","v":0},{"$f":"L131*1055.05/1000000*D131","v":0},{"$f":"IFERROR(M131/N131,0)","v":0}]
[null,"O2",{"$f":"15.999*2","v":31.998000000000001},{"$f":"1/(C132/1000)","v":31.251953247077942},0,0,0,0,0,0,0,0,{"$f":"K132*453.59","v":0},0,0,0,{"$f":"IFERROR(M132/N132,0)","v":0}]
[null,"CO2",44.01,{"$f":"1/(C133/1000)","v":22.722108611679165},1,0,0,0,0,0,{"$f":"I133/453*$C133","v":0},{"$f":"J133/453*$C133","v":0},0,0,0,0,0]
[null,"H2O",18.010000000000002,55.524708495280393,0,2,0,0,0,0,0,0,0,0,0,0,0]
[null,"CH4",16.041,62.340253101427592,1,4,1013,913,23879,21520,{"$f":"I135/453*$C135","v":845.56962251655636},762.03602649006621,383541.9250772848,345651.9212556291,55.614876269315673,50.120697571743925,1.1096189591078069]
[null,"C2H6",30.067,33.259054777663216,2,6,1792,1641,22320,20432,1481.4468874172185,1356.1345342163356,671969.49366357608,615129.06337518769,51.983920529801317,47.586714348785868,1.0924040720438526]
[null,"C3H8",44.091999999999999,22.679851220175998,3,8,2590,2385,21611,19944,2103.4706666666666,1941.2159999999999,954113.2596933333,880516.1654399999,50.332639183222959,46.450148344370859,1.0835840352988368]
[null,"C4H10",58.118000000000002,17.206373240648336,4,10,3370,3113,21308,19680,2733.7270286975718,2524.8614569536426,1239991.2429469314,1145251.9082596027,49.626943487858718,45.835284768211928,1.0827235772357722]
[null,"CO",28.01,35.701535166012135,1,0,323,323,4347,4347,268.78470198675501,268.78470198675501,121918.0529741722,121918.0529741722,10.124287748344372,10.124287748344372,1]
[null,"H2",2.016,496.03174603174602,0,2,325,279,61100,51623,271.9152317880795,229.73944370860926,123338.02998675498,104207.51427178807,142.30365342163356,120.23144845474613,1.1835809619743141]
[null,"H2S",34.076000000000001,29.346167390538795,0,2,640,594,7100,6545,534.0830022075055,492.33426048565121,242254.7089713024,223317.89721368652,16.536103752759377,15.243492825607063,1.0847975553857907]
[null,"SO2",64.06,15.61036528254761,0,0,0,0,0,0,0,0,0,0,0,0,0]
[null,"Source: Mechanical engineer's handbook - Energy & Power (3rd edition). John Wiley & Sons. Chapter 17: Gaseous Fuels, Table 2"]
[null,"Source: Ganapathy (2003) - Industrial boilers and heat recovery steam generators, Design, Applications, and Calculations, Marcel Dekker Inc."]
[null,"Notes: Assume N2, Ar, other has properties of N2 for simplicity"]
[]
[]
[null,"Table 2.2: Molar masses and reactive C, H, and S"]
[null,"Gas","Mol mass","Mol mass","Mol mass","Mol C","Mol H","Mol S"]
[null,null,"g/mol","mol/kg","lb/lbmol","Reactive mol/mol","Reactive mol/mol","Reactive mol/mol"]
[null,"N2, Ar",28,{"$f":"1/(C151/1000)","v":35.714285714285715},{"$f":"C151","v":28},0,0,0]
[null,"O2",32,{"$f":"1/(C152/1000)","v":31.25},{"$f":"C152","v":32},0,0,0]
[null,"CO2",44,{"$f":"1/(C153/1000)","v":22.72727272727273},44,0,0,0]
[null,"H2O",18,55.555555555555557,18,0,0,0]
[null,"CH4",16,62.5,16,1,4,0]
[null,"C2H6",30,33.333333333333336,30,2,6,0]
[null,"C3H8",44,22.72727272727273,44,3,8,0]
[null,"C4H10",58,17.241379310344826,58,4,10,0]
[null,"CO",28,35.714285714285715,28,1,0,0]
[null,"H2",2,500,2,0,2,0]
[null,"H2S",34,29.411764705882351,34,0,2,1]
[null,"SO2",64,15.625,64,0,0,0]
[]
[]
[]
[null,"Table 2.3: Combustion coefficients: Reactants needed per mol of input gas on left"]
[null,"Gas","N2, Ar","O2","CO2","H2O","CH4","C2H6","C3H8","n-C4H10","CO","H2","H2S","SO2"]
[null,null,"mol/mol","mol/mol","mol/mol","mol/mol","mol/mol","mol/mol","mol/mol","mol/mol","mol/mol","mol/mol"]
[null,"N2, Ar",0,0,0,0,0,0,0,0,0,0,0,0]
[null,"O2",0,0,0,0,0,0,0,0,0,0,0,0]
[null,"CO2",0,0,0,0,0,0,0,0,0,0,0,0]
[null,"H2O",0,0,0,0,0,0,0,0,0,0,0,0]
[null,"CH4",{"$f":"D173*'Input Data'!$E$104/'Input Data'!$E$105","v":7.5436754176610981},2,{"$f":"D173*'Input Data'!$E$106/'Input Data'!$E$105","v":2.8639618138424821E-3},{"$f":"D173*'Input Data'!$E$107/'Input Data'!$E$105","v":0.19482733427499879},0,0,0,0,0,0,0,0]
[null,"C2H6",{"$f":"D174*'Input Data'!$E$104/'Input Data'!$E$105","v":13.20143198090692},3.5,{"$f":"D174*'Input Data'!$E$106/'Input Data'!$E$105","v":5.0119331742243438E-3},{"$f":"D174*'Input Data'!$E$107/'Input Data'!$E$105","v":0.34094783498124792},0,0,0,0,0,0,0,0]
[null,"C3H8",{"$f":"D175*'Input Data'!$E$104/'Input Data'!$E$105","v":18.859188544152744},5,{"$f":"D175*'Input Data'!$E$106/'Input Data'!$E$105","v":7.1599045346062056E-3},{"$f":"D175*'Input Data'!$E$107/'Input Data'!$E$105","v":0.48706833568749702},0,0,0,0,0,0,0,0]
[null,"C4H10",{"$f":"D176*'Input Data'!$E$104/'Input Data'!$E$105","v":24.516945107398566},6.5,{"$f":"D176*'Input Data'!$E$106/'Input Data'!$E$105","v":9.3078758949880665E-3},{"$f":"D176*'Input Data'!$E$107/'Input Data'!$E$105","v":0.63318883639374612},0,0,0,0,0,0,0,0]
[null,"CO",{"$f":"D177*'Input Data'!$E$104/'Input Data'!$E$105","v":1.8859188544152745},0.5,{"$f":"D177*'Input Data'!$E$106/'Input Data'!$E$105","v":7.1599045346062051E-4},{"$f":"D177*'Input Data'!$E$107/'Input Data'!$E$105","v":4.8706833568749698E-2},0,0,0,0,0,0,0,0]
[null,"H2",{"$f":"D178*'Input Data'!$E$104/'Input Data'!$E$105","v":1.8859188544152745},0.5,{"$f":"D178*'Input Data'!$E$106/'Input Data'!$E$105","v":7.1599045346062051E-4},{"$f":"D178*'Input Data'!$E$107/'Input Data'!$E$105","v":4.8706833568749698E-2},0,0,0,0,0,0,0,0]
[null,"H2S",{"$f":"D179*'Input Data'!$E$104/'Input Data'!$E$105","v":5.6577565632458233},1.5,{"$f":"D179*'Input Data'!$E$106/'Input Data'!$E$105","v":2.1479713603818618E-3},{"$f":"D179*'Input Data'!$E$107/'Input Data'!$E$105","v":0.14612050070624907},0,0,0,0,0,0,0,0,null,"H2S + 1.5O2 => SO2 + H2O"]
[null,"SO2",{"$f":"D180*'Input Data'!$E$104/'Input Data'!$E$105","v":0},0,{"$f":"D180*'Input Data'!$E$106/'Input Data'!$E$105","v":0},{"$f":"D180*'Input Data'!$E$107/'Input Data'!$E$105","v":0},0,0,0,0,0,0,0,0]
[]
[]
[null,"Table 2.4: Combustion coefficients: Products generated per mol of input gas on the left"]
[null,"Gas","N2, Ar","O2","CO2","H2O","CH4","C2H6","C3H8","n-C4H10","CO","H2","H2S","SO2"]
[null,null,"mol/mol","mol/mol","mol/mol","mol/mol","mol/mol","mol/mol","mol/mol","mol/mol","mol/mol","mol/mol"]
[null,"N2, Ar",1,0,0,0,0,0,0,0,0,0,0,0]
[null,"O2",0,1,0,0,0,0,0,0,0,0,0,0]
[null,"CO2",0,0,1,0,0,0,0,0,0,0,0,0]
[null,"H2O",0,0,0,1,0,0,0,0,0,0,0,0]
[null,"CH4",{"$f":"C173","v":7.5436754176610981},0,{"$f":"1/1+E173","v":1.0028639618138424},{"$f":"4/2+F173","v":2.1948273342749989},0,0,0,0,0,0,0,0]
[null,"C2H6",13.20143198090692,0,{"$f":"2/1+E174","v":2.0050119331742242},{"$f":"6/2+F174","v":3.340947834981248},0,0,0,0,0,0,0,0]
[null,"C3H8",18.859188544152744,0,{"$f":"3/1+E175","v":3.007159904534606},{"$f":"8/2+F175","v":4.4870683356874972},0,0,0,0,0,0,0,0]
[null,"C4H10",24.516945107398566,0,{"$f":"4/1+E176","v":4.0093078758949883},{"$f":"10/2+F176","v":5.6331888363937459},0,0,0,0,0,0,0,0]
[null,"CO",1.8859188544152745,0,{"$f":"1/1+E177","v":1.0007159904534606},{"$f":"F177","v":4.8706833568749698E-2},0,0,0,0,0,0,0,0]
[null,"H2",1.8859188544152745,0,{"$f":"0/1+E178","v":7.1599045346062051E-4},{"$f":"2/2+F178","v":1.0487068335687497},0,0,0,0,0,0,0,0]
[null,"H2S",5.6577565632458233,0,{"$f":"0/1+E179","v":2.1479713603818618E-3},{"$f":"2/2+F179","v":1.1461205007062492},0,0,0,0,0,0,0,{"$f":"1/1+N179","v":1}]
[null,"SO2",0,0,{"$f":"0/1+E180","v":0},{"$f":"F180","v":0},0,0,0,0,0,0,0,1]
[]
[]
[null,"Table 2.5: Example combustion calculation"]
[null,"Input gas","Mols reactants","Mols from air","Products"]
[null,"N2, Ar",4.0000000000000001E-3,{"$f":"SUMPRODUCT($C$202:$C$213,C169:C180)","v":7.7398109785202873},{"$f":"SUMPRODUCT($C$202:$C$213,C186:C197)","v":7.7438109785202869}]
[null,"O2",0,{"$f":"SUMPRODUCT($C$202:$C$213,D169:D180)","v":2.0519999999999996},{"$f":"SUMPRODUCT($C$202:$C$213,D186:D197)","v":0}]
[null,"CO2",0,{"$f":"SUMPRODUCT($C$202:$C$213,E169:E180)","v":2.9384248210023861E-3},{"$f":"SUMPRODUCT($C$202:$C$213,E186:E197)","v":1.0389384248210023}]
[null,"H2O",0,{"$f":"SUMPRODUCT($C$202:$C$213,F169:F180)","v":0.19989284496614876},{"$f":"SUMPRODUCT($C$202:$C$213,F186:F197)","v":2.2318928449661488}]
[null,"CH4",0.96599999999999997,{"$f":"SUMPRODUCT($C$202:$C$213,G169:G180)","v":0},{"$f":"SUMPRODUCT($C$202:$C$213,G186:G197)","v":0}]
[null,"C2H6",0.02,{"$f":"SUMPRODUCT($C$202:$C$213,H169:H180)","v":0},{"$f":"SUMPRODUCT($C$202:$C$213,H186:H197)","v":0}]
[null,"C3H8",0.01,{"$f":"SUMPRODUCT($C$202:$C$213,I169:I180)","v":0},{"$f":"SUMPRODUCT($C$202:$C$213,I186:I197)","v":0}]
[null,"C4H10",0,{"$f":"SUMPRODUCT($C$202:$C$213,J169:J180)","v":0},{"$f":"SUMPRODUCT($C$202:$C$213,J186:J197)","v":0}]
[null,"CO",0,{"$f":"SUMPRODUCT($C$202:$C$213,K169:K180)","v":0},{"$f":"SUMPRODUCT($C$202:$C$213,K186:K197)","v":0}]
[null,"H2",0,{"$f":"SUMPRODUCT($C$202:$C$213,L169:L180)","v":0},{"$f":"SUMPRODUCT($C$202:$C$213,L186:L197)","v":0}]
[null,"H2S",0,{"$f":"SUMPRODUCT($C$202:$C$213,M169:M180)","v":0},{"$f":"SUMPRODUCT($C$202:$C$213,M186:M197)","v":0}]
[null,"SO2",0,{"$f":"SUMPRODUCT($C$202:$C$213,N169:N180)","v":0},{"$f":"SUMPRODUCT($C$202:$C$213,N186:N197)","v":0}]
[]
[]
[null,"Table 2.6: Check on example element balance"]
[null,"Element balance","Inputs","Outputs","Check"]
[null,"N",{"$f":"D202*2+C202*2","v":15.487621957040574},{"$f":"E202*2","v":15.487621957040574},{"$f":"IF(C218=D218,\"OK\", \"ERROR\")","v":"OK"}]
[null,"O",{"$f":"(C203+D203)*2+(C204+D204)*2+(C205+D205)*1+(C210+D210)*1+(C213+D213)*2","v":4.3097696946081525},{"$f":"E203*2+E204*2+E205*1+E210*1+E213*2","v":4.3097696946081534},{"$f":"IF(C219=D219,\"OK\", \"ERROR\")","v":"OK"}]
[null,"C",{"$f":"(C204+D204)*1+(C206+D206)*1+(C207+D207)*2+(C208+D208)*3+(C209+D209)*4+(C210+D210)*1","v":1.0389384248210023},{"$f":"E204*1+E206*1+E207*2+E208*3+E209*4+E210*1","v":1.0389384248210023},{"$f":"IF(C220=D220,\"OK\", \"ERROR\")","v":"OK"}]
[null,"H",{"$f":"(C205+D205)*2+(C206+D206)*4+(C207+D207)*6+(C208+D208)*8+(C209+D209)*10+(C211+D211)*2+(C212+D212)*2","v":4.4637856899322976},{"$f":"E205*2+E206*4+E207*6+E208*8+E209*10+E211*2+E212*2","v":4.4637856899322976},{"$f":"IF(C221=D221,\"OK\", \"ERROR\")","v":"OK"}]
[null,"S",{"$f":"(C212+D212)*1+(C213+D213)*1","v":0},{"$f":"E212*1+E213*1","v":0},{"$f":"IF(C222=D222,\"OK\", \"ERROR\")","v":"OK"}]
[]
[]
[]
["3 Gaseous fuels composition"]
[]
[null,"Table 3.1: Natural gas composition"]
[null,"Gas","User","Default","Unit"]
[null,"N2, Ar",4.0000000000000001E-3,4.0000000000000001E-3,"mol/mol fuel"]
[null,"O2",0,0,"mol/mol fuel"]
[null,"CO2",0,0,"mol/mol fuel"]
[null,"H2O",0,0,"mol/mol fuel"]
[null,"CH4",0.96599999999999997,0.96599999999999997,"mol/mol fuel"]
[null,"C2H6",0.02,0.02,"mol/mol fuel"]
[null,"C3H8",0.01,0.01,"mol/mol fuel"]
[null,"C4H10",0,0,"mol/mol fuel"]
[null,"CO",0,0,"mol/mol fuel"]
[null,"H2",0,0,"mol/mol fuel"]
[null,"H2S",0,0,"mol/mol fuel"]
[null,"SO2",0,0,"mol/mol fuel"]
[null,"Check:",{"$f":"IF(SUM(C230:C240)=1, \"OK\", \"ERROR\")","v":"OK"},{"$f":"IF(SUM(D230:D240)=1, \"OK\", \"ERROR\")","v":"OK"}]
[]
[]
["3.1   Average molecular mass - Natural gas"]
[null,{"$f":"SUMPRODUCT(C131:C142,C230:C241)","v":16.649905999999998},{"$f":"SUMPRODUCT(C131:C142,D230:D241)","v":16.649905999999998},"g/mol"]
[]
["3.2   Heating value - Natural gas"]
[null,"User","Default","Unit"]
["HHV",{"$f":"SUMPRODUCT(C230:C240,K131:K141)","v":867.48389976600447},{"$f":"SUMPRODUCT(D230:D240,K131:K141)","v":867.48389976600447},"Btu/mol"]
["HHV",{"$f":"B250*'Input Data'!E38","v":1096.6253802519523},{"$f":"C250*'Input Data'!E38","v":1096.6253802519523},"Btu/scf"]
["HHV",{"$f":"B250/B246","v":52.10142926728863},{"$f":"C250/C246","v":52.10142926728863},"mBtu/kg"]
["LHV",{"$f":"SUMPRODUCT(C230:C240,L131:L141)","v":782.66165227373062},{"$f":"SUMPRODUCT(D230:D240,L131:L141)","v":782.66165227373062},"Btu/mol"]
["LHV",{"$f":"B253*'Input Data'!E38","v":989.39776549722217},{"$f":"C253*'Input Data'!E38","v":989.39776549722217},"Btu/scf"]
["LHV",{"$f":"B253/B246","v":47.006971226968531},{"$f":"C253/C246","v":47.006971226968531},"mBtu/kg"]
[]
[]
[]
[null,"Table 3.2: Reaction results - Natural gas"]
[null,"Input gas","Mols reactants","Reactants from air","Products from fuel +air"]
[null,"N2, Ar",{"$f":"C230","v":4.0000000000000001E-3},{"$f":"SUMPRODUCT($C$261:$C$272,C169:C180)","v":7.7398109785202873},{"$f":"SUMPRODUCT($C$261:$C$272,C186:C197)","v":7.7438109785202869}]
[null,"O2",0,{"$f":"SUMPRODUCT($C$261:$C$272,D169:D180)","v":2.0519999999999996},{"$f":"SUMPRODUCT($C$261:$C$272,D186:D197)","v":0}]
[null,"CO2",0,{"$f":"SUMPRODUCT($C$261:$C$272,E169:E180)","v":2.9384248210023861E-3},{"$f":"SUMPRODUCT($C$261:$C$272,E186:E197)","v":1.0389384248210023}]
[null,"H2O",0,{"$f":"SUMPRODUCT($C$261:$C$272,F169:F180)","v":0.19989284496614876},{"$f":"SUMPRODUCT($C$261:$C$272,F186:F197)","v":2.2318928449661488}]
[null,"CH4",0.96599999999999997,{"$f":"SUMPRODUCT($C$261:$C$272,G169:G180)","v":0},{"$f":"SUMPRODUCT($C$261:$C$272,G186:G197)","v":0}]
[null,"C2H6",0.02,{"$f":"SUMPRODUCT($C$261:$C$272,H169:H180)","v":0},{"$f":"SUMPRODUCT($C$261:$C$272,H186:H197)","v":0}]
[null,"C3H8",0.01,{"$f":"SUMPRODUCT($C$261:$C$272,I169:I180)","v":0},{"$f":"SUMPRODUCT($C$261:$C$272,I186:I197)","v":0}]
[null,"C4H10",0,{"$f":"SUMPRODUCT($C$261:$C$272,J169:J180)","v":0},{"$f":"SUMPRODUCT($C$261:$C$272,J186:J197)","v":0}]
[null,"CO",0,{"$f":"SUMPRODUCT($C$261:$C$272,K169:K180)","v":0},{"$f":"SUMPRODUCT($C$261:$C$272,K186:K197)","v":0}]
[null,"H2",0,{"$f":"SUMPRODUCT($C$261:$C$272,L169:L180)","v":0},{"$f":"SUMPRODUCT($C$261:$C$272,L186:L197)","v":0}]
[null,"H2S",0,{"$f":"SUMPRODUCT($C$261:$C$272,M169:M180)","v":0},{"$f":"SUMPRODUCT($C$261:$C$272,M186:M197)","v":0}]
[null,"SO2",0,{"$f":"SUMPRODUCT($C$261:$C$272,N169:N180)","v":0},{"$f":"SUMPRODUCT($C$261:$C$272,N186:N197)","v":0}]
[]
[]
[]
[null,"Table 3.3: Gas composition - Product gas (after gas processing)"]
[null,"Gas","User","Default","Unit"]
[null,"N2, Ar",{"$f":"IF('Active Field'!J116=6,C230,IF('Active Field'!J116=7, 'Gas Balance'!DT107, IF('Active Field'!J116=8, 'Gas Balance'!BB224, 'Gas Balance'!CA23))/100)","v":2.3724573054634643E-2},{"$f":"C278","v":2.3724573054634643E-2},"mol/mol fuel"]
[null,"O2",0,{"$f":"C279","v":0},"mol/mol fuel"]
[null,"CO2",{"$f":"IF('Active Field'!J116=6,C232,IF('Active Field'!J116=7, 'Gas Balance'!DT108, IF('Active Field'!J116=8, 'Gas Balance'!BB225, 'Gas Balance'!CA24))/100)","v":0},0,"mol/mol fuel"]
[null,"H2O",0,0,"mol/mol fuel"]
[null,"CH4",{"$f":"IF('Active Field'!J116=6,C234,IF('Active Field'!J116=7, 'Gas Balance'!DT109, IF('Active Field'!J116=8, 'Gas Balance'!BB226, 'Gas Balance'!CA25))/100)","v":0.97173544222772346},0.97173544222772346,"mol/mol fuel"]
[null,"C2H6",{"$f":"IF('Active Field'!J116=6,C235,IF('Active Field'!J116=7, 'Gas Balance'!DT110, IF('Active Field'!J116=8, 'Gas Balance'!BB227, 'Gas Balance'!CA26))/100)","v":4.539984717641837E-3},4.539984717641837E-3,"mol/mol fuel"]
[null,"C3H8",{"$f":"IF('Active Field'!J116=6,C236,IF('Active Field'!J116=7, 'Gas Balance'!DT111, IF('Active Field'!J116=8, 'Gas Balance'!BB228, 'Gas Balance'!CA27))/100)","v":0},0,"mol/mol fuel"]
[null,"C4H10",{"$f":"IF('Active Field'!J116=6,C237,IF('Active Field'!J116=7, 'Gas Balance'!DT112, IF('Active Field'!J116=8, 'Gas Balance'!BB229, 'Gas Balance'!CA28))/100)","v":0},0,"mol/mol fuel"]
[null,"CO",0,0,"mol/mol fuel"]
[null,"H2",0,0,"mol/mol fuel"]
[null,"H2S",{"$f":"IF('Active Field'!J116=6,C240,IF('Active Field'!J116=7, 'Gas Balance'!DT113, IF('Active Field'!J116=8, 'Gas Balance'!BB230, 'Gas Balance'!CA29))/100)","v":0},0,"mol/mol fuel"]
[null,"SO2",0,0,"mol/mol fuel"]
[null,"Check:",{"$f":"IF(SUM(C278:C288)=1, \"OK\", \"ERROR\")","v":"OK"},{"$f":"IF(SUM(D278:D288)=1, \"OK\", \"ERROR\")","v":"OK"}]
[]
[]
["3.3   Average molecular mass - Produced gas"]
[null,{"$f":"SUMPRODUCT(C131:C142,C278:C289)","v":16.388637240540568},{"$f":"SUMPRODUCT(C131:C142,D278:D289)","v":16.388637240540568},"g/mol"]
[]
[]
["3.4   Heating value - Produced gas"]
[null,"User","Default","Unit"]
["HHV",{"$f":"SUMPRODUCT(C278:C288,K131:K141)","v":828.39571729932732},{"$f":"SUMPRODUCT(D278:D288,K131:K141)","v":828.39571729932732},"Btu/mol"]
[null,{"$f":"B299*'Input Data'!E38","v":1047.2122522706261},{"$f":"C299*'Input Data'!E38","v":1047.2122522706261},"Btu/scf"]
["HHV",{"$f":"B299/B294","v":50.546955499760834},{"$f":"C299/C294","v":50.546955499760834},"MBtu/kg"]
["LHV",{"$f":"SUMPRODUCT(C278:C288,L131:L141)","v":746.65424525519018},{"$f":"SUMPRODUCT(D278:D288,L131:L141)","v":746.65424525519018},"Btu/mol"]
[null,{"$f":"B302*'Input Data'!E38","v":943.87918420223218},{"$f":"C302*'Input Data'!E38","v":943.87918420223218},"Btu/scf"]
["LHV",{"$f":"B302/B294","v":45.559263671307079},{"$f":"C302/C294","v":45.559263671307079},"MBtu/kg"]
[]
[]
[null,"Table 3.4: Reaction results - Produced gas"]
[null,"Input gas","Mols/mol fuel","Reactants/mol fuel","Products/mol fuel"]
[null,"N2, Ar",{"$f":"C278","v":2.3724573054634643E-2},{"$f":"SUMPRODUCT($C$309:$C$320,C169:C180)","v":7.3903910674476192},{"$f":"SUMPRODUCT($C$309:$C$320,C186:C197)","v":7.4141156405022537}]
[null,"O2",0,{"$f":"SUMPRODUCT($C$309:$C$320,D169:D180)","v":1.9593608309671933},{"$f":"SUMPRODUCT($C$309:$C$320,D186:D197)","v":0}]
[null,"CO2",0,{"$f":"SUMPRODUCT($C$309:$C$320,E169:E180)","v":2.8057672997143577E-3},{"$f":"SUMPRODUCT($C$309:$C$320,E186:E197)","v":0.98362117896272139}]
[null,"H2O",0,{"$f":"SUMPRODUCT($C$309:$C$320,F169:F180)","v":0.19086852379009239},{"$f":"SUMPRODUCT($C$309:$C$320,F186:F197)","v":2.1479593623984652}]
[null,"CH4",0.97173544222772346,{"$f":"SUMPRODUCT($C$309:$C$320,G169:G180)","v":0},{"$f":"SUMPRODUCT($C$309:$C$320,G186:G197)","v":0}]
[null,"C2H6",4.539984717641837E-3,{"$f":"SUMPRODUCT($C$309:$C$320,H169:H180)","v":0},{"$f":"SUMPRODUCT($C$309:$C$320,H186:H197)","v":0}]
[null,"C3H8",0,{"$f":"SUMPRODUCT($C$309:$C$320,I169:I180)","v":0},{"$f":"SUMPRODUCT($C$309:$C$320,I186:I197)","v":0}]
[null,"n-C4H10",0,{"$f":"SUMPRODUCT($C$309:$C$320,J169:J180)","v":0},{"$f":"SUMPRODUCT($C$309:$C$320,J186:J197)","v":0}]
[null,"CO",0,{"$f":"SUMPRODUCT($C$309:$C$320,K169:K180)","v":0},{"$f":"SUMPRODUCT($C$309:$C$320,K186:K197)","v":0}]
[null,"H2",0,{"$f":"SUMPRODUCT($C$309:$C$320,L169:L180)","v":0},{"$f":"SUMPRODUCT($C$309:$C$320,L186:L197)","v":0}]
[null,"H2S",0,{"$f":"SUMPRODUCT($C$309:$C$320,M169:M180)","v":0},{"$f":"SUMPRODUCT($C$309:$C$320,M186:M197)","v":0}]
[null,"SO2",0,{"$f":"SUMPRODUCT($C$309:$C$320,N169:N180)","v":0},{"$f":"SUMPRODUCT($C$309:$C$320,N186:N197)","v":0}]
[]
[]
[]
["4 Other fuels properties"]
[]
[]
[null,"Table 4.1: Other fuels properties"]
[]
[null,"Fuel",null,null,"LHV","HHV","Density","C ratio","Source: GREET1_2016, obtained from \"Fuel_Specs\" worksheet"]
[null,"Liquid Fuels:",null,null,"Btu/gal","Btu/gal","grams/gal","(% by wt)"]
[null,"Crude oil",null,null,129670,138350,3205,0.85299999999999998,"\"Fuel_Specs\" row 7"]
[null,"Gasoline Blendstock",null,null,116090,124340,2819,0.86299999999999999,"\"Fuel_Specs\" row 15"]
[null,"Reformulated or low-sulfur gasoline",null,null,112194,120439,2836,0.82799999999999996,"\"Fuel_Specs\" row 16"]
[null,"CA reformulated gasoline",null,null,112194,120439,2836,0.82799999999999996,"\"Fuel_Specs\" row 17"]
[null,"U.S. conventional diesel",null,null,128450,137380,3167,0.86499999999999999,"\"Fuel_Specs\" row 20"]
[null,"Diesel for non-road engines",null,null,128450,137380,3167,0.86499999999999999,"\"Fuel_Specs\" row 22"]
[null,"Low-sulfur diesel",null,null,129488,138490,3206,0.871,"\"Fuel_Specs\" row 23"]
[null,"Liquid petroleum gas (LPG)",null,null,84950,91410,1923,0.82,"\"Fuel_Specs\" row 35"]
[null,"Residual oil",null,null,140352.52220119376,150110,3752,0.86799999999999999,"\"Fuel_Specs\" row 28"]
[null,"Gaseous Fuels (at 32F and 1atm):",null,null,"Btu/ft3","Btu/ft3","gms/ft3"]
[null,"Natural gas",null,null,983,1089,22,0.72399999999999998,"\"Fuel_Specs\" row 59"]
[null,"Gaseous hydrogen",null,null,290,343,2.6,0,"\"Fuel_Specs\" row 61"]
[null,"Carbon Dioxide",null,null,null,null,55.977829999999997,0.27272727272727271,"\"Fuel_Specs\" row 62"]
[null,"Still gas (in refineries)",null,null,982,1043.738844,20.3,0.75800000000000001,"\"Fuel_Specs\" row 63"]
[null,"Solid fuels",null,null,"Btu/ton","Btu/ton"]
[null,"Petroleum coke",null,null,26949429,28595925,null,0.86670000000000003,"\"Fuel_Specs\" row 71"]
[null,"Coal",null,null,19474169,20673610,null,0.58599999999999997,"\"Fuel_Specs\" row 65, \"Coal mix for electricity generation\""]
[null,"Bituminous coal",null,null,22639320,23633493,null,0.61199999999999999,"\"Fuel_Specs\" row 66"]
[null,"Coking coal",null,null,24599422,25679670,null,0.747,"\"Fuel_Specs\" row 73"]
[]
[]
[]
[]
[null,"Table 4.2 \"100 percent efficient\" Electric Power Plant GHG emissions  (grams per MMBtu fuel combusted - LHV)"]
[null,null,"Emissions"]
[null,"Fuel type","Combustion"]
[null,null,"gCO2eq/MMBtu"]
[null,"Biomass",{"$f":"9600.74357522809*C384/100*C390/100","v":1983.8496486672566}]
[null,"Coal",{"$f":"298252.491326881*C385/100*C390/100","v":100391.78858062816}]
[null,"Natural gas",{"$f":"126934.761694662*C386/100*C390/100","v":59460.685094438995}]
[null,"Nuclear",0]
[null,"Renewables",0]
[null,"Oil",{"$f":"264261.714573308*C389/100*C390/100","v":85244.222578484842}]
[null,"Notes:","Electricity GHGs from GREET1_2016 (Sheet \"Electric\" Table 9, Row 204) are adjusted to 100% efficiency and 0% line losses"]
[null,null,"Each electricity type in row 186 is multiplied by the average generation efficiency (Table 4.4)"]
[null,null,"Each electricity type in row 186 is multiplied by 100%-6.5% line losses (0.935)"]
[null,null,"This allows OPGEE to flexibly calculate plant efficiencies and line losses (see \"Electricity\" worksheet)"]
[]
[null,"Table 4.3 Fuel cycle emissions and energy use for electric power plant fuels (grams per MMBtu electricity generated)"]
[null,null,"Emissions","Energy"]
[null,"Fuel type","gCO2eq/MMBtu e-","MMBtu/MMBtu"]
[null,"Biomass",13447.474230632924,{"$f":"165494.429287116/1000000","v":0.16549442928711602}]
[null,"Coal",18388.041593363847,{"$f":"66300.525520108/1000000","v":6.6300525520107997E-2}]
[null,"Natural gas",29072.578014017519,{"$f":"205314.127633492/1000000","v":0.20531412763349199}]
[null,"Nuclear",2663.0988522080061,{"$f":"35804.8371511857/1000000","v":3.5804837151185695E-2}]
[null,"Renewables",0,0]
[null,"Oil",49213.847554467939,{"$f":"478007.260964586/1000000","v":0.47800726096458601}]
[null,"Notes:","Computed using GREET1_2016, using GREET default electricity shares and efficiencies."]
[null,null,"From GREET1_2016 Table 9 \"Feedstock\" columns of different fuels "]
[]
[null,"Table 4.4 Default GREET1_2016 electricity generation efficiencies"]
[null,null,"Efficiency"]
[null,"Fuel type","mmBTU e-/MMBtu LHV input fuel"]
[null,"Biomass",{"$f":"Electricity!D26","v":22.1}]
[null,"Coal",{"$f":"Electricity!D27","v":36}]
[null,"Natural gas",{"$f":"Electricity!D28","v":50.1}]
[null,"Nuclear",{"$f":"Electricity!D29","v":100}]
[null,"Renewables",{"$f":"Electricity!D30","v":100}]
[null,"Oil",{"$f":"Electricity!D31","v":34.5}]
[null,"Transmission",{"$f":"Electricity!M35","v":93.5},"MMBtu e- to user per MMBtu e- generated"]
[]
[]
[]
[null,"Table 4.5: Diluent composition"]
[null,"Diluent type","Density","API gravity","C1-C3","C4","C5","C6","C7","C8","C9","C10","C11","C12","C12+","C","H","Mass C","Mass H","Mass Frac C","Mass Frac H","HHV",null,"LHV",null,"HHV",null,"LHV"]
[null,"CRW-675",727.2,62.9,{"$f":"0.0003+0.0041","v":4.4000000000000003E-3},{"$f":"0.0061+0.0428","v":4.8899999999999999E-2},{"$f":"0.1392+0.1504+0.0151","v":0.30469999999999997},{"$f":"0.1382+0.0144+0.032+0.029","v":0.21359999999999998},{"$f":"0.0902+0.0277+0.0432","v":0.16110000000000002},{"$f":"0.0664+0.0225+0.0045","v":9.3400000000000011E-2},{"$f":"0.0394+0.0061","v":4.5499999999999999E-2},2.6800000000000001E-2,2.18E-2,1.3899999999999999E-2,{"$f":"1-SUM(E396:N396)","v":6.5899999999999848E-2},{"$f":"SUMPRODUCT(E396:O396,E401:O401)","v":6.8954999999999966},{"$f":"SUMPRODUCT(E396:O396,$E$402:$O$402)","v":15.790999999999995},{"$f":"P396*12","v":82.745999999999952},{"$f":"Q396*1","v":15.790999999999995},{"$f":"R396/(R396+S396)","v":0.83974547631854024},{"$f":"S396/(R396+S396)","v":0.16025452368145979},{"$f":"14600*T396+62000*U396","v":22196.064422501193},"Btu/lb",{"$f":"V396-(U396*(9)*970)","v":20797.042430762049},"Btu LHV/lb",5.6563023065493203,"MMBtu/bbl",5.2997845397885932,"MMBtu/bbl"]
[null,"CPC 475 PetroCanada condensate (2006)",757.2,55.2,0,0,2.0000000000000001E-4,{"$f":"0.0112+0.0058+0.0292+0.0262","v":7.2400000000000006E-2},{"$f":"0.2003+0.0503+0.1022","v":0.3528},{"$f":"0.2504+0.0648+0.023","v":0.33820000000000006},{"$f":"0.1653+0.0063","v":0.1716},4.9200000000000001E-2,9.4999999999999998E-3,4.4000000000000003E-3,{"$f":"1-SUM(E397:N397)","v":1.7000000000000348E-3},{"$f":"SUMPRODUCT(E397:O397,E401:O401)","v":7.8281000000000001},{"$f":"SUMPRODUCT(E397:O397,$E$402:$O$402)","v":17.656200000000002},{"$f":"P397*12","v":93.937200000000004},{"$f":"Q397*1","v":17.656200000000002},{"$f":"R397/(R397+S397)","v":0.84178096554097293},{"$f":"S397/(R397+S397)","v":0.15821903445902716},{"$f":"14600*T397+62000*U397","v":22099.582233357891},"Btu/lb",{"$f":"V397-(U397*(9)*970)","v":20718.330062530586},"Btu LHV/lb",5.8640468996257615,"MMBtu/bbl",5.4975364640703237,"MMBtu/bbl"]
[null,"CPR 0822 Peace condensate (2006)",739.6,59.6,{"$f":"0.0007+0.0007+0.0102","v":1.1600000000000001E-2},{"$f":"0.0092+0.0601","v":6.93E-2},{"$f":"0.0949+0.1157+0.0126","v":0.22320000000000001},{"$f":"0.1295+0.0131+0.0327+0.0299","v":0.20520000000000002},{"$f":"0.0936+0.0295+0.05","v":0.1731},{"$f":"0.0724+0.0273+0.005","v":0.10470000000000002},{"$f":"0.0447+0.0078","v":5.2499999999999998E-2},3.2899999999999999E-2,2.6700000000000002E-2,1.6799999999999999E-2,{"$f":"1-SUM(E398:N398)","v":8.3999999999999742E-2},{"$f":"SUMPRODUCT(E398:O398,E401:O401)","v":7.1812999999999976},{"$f":"SUMPRODUCT(E398:O398,$E$402:$O$402)","v":16.362599999999993},{"$f":"P398*12","v":86.175599999999974},{"$f":"Q398*1","v":16.362599999999993},{"$f":"R398/(R398+S398)","v":0.8404243491693828},{"$f":"S398/(R398+S398)","v":0.15957565083061728},{"$f":"14600*T398+62000*U398","v":22163.885849371261},"Btu/lb",{"$f":"V398-(U398*(9)*970)","v":20770.790417619974},"Btu LHV/lb",5.7444118981491181,"MMBtu/bbl",5.3833509349319524,"MMBtu/bbl"]
[]
[null,null,null,"Assumed species","C3H8","C4H10","C5H12","C6H14","C7H16","C8H18","C9H20","C10H22","C11H24","C12H26","C14H30"]
[null,null,null,"C",3,4,5,6,7,8,9,10,11,12,14]
[null,null,null,"H",8,10,12,14,16,18,20,22,24,26,30]
[]
[null,"Notes:"]
[null,"Source: Analysis of Blending Data used in Condensate EQ model.  Prepared for Canadian Association of Petroleum Producers (CAPP) by Advantage Insight Group Inc. January 2007"]
[null,"C5 contains normal and iso-pentane, as well as cyclopentane"]
[null,"C6 contains Benzene and methylcyclopentane as well as cyclohexane"]
[null,"C7 contains heptanes as well as toluene and methylcyclohexane"]
[null,"C8 contains octanes plus xylenes"]
[null,"C9 contains nonanes as well as 1,2,4 trimethybenzene"]
[null,"For simplicity, assume parafinic HCs"]
[null,"Dulong formula is used to approximate the heating value of the condensate/diluent"]

{"sheet":"Input Data","index":27,"n_rows":4088,"n_cols":16,"rows_kept":4088,"cut":false,"hidden":false,"merged":[[61,1,61,2],[62,1,62,2],[63,1,63,2],[95,1,95,2],[96,1,96,2],[2338,7,2338,10],[2345,1,2345,3],[2345,7,2345,10],[2337,1,2337,3],[130,13,130,15],[2386,1,2386,2],[2372,7,2372,10],[2382,1,2382,2],[2383,1,2383,2],[2356,7,2356,10],[2370,1,2370,3],[2370,7,2370,10],[2371,1,2371,3],[2371,7,2371,10],[2362,1,2362,3],[2362,7,2362,10],[2363,1,2363,3],[2363,7,2363,10],[2364,7,2364,10],[2355,1,2355,3],[2355,7,2355,10],[2346,1,2346,3],[2336,1,2336,3],[106,1,106,2],[110,1,110,2],[111,1,111,2],[112,1,112,2],[113,1,113,2],[2346,7,2346,10],[2347,7,2347,10],[2354,1,2354,3],[2354,7,2354,10],[130,1,130,3],[130,5,130,7],[130,9,130,11],[52,1,52,2],[53,1,53,2],[57,1,57,2],[58,1,58,2],[2336,7,2336,10],[114,1,114,2],[115,1,115,2],[2298,1,2298,3],[101,1,101,2],[103,1,103,2],[104,1,104,2],[105,1,105,2],[102,1,102,2],[92,1,92,2],[93,1,93,2],[94,1,94,2],[47,1,47,2],[48,1,48,2],[49,1,49,2],[50,1,50,2],[51,1,51,2],[42,1,42,2],[56,1,56,2],[27,1,27,2],[28,1,28,2],[29,1,29,2],[30,1,30,2],[31,1,31,2],[32,1,32,2],[34,1,34,2],[35,1,35,2],[36,1,36,2],[38,1,38,2],[43,1,43,2],[44,1,44,2],[45,1,45,2],[46,1,46,2],[8,1,8,2],[16,1,16,2],[26,1,26,2],[33,1,33,2],[2337,7,2337,10],[2301,1,2301,3],[2301,4,2301,5],[2302,1,2302,3],[2302,4,2302,5],[2303,1,2303,3],[2303,4,2303,5],[2298,4,2298,5],[2299,1,2299,3],[2299,4,2299,5],[2300,1,2300,3],[2300,4,2300,5]]}
["Supplemental worksheet: Other model data inputs",null,null,null,null,null,null,"Active field:",null,{"$f":"'Active Field'!C9","v":"Generic"}]
[]
["This sheet provides other needed data inputs, except crude oil and other fuel properties"]
[]
[]
["1 Conversion factors"]
[]
[null,"Table 1.1: Length conversion factors"]
[null,"Parameter",null,"Case","Value","Unit"]
[null,"feet per meter",null,null,3.2808000000000002,"ft/m"]
[null,"meters per foot",null,null,{"$f":"1/E10","v":0.30480370641306997},"m/ft"]
[null,"meters per inch",null,null,2.5399999999999999E-2,"m/in"]
[null,"inches per meter",null,null,{"$f":"1/E12","v":39.370078740157481},"in/m"]
[null,"miles per kilometer",null,null,0.62136999999999998,"mi/km"]
[]
[null,"Table 1.2: Mass conversion factors"]
[null,"Parameter",null,"Case","Value","Unit"]
[null,"pounds per kilogram",null,null,2.2040000000000002,"lb/kg"]
[null,"kilogram per pounds",null,null,0.45359237000000002,"kg/lb"]
[null,"grams per kilogram",null,null,1000,"g/kg"]
[null,"kilograms per gram",null,null,{"$f":"1/1000","v":1E-3},"kg/g"]
[null,"grams per pound",null,null,{"$f":"E19*1000","v":453.59237000000002},"g/lb"]
[null,"pounds per gram",null,null,{"$f":"1/E22","v":2.2046226218487759E-3},"lb/g"]
[null,"pounds per component-day",null,null,{"$f":"E19*1000*365","v":165561.21505},"g per component-yr"]
[]
[null,"Table 1.3: Volume conversion factors"]
[null,"Parameter",null,"Case","Value","Unit"]
[null,"m3 per yd3",null,null,1.3069999999999999,"m3/yd3"]
[null,"gallons per barrel",null,null,42,"gal/bbl"]
[null,"bbls per gallon",null,null,{"$f":"1/E29","v":2.3809523809523808E-2},"bbl/gal"]
[null,"liters per gallon",null,null,3.78,"l/gal"]
[null,"liters per cuft",null,null,28.316846600000002,"l/cuft"]
[null,"liters per bbl",null,null,158.9873,"l/bbl"]
[null,"m3 per bbl",null,null,{"$f":"E33/1000","v":0.1589873},"m3/bbl"]
[null,"ft3 per bbl",null,null,{"$f":"E34*35.3146667","v":5.6145835090329097},"ft3/bbl"]
[null,"bbl per m3",null,null,{"$f":"1/E34","v":6.2898105697750699},"bbl/m3"]
[null,"liters of gas per mol @ STP",null,null,22.4,"l/mol"]
[null,"moles of gas per SCF @ STP",null,null,{"$f":"E32/E37","v":1.2641449375000002},"mol/scf"]
[null,"ft3 per m3",null,null,{"$f":"E35/E34","v":35.314666699999997},"ft3/m3"]
[]
[]
[null,"Table 1.4: Energy conversion factors"]
[null,"Parameter",null,"Case","Value","Unit"]
[null,"Btu per Joule",null,null,9.4781711999999995E-4,"Btu/J"]
[null,"Btu per MJ",null,null,{"$f":"E44*1000000","v":947.81711999999993},"Btu/MJ"]
[null,"Joules per Btu",null,null,1055.05,"J/Btu"]
[null,"MJ per Btu",null,null,{"$f":"E46/1000000","v":1.0550499999999999E-3},"MJ/Btu"]
[null,"MJ per MMBtu",null,null,{"$f":"E47*1000000","v":1055.05},"MJ/MMBtu"]
[null,"Joules per calorie",null,null,4.18,"J/cal"]
[null,"MJ per kWh",null,null,3.6,"MJ/kWh"]
[null,"kWh per MJ",null,null,{"$f":"1/E50","v":0.27777777777777779},"kWh/MJ"]
[null,"kWh per Btu",null,null,{"$f":"E47*E51","v":2.9306944444444443E-4},"kWh/Btu"]
[null,"Btu per kWh",null,null,{"$f":"1/E52","v":3412.160561110848},"Btu/kWh"]
[null,"MMBtu per MWh",null,null,{"$f":"E53/1000","v":3.4121605611108481},"MMBtu/MWh"]
[]
[null,"Table 1.5: Power conversion factors"]
[null,"Parameter",null,"Case","Value","Unit"]
[null,"hp per kW",null,null,1.34,"hp/kW"]
[null,"kW per hp",null,null,{"$f":"1/E58","v":0.74626865671641784},"kW/hp"]
[]
[null,"Table 1.6: Other conversion factors"]
[null,"Parameter",null,"Case","Value","Unit"]
[null,"MMscf to m^3 of methane",null,null,28316.847000000002,"m^3/mmscf"]
[null,"seconds per day",null,null,86400,"sec/day"]
[]
[]
["2. Properties of gases"]
[]
[null,"Table 2.1: Global warming potentials"]
[null,"Gas","GWP"]
[null,"CO2",1]
[null,"CO",1.6]
[null,"CH4",25]
[null,"VOCs",3.1]
[null,"N2O",298]
[null,"Source: IPCC, 2007 (Fourth Report)"]
[]
[null,"Table 2.2: Gas densities"]
[null,"Gas","Density @ STP"]
[null,null,"lb/ft3","g/ft3","Notes:"]
[null,"N2",{"$f":"0.073841*'Input Data'!E4065/14.7*(273+15.556)/(273+('Input Data'!E4064-32)/1.8)","v":7.3841113732768596E-2},{"$f":"C81*$E$22","v":33.493765781486054}]
[null,"H2S",{"$f":"0.090576*'Input Data'!E4065/14.7*(273+15.556)/(273+('Input Data'!E4064-32)/1.8)","v":9.0576139508663847E-2},{"$f":"C82*$E$22","v":41.084645785185472},"STP for calculation of standard volume of "]
[null,"CO2",{"$f":"0.11663*'Input Data'!E4065/14.7*(273+15.556)/(273+('Input Data'!E4064-32)/1.8)","v":0.11663017963804388},{"$f":"C83*$E$22","v":52.902559595546066},"gas in SCF unit is considered as the following:"]
[null,"CH4",{"$f":"0.042358*'Input Data'!E4065/14.7*(273+15.556)/(273+('Input Data'!E4064-32)/1.8)","v":4.2358065241432423E-2},{"$f":"C84*$E$22","v":19.213295201475955}]
[null,"C2H6",{"$f":"0.079912*'Input Data'!E4065/14.7*(273+15.556)/(273+('Input Data'!E4064-32)/1.8)","v":7.991212308355794E-2},{"$f":"C85*$E$22","v":36.247529301202754},"Pressure = 1 atm"]
[null,"C3H8",{"$f":"0.11831*'Input Data'!E4065/14.7*(273+15.556)/(273+('Input Data'!E4064-32)/1.8)","v":0.11831018222564496},53.664595950862171,"Temperature = 60 °F"]
[null,"C4H10",{"$f":"0.15849*'Input Data'!E4065/14.7*(273+15.556)/(273+('Input Data'!E4064-32)/1.8)","v":0.15849024411243742},71.889965448839035]
[null,"H2O",{"$f":"0.048","v":4.8000000000000001E-2},{"$f":"C88*$E$22","v":21.772433760000002},"Source:http://webbook.nist.gov/chemistry/fluid/"]
[null,"VOC",{"$f":"(0.31*30.069*C85+0.42*44.0956*C86+0.27*58.1222*C87)/(0.31*30.069+0.42*44.0956+0.27*58.1222)","v":0.124572387147333},56.505084322716314,"VOC density is calculated based on the composition that OPGEE assumes for VOC"]
[null,"VOC when C4 =0",{"$f":"(0.425*30.069*C85+0.575*44.0956*C86)/(0.425*30.069+0.575*44.0956)","v":0.1054424662459487},{"$f":"C90*$E$22","v":47.82789816314488},"Water vapor density source: Engineering Tool Box (http://www.engineeringtoolbox.com/gas-density-d_158.html)"]
[]
[null,"Table 2.3: Composition of dry air"]
[null,"Parameter",null,"Case","Value","Unit"]
[null,"N2, Ar",null,null,{"$f":"0.7809+0.0093","v":0.79020000000000001},"mols/mol dry air"]
[null,"O2",null,null,0.20949999999999999,"mols/mol dry air"]
[null,"CO2",null,null,2.9999999999999997E-4,"mols/mol dry air"]
[null,"H2O",null,null,0,"mols/mol dry air"]
[null,"Source: www.engineeringtoolbox.com"]
[]
[]
[null,"Table 2.4   Composition of moist air"]
[null,"Parameter",null,"Case","Value","Unit"]
[null,"Moisture in air",null,"H2O",0.02,"mols/mol moist air"]
[null,"N2, Ar",null,null,{"$f":"(1-$E$103)*E94","v":0.77439599999999997},"mols/mol moist air"]
[null,"O2",null,null,{"$f":"(1-$E$103)*E95","v":0.20530999999999999},"mols/mol moist air"]
[null,"CO2",null,null,{"$f":"(1-$E$103)*E96","v":2.9399999999999999E-4},"mols/mol moist air"]
[null,"H2O",null,null,{"$f":"E103","v":0.02},"mols/mol moist air"]
[]
[]
[null,"Table 2.5   Molar mass air components"]
[null,"Parameter",null,"Case","Value","Unit"]
[null,"N2, Ar",null,null,28,"lb/lbmol"]
[null,"O2",null,null,32,"lb/lbmol"]
[null,"CO2",null,null,44,"lb/lbmol"]
[null,"H2O",null,null,18,"lb/lbmol"]
[null,"Molar mass moist air",null,null,{"$f":"SUMPRODUCT(E104:E107,E112:E115)","v":28.625943999999997},"lb/lbmol"]
[null,"Notes: Assume N2 molar mass for all N2, Ar components"]
[]
[null,"Table 2.6 Gas Critical Properties"]
[null,"Gas","Critical Temperature (Rankine)","Critical Pressure (PSIA)","Notes: C4 assumed to be unbranched butane (n-butane)."]
[null,"N2",227.5,493.1]
[null,"CO2",547.9,1071]
[null,"C1",343.3,666.4]
[null,"C2",549.9,706.5]
[null,"C3",666.1,616]
[null,"C4",765.6,550.6]
[null,"H2S",672.4,1300]
[null,"Source: McCain, Jr., William D. The Properties of Petroleum Fluids. Tulsa, Oklahoma: PennWell Publishing, 1990."]
[]
[null,"Table 2.7 Gas Z Factors "]
[null,"Nitrogen",null,null,null,"Carbon Dioxide",null,null,null,"Air (N2, O2, Arg)",null,null,null,"Oxygen"]
[null,"P","T","Z Factor",null,"P","T","Z Factor",null,"P","T","Z Factor",null,"P","T","Z Factor"]
[null,"(psia)","(°F) ",null,null,"(psia)","(°F) ",null,null,"(psia)","(°F) ",null,null,"(psia)","(°F) "]
[null,10,50,0.99976672128505772,null,10,50,0.99593285600418968,null,10,50,0.99967201769205705,null,10,50,0.99943716093815471]
[null,10,{"$f":"C134+10","v":60},0.99980539995806383,null,10,{"$f":"G134+10","v":60},0.99618549466808437,null,10,{"$f":"K134+10","v":60},0.99971286591928576,null,10,{"$f":"O134+10","v":60},0.99948535533858418]
[null,10,70,0.9998411223471968,null,10,70,0.99641833089994125,null,10,70,0.99975066209251207,null,10,70,0.99953008789876763]
[null,10,80,0.9998741449029771,null,10,80,0.99663332765807067,null,10,80,0.99978566890406995,null,10,80,0.99957165296913275]
[null,10,90,0.99990469806491722,null,10,90,0.99683221254759191,null,10,90,0.99981812245808166,null,10,90,0.99961031524426758]
[null,10,100,0.99993298930218566,null,10,100,0.9970165111860585,null,10,100,0.99984823538484102,null,10,100,0.99964631323590436]
[null,10,110,0.99995920575174435,null,10,110,0.9971875749339516,null,10,110,0.99987619954065265,null,10,110,0.99967986228201233]
[null,10,120,0.9999835165133788,null,10,120,0.99734660395694574,null,10,120,0.99990218835483746,null,10,120,0.99971115716150993]
[null,10,130,1.0000060746513897,null,10,130,0.99749466671977427,null,10,130,0.99992635887547532,null,10,130,0.99974037437259289]
[null,10,140,1.0000270189447464,null,10,140,0.99763271674280385,null,10,140,0.99994885355713614,null,10,140,0.99976767412323675]
[null,10,150,1.0000464754209781,null,10,150,0.99776160707577688,null,10,150,0.99996980182700124,null,10,150,0.99979320207467515]
[null,10,160,1.0000645587035921,null,10,160,0.9978821027524597,null,10,160,0.99998932146010011,null,10,160,0.99981709087225146]
[null,10,170,1.000081373198316,null,10,170,0.99799489147185905,null,10,170,1.0000075197896885,null,10,170,0.99983946149274183]
[null,10,180,1.0000970141396694,null,10,180,0.99810059276942376,null,10,180,1.0000244947748751,null,10,180,0.99986042443283651]
[null,10,190,1.000111568516213,null,10,190,0.99819976592635207,null,10,190,1.0000403359443291,null,10,190,0.99988008075979273]
[null,10,200,1.0001251158901563,null,10,200,0.99829291682409804,null,10,200,1.0000551252321566,null,10,200,0.99989852304218019]
[null,10,225,1.0001550421032936,null,10,225,0.9985023524433736,null,10,225,1.0000879740961679,null,10,225,0.99993985752317138]
[null,10,{"$f":"C150+25","v":250},1.0001800977857578,null,10,{"$f":"G150+25","v":250},0.998682996774788,null,10,{"$f":"K150+25","v":250},1.0001157164402468,null,10,{"$f":"O150+25","v":250},0.99997526559706862]
[null,10,275,1.0002010809859212,null,10,275,0.998839687585937,null,10,275,1.0001391768285604,null,10,275,1.0000056829264004]
[null,10,300,1.0002186430748972,null,10,300,0.99897630074284161,null,10,300,1.0001590294379521,null,10,300,1.0000318762345972]
[null,10,325,1.0002333190419741,null,10,325,0.99909596961484903,null,10,325,1.0001758289809815,null,10,325,1.0000544778372891]
[null,10,350,1.0002455508401431,null,10,350,0.99920124841421309,null,10,350,1.0001900345508301,null,10,350,1.0000740122998928]
[null,10,375,1.0002557055303927,null,10,375,0.99929423523572147,null,10,375,1.0002020281683612,null,10,375,1.0000909171976007]
[null,10,400,1.0002640894962063,null,10,400,0.99937666574998829,null,10,400,1.0002121293251454,null,10,400,1.0001055594141626]
[null,10,425,1.0002709596623893,null,10,425,0.99944998526912465,null,10,425,1.0002206064728283,null,10,425,1.0001182480350461]
[null,10,450,1.0002765324113045,null,10,450,0.99951540469544453,null,10,450,1.0002276861639188,null,10,450,1.0001292446185592]
[null,10,475,1.000280990715378,null,10,475,0.99957394433532554,null,10,475,1.0002335603719941,null,10,475,1.0001387714321903]
[null,10,500,1.0002844898777414,null,10,500,0.99962646848834047,null,10,500,1.0002383923901494,null,10,500,1.0001470180981031]
[null,25,50,0.99942127921994683,null,25,50,0.98978554466780333,null,25,50,0.99918558286294379,null,25,50,0.9985949412267372]
[null,25,{"$f":"C162+10","v":60},0.99951781191316436,null,25,{"$f":"G162+10","v":60},0.99042384048155274,null,25,{"$f":"K162+10","v":60},0.99928751881796563,null,25,{"$f":"O162+10","v":60},0.99871543660061601]
[null,25,70,0.99960695613610384,null,25,70,0.99101164016998644,null,25,70,0.99938182558405775,null,25,70,0.99882726306897729]
[null,25,80,0.99968935395044289,null,25,80,0.99155401210629712,null,25,80,0.99946916121630625,null,25,80,0.99893115939595944]
[null,25,90,0.99976558214352129,null,25,90,0.99205540715654239,null,25,90,0.99955011698132756,null,25,90,0.99902778969030115]
[null,25,100,0.99983615988146091,null,25,100,0.99251974803101584,null,25,100,0.99962522520692276,null,25,100,0.99911775218118326]
[null,25,110,0.99990155534548697,null,25,110,0.99295050316382294,null,25,110,0.99969496608274744,null,25,110,0.99920158681659932]
[null,25,120,0.99996219150219434,null,25,120,0.99335074786221711,null,25,120,0.9997597735688597,null,25,120,0.99927978186160149]
[null,25,130,1.000018451133877,null,25,130,0.99372321578902034,null,25,130,0.99982004054310403,null,25,130,0.99935277964423219]
[null,25,140,1.0000706812348139,null,25,140,0.99407034307819386,null,25,140,0.99987612329705589,null,25,140,0.99942098157274106]
[null,25,150,1.0001191968626904,null,25,150,0.99439430633721904,null,25,150,0.99992834547280118,null,25,150,0.99948475252786584]
[null,25,160,1.0001642845205336,null,25,160,0.99469705525994501,null,25,160,0.99997700151836233,null,25,160,0.99954442471756588]
[null,25,170,1.0002062051330252,null,25,170,0.99498034051919093,null,25,170,1.0000223597276512,null,25,170,0.99960030106806985]
[null,25,180,1.0002451966714967,null,25,180,0.99524573765355306,null,25,180,1.0000646649208447,null,25,180,0.99965265821386295]
[null,25,190,1.0002814764738908,null,25,190,0.99549466761878913,null,25,190,1.0001041408127864,null,25,190,0.99970174913984433]
[null,25,200,1.000315243299249,null,25,200,0.99572841456092631,null,25,200,1.0001409921100433,null,25,200,0.99974780552108444]
[null,25,225,1.0003898235941548,null,25,225,0.99625372420012903,null,25,225,1.0002228308421541,null,25,225,0.99985102210623011]
[null,25,{"$f":"C178+25","v":250},1.0004522523706407,null,25,{"$f":"G178+25","v":250},0.99670656017530213,null,25,{"$f":"K178+25","v":250},1.000291931781377,null,25,{"$f":"O178+25","v":250},0.9999394294515197]
[null,25,275,1.0005045222363502,null,25,275,0.99709915749801814,null,25,275,1.0003503537087797,null,25,275,1.0000153677149057]
[null,25,300,1.0005482592322983,null,25,300,0.99744130449260771,null,25,300,1.0003997794853621,null,25,300,1.0000807540276924]
[null,25,325,1.0005847986304834,null,25,325,0.9977409046201684,null,25,325,1.0004415934580237,null,25,325,1.0001371690896972]
[null,25,350,1.0006152433197282,null,25,350,0.99800439364391991,null,25,350,1.0004769411183847,null,25,350,1.0001859239842481]
[null,25,375,1.0006405091676511,null,25,375,0.9982370531570024,null,25,375,1.000506775486649,null,25,375,1.0002281121875072]
[null,25,400,1.0006613605469719,null,25,400,0.99844324886019886,null,25,400,1.0005318934680671,null,25,400,1.0002646503848855]
[null,25,425,1.0006784383672016,null,25,425,0.99862661351544979,null,25,425,1.0005529645658218,null,25,425,1.0002963107474443]
[null,25,450,1.0006922823476783,null,25,450,0.99879018877762937,null,25,450,1.0005705537178227,null,25,450,1.0003237466363506]
[null,25,475,1.0007033488310699,null,25,475,0.99893653610393285,null,25,475,1.0005851395802021,null,25,475,1.0003475132093662]
[null,25,500,1.0007120251179784,null,25,500,0.99906782421338314,null,25,500,1.0005971292562437,null,25,500,1.0003680840431435]
[null,50,50,0.99885751908106291,null,50,50,0.97941141401643961,null,50,50,0.99838948719785692,null,50,50,0.99719676774609944]
[null,50,{"$f":"C190+10","v":60},0.99905002988005021,null,50,{"$f":"G190+10","v":60},0.98071129605015506,null,50,{"$f":"K190+10","v":60},0.998592747012647,null,50,{"$f":"O190+10","v":60},0.99743778186617993]
[null,50,70,0.99922777223764125,null,50,70,0.9819066664105891,null,50,70,0.99878075176519454,null,50,70,0.9976614111277512]
[null,50,80,0.99939203327106485,null,50,80,0.98300825181256246,null,50,80,0.99895482193933882,null,50,80,0.9978691426592835]
[null,50,90,0.99954396873987028,null,50,90,0.98402543285055533,null,50,90,0.99911614338592336,null,50,90,0.99806231255179456]
[null,50,100,0.9996846185225523,null,50,100,0.98496644649391563,null,50,100,0.99926578323474569,null,50,100,0.99824212372526877]
[null,50,110,0.99981492002459593,null,50,110,0.98583855179228097,null,50,110,0.99940470366618539,null,50,110,0.99840966137988252]
[null,50,120,0.99993571982680651,null,50,120,0.98664816574663738,null,50,120,0.99953377386493258,null,50,120,0.99856590639963949]
[null,50,130,1.0000477838319073,null,50,130,0.98740097680061434,null,50,130,0.99965378042457509,null,50,130,0.99871174700942189]
[null,50,140,1.000151806125696,null,50,140,0.98810204148021819,null,50,140,0.99976543642789573,null,50,140,0.99884798895136928]
[null,50,150,1.0002484167346684,null,50,150,0.98875586719353115,null,50,150,0.99986938939165715,null,50,150,0.99897536437824608]
[null,50,160,1.0003381884336353,null,50,160,0.98936648292119911,null,50,160,0.99996622823491399,null,50,160,0.99909453965611561]
[null,50,170,1.0004216427332953,null,50,170,0.98993749936921371,null,50,170,1.0000564894052637,null,50,170,0.99920612222230254]
[null,50,180,1.0004992551581064,null,50,180,0.9904721602370955,null,50,180,1.0001406622769986,null,50,180,0.99931066662792423]
[null,50,190,1.0005714599084203,null,50,190,0.9909733861379264,null,50,190,1.0002191939180647,null,50,190,0.99940867987392212]
[null,50,200,1.0006386539871268,null,50,200,0.99144381243659419,null,50,200,1.0002924933084791,null,50,200,0.99950062613338575]
[null,50,225,1.0007870289245642,null,50,225,0.99250022225961654,null,50,225,1.0004552336011012,null,50,225,0.99970665616771692]
[null,50,{"$f":"C206+25","v":250},1.0009111842348866,null,50,{"$f":"G206+25","v":250},0.99341000703953808,null,50,{"$f":"K206+25","v":250},1.0005925927200512,null,50,{"$f":"O206+25","v":250},0.99988309125935515]
[null,50,275,1.0010150965420375,null,50,275,0.99419811671287772,null,50,275,1.0007086794729927,null,50,275,1.0000346148526054]
[null,50,300,1.0011020098180605,null,50,300,0.9948844633270717,null,50,300,1.0008068510051817,null,50,300,1.0001650621231375]
[null,50,325,1.001174587158451,null,50,325,0.99548509107565231,null,50,325,1.0008898679317917,null,50,325,1.0002775940474504]
[null,50,350,1.001235027615341,null,50,350,0.9960130411498509,null,50,350,1.000960013805795,null,50,350,1.0003748315944823]
[null,50,375,1.0012851569169703,null,50,375,0.99647899920919891,null,50,375,1.0010191879365193,null,50,375,1.0004589601021587]
[null,50,400,1.0013264984810302,null,50,400,0.99689178579506843,null,50,400,1.0010689780968705,null,50,400,1.0005318111366095]
[null,50,425,1.001360329422275,null,50,425,0.99725873178383717,null,50,425,1.0011107179128216,null,50,425,1.0005949271861017]
[null,50,450,1.0013877250369141,null,50,450,0.99758596868073757,null,50,450,1.0011455324857228,null,50,450,1.0006496131557325]
[null,50,475,1.0014095943680001,null,50,475,0.99787865513064411,null,50,475,1.001174374902291,null,50,475,1.0006969776303052]
[null,50,500,1.0014267088162616,null,50,500,0.99814115516619528,null,50,500,1.0011980556350781,null,50,500,1.0007379661456504]
[null,75,50,0.99830879672054962,null,75,50,0.9688689656775954,null,75,50,0.99761145870312384,null,75,50,0.99580564721095899]
[null,75,{"$f":"C218+10","v":60},0.99859671599504807,null,75,{"$f":"G218+10","v":60},0.97085566325827322,null,75,{"$f":"K218+10","v":60},0.99791543575316588,null,75,{"$f":"O218+10","v":60},0.99616718848262142]
[null,75,70,0.99886249732420662,null,75,70,0.97267986178917043,null,75,70,0.99819653555625487,null,75,70,0.99650258312810891]
[null,75,80,0.99910807563560522,null,75,80,0.97435864900414026,null,75,80,0.99845674531395101,null,75,80,0.99681407618301465]
[null,75,90,0.99933518763394968,null,75,90,0.97590689647934725,null,75,90,0.99869784870049672,null,75,90,0.99710368352428647]
[null,75,100,0.99954539526912534,null,75,100,0.97733760790199675,null,75,100,0.99892145005511712,null,75,100,0.99737321914824184]
[null,75,110,0.99974010604890795,null,75,110,0.97866220061418352,null,75,110,0.99912899529076815,null,75,110,0.99762431873340585]
[null,75,120,0.99992059067077621,null,75,120,0.9798907339670575,null,75,120,0.99932179003044319,null,75,120,0.99785846005753842]
[null,75,130,1.0000879983685071,null,75,130,0.98103209829466587,null,75,130,0.99950101537813452,null,75,130,0.99807698074143858]
[null,75,140,1.0002433703047506,null,75,140,0.98209417461131199,null,75,140,0.99966774167114325,null,75,140,0.99828109371334495]
[null,75,150,1.0003876512877921,null,75,150,0.9830839705593597,null,75,150,0.99982294050336484,null,75,150,0.99847190072417091]
[null,75,160,1.0005217000469524,null,75,160,0.98400773578515,null,75,160,0.99996749526320339,null,75,160,0.99865040418510131]
[null,75,170,1.0006462982648872,null,75,170,0.98487105955889087,null,75,170,1.0001022103917883,null,75,170,0.99881751757423831]
[null,75,180,1.0007621585349087,null,75,180,0.9856789535376147,null,75,180,1.0002278195356635,null,75,180,0.9989740745897433]
[null,75,190,1.0008699313863625,null,75,190,0.98643592233157074,null,75,190,1.0003449927418964,null,75,190,0.99912083723252954]
[null,75,200,1.0009702115000718,null,75,200,0.98714602404605045,null,75,200,1.0004543428216399,null,75,200,0.99925850295371843]
[null,75,225,1.0011915925471322,null,75,225,0.98873942920823332,null,75,225,1.0006970612720214,null,75,225,0.99956693503750149]
[null,75,{"$f":"C234+25","v":250},1.0013767706100083,null,75,{"$f":"G234+25","v":250},0.99011033004274729,null,75,{"$f":"K234+25","v":250},1.0009018485036258,null,75,{"$f":"O234+25","v":250},0.99983101178910616]
[null,75,275,1.0015316973352564,null,75,275,0.99129689307724467,null,75,275,1.001074854602475,null,75,275,1.0000577626694998]
[null,75,300,1.001661226228679,null,75,300,0.99232950201600312,null,75,300,1.0012211024620783,null,75,300,1.0002529415046606]
[null,75,325,1.0017693405520005,null,75,325,0.99323258632142897,null,75,325,1.0013447209477357,null,75,325,1.0004212888879926]
[null,75,350,1.0018593286454205,null,75,350,0.99402596648694952,null,75,350,1.001449124313871,null,75,350,1.0005667342938944]
[null,75,375,1.0019339199832953,null,75,375,0.99472585713136696,null,75,375,1.0015371515006883,null,75,375,1.0006925531667863]
[null,75,400,1.0019953916236415,null,75,400,0.99534562414441052,null,75,400,1.0016111751863581,null,75,400,1.0008014900397819]
[null,75,425,1.0020456521275267,null,75,425,0.99589636260528369,null,75,425,1.0016731878087848,null,75,425,1.0008958557798544]
[null,75,450,1.002086308187075,null,75,450,0.99638734244673666,null,75,450,1.0017248699243135,null,75,450,1.000977604952884]
[null,75,475,1.0021187178767168,null,75,475,0.99682635539638353,null,75,475,1.0017676448857009,null,75,475,1.0010483977884919]
[null,75,500,1.0021440334786678,null,75,500,0.99721998743904161,null,75,500,1.0018027228565161,null,75,500,1.0011096501238352]
[null,100,50,0.99777519065062759,null,100,50,0.95814876221069867,null,100,50,0.99685125744245817,null,100,50,0.99442174836173047]
[null,100,{"$f":"C246+10","v":60},0.99815793355085258,null,100,{"$f":"G246+10","v":60},0.9608496827157742,null,100,{"$f":"K246+10","v":60},0.99725534951487982,null,100,{"$f":"O246+10","v":60},0.99490380990607685]
[null,100,70,0.99851118147874407,null,100,70,0.96332561989498999,null,100,70,0.99762894632771026,null,100,70,0.99535091853729296]
[null,100,80,0.99883751967744139,null,100,80,0.96560086073246199,null,100,80,0.99797470598621907,null,100,80,0.99576608667233646]
[null,100,90,0.99913926755125604,null,100,90,0.96769642678066814,null,100,90,0.99829501314298541,null,100,90,0.99615201769854456]
[null,100,100,0.99941851028732709,null,100,100,0.96963061223912483,null,100,100,0.998592011670139,null,100,100,0.99651114299028365]
[null,100,110,0.99967712620415305,null,100,110,0.97141941306946944,null,100,110,0.99886763288854086,null,100,110,0.99684565384618629]
[null,100,120,0.99991681046965308,null,100,120,0.97307687085442007,null,100,120,0.99912362001477828,null,100,120,0.99715752913217359]
[null,100,130,1.0001390957290359,null,100,130,0.97461535437734914,null,100,130,0.99936154940834065,null,100,130,0.99744855928067822]
[null,100,140,1.0003453700931395,null,100,140,0.97604579550399972,null,100,140,0.99958284908267125,null,100,140,0.99772036718708179]
[null,100,150,1.0005368928652709,null,100,150,0.97737788850208285,null,100,150,0.99978881487652138,null,100,150,0.99797442645516266]
[null,100,160,1.0007148083247388,null,100,160,0.9786202580696739,null,100,160,0.99998062461732351,null,100,160,0.99821207737027073]
[null,100,170,1.00088015783578,null,100,170,0.97978060061665595,null,100,170,1.0001593505562438,null,100,170,0.9984345409196449]
[null,100,180,1.0010338905095415,null,100,180,0.98086580335661366,null,100,180,1.0003259703114569,null,100,180,0.99864293112373204]
[null,100,190,1.0011768726125547,null,100,190,0.98188204532848433,null,100,190,1.0004813765203411,null,100,190,0.99883826592022917]
[null,100,200,1.0013098958865747,null,100,200,0.98283488367638927,null,100,200,1.000626385371409,null,100,200,0.9990214767743103]
[null,100,225,1.0016034916039769,null,100,225,0.98497128551633928,null,100,225,1.0009481716474384,null,100,225,0.99943189125800813]
[null,100,{"$f":"C262+25","v":250},1.0018489870733949,null,100,{"$f":"G262+25","v":250},0.98680752405713523,null,100,{"$f":"K262+25","v":250},1.0012195690248518,null,100,{"$f":"O262+25","v":250},0.99978321711869222]
[null,100,275,1.0020542995708932,null,100,275,0.98839550684792254,null,100,275,1.0014487601066078,null,100,275,1.0000848321607396]
[null,100,300,1.002225883444938,null,100,300,0.98977645015782167,null,100,300,1.0016424250226672,null,100,300,1.0003444091561902]
[null,100,325,1.0023690342606277,null,100,325,0.9909834206979824,null,100,325,1.00180605292128,null,100,325,1.0005682674172915]
[null,100,350,1.0024881226217592,null,100,350,0.99204319640850236,null,100,350,1.0019441814583521,null,100,350,1.0007616433605298]
[null,100,375,1.0025867755272482,null,100,375,0.99297764819002177,null,100,375,1.0020605826159796,null,100,375,1.000928900640371]
[null,100,400,1.0026680181942704,null,100,400,0.99380477914250076,null,100,400,1.0021584080765988,null,100,400,1.0010736947341079]
[null,100,425,1.0027343858168993,null,100,425,0.99453951536530749,null,100,425,1.0022403038467795,null,100,425,1.0011991028643923]
[null,100,450,1.002788012263933,null,100,450,0.99519431415511395,null,100,450,1.0023085012910409,null,100,450,1.0013077273090081]
[null,100,475,1.0028307009455826,null,100,475,0.99577963636770583,null,100,475,1.0023648899209561,null,100,475,1.0014017781088849]
[null,100,500,1.0028639817888259,null,100,500,0.99630431661089469,null,100,500,1.0024110759655167,null,100,500,1.0014831397044919]
[null,125,50,0.99725678058552314,null,125,50,0.94724046243509397,null,125,50,0.99610865767999834,null,125,50,0.99304524098328883]
[null,125,{"$f":"C274+10","v":60},0.99773374687975813,null,125,{"$f":"G274+10","v":60},0.95068547086288457,null,125,{"$f":"K274+10","v":60},0.9966122659146458,null,125,{"$f":"O274+10","v":60},0.99364780032086075]
[null,125,70,0.99817387570189586,null,125,70,0.9538379019123755,null,125,70,0.99707776564406403,null,125,70,0.99420655729805074]
[null,125,80,0.99858040485848365,null,125,80,0.95673024424416553,null,125,80,0.99750848994829611,null,125,80,0.99472530110729229]
[null,125,90,0.99895623797960942,null,125,90,0.95939044498517267,null,125,90,0.99790742750333183,null,125,90,0.995207430281975]
[null,125,100,0.99930398445664326,null,125,100,0.96184269655838517,null,125,100,0.9982772639575197,null,125,100,0.99565599978449459]
[null,125,110,0.99962599395323937,null,125,110,0.96410805501651098,null,125,110,0.9986204176321809,null,125,110,0.99607376158442817]
[null,125,120,0.99992438630944935,null,125,120,0.96620492907738897,null,125,120,0.99893907042792751,null,125,120,0.99646319974187847]
[null,125,130,1.000201077529465,null,125,130,0.96814947597425005,null,125,130,0.99923519464878341,null,125,130,0.99682656083509469]
[null,125,140,1.0004578024276747,null,125,140,0.96995592982507739,null,125,140,0.99951057635876439,null,125,140,0.99716588042902898]
[null,125,150,1.0006961344144119,null,125,150,0.97163687680832933,null,125,150,0.99976683576977521,null,125,150,0.99748300616558072]
[null,125,160,1.0009175028260779,null,125,160,0.97320348543056046,null,125,160,1.0000054450852958,null,125,160,0.99777961796156922]
[null,125,170,1.0011232081409742,null,125,170,0.97466569882730203,null,125,170,1.0002277441562286,null,125,170,0.99805724572271792]
[null,125,180,1.0013144353696999,null,125,180,0.97603239585847923,null,125,180,1.0004349542499873,null,125,180,0.99831728491880434]
[null,125,190,1.0014922658640923,null,125,190,0.97731152700741886,null,125,190,1.0006281901880081,null,125,190,0.99856101030500111]
[null,125,200,1.0016576877603471,null,125,200,0.97851022988591185,null,125,200,1.0008084710686282,null,125,200,0.99878958805328188]
[null,125,225,1.0020227037890697,null,125,225,0.98119573743932942,null,125,225,1.0012084272221444,null,125,225,0.99930155705422041]
[null,125,{"$f":"C290+25","v":250},1.0023278097363735,null,125,{"$f":"G290+25","v":250},0.9835015896354059,null,125,{"$f":"K290+25","v":250},1.0015456282956963,null,125,{"$f":"O290+25","v":250},0.99973973303349717]
[null,125,275,1.002582878711463,null,125,275,0.9854939832892563,null,125,275,1.0018302806167374,null,125,275,1.0001158440568008]
[null,125,300,1.0027959569310274,null,125,300,0.98722534156374209,null,125,300,1.002070713054557,null,125,300,1.000439481824865]
[null,125,325,1.0029736441916364,null,125,325,0.98873762801832954,null,125,325,1.0022737671029278,null,125,325,1.0007185432309078]
[null,125,350,1.0031213861876613,null,125,350,0.990064760511431,null,125,350,1.002445096573489,null,125,350,1.0009595698861833]
[null,125,375,1.0032437011145607,null,125,375,0.99123439598420349,null,125,375,1.0025893999565931,null,125,375,1.00116801161733]
[null,125,400,1.0033443567914544,null,125,400,0.99226926795099457,null,125,400,1.0027106021042484,null,125,400,1.0013484327139519]
[null,125,425,1.0034265101781046,null,125,425,0.99318820105716332,null,125,425,1.0028119974058529,null,125,425,1.0015046746469685]
[null,125,450,1.0034928180627085,null,125,450,0.99400688924266256,null,125,450,1.0028963634446009,null,125,450,1.0016399853903264]
[null,125,475,1.0035455254692478,null,125,475,0.99473849867185482,null,125,475,1.0029660518373602,null,125,475,1.0017571229139803]
[null,125,500,1.0035865367147481,null,125,500,0.99539413926613063,null,125,500,1.0030230613025655,null,125,500,1.0018584385228035]
[null,150,50,0.9967536472541727,null,150,50,0.93613269269386989,null,150,50,0.99538344770362119,null,150,50,0.99167629585637285]
[null,150,{"$f":"C302+10","v":60},0.99732422118992703,null,150,{"$f":"G302+10","v":60},0.94035444046348193,null,150,{"$f":"K302+10","v":60},0.99598597553190948,null,150,{"$f":"O302+10","v":60},0.99239931459344277]
[null,150,70,0.99785063176860023,null,150,70,0.94421018733106477,null,150,70,0.99654278708556954,null,150,70,0.99306963978580876]
[null,150,80,0.99833677134035159,null,150,80,0.94774182642526017,null,150,80,0.99705789435634729,null,150,80,0.99369184670344524]
[null,150,90,0.99878612905313746,null,150,90,0.95098514596407624,null,150,90,0.99753489297587628,null,150,90,0.99427003656284452]
[null,150,100,0.99920183926515016,null,150,100,0.95397094347760525,null,150,100,0.99797701250353166,null,150,100,0.99480789402460912]
[null,150,110,0.99958672334142284,null,150,110,0.9567258878499959,null,150,110,0.99838715977350745,null,150,110,0.99530873668256559]
[null,150,120,0.99994332584054735,null,150,120,0.95927319166402791,null,150,120,0.99876795638483529,null,150,120,0.99577555780389371]
[null,150,130,1.0002739459379955,null,150,130,0.9616331486664047,null,150,130,0.99912177121243007,null,150,130,0.99621106335935661]
[null,150,140,1.0005806647892657,null,150,140,0.96382357483326675,null,150,140,0.99945074869251149,null,150,140,0.99661770420466333]
[null,150,150,1.0008653694211165,null,150,150,0.96586017462238971,null,150,150,0.99975683349424616,null,150,150,0.99699770412951227]
[null,150,160,1.0011297736447671,null,150,160,0.96775684500062542,null,150,160,1.0000417920974398,null,150,160,0.99735308437300507]
[null,150,170,1.0013754364060727,null,150,170,0.96952592749486366,null,150,170,1.0003072317121116,null,150,170,0.99768568510760058]
[null,150,180,1.0016037779302354,null,150,180,0.97117841794645599,null,150,180,1.0005546169077224,null,150,180,0.99799718431435691]
[null,150,190,1.0018160939464438,null,150,190,0.97272414241811711,null,150,190,1.0007852842634251,null,150,190,0.99828911440746382]
[null,150,200,1.0020135682614473,null,150,200,0.9741719059294569,null,150,200,1.0010004553037819,null,150,200,0.99856287690520751]
[null,150,225,1.002449207308,null,150,225,0.97741273737496492,null,150,225,1.0014776950949205,null,150,225,0.99917596432693967]
[null,150,{"$f":"C318+25","v":250},1.0028132152070117,null,150,{"$f":"G318+25","v":250},0.98019253327522671,null,150,{"$f":"K318+25","v":250},1.0018799043653583,null,150,{"$f":"O318+25","v":250},0.99970058502158898]
[null,150,275,1.0031174107016501,null,150,275,0.98259235285866908,null,150,275,1.0022193043173411,null,150,275,1.0001508188201238]
[null,150,300,1.0033714226130965,null,150,300,0.98467621438478325,null,150,300,1.0025058640553139,null,150,300,1.0005381760187018]
[null,150,325,1.0035831466920613,null,150,325,0.98649524565406499,null,150,325,1.0027477695132609,null,150,325,1.0008721297123988]
[null,150,350,1.0037590964027243,null,150,350,0.98809069129442628,null,150,350,1.0029517834520383,null,150,350,1.0011605247753363]
[null,150,375,1.0039046747032934,null,150,375,0.98949612648480623,null,150,375,1.0031235243885974,null,150,375,1.0014098950268324]
[null,150,400,1.0040243863821234,null,150,400,0.99073910968465728,null,150,400,1.0032676845625024,null,150,400,1.0016257113265297]
[null,150,425,1.0041220052437398,null,150,425,0.99184243229942659,null,150,425,1.0033882016158004,null,150,425,1.0018125772040931]
[null,150,450,1.004200706700743,null,150,450,0.99282507451549973,null,150,450,1.0034883948139395,null,150,450,1.0019743842518463]
[null,150,475,1.0042631736426588,null,150,475,0.9937029441049362,null,150,475,1.0035710738757224,null,150,475,1.0021144364288388]
[null,150,500,1.0043116815039952,null,150,500,0.99448945300000813,null,150,500,1.0036386264796748,null,150,500,1.0022355501286364]
[null,175,50,0.99626587222832608,null,175,50,0.92481289331541738,null,175,50,0.99467542961866362,null,175,50,0.99031508470794449]
[null,175,{"$f":"C330+10","v":60},0.99692942240982052,null,175,{"$f":"G330+10","v":60},0.92984720744743932,null,175,{"$f":"K330+10","v":60},0.9953762817059989,null,175,{"$f":"O330+10","v":60},0.99115850822554952]
[null,175,70,0.99754150208705361,null,175,70,0.93443541709914457,null,175,70,0.99602381605049739,null,175,70,0.99194030676513734]
[null,175,80,0.99810665985791602,null,175,80,0.9386302690588022,null,175,80,0.99662272734194468,null,175,80,0.99266585087198911]
[null,175,90,0.99862897143859575,null,175,90,0.94247647707172255,null,175,90,0.99717722096849715,null,175,90,0.99333995187408697]
[null,175,100,0.99911209670703238,null,175,100,0.94601226842488506,null,175,100,0.99769107242475086,null,175,100,0.99396693013240234]
[null,175,110,0.99955932890365007,null,175,110,0.9492705609603671,null,175,110,0.99816767847234922,null,175,110,0.99455067371408479]
[null,175,120,0.99997363719368526,null,175,120,0.95227986769446327,null,175,120,0.99861010134146377,null,175,120,0.99509468900771514]
[null,175,130,1.0003577035986548,null,175,130,0.95506501037805869,null,175,130,0.99902110703485081,null,175,130,0.99560214453134943]
[null,175,140,1.0007139551332342,null,175,140,0.95764769828508911,null,175,140,0.99940319862409122,null,175,140,0.99607590896781173]
[null,175,150,1.0010445918461468,null,175,150,0.96004700408194599,null,175,150,0.99975864527070524,null,175,150,0.99651858428657669]
[null,175,160,1.0013516113496213,null,175,160,0.96227975544894373,null,175,160,1.000089507590247,null,175,160,0.99693253466908416]
[null,175,170,1.0016368303366605,null,175,170,0.96436085723413789,null,175,170,1.0003976598773832,null,175,170,0.99731991183782631]
[null,175,180,1.0019019034890004,null,175,180,0.96630355766837384,null,175,180,1.0006848096285745,null,175,180,0.99768267729390092]
[null,175,190,1.0021483401436984,null,175,190,0.96811967022962131,null,175,190,1.0009525147316127,null,175,190,0.99802262188883617]
[null,175,200,1.0023775190080522,null,175,200,0.96981976020711869,null,175,200,1.001202198635307,null,175,200,0.99834138309175369]
[null,175,225,1.0028829808444206,null,175,225,0.97362224423400689,null,175,225,1.0017558468741106,null,175,225,0.99905514464612455]
[null,175,{"$f":"C346+25","v":250},1.0033051805634408,null,175,{"$f":"G346+25","v":250},0.97688036768985786,null,175,{"$f":"K346+25","v":250},1.0022222792291127,null,175,{"$f":"O346+25","v":250},0.9996657982690168]
[null,175,275,1.0036578719424889,null,175,275,0.97969065139422429,null,175,275,1.0026157228614134,null,175,275,1.000189776641822]
[null,175,300,1.0039522568569077,null,175,300,0.98212911123866309,null,175,300,1.0029477785871979,null,175,300,1.0006405080043184]
[null,175,325,1.0041975185291609,null,175,325,0.98425631462030594,null,175,325,1.0032279688865302,null,175,325,1.001029040031771]
[null,175,350,1.0044012307256818,null,175,350,0.98612102421462122,null,175,350,1.0034641582967783,null,175,350,1.00136451874413]
[null,175,375,1.0045696746286561,null,175,375,0.9877628680723981,null,175,375,1.0036628789233379,null,175,375,1.0016545596305324]
[null,175,400,1.0047080862880848,null,175,400,0.98921432543663368,null,175,400,1.0038295846597909,null,175,400,1.0019055377757995]
[null,175,425,1.004820851379211,null,175,425,0.99050222335288463,null,175,425,1.0039688513204836,null,175,425,1.002122816487778]
[null,175,450,1.0049116596066539,null,175,450,0.99164887816031633,null,175,450,1.0040845353656271,null,175,450,1.0023109288327401]
[null,175,475,1.004983627951288,null,175,475,0.9926729756393291,null,175,475,1.004179900659284,null,175,475,1.0024737227751737]
[null,175,500,1.0050393996748441,null,175,500,0.99359025642343701,null,175,500,1.0042577203544312,null,175,500,1.0026144779792687]
[null,200,50,0.99579353774730484,null,200,50,0.91326713415876337,null,200,50,0.99398441912019075,null,200,50,0.98896178015988256]
[null,200,{"$f":"C358+10","v":60},0.9965494170333441,null,200,{"$f":"G358+10","v":60},0.91915348111780404,null,200,{"$f":"K358+10","v":60},0.99478300031480837,null,200,{"$f":"O358+10","v":60},0.98992553730598432]
[null,200,70,0.99724653956169196,null,200,70,0.92450592774949847,null,200,70,0.99552066954132978,null,200,70,0.99081869934524103]
[null,200,80,0.99789011159679963,null,200,80,0.92938982917152646,null,200,80,0.99620280780578108,null,200,80,0.99164744117912784]
[null,200,90,0.99848479622410602,null,200,90,0.93386011432816052,null,200,90,0.99683423290873718,null,200,90,0.99241729155657576]
[null,200,100,0.99903477918243511,null,200,100,0.9379634054636613,null,200,100,0.99741926818089355,null,200,100,0.99313321242471853]
[null,200,110,0.99954382557414201,null,200,110,0.94173960345606611,null,200,110,0.99796180161790982,null,200,110,0.99379966706209744]
[null,200,120,1.00001532889807,null,200,120,0.94522308763083318,null,200,120,0.99846533692336104,null,200,120,0.99442067878894691]
[null,200,130,1.0004523535569094,null,200,130,0.94844364890395105,null,200,130,0.99893303771104169,null,200,130,0.99499988172903331]
[null,200,140,1.0008576718215296,null,200,140,0.95142723728649592,null,200,140,0.99936776588558263,null,200,140,0.99554056484022335]
[null,200,150,1.0012337960620838,null,200,150,0.95419656995262403,null,200,150,0.9997721150820873,null,200,150,0.99604571022314581]
[null,200,160,1.0015830069313922,null,200,160,0.95677162706293406,null,200,160,1.000148439866289,null,200,160,0.99651802654853339]
[null,200,170,1.0019073780622814,null,200,170,0.95917005629363816,null,200,170,1.0004988813056359,null,200,170,0.99695997830616312]
[null,200,180,1.002208797772143,null,200,180,0.96140750465449443,null,200,180,1.0008253894176313,null,200,180,0.99737381146548421]
[null,200,190,1.0024889881761929,null,200,190,0.9634978932077034,null,200,190,1.0011297429242454,null,200,190,0.99776157604511917]
[null,200,200,1.002749522058358,null,200,200,0.96545364673767331,null,200,200,1.0014135666742237,null,200,200,0.99812514601241087]
[null,200,225,1.0033240035252355,null,200,225,0.96982422382457989,null,200,225,1.0020427585729845,null,200,225,0.99893912924432438]
[null,200,{"$f":"C374+25","v":250},1.0038036833240838,null,200,{"$f":"G374+25","v":250},0.97356511208498209,null,200,{"$f":"K374+25","v":250},1.0025726387431693,null,200,{"$f":"O374+25","v":250},0.99963539765519416]
[null,200,275,1.0042042392665216,null,200,275,0.9767889203041219,null,200,275,1.0030194312980694,null,200,275,1.0002327374384656]
[null,200,300,1.004538436446422,null,200,300,0.97958407933646385,null,200,300,1.0033963602091551,null,200,300,1.0007464938047221]
[null,200,325,1.0048167368718199,null,200,325,0.98202087965944851,null,200,325,1.0037142766105593,null,200,325,1.0011892871439882]
[null,200,350,1.0050477669981546,null,200,350,0.98415579774273498,null,200,350,1.0039821396672692,null,200,350,1.001571562317922]
[null,200,375,1.0052386795887276,null,200,375,0.98603465157348258,null,200,375,1.00420738867118,null,200,375,1.0019020140271253]
[null,200,400,1.0053954361734281,null,200,400,0.98769493830227462,null,200,400,1.0043962334788874,null,200,400,1.0021879191168519]
[null,200,425,1.0055230292715684,null,200,425,0.98916759013614164,null,200,425,1.0045538830416261,null,200,425,1.002435398317437]
[null,200,450,1.0056256585104106,null,200,450,0.99047830975451001,null,200,450,1.0046847265717447,null,200,450,1.0026496239587994]
[null,200,475,1.0057068711622865,null,200,475,0.99164859743013967,null,200,475,1.0047924781651905,null,200,475,1.0028349859746577]
[null,200,500,1.0057696750083811,null,200,500,0.99269654916692984,null,200,500,1.0048802930046099,null,200,500,1.0029952254435388]
[null,225,50,0.99533672654618943,null,225,50,0.90147989126246209,null,225,50,0.99331024524433909,null,225,50,0.98761655567600715]
[null,225,{"$f":"C386+10","v":60},0.99618427196327131,null,225,{"$f":"G386+10","v":60},0.90826193393515298,null,225,{"$f":"K386+10","v":60},0.99420595953569035,null,225,{"$f":"O386+10","v":60},0.98870055846115279]
[null,225,70,0.9969657974543753,null,225,70,0.91441337468067108,null,225,70,0.99503317593580431,null,225,70,0.98970495893446897]
[null,225,80,0.99768716806779334,null,225,80,0.92001431359184893,null,225,80,0.995797965199131,null,225,80,0.99063674530472734]
[null,225,90,0.99835363481190253,null,225,90,0.92513143552040755,null,225,90,0.99650576003496216,null,225,90,0.99150217092186654]
[null,225,100,0.99896990939969321,null,225,100,0.92982089149863612,null,225,100,0.99716143337397189,null,225,100,0.99230684508013145]
[null,225,110,0.9995402285982341,null,225,110,0.93413041505845917,null,225,110,0.99776936563724572,null,225,110,0.99305581088966111]
[null,225,120,1.0000684098016273,null,225,120,0.93810089824665999,null,225,120,0.9983335027488901,null,225,120,0.9937536123029973]
[null,225,130,1.0005578991872892,null,225,130,0.9417675992627289,null,225,130,0.99885740632648568,null,225,130,0.99440435200720567]
[null,225,140,1.0010118135568398,null,225,140,0.94516109708771867,null,225,140,0.99934429724089169,null,225,140,0.99501174159110528]
[null,225,150,1.0014329767965024,null,225,150,0.94830805926314266,null,225,150,0.99979709352186197,null,225,150,0.99557914515436219]
[null,225,160,1.0018239517430549,null,225,160,0.951231861856355,null,225,160,1.0002184434506143,null,225,160,0.99610961732853065]
[null,225,170,1.0021870680878833,null,225,170,0.95395309091299618,null,225,170,1.0006107545145797,null,225,170,0.99660593652001306]
[null,225,180,1.0025244468910772,null,225,180,0.95648995058999997,null,225,180,1.0009762188123923,null,225,180,0.99707063405392282]
[null,225,190,1.0028380221569175,null,225,190,0.95885859872332357,null,225,190,1.0013168353961945,null,225,190,0.99750601979019238]
[null,225,200,1.0031295598699499,null,225,200,0.96107342565804843,null,225,200,1.0016344299738291,null,225,200,0.99791420469530601]
[null,225,225,1.0037722548872541,null,225,225,0.96601864925066638,null,225,225,1.002338310511609,null,225,225,0.99882794901019567]
[null,225,{"$f":"C402+25","v":250},1.0043087014194694,null,225,{"$f":"G402+25","v":250},0.97024679244172252,null,225,{"$f":"K402+25","v":250},1.002930872535998,null,225,{"$f":"O402+25","v":250},0.99960940774835461]
[null,225,275,1.0047564899137114,null,225,275,0.97388720675797824,null,225,275,1.0034303279944077,null,225,275,1.0002797208489289]
[null,225,300,1.0051299385630279,null,225,300,0.97704117060890983,null,225,300,1.0038515154091381,null,225,300,1.0008561491971488]
[null,225,325,1.0054407792725002,null,225,325,0.97978898932359471,null,225,325,1.0042066066673052,null,225,325,1.0013528837875199]
[null,225,350,1.0056986834288626,null,225,350,0.98219505341658742,null,225,350,1.0045056484275556,null,225,350,1.0017816658351584]
[null,225,375,1.0059116686305793,null,225,375,0.98431151029512942,null,225,375,1.0047569807954158,null,225,375,1.0021522666452372]
[null,225,400,1.0060864160322636,null,225,400,0.9861809734014606,null,225,400,1.0049675639362117,null,225,400,1.0024728622585328]
[null,225,425,1.0062285199186407,null,225,425,0.98783855023989708,null,225,425,1.0051432349428124,null,225,425,1.0027503283841994]
[null,225,450,1.0063426854336708,null,225,450,0.9893133802751708,null,225,450,1.005288911377987,null,225,450,1.0029904743418592]
[null,225,475,1.0064328863158631,null,225,475,0.99062981482067314,null,225,475,1.0054087536961764,null,225,475,1.0031982299482667]
[null,225,500,1.006502491540789,null,225,500,0.99180833188371109,null,225,500,1.0055062957029939,null,225,500,1.0033777958010814]
[null,250,50,0.99489552168665185,null,250,50,0.88943377406063706,null,250,50,0.99265275010023268,null,250,50,0.9862795855074642]
[null,250,{"$f":"C414+10","v":60},0.99583405436916672,null,250,{"$f":"G414+10","v":60},0.89716004602774169,null,250,{"$f":"K414+10","v":60},0.99364499958990449,null,250,{"$f":"O414+10","v":60},0.98748372880433943]
[null,250,70,0.99669932925296656,null,250,70,0.90414864232331182,null,250,70,0.99456117474404893,null,250,70,0.98859922719388715]
[null,250,80,0.99749787099272214,null,250,80,0.91049702665021215,null,250,80,0.99540803929352695,null,250,80,0.98963389100028043]
[null,250,90,0.99823551880702266,null,250,90,0.91628548971999824,null,250,90,0.99619164317827946,null,250,90,0.99059470521445592]
[null,250,100,0.99891751027999687,null,250,100,0.92158104863032597,null,250,100,0.99691741054454885,null,250,100,0.99148793210527275]
[null,250,110,0.99954855344653526,null,250,110,0.92644025606610669,null,250,110,0.99759021530445113,null,250,110,0.99231919910989319]
[null,250,120,1.0001328889934422,null,250,120,0.93091125711313583,null,250,120,0.99821444624019928,null,250,120,0.99309357439865353]
[null,250,130,1.0006743441230694,null,250,130,0.9350353408619011,null,250,130,0.99879406328311582,null,250,130,0.99381563207421775]
[null,250,140,1.0011763793173114,null,250,140,0.9388481498188378,null,250,140,0.9993326463213742,null,250,140,0.99448950861665941]
[null,250,150,1.0016421290693915,null,250,150,0.9423806409432216,null,250,150,0.99983343763878751,null,250,150,0.99511895190619459]
[null,250,160,1.0020744374489285,null,250,160,0.94565985370667316,null,250,160,1.0002993789441179,null,250,160,0.99570736392900128]
[null,250,170,1.0024758892442593,null,250,170,0.94870952571817913,null,250,170,1.0007331437475311,null,250,170,0.99625783808769042]
[null,250,180,1.002848837296465,null,250,180,0.9515505897248745,null,250,180,1.0011371657507913,null,250,180,0.99677319188788205]
[null,250,190,1.0031954265497349,null,250,190,0.95420157929418903,null,250,190,1.0015136638067363,null,250,190,0.99725599564917289]
[null,250,200,1.0035176152611069,null,250,200,0.95667896375030026,null,250,200,1.00186466390631,null,250,200,0.99770859778812049]
[null,250,225,1.0042277148449088,null,250,225,0.96220550132517912,null,250,225,1.0026423872145851,null,250,225,0.99872163448211659]
[null,250,{"$f":"C430+25","v":250},1.0048202131649417,null,250,{"$f":"G430+25","v":250},0.96692544180586659,null,250,{"$f":"K430+25","v":250},1.0032968739197325,null,250,{"$f":"O430+25","v":250},0.99958785280109996]
[null,250,275,1.0053146015081165,null,250,275,0.97098556387978174,null,250,275,1.0038483145581607,null,250,275,1.0003307462313142]
[null,250,300,1.0057267407654165,null,250,300,0.97450044183213402,null,250,300,1.0043131535364385,null,250,300,1.00096948971097]
[null,250,325,1.0060696236497435,null,250,325,0.97756069605555274,null,250,325,1.0047048755735382,null,250,325,1.0015198424813541]
[null,250,350,1.0063539585783181,null,250,350,0.98023883589291205,null,250,350,1.0050346076940646,null,250,350,1.0019948394402831]
[null,250,375,1.0065886211368065,null,250,375,0.98259348005793634,null,250,375,1.0053115844664056,null,250,375,1.0024053257466194]
[null,250,400,1.0067810061768263,null,250,400,0.98467245789940561,null,250,400,1.0055435107413868,null,250,400,1.0027603739624891]
[null,250,425,1.0069373046184795,null,250,425,0.98651512293989574,null,250,425,1.0057368467937529,null,250,425,1.0030676122497981]
[null,250,450,1.007062722680385,null,250,450,0.98815410210692578,null,250,450,1.0058970341720193,null,250,450,1.0033334845797777]
[null,250,475,1.0071616567168986,null,250,475,0.98961663434693481,null,250,475,1.0060286758524926,null,250,475,1.0035634585163433]
[null,250,500,1.007237833555847,null,250,500,0.99092560625201431,null,250,500,1.0061356808924222,null,250,500,1.0037621922424436]
[null,275,50,0.99447000639059058,null,275,50,0.8771091890793411,null,275,50,0.99201178858387529,null,275,50,0.98495104463648442]
[null,275,{"$f":"C442+10","v":60},0.99549883153243868,null,275,{"$f":"G442+10","v":60},0.88583391815196366,null,275,{"$f":"K442+10","v":60},0.99309997247191262,null,275,{"$f":"O442+10","v":60},0.98627520588375306]
[null,275,70,0.99644718854058278,null,275,70,0.8937017383402156,null,275,70,0.99410451635295816,null,275,70,0.98750164598993939]
[null,275,80,0.99732226218595021,null,275,80,0.90083070971144175,null,275,80,0.99503287993970091,null,275,80,0.98863900604621213]
[null,275,90,0.99813047992011261,null,275,90,0.90731696261474859,null,275,90,0.99589173253539132,null,275,90,0.98969500957357237]
[null,275,100,0.99887760486454424,null,275,100,0.91323996438563348,null,275,100,0.99668705095688392,null,275,100,0.99067657730084524]
[null,275,110,0.9995688157314272,null,275,110,0.91866623626947574,null,275,110,0.99742420353703054,null,275,110,0.99158992535588242]
[null,275,120,1.0002087757283975,null,275,120,0.92365202659442491,null,275,120,0.99810802243969932,null,275,120,0.99244064959155132]
[null,275,130,1.000801692188017,null,275,130,0.92824529445831871,null,275,130,0.99874286612200214,null,275,130,0.99323379826864988]
[null,275,140,1.0013513682987085,null,275,140,0.93248723316358662,null,275,140,0.99933267345770416,null,275,140,0.99397393491962815]
[null,275,150,1.0018612481389535,null,275,150,0.93641346546681847,null,275,150,0.99988101077853453,null,275,150,0.99466519289754118]
[null,275,160,1.0023344559723222,null,275,160,0.94005498852569114,null,275,160,1.0003911128743126,null,275,160,0.99531132285698265]
[null,275,170,1.002773830640501,null,275,170,0.94343892415819708,null,275,170,1.000865918832758,null,275,170,0.9959157342047843]
[null,275,180,1.0031819557344319,null,275,180,0.94658911942415702,null,275,180,1.0013081034421414,null,275,180,0.99648153138799889]
[null,275,190,1.0035611861289513,null,275,190,0.94952663316160768,null,275,190,1.0017201047882545,null,275,190,0.99701154574722783]
[null,275,200,1.0039136713733647,null,275,200,0.95227013499760316,null,275,200,1.0021041485484039,null,275,200,0.99750836354911165]
[null,275,225,1.0046903636590316,null,275,225,0.95838476899802194,null,275,225,1.002954877308744,null,275,225,0.99862021584190508]
[null,275,{"$f":"C458+25","v":250},1.0053381972342614,null,275,{"$f":"G458+25","v":250},0.96360110058327464,null,275,{"$f":"K458+25","v":250},1.0036705398012962,null,275,{"$f":"O458+25","v":250},0.99957075674603668]
[null,275,275,1.0058785520353133,null,275,275,0.96808405094237038,null,275,275,1.0042732957602964,null,275,275,1.0003858326599548]
[null,275,300,1.006328820970094,null,275,300,0.97196195475277336,null,275,300,1.0047811867341188,null,275,300,1.0010865306256642]
[null,275,325,1.0067032482712188,null,275,325,0.9753360562682889,null,275,325,1.0052090023217157,null,275,325,1.0016901755290777]
[null,275,350,1.007013571343981,null,275,350,0.97828719299738687,null,275,350,1.0055689427837458,null,275,350,1.0022110930864854]
[null,275,375,1.0072695168124639,null,275,375,0.98088059922725757,null,275,375,1.0058711308159913,null,275,375,1.0026611994248034]
[null,275,400,1.0074791872259203,null,275,400,0.98316942102590688,null,275,400,1.0061240103570759,null,275,400,1.0030504608428874]
[null,275,425,1.0076493649591041,null,275,425,0.9851973292085271,null,275,425,1.0063346599348229,null,275,425,1.0033872553464565]
[null,275,450,1.0077857528276657,null,275,450,0.98700048904863324,null,275,450,1.0065090407521056,null,275,450,1.0036786591564371]
[null,275,475,1.0078931659267907,null,275,475,0.98860906374116098,null,275,475,1.006652194504096,null,275,475,1.0039306753986739]
[null,275,500,1.0079756855776254,null,275,500,0.99004837497655418,null,275,500,1.0067684021610872,null,275,500,1.0041484178692155]
[null,300,50,0.99406026387672763,null,300,50,0.86448392101937088,null,300,50,0.99138722807539015,null,300,50,0.98363110871852677]
[null,300,{"$f":"C470+10","v":60},0.99517867070613608,null,300,{"$f":"G470+10","v":60},0.87426804489836019,null,300,{"$f":"K470+10","v":60},0.99257074166475157,null,300,{"$f":"O470+10","v":60},0.985075147629356]
[null,300,70,0.9962094288679848,null,300,70,0.88306166824490562,null,300,70,0.99366306175892893,null,300,70,0.98641235734620847]
[null,300,80,0.99716038344159985,null,300,80,0.89100747092248889,null,300,80,0.99467234681678662,null,300,80,0.98765221820853577]
[null,300,90,0.99803854986275664,null,300,90,0.89822013692958635,null,300,90,0.99560588743332656,null,300,90,0.98880319899451796]
[null,300,100,0.99885021622552461,null,300,100,0.90479346950324702,null,300,100,0.99647021437834393,null,300,100,0.98987288422733843]
[null,300,110,0.99960103112593146,null,300,110,0.91080530267891668,null,300,110,0.9972711911892792,null,300,110,0.9908680829504205]
[null,300,120,1.0002960793540296,null,300,120,0.916320967297931,null,300,120,0.99801409381219675,null,300,120,0.99179492203754638]
[null,300,130,1.0009399473302043,null,300,130,0.92139581889666222,null,300,130,0.99870367933642856,null,300,130,0.99265892653595478]
[null,300,140,1.001536779848947,null,300,140,0.92607714896897231,null,300,140,0.99934424550848733,null,300,140,0.99346508908885534]
[null,300,150,1.0020903294462766,null,300,150,0.93040566450373674,null,300,150,0.99993968242262887,null,300,150,0.99421793012237647]
[null,300,160,1.0026039994454079,null,300,160,0.93441664446778749,null,300,160,1.0004935175439023,null,300,160,0.99492155019106021]
[null,300,170,1.003080881617997,null,300,170,0.93814084898734074,null,300,170,1.0010089550400108,null,300,170,0.99557967564060967]
[null,300,180,1.0035237892042219,null,300,180,0.94160524076176166,null,300,180,1.0014889102285087,null,300,180,0.99619569855509982]
[null,300,190,1.0039352859402149,null,300,190,0.94483356490495563,null,300,190,1.0019360398235615,null,300,190,0.99677271179934424]
[null,300,200,1.0043177116353157,null,300,200,0.94784682117082641,null,300,200,1.0023527685616183,null,300,200,0.99731353983823812]
[null,300,225,1.0051601819066551,null,300,225,0.95455644979955934,null,300,225,1.003275673420408,null,300,225,0.99852372290862901]
[null,300,{"$f":"C486+25","v":250},1.0058626326340665,null,300,{"$f":"G486+25","v":250},0.96027381684142221,null,300,{"$f":"K486+25","v":250},1.0040517705933962,null,300,{"$f":"O486+25","v":250},0.99955814319149483]
[null,300,275,1.0064483198205478,null,300,275,0.96518273356326434,null,300,275,1.0047051794576809,null,300,275,1.0004449989224846]
[null,300,300,1.0069361574325095,null,300,300,0.96942577621222681,null,300,300,1.0052555298716235,null,300,300,1.0012072869688433]
[null,300,325,1.007341631737293,null,300,325,0.97311513042269071,null,300,325,1.0057189083211093,null,300,325,1.0018638950104435]
[null,300,350,1.0076775009458638,null,300,350,0.97634017577277721,null,300,350,1.0061085811624988,null,300,350,1.0024304365340702]
[null,300,375,1.0079543356723824,null,300,375,0.9791729087426394,null,300,375,1.0064355528922111,null,300,375,1.0029198956046059]
[null,300,400,1.0081809400936967,null,300,400,0.98167189409299516,null,300,400,1.0067090009591235,null,300,400,1.0033431293661557]
[null,300,425,1.0083646828085329,null,300,425,0.98388519172504452,null,300,425,1.0069366172418992,null,300,425,1.0037092629767881]
[null,300,450,1.0085117587169015,null,300,450,0.98585255631890634,null,300,450,1.0071248782960187,null,300,450,1.0040260024417564]
[null,300,475,1.0086273977555125,null,300,475,0.98760711193436157,null,300,475,1.0072792607631003,null,300,475,1.0042998842145765]
[null,300,500,1.0087160323633735,null,300,500,0.98917664178917364,null,300,500,1.0074044142180729,null,300,500,1.0045364756941646]
[null,325,50,0.99366637720032458,null,325,50,0.85153260495113581,null,325,50,0.99077894812093903,null,325,50,0.98231995402283945]
[null,325,{"$f":"C498+10","v":60},0.99487363897312475,null,325,{"$f":"G498+10","v":60},0.86244503729088307,null,325,{"$f":"K498+10","v":60},0.99205718184268732,null,325,{"$f":"O498+10","v":60},0.98388371229851435]
[null,325,70,0.99598610362903184,null,325,70,0.87221628581514832,null,325,70,0.99323668229003548,null,325,70,0.98533150339432074]
[null,325,80,0.99701227642315238,null,325,80,0.88101870316714759,null,325,80,0.99432630917276099,null,325,80,0.98667365519490446]
[null,325,90,0.99795976025005073,null,325,90,0.88898884705836967,null,325,90,0.99533397608689489,null,325,90,0.98791938828959636]
[null,325,100,0.99883536737341694,null,325,100,0.89623711289389763,null,325,100,0.99626676885267373,null,325,100,0.98907695617048086]
[null,325,110,0.99964521528497541,null,325,110,0.90285422590720532,null,325,110,0.99713104684023024,null,325,110,0.99015376487558326]
[null,325,120,1.0003948092396275,null,325,120,0.90891573091846156,null,325,120,0.99793253004722493,null,325,120,0.99115647550601926]
[null,325,130,1.0010891135562787,null,325,130,0.91448520760677954,null,325,130,0.99867637419215805,null,325,130,0.99209109240509297]
[null,325,140,1.0017326134130078,null,325,140,0.91961666178845791,null,325,140,0.99936723568612396,null,325,140,0.9929630392788853]
[null,325,150,1.0023293685623305,null,325,150,0.92435635058325838,null,325,150,1.000009328025163,null,325,150,0.99377722513197142]
[null,325,160,1.0028830601607637,null,325,160,0.92874419218070559,null,325,160,1.0006064708775608,null,325,160,0.99453810156589506]
[null,325,170,1.0033970317059824,null,325,170,0.93281486279741199,null,325,170,1.0011621329399634,null,325,170,0.99524971272476015]
[null,325,180,1.0038743249172888,null,325,180,0.93659865916136109,null,325,180,1.0016794694521587,null,325,180,0.99591573895853103]
[null,325,190,1.0043177112627555,null,325,190,0.94012218609626397,null,325,190,1.002161355117988,null,325,190,0.99653953510048088]
[null,325,200,1.0047297197276455,null,325,200,0.94340891244738112,null,325,200,1.0026104130726301,null,325,200,0.99712416411005167]
[null,325,225,1.0056371504518538,null,325,225,0.95072055029991864,null,325,225,1.0036046720724121,null,325,225,0.99843218513252696]
[null,325,{"$f":"C514+25","v":250},1.0063934986792002,null,325,{"$f":"G514+25","v":250},0.95694364661704323,null,325,{"$f":"K514+25","v":250},1.0044404701255363,null,325,{"$f":"O514+25","v":250},0.99955003541734255]
[null,325,275,1.0070238835076153,null,325,275,0.96228168390168489,null,325,275,1.0051438765159211,null,325,275,1.0005082635169904]
[null,325,300,1.0075487287287985,null,325,300,0.96689197826991458,null,325,300,1.0057361004776675,null,325,300,1.001331773512935]
[null,325,325,1.0079847529651249,null,325,325,0.97089798310352882,null,325,325,1.0062345173392486,null,325,325,1.0020410127843631]
[null,325,350,1.0083457269125828,null,325,350,0.97439783852511752,null,325,350,1.0066534523939508,null,325,350,1.002652879349677]
[null,325,375,1.0086430580288728,null,325,375,0.97747045214541461,null,325,375,1.0070047856143642,null,325,375,1.0031814220416733]
[null,325,400,1.0088862459787638,null,325,400,0.98017991051095943,null,325,400,1.0072984223970389,null,325,400,1.0036383858507492]
[null,325,425,1.0090832403051022,null,325,425,0.98257873488439884,null,325,425,1.0075426630915247,null,325,425,1.0040336403137216]
[null,325,450,1.0092407234451244,null,325,450,0.98471032056046837,null,325,450,1.0077444953302577,null,325,450,1.0043755186917203]
[null,325,475,1.0093643362538935,null,325,475,0.98661078905788735,null,325,475,1.007909826956517,null,325,475,1.0046710884829999]
[null,325,500,1.009458858896598,null,325,500,0.98831041144867515,null,325,500,1.0080436728691611,null,325,500,1.0049263686413834]
[null,350,50,0.99328842909617365,null,350,50,0.83822605285611551,null,350,50,0.9901868401006001,null,350,50,0.98101775737146335]
[null,350,{"$f":"C526+10","v":60},0.99458380310825401,null,350,{"$f":"G526+10","v":60},0.85034528024218803,null,350,{"$f":"K526+10","v":60},0.9915591785623098,null,350,{"$f":"O526+10","v":60},0.98270105842050004]
[null,350,70,0.99577726593921934,null,350,70,0.8611521133301806,null,350,70,0.99282525931868604,null,350,70,0.98425922632402141]
[null,350,80,0.99687798255598725,null,350,80,0.87085498771390912,null,350,80,0.99399464555704531,null,350,80,0.98570344461008186]
[null,350,90,0.99789414250513009,null,350,90,0.87961642683733154,null,350,90,0.99507587534970121,null,350,90,0.98704369204865561]
[null,350,100,0.99883308117867931,null,350,100,0.88756613332400314,null,350,100,0.99607659046798258,null,350,100,0.98828889610644954]
[null,350,110,0.99970138376908291,null,350,110,0.89480958502243324,null,350,110,0.99700364657728013,null,350,110,0.98944706374217828]
[null,350,120,1.0005049747075843,null,350,120,0.90143385240711749,null,350,120,0.9978632078570806,null,350,120,0.99052539335313172]
[null,350,130,1.0012491948747781,null,350,130,0.90751168483890099,null,350,130,0.9986608285350318,null,350,130,0.99153037096518237]
[null,350,140,1.0019388684760073,null,350,140,0.91310449735664945,null,350,140,0.99940152338038213,null,350,140,0.99246785318961495]
[null,350,150,1.0025783611367562,null,350,150,0.91826461677409765,null,350,150,1.0000898288476836,null,350,150,0.99334313901719451]
[null,350,160,1.003171630524577,null,350,160,0.92303699510443038,null,350,160,1.0007298562672839,null,350,160,0.99416103215685026]
[null,350,170,1.0037222705786255,null,350,170,0.92746052860485328,null,350,170,1.0013253382549796,null,350,170,0.99492589533377473]
[null,350,180,1.004233550257811,null,350,180,0.93156908508808911,null,350,180,1.0018796693189462,null,350,180,0.99564169772460709]
[null,350,190,1.0047084475729384,null,350,190,0.93539231599758044,null,350,190,1.0023959414716597,null,350,190,0.99631205651422483]
[null,350,200,1.005149679549399,null,350,200,0.93895630806407948,null,350,200,1.0028769755532687,null,350,200,0.99694027340055502]
[null,350,225,1.0061212504175978,null,350,225,0.94687708658452874,null,350,225,1.0039417735810627,null,350,225,0.99834563159042367]
[null,350,{"$f":"C542+25","v":250},1.0069307749688894,null,350,{"$f":"G542+25","v":250},0.95361065422978974,null,350,{"$f":"K542+25","v":250},1.0048365455551787,null,350,{"$f":"O542+25","v":250},0.9995464563708939]
[null,350,275,1.0076052220384524,null,350,275,0.95938098085657497,null,350,275,1.0055893007324799,null,350,275,1.0005756446492418]
[null,350,300,1.0081665137381313,null,350,300,0.96436063832536278,null,350,300,1.0062228186734636,null,350,300,1.0014600047782809]
[null,350,325,1.0086325911732748,null,350,325,0.96868468309347955,null,350,325,1.0067557554437521,null,350,325,1.0022215404867585]
[null,350,350,1.0090182290678507,null,350,350,0.97246023886784294,null,350,350,1.0072034880886187,null,350,350,1.0028784309055407]
[null,350,375,1.0093356644798073,null,350,375,0.9757732756043942,null,350,375,1.0075787657284605,null,350,375,1.0034457863220598]
[null,350,400,1.0095950863536236,null,350,400,0.97869350580271952,null,350,400,1.0078922161548487,null,350,400,1.0039362364669506]
[null,350,425,1.0098050198480704,null,350,425,0.98127798480466921,null,350,425,1.0081527433264195,null,350,425,1.0043603924004498]
[null,350,450,1.0099726303566248,null,350,450,0.98357379984333715,null,350,450,1.0083678416995909,null,350,450,1.004727212048431]
[null,350,475,1.0101039657061153,null,350,475,0.98562010644402298,null,350,475,1.0085438465992913,null,350,475,1.0050442916226447]
[null,350,500,1.0102041503803301,null,350,500,0.98744968973983982,null,350,500,1.0086861349929113,null,350,500,1.0053180995464515]
[null,375,50,0.99292650182499964,null,375,50,0.82453038211072804,null,375,50,0.98961080688344094,null,375,50,0.97972469607670321]
[null,375,{"$f":"C554+10","v":60},0.99430922944383626,null,375,{"$f":"G554+10","v":60},0.83794650511858015,null,375,{"$f":"K554+10","v":60},0.9910766279431682,null,375,{"$f":"O554+10","v":60},0.98152734473987002]
[null,375,70,0.99558296851738559,null,375,70,0.8498541238387729,null,375,70,0.9924286839657418,null,375,70,0.98319566833245164]
[null,375,80,0.99675754292291074,null,375,80,0.8605059803853834,null,375,80,0.9936772435461505,null,375,80,0.98474171391086363]
[null,375,90,0.99784172776650693,null,375,90,0.87009564914999771,null,375,90,0.99483147045950404,null,375,90,0.98617622459926946]
[null,375,100,0.99884338028494413,null,375,100,0.87877542728388736,null,375,100,0.99589956312014682,null,375,100,0.98750880666686713]
[null,375,110,0.99976955197050099,null,375,110,0.88666775065675496,null,375,110,0.99688887377611479,null,375,110,0.98874807175908497]
[null,375,120,1.0006265849670148,null,375,120,0.89387274138643114,null,375,120,0.9978060107718919,null,375,120,0.98990175849504991]
[null,375,130,1.0014201952293493,null,375,130,0.90047340161379497,null,375,130,0.99865692660078942,null,375,130,0.99097683684217042]
[null,375,140,1.0021555445088839,null,375,140,0.90653934099374534,null,375,140,0.99944699398011749,null,375,140,0.99197959804601077]
[null,375,150,1.0028373028484479,null,375,150,0.91212953638577932,null,375,150,1.0001810717926509,null,375,150,0.99291573239090314]
[null,375,160,1.0034697030115054,null,375,160,0.91729440982440069,null,375,160,1.0008635624166518,null,375,160,0.9937903966647289]
[null,375,170,1.0040565880136443,null,375,170,0.92207741049817982,null,375,170,1.0014984617158125,null,375,170,0.99460827287792453]
[null,375,180,1.0046014527446228,null,375,180,0.92651623479514267,null,375,180,1.0020894027617286,null,375,180,0.99537361952518433]
[null,375,190,1.0051074805091307,null,375,190,0.93064378230392852,null,375,190,1.0026396941514168,null,375,190,0.99609031646561663]
[null,375,200,1.0055775751854521,null,375,200,0.93448891700583947,null,375,200,1.0031523537003055,null,375,200,0.99676190432326572]
[null,375,225,1.0066124631586095,null,375,225,0.94302608474630401,null,375,225,1.0042868819531914,null,375,225,0.99826409097493929]
[null,375,{"$f":"C570+25","v":250},1.0074744413637551,null,375,{"$f":"G570+25","v":250},0.95027491260181374,null,375,{"$f":"K570+25","v":250},1.0052399072791796,null,375,{"$f":"O570+25","v":250},0.99954742866291468]
[null,375,275,1.0081923146334328,null,375,275,0.95648071026541059,null,375,275,1.006041368760167,null,375,275,1.0006471602300013]
[null,375,300,1.0087894916256537,null,375,300,0.96183183923892823,null,375,300,1.006715607106379,null,375,300,1.0015919950247363]
[null,375,325,1.0092851258668147,null,375,325,0.96647530344507249,null,375,325,1.0072825509445902,null,375,325,1.0024054895294201]
[null,375,350,1.0096949875174004,null,375,350,0.97052743776377615,null,375,350,1.0077586218535055,null,375,350,1.0031071003787981]
[null,375,375,1.0100321358970714,null,375,375,0.97408142793961117,null,375,375,1.008157431763085,null,375,375,1.003712995861838]
[null,375,400,1.010307442954429,null,375,400,0.97721271761650585,null,375,400,1.0084903253123387,null,375,400,1.0042366872366921]
[null,375,425,1.0105300040884972,null,375,425,0.97998296933306706,null,375,425,1.008766805221355,null,375,425,1.0046895241503979]
[null,375,450,1.0107074630348047,null,375,450,0.98244301366682096,null,375,450,1.008994868536933,null,375,450,1.005081086540174]
[null,375,475,1.0108462706224139,null,375,475,0.98463507662559635,null,375,475,1.0091812743676527,null,375,475,1.0054194969520911]
[null,375,500,1.0109518922305782,null,375,500,0.98659448347163681,null,375,500,1.0093317585170223,null,375,500,1.0057116711566061]
[null,400,50,0.99258067702339792,null,400,50,0.81040586962601957,null,400,50,0.98905076247096579,null,400,50,0.97844094787708713]
[null,400,{"$f":"C582+10","v":60},0.9940499837385306,null,400,{"$f":"G582+10","v":60},0.82522325018592135,null,400,{"$f":"K582+10","v":60},0.99060943633900833,null,400,{"$f":"O582+10","v":60},0.98036273015875208]
[null,400,70,0.99540326357064879,null,400,70,0.83830547517035547,null,400,70,0.99204685679704652,null,400,70,0.9821409715726529]
[null,400,80,0.99665099816272906,null,400,80,0.84996027621352188,null,400,80,0.99337399946320859,null,400,80,0.98378859036047284]
[null,400,90,0.99780254679824698,null,400,90,0.86041865574810328,null,400,90,0.99460065477865711,null,400,90,0.98531709996658046]
[null,400,100,0.99886628703009217,null,400,100,0.86985951239447012,null,400,100,0.99573557827228421,null,400,100,0.98673679010359383]
[null,400,110,0.99984973504177221,null,400,110,0.87842486612042336,null,400,110,0.99678661887751907,null,400,110,0.98805688070249775]
[null,400,120,1.0007596490496313,null,400,120,0.88622967272254671,null,400,120,0.99776082893224138,null,400,120,0.98928565338114727]
[null,400,130,1.0016021184449244,null,400,130,0.89336843136279642,null,400,130,0.99866455882212801,null,400,130,0.99043056417553821]
[null,400,140,1.0023826409160093,null,400,140,0.8999198359384365,null,400,140,0.99950353869354491,null,400,140,0.99149834057789465]
[null,400,150,1.0031061893579032,null,400,150,0.90595016269745532,null,400,150,1.0002829492358172,null,400,150,0.99249506537043275]
[null,400,160,1.0037772701211658,null,400,160,0.91151578648609821,null,400,160,1.0010074831826559,null,400,160,0.99342624930062184]
[null,400,170,1.0043999738524281,null,400,170,0.91666507435165545,null,400,170,1.0016813989147542,null,400,170,0.99429689428811641]
[null,400,180,1.0049780199945333,null,400,180,0.92143983112967831,null,400,180,1.0023085673034751,null,400,180,0.99511154856635498]
[null,400,190,1.0055147958378481,null,400,190,0.92587642193486741,null,400,190,1.0028925127625938,null,400,190,0.99587435492870469]
[null,400,200,1.0060133908751745,null,400,200,0.93000665873214017,null,400,200,1.0034364493152443,null,400,200,0.99658909305879506]
[null,400,225,1.0071107702352025,null,400,225,0.93916758139484269,null,400,225,1.0046399047834491,null,400,225,0.99818759159537063]
[null,400,{"$f":"C598+25","v":250},1.0080244779636414,null,400,{"$f":"G598+25","v":250},0.94693650358314507,null,400,{"$f":"K598+25","v":250},1.0056504688455965,null,400,{"$f":"O598+25","v":250},0.99955297456371173]
[null,400,275,1.0087851407723418,null,400,275,0.9535809651035716,null,400,275,1.0065000000310702,null,400,275,1.0007228278724065]
[null,400,300,1.0094176418259979,null,400,300,0.95930566945095086,null,400,300,1.0072143908840521,null,400,300,1.0017277582539459]
[null,400,325,1.0099423368229272,null,400,325,0.96426992155041247,null,400,325,1.0078148343368192,null,400,325,1.0025928710989112]
[null,400,350,1.0103759826363161,null,400,350,0.96859949956486491,null,400,350,1.008318789242151,null,400,350,1.0033388967508199]
[null,400,375,1.0107324534153634,null,400,375,0.97239496064403064,null,400,375,1.0087407239856918,null,400,375,1.0039830579067368]
[null,400,400,1.0110232977710383,null,400,400,0.97573758573680924,null,400,400,1.0090926945067,null,400,400,1.0045397440333976]
[null,400,425,1.0112581759203809,null,400,425,0.97869371805049898,null,400,425,1.0093847974494028,null,400,425,1.0050210403472051]
[null,400,450,1.0114452052942557,null,400,450,0.98131798296032213,null,400,450,1.0096255282335633,null,400,450,1.0054371460814926]
[null,400,475,1.0115912357319821,null,400,475,0.98365571333460133,null,400,475,1.009822066072767,null,400,475,1.0057967076899377]
[null,400,500,1.0117020700699455,null,400,500,0.98574480047461588,null,400,500,1.0099805023949726,null,400,500,1.0061070861309158]
[null,425,50,0.99225103555747107,null,425,50,0.79580541798906512,null,425,50,0.9885066316301182,null,425,50,0.97716669087187813]
[null,425,{"$f":"C610+10","v":60},0.99380613104975646,null,425,{"$f":"G610+10","v":60},0.81214617073027162,null,425,{"$f":"K610+10","v":60},0.99015752000066304,null,425,{"$f":"O610+10","v":60},0.97920737367809652]
[null,425,70,0.99523820268267682,null,425,70,0.8264871819441999,null,425,70,0.99167968751330382,null,425,70,0.98109527810135477]
[null,425,80,0.99655838837193222,null,425,80,0.83920524739784574,null,425,80,0.99308481809221805,null,425,80,0.98284420098248682]
[null,425,90,0.9977766299030425,null,425,90,0.85057687528306325,null,425,90,0.994383329530386,null,425,90,0.9844664318328572]
[null,425,100,0.998901823369022,null,425,100,0.86081248557392143,null,425,100,0.99558453471096542,null,425,100,0.98597294825337722]
[null,425,110,0.99994194782679136,null,425,110,0.87007682622745164,null,425,110,0.99669677916166288,null,425,110,0.98737358188512303]
[null,425,120,1.0009041757463559,null,425,120,0.87850177615290825,null,425,120,0.99772755887986042,null,425,120,0.98867715996723737]
[null,425,130,1.001794968171094,null,425,130,0.88619476523041185,null,425,130,0.99868362163433277,null,425,130,0.98989162659508556]
[null,425,140,1.0026201569847457,null,425,140,0.89324458160858222,null,425,140,0.99957105436748106,null,425,140,0.99102414699984387]
[null,425,150,1.0033850162613678,null,425,150,0.89972552872131506,null,425,150,1.0003953588579091,null,425,150,0.99208119756021673]
[null,425,160,1.0040943243362785,null,425,160,0.90570046927899828,null,425,160,1.0011615174242539,null,425,160,0.99306864377090154]
[null,425,170,1.0047524179616825,null,425,170,0.91122308861181833,null,425,170,1.0018740501591212,null,425,170,0.9939918080029515]
[null,425,180,1.0053632396870524,null,425,180,0.91633960440281448,null,425,180,1.0025370649203311,null,425,180,0.99485552857729875]
[null,425,190,1.0059303794212022,null,425,190,0.92109008187788588,null,425,190,1.0031543011208999,null,425,190,0.99566421141829786]
[null,425,200,1.0064571109822902,null,425,200,0.92550946394326417,null,425,200,1.0037291681843248,null,425,200,0.99642187534691673]
[null,425,225,1.0076161533881103,null,425,225,0.93530162418304741,null,425,225,1.0050007531520146,null,425,225,0.99811616136806391]
[null,425,{"$f":"C626+25","v":250},1.0085808650862678,null,425,{"$f":"G626+25","v":250},0.94359551828273991,null,425,{"$f":"K626+25","v":250},1.0060681468660151,null,425,{"$f":"O626+25","v":250},0.99956311599934344]
[null,425,275,1.009383680176045,null,425,275,0.95068184568406267,null,425,275,1.0069651166810458,null,425,275,1.0008026648894481]
[null,425,300,1.0100509440273839,null,425,300,0.95678222309917149,null,425,300,1.007719097509082,null,425,300,1.001867308206793]
[null,425,325,1.0106042040769998,null,425,325,0.96206861920856013,null,425,325,1.0083525382438667,null,425,325,1.0027836961555392]
[null,425,350,1.0110611950567987,null,425,350,0.96667649204961337,null,425,350,1.0088839277052073,null,425,350,1.0035738288066089]
[null,425,375,1.0114365984213709,null,425,375,0.97071392790322286,null,425,375,1.0093285843593902,null,425,375,1.0042559795318249]
[null,425,400,1.0117426330373975,null,425,400,0.97426815209359874,null,425,400,1.0096992698946279,null,425,400,1.0048454125818695]
[null,425,425,1.0119895184720806,null,425,425,0.97741026227468908,null,425,425,1.010006670048597,null,425,425,1.0053549456447437]
[null,425,450,1.0121858411730855,null,425,450,0.98019873008296166,null,425,450,1.0102597744097244,null,425,450,1.0057953944732969]
[null,425,475,1.0123388459760845,null,425,475,0.98268203149986177,null,425,475,1.0104661786347413,null,425,475,1.0061759269549631]
[null,425,500,1.0124546697214478,null,425,500,0.984900649597517,null,425,500,1.0106323265829777,null,425,500,1.0065043470404826]
[null,450,50,0.99193765738024231,null,450,50,0.78067245964705478,null,450,50,0.9879783495169151,null,450,50,0.9759021034541342]
[null,450,{"$f":"C638+10","v":60},0.99357773560968821,null,450,{"$f":"G638+10","v":60},0.79868114426332726,null,450,{"$f":"K638+10","v":60},0.989720804731549,null,450,{"$f":"O638+10","v":60},0.97806143433789605]
[null,450,70,0.99508783670531087,null,450,70,0.8143777069421948,null,450,70,0.99132709463413804,null,450,70,0.98005872982605879]
[null,450,80,0.99647975300950564,null,450,80,0.82822684784205336,null,450,80,0.99280961238774657,null,450,80,0.98190867251429437]
[null,450,90,0.99776400683817923,null,450,90,0.84056092704018648,null,450,90,0.99417940353154111,null,450,90,0.98362433349676504]
[null,450,100,0.99895001079908741,null,450,100,0.85162797502118914,null,450,100,0.99544633829972851,null,450,100,0.98521738250234425]
[null,450,110,1.0000462047943142,null,450,110,0.86161925348741963,null,450,110,0.99661925852035227,null,450,110,0.98669826612531797]
[null,450,120,1.0010601735527105,null,450,120,0.8706860248535756,null,450,120,0.99770610334683663,null,450,120,0.98807635968880958]
[null,450,130,1.0019987478284453,null,450,130,0.87895030700968901,null,450,130,0.9987140172798521,null,450,130,0.98936009719777007]
[null,450,140,1.0028680918368975,null,450,140,0.88651213178971811,null,450,140,0.99964944330588612,null,450,140,0.99055708299117973]
[null,450,150,1.0036737790467192,null,450,150,0.89345464700895139,null,450,150,1.0005182034758955,null,450,150,0.99167418803452034]
[null,450,160,1.0044208580824094,null,450,160,0.89984779699884099,null,450,160,1.0013255688381386,null,450,160,0.99271763326233819]
[null,450,170,1.0051139101965452,null,450,170,0.90575102516405825,null,450,170,1.0020763203247409,null,450,170,0.99369306195591101]
[null,450,180,1.0057570995304681,null,450,180,0.91121529332887197,null,450,180,1.0027748019048357,null,450,180,0.99460560279925847]
[null,450,190,1.0063542171855941,null,450,190,0.91628462008700684,null,450,190,1.0034249671245683,null,450,190,0.99545992498022584]
[null,450,200,1.0069087199658877,null,450,200,0.92099727538838416,null,450,200,1.0040304199588876,null,450,200,0.99626028647843723]
[null,450,225,1.0081285945142584,null,450,225,0.93142827235148051,null,450,225,1.0053693415228049,null,450,225,0.99804982781180929]
[null,450,{"$f":"C654+25","v":250},1.0091435832466613,null,450,{"$f":"G654+25","v":250},0.94025205740499529,null,450,{"$f":"K654+25","v":250},1.0064928609284425,null,450,{"$f":"O654+25","v":250},0.99957787454790803]
[null,450,275,1.0099879127888058,null,450,275,0.94778345985728718,null,450,275,1.0074366434747974,null,450,275,1.0008866882915142]
[null,450,300,1.0106893781562609,null,450,300,0.95426160013415295,null,450,300,1.0082296568142948,null,450,300,1.0020106583618051]
[null,450,325,1.0112707079091778,null,450,325,0.95987148269038669,null,450,325,1.0088955973613687,null,450,325,1.0029779754323631]
[null,450,350,1.0117506056563144,null,450,350,0.96475848645806939,null,450,350,1.0094539765415294,null,450,350,1.0038119051342191]
[null,450,375,1.0121445525432708,null,450,375,0.96903838661288488,null,450,375,1.0099209565002043,null,450,375,1.0045317676412155]
[null,450,400,1.0124654312221979,null,450,400,0.97280446076973537,null,450,400,1.0103099991148532,null,450,400,1.0051536984581784]
[null,450,425,1.0127240150979766,null,450,425,0.9761326350618228,null,450,425,1.0106323743889889,null,450,425,1.0056912445671411]
[null,450,450,1.0129293549254492,null,450,450,0.97908527882199081,null,450,450,1.010897561885572,null,450,450,1.0061558354029705]
[null,450,475,1.0130890865013544,null,450,475,0.98171404724370137,null,450,475,1.0111135700569414,null,450,475,1.00655715776629]
[null,450,500,1.0132096772024748,null,450,500,0.98406204070306336,null,450,500,1.0112871920172282,null,450,500,1.0069034563686323]
[null,475,50,0.99164062139300146,null,475,50,0.76493802460188587,null,475,50,0.98746586129181213,null,475,50,0.97464736424239506]
[null,475,{"$f":"C666+10","v":60},0.99336486070494967,null,475,{"$f":"G666+10","v":60},0.78478809110735004,null,475,{"$f":"K666+10","v":60},0.98929922553674854,null,475,{"$f":"O666+10","v":60},0.976925071156453]
[null,475,70,0.99495221565364234,null,475,70,0.80195244623720974,null,475,70,0.99098900517721633,null,475,70,0.97903146845147859]
[null,475,80,0.99641513080493749,null,475,80,0.81700937546525754,null,475,80,0.99254830318086318,null,475,80,0.98098213136015477]
[null,475,90,0.99776470673445117,null,475,90,0.83036050721377097,null,475,90,0.99398879292251241,null,475,90,0.98279091783241446]
[null,475,100,0.99901087028824676,null,475,100,0.84229908486790672,null,475,100,0.99532090173050558,null,475,100,0.98447019375040212]
[null,475,110,1.0001625199739652,null,475,110,0.85304747125566682,null,475,110,0.99655396722779688,null,475,110,0.98603102371622886]
[null,475,120,1.0012276506051863,null,475,120,0.86277922281384545,null,475,120,0.99769637104380948,null,475,120,0.98748333343433892]
[null,475,130,1.0022134605569997,null,475,130,0.87163286767808401,null,475,130,0.99875565361224927,null,475,130,0.98883604852465956]
[null,475,140,1.0031264443820911,null,475,140,0.87972099275259663,null,475,140,0.99973861308809031,null,475,140,0.99009721367609549]
[null,475,150,1.003972473051121,null,475,150,0.88713650951066447,null,475,150,1.0006513908741845,null,475,150,0.99127409532032751]
[null,475,160,1.0047568636893367,null,475,160,0.89395710369843084,null,475,160,1.0014995458059004,null,475,160,0.99237327042738388]
[null,475,170,1.0054844403651935,null,475,170,0.90024846028729566,null,475,170,1.002288118709713,null,475,170,0.99340070356271049]
[null,475,180,1.0061595872292983,null,475,180,0.90606664603949461,null,475,180,1.0030216887295313,null,475,180,0.9943618139746897]
[null,475,190,1.0067862950916706,null,475,190,0.91145990644026997,null,475,190,1.0037044226269922,null,475,190,0.99526153418203234]
[null,475,200,1.0073682023525996,null,475,200,0.91647004871771554,null,475,200,1.0043401180362976,null,475,200,0.99610436128722557]
[null,475,225,1.0086480756434972,null,475,225,0.92754759729082525,null,475,225,1.0057455876423513,null,475,225,0.99798861804246175]
[null,475,{"$f":"C682+25","v":250},1.0097126131373855,null,475,{"$f":"G682+25","v":250},0.9369062315915605,null,475,{"$f":"K682+25","v":250},1.0069245335109054,null,475,{"$f":"O682+25","v":250},0.99959727143595178]
[null,475,275,1.0105978187612679,null,475,275,0.94488592321063503,null,475,275,1.0079145077316554,null,475,275,1.0009749147840341]
[null,475,300,1.0113329243625138,null,475,300,0.95174390643252738,null,475,300,1.0087460008986768,null,475,300,1.0021578219336471]
[null,475,325,1.0119418288313999,null,475,325,0.95767860280078709,null,475,325,1.0094439484016342,null,475,325,1.0031757194342705]
[null,475,350,1.0124441955461569,null,475,350,0.96284555752431322,null,475,350,1.0100288768498455,null,475,350,1.0040531341242314]
[null,475,375,1.0128562976405882,null,475,375,0.96736839639420802,null,475,375,1.0105177856348657,null,475,375,1.0048104289678139]
[null,475,400,1.0131916750198462,null,475,400,0.97134655800659708,null,475,400,1.0109248312511598,null,475,400,1.0054646070896018]
[null,475,425,1.0134616493703998,null,475,425,0.97486087120672404,null,475,425,1.0112618631401449,null,475,425,1.006029941508839]
[null,475,450,1.0136757310143176,null,475,450,0.97797765439001827,null,475,450,1.0115388466525286,null,475,450,1.0065184724445084]
[null,475,475,1.0138419426532947,null,475,475,0.98075177787765677,null,475,475,1.0117641994006719,null,475,475,1.0069404030435727]
[null,475,500,1.013967078718945,null,475,500,0.98322898466298236,null,475,500,1.0119450605914551,null,475,500,1.0073044165111367]
[null,500,50,0.9913600053106556,null,500,50,0.74851652258077495,null,500,50,0.98696912172781714,null,500,50,0.97340265201100185]
[null,500,{"$f":"C694+10","v":60},0.9931675685600525,null,500,{"$f":"G694+10","v":60},0.77041939122047287,null,500,{"$f":"K694+10","v":60},0.9888927262665641,null,500,{"$f":"O694+10","v":60},0.97579844306869645]
[null,500,70,0.99483138860455822,null,500,70,0.78918307225725004,null,500,70,0.99066535433319747,null,500,70,0.97801363542535324]
[null,500,80,0.99636455966942428,null,500,80,0.80553518057696005,null,500,80,0.9923008188819703,null,500,80,0.98006470354386321]
[null,500,90,0.99777875801801386,null,500,90,0.8199642537152263,null,500,90,0.99381142089489882,null,500,90,0.98196629724818696]
[null,500,100,0.9990844222059041,null,500,100,0.83281833109046843,null,500,100,0.99520814427347104,null,500,100,0.98373148237554298]
[null,500,110,1.0002909068947086,null,500,110,0.84435647335866637,null,500,110,0.99650082171032928,null,500,110,0.98537194439492504]
[null,500,120,1.0014066146298615,null,500,120,0.85477799086667905,null,500,120,0.99769827644754794,null,500,120,0.98689816151864562]
[null,500,130,1.0024391091667058,null,500,130,0.8642401594988145,null,500,130,0.99880844389986545,null,500,130,0.98831955253798076]
[null,500,140,1.0033952132730339,null,500,140,0.87286962130226764,null,500,140,0.99983847638699808,null,500,140,0.98964460360390749]
[null,500,150,1.0042810934203938,null,500,150,0.88077008749938135,null,500,150,1.0007948336347803,null,500,150,0.99088097738036995]
[null,500,160,1.0051023333539897,null,500,160,0.88802771943844694,null,500,160,1.0016833612364258,null,500,160,0.99203560736959917]
[null,500,170,1.0058639981948951,null,500,170,0.89471497570557046,null,500,170,1.00250935888864,null,500,170,0.99311477970880191]
[null,500,180,1.0065706904530676,null,500,180,0.90089342117869409,null,500,180,1.0032776399111372,null,500,180,0.99412420433654758]
[null,500,190,1.0072265991054996,null,500,190,0.90661582375991945,null,500,190,1.0039925833099925,null,500,190,0.99506907710380688]
[null,500,200,1.0078355427098977,null,500,200,0.91192775338098753,null,500,200,1.0046581794415492,null,500,200,0.99595413414237399]
[null,500,225,1.0091745789162474,null,500,225,0.92365968312272417,null,500,225,1.0061294124394267,null,500,225,0.99793255876767029]
[null,500,{"$f":"C710+25","v":250},1.0102879356095218,null,500,{"$f":"G710+25","v":250},0.93355816176817252,null,500,{"$f":"K710+25","v":250},1.0073630898958015,null,500,{"$f":"O710+25","v":250},0.99962132753496646]
[null,500,275,1.0112133784340669,null,500,275,0.94198935926755667,null,500,275,1.0083986392520801,null,500,275,1.0010673607637413]
[null,500,300,1.01198156300519,null,500,300,0.94922925390780144,null,500,300,1.0092680640639951,null,500,300,1.0023088118716652]
[null,500,325,1.0126175475748689,null,500,325,0.95549007493806526,null,500,325,1.0099975300387429,null,500,325,1.0033769384370905]
[null,500,350,1.0131419460603817,null,500,350,0.9609377835063202,null,500,350,1.010608571481008,null,500,350,1.0042975239692584]
[null,500,375,1.0135718157943692,null,500,375,0.96570401960699581,null,500,375,1.0111190185591299,null,500,375,1.0050919700730885]
[null,500,400,1.0139213473417026,null,500,400,0.96989449220784663,null,500,400,1.0115437167958736,null,500,400,1.0057781437545699]
[null,500,425,1.0142024050717939,null,500,425,0.97359500724152859,null,500,425,1.0118950902390613,null,500,425,1.0063710407346567]
[null,500,450,1.0144249541044452,null,500,450,0.97687588342102094,null,500,450,1.0121835858450072,null,500,450,1.0068833090586586]
[null,500,475,1.0145973999699547,null,500,475,0.97979524189720502,null,500,475,1.0124180267601923,null,500,475,1.0073256656071854]
[null,500,500,1.0147268606596025,null,500,500,0.98240149335222438,null,500,500,1.012605895134794,null,500,500,1.0077072297764258]
[null,600,50,0.99040324561463167,null,600,50,0.67319550439251297,null,600,50,0.98513905954754788,null,600,50,0.96852764981950146]
[null,600,{"$f":"C722+10","v":60},0.99253542869221556,null,600,{"$f":"G722+10","v":60},0.70682159954496027,null,600,{"$f":"K722+10","v":60},0.98741669470092308,null,600,{"$f":"O722+10","v":60},0.97139245390886897]
[null,600,70,0.99449696375208896,null,600,70,0.73391154314821883,null,600,70,0.98951410849360177,null,600,70,0.97403940368564135]
[null,600,80,0.99630351070317014,null,600,80,0.75662698818990759,null,600,80,0.99144794743090747,null,600,80,0.9764886301393042]
[null,600,90,0.9979690167601587,null,600,90,0.77614655490947027,null,600,90,0.99323301385476892,null,600,90,0.97875799526119334]
[null,600,100,0.99950593695537382,null,600,100,0.7932018629350307,null,600,100,0.99488250713114912,null,600,100,0.98086339793798771]
[null,600,110,1.0009254218045027,null,600,110,0.80828659682395165,null,600,110,0.99640822831428255,null,600,110,0.98281903154182226]
[null,600,120,1.0022374776862135,null,600,120,0.82175385295983061,null,600,120,0.99782075458067687,null,600,120,0.98463760197931782]
[null,600,130,1.0034511044643892,null,600,130,0.8338670571161737,null,600,130,0.99912958851045952,null,600,130,0.98633051316739051]
[null,600,140,1.004574414008877,null,600,140,0.84482910180410864,null,600,140,1.0003432863381745,null,600,140,0.98790802551781143]
[null,600,150,1.0056147326349434,null,600,150,0.85480025902479051,null,600,150,1.0014695685374082,null,600,150,0.98937939193315483]
[null,600,160,1.0065786899356119,null,600,160,0.86390978638830673,null,600,160,1.0025154155045815,null,600,160,0.99075297496949133]
[null,600,170,1.007472296057669,null,600,170,0.87226373364234089,null,600,170,1.0034871506159135,null,600,170,0.99203634815122232]
[null,600,180,1.0083010091257067,null,600,180,0.87995035577144398,null,600,180,1.0043905125514632,null,600,180,0.99323638389001778]
[null,600,190,1.0090697942372844,null,600,190,0.8870439750990633,null,600,190,1.0052307184561446,null,600,190,0.99435933003238675]
[null,600,200,1.0097831752223538,null,600,200,0.89360781184712113,null,600,200,1.0060125192538796,null,600,200,0.99541087671578399]
[null,600,225,1.0113504589458184,null,600,225,0.90803779749634361,null,600,225,1.0077390228128387,null,600,225,0.99776034619628018]
[null,600,{"$f":"C738+25","v":250},1.0126517728804565,null,600,{"$f":"G738+25","v":250},0.92014624064607653,null,600,{"$f":"K738+25","v":250},1.009184752538721,null,600,{"$f":"O738+25","v":250},0.99976454885696875]
[null,600,275,1.0137317667260937,null,600,275,0.93041558983021655,null,600,275,1.0103965167723568,null,600,275,1.0014796566601176]
[null,600,300,1.0146266556871801,null,600,300,0.93920351111160461,null,600,300,1.0114122671823784,null,600,300,1.0029512849109576]
[null,600,325,1.0153660223958141,null,600,325,0.9467815555623742,null,600,325,1.0122630016833423,null,600,325,1.004216761912565]
[null,600,350,1.0159741882513686,null,600,350,0.95335992652998058,null,600,350,1.0129742089545388,null,600,350,1.0053068487992749]
[null,600,375,1.0164712678257402,null,600,375,0.95910399036184169,null,600,375,1.0135669766966804,null,600,375,1.0062470575004405]
[null,600,400,1.0168739872251278,null,600,400,0.96414564246412793,null,600,400,1.0140588502025438,null,600,400,1.007058671108644]
[null,600,425,1.0171963247517719,null,600,425,0.96859134152834381,null,600,425,1.0144645034542694,null,600,425,1.0077595412447184]
[null,600,450,1.0174500164593869,null,600,450,0.97252791627835766,null,600,450,1.0147962680142666,null,600,450,1.0083647165025189]
[null,600,475,1.0176449580456162,null,600,475,0.9760268428032941,null,600,475,1.0150645530263773,null,600,475,1.0088869416697925]
[null,600,500,1.0177895265327146,null,600,500,0.97914744762608596,null,600,500,1.0152781811089462,null,600,500,1.0093370571905842]
[null,700,50,0.9897150280955016,null,700,50,0.10417082473665935,null,700,50,0.98355958246519004,null,700,50,0.96382737245507821]
[null,700,{"$f":"C750+10","v":60},0.99215724156021057,null,700,{"$f":"G750+10","v":60},0.62696633795553469,null,700,{"$f":"K750+10","v":60},0.98617950150627498,null,700,{"$f":"O750+10","v":60},0.96715487613593032]
[null,700,70,0.9944028617048789,null,700,70,0.6689647400372819,null,700,70,0.98859059559525575,null,700,70,0.97022723687086976]
[null,700,80,0.99647004366273162,null,700,80,0.7013376972965446,null,700,80,0.99081231319228591,null,700,80,0.97306832047594527]
[null,700,90,0.99837494006129501,null,700,90,0.72786404210485833,null,700,90,0.99286192592387656,null,700,90,0.97569925793298462]
[null,700,100,1.0001319616663691,null,700,100,0.75033979876361956,null,700,100,0.9947548168025464,null,700,100,0.97813882177467271]
[null,700,110,1.0017539986868333,null,700,110,0.7697947708787054,null,700,110,0.99650472417984204,null,700,110,0.98040374158552168]
[null,700,120,1.0032526095123937,null,700,120,0.78688866514678879,null,700,120,0.99812394918069702,null,700,120,0.98250896996213111]
[null,700,130,1.0046381823456716,null,700,130,0.80207615761323114,null,700,130,0.99962353284476257,null,700,130,0.98446790788601424]
[null,700,140,1.0059200741620968,null,700,140,0.81568713663711478,null,700,140,1.0010134080115327,null,700,140,0.98629259663266555]
[null,700,150,1.0071067306163146,null,700,150,0.82797030496775192,null,700,150,1.0023025300404913,null,700,150,0.98799388192713555]
[null,700,160,1.0082057898659329,null,700,160,0.8391188776151054,null,700,160,1.0034989897268061,null,700,160,0.98958155495519073]
[null,700,170,1.009224172763785,null,700,170,0.84928662959554324,null,700,170,1.0046101111605572,null,700,170,0.99106447397439801]
[null,700,180,1.0101681614510316,null,700,180,0.85859836661026334,null,700,180,1.0056425368136004,null,700,180,0.99245066958536976]
[null,700,190,1.0110434680438933,null,700,190,0.86715701789794131,null,700,190,1.00660230174479,null,700,190,0.99374743617846584]
[null,700,200,1.0118552948300621,null,700,200,0.87504860605498014,null,700,200,1.0074948985024847,null,700,200,0.99496141163433804]
[null,700,225,1.0136372794479045,null,700,225,0.89231055014782024,null,700,225,1.0094643269570513,null,700,225,0.99767256864240206]
[null,700,{"$f":"C766+25","v":250},1.015114788973406,null,700,{"$f":"G766+25","v":250},0.90671100597782917,null,700,{"$f":"K766+25","v":250},1.0111112509374998,null,700,{"$f":"O766+25","v":250},0.99998389274902078]
[null,700,275,1.0163390806841754,null,700,275,0.91886946243853596,null,700,275,1.0124896509930736,null,700,275,1.0019606949197097]
[null,700,300,1.0173517015584104,null,700,300,0.92923702062371905,null,700,300,1.0136432505780499,null,700,300,1.0036559458946419]
[null,700,325,1.0181865700247064,null,700,325,0.9381515302921809,null,700,325,1.0146077306335639,null,700,325,1.0051129474009923]
[null,700,350,1.018871558130402,null,700,350,0.94587174102371874,null,700,350,1.0154124077368194,null,700,350,1.0063673509813484]
[null,700,375,1.0194297066563047,null,700,375,0.9525994821500815,null,700,375,1.0160815196205273,null,700,375,1.0074487016307829]
[null,700,400,1.0198801672851616,null,700,400,0.95849461828002402,null,700,400,1.0166352197197517,null,700,400,1.008381630584021]
[null,700,425,1.0202389395631493,null,700,425,0.9636854450917588,null,700,425,1.0170903536217457,null,700,425,1.0091867858666832]
[null,700,450,1.0205194520214242,null,700,450,0.96827610024845046,null,700,450,1.0174610703323619,null,700,450,1.0098815646506134]
[null,700,475,1.0207330238461754,null,700,475,0.97235196027704029,null,700,475,1.0177593072306188,null,700,475,1.010480694284368]
[null,700,500,1.0208892342007947,null,700,500,0.97598364328702381,null,700,500,1.0179951775765941,null,700,500,1.0109966967030297]
[null,800,50,0.98929949820626573,null,800,50,0.11774832426966661,null,800,50,0.98223153020283327,null,800,50,0.95931317674454564]
[null,800,{"$f":"C778+10","v":60},0.99203625736804002,null,800,{"$f":"G778+10","v":60},0.12266128941179774,null,800,{"$f":"K778+10","v":60},0.98518100579345413,null,800,{"$f":"O778+10","v":60},0.96309570242789333]
[null,800,70,0.99455158081083861,null,800,70,0.58488604959435686,null,800,70,0.98789387348594582,null,800,70,0.96658594361487782]
[null,800,80,0.99686602481012621,null,800,80,0.63582062215265045,null,800,80,0.99039232132986155,null,800,80,0.96981155323522783]
[null,800,90,0.99899786247170264,null,800,90,0.67322634925146985,null,800,90,0.99269603297862519,null,800,90,0.97279696612765454]
[null,800,100,1.0009633835510603,null,800,100,0.70320728230706042,null,800,100,0.99482252257659531,null,800,100,0.97556385049970962]
[null,800,110,1.002777148540934,null,800,110,0.72829258702711652,null,800,110,0.99678741763226419,null,800,110,0.97813148472285949]
[null,800,120,1.0044522049931006,null,800,120,0.74983312686929549,null,800,120,0.99860469909412142,null,800,120,0.98051707371565]
[null,800,130,1.0060002724798895,null,800,130,0.76865677525242182,null,800,130,1.0002869060113706,null,800,130,0.98273601608693961]
[null,800,140,1.0074319013794764,null,800,140,0.78531670578271562,null,800,140,1.0018453107307663,null,800,140,0.98480213087191526]
[null,800,150,1.0087566097059906,null,800,150,0.80020519631606601,null,800,150,1.0032900694621472,null,800,150,0.98672785089994275]
[null,800,160,1.0099830014409168,null,800,160,0.81361293045709959,null,800,160,1.0046303521487783,null,800,160,0.98852438844549695]
[null,800,170,1.0111188692112685,null,800,170,0.82576276027567386,null,800,170,1.0058744548818184,null,800,170,0.99020187773051649]
[null,800,180,1.0121712836688246,null,800,180,0.83683018923374808,null,800,180,1.0070298975232375,null,800,180,0.99176949799489034]
[null,800,190,1.0131466715274957,null,800,190,0.84695643838002599,null,800,190,1.0081035087489587,null,800,190,0.99323558017708158]
[null,800,200,1.0140508838929876,null,800,200,0.85625714714139134,null,800,200,1.0091015003526613,null,800,200,0.99460769970870333]
[null,800,225,1.0160339088164512,null,800,225,0.87649083251409154,null,800,225,1.0113015827464962,null,800,225,0.99767072908856314]
[null,800,{"$f":"C794+25","v":250},1.0176757988171061,null,800,{"$f":"G794+25","v":250},0.89326591301210845,null,800,{"$f":"K794+25","v":250},1.0131389715418331,null,800,{"$f":"O794+25","v":250},1.0002805178185452]
[null,800,275,1.0190341224328774,null,800,275,0.90736311054479812,null,800,275,1.0146745880277788,null,800,275,1.0025113732578166]
[null,800,300,1.0201555169729668,null,800,300,0.91934005827036158,null,800,300,1.0159577360705525,null,800,300,1.0044234936090424]
[null,800,325,1.0210780386637497,null,800,325,0.92960841316867204,null,800,325,1.0170286205615338,null,800,325,1.0060660411140665]
[null,800,350,1.0218329468387759,null,800,350,0.93847996987549342,null,800,350,1.017920253061436,null,800,350,1.0074794590805425]
[null,800,375,1.0224460729275813,null,800,375,0.94619581106759942,null,800,375,1.0186599097302136,null,800,375,1.0086972398745098]
[null,800,400,1.0229388810878046,null,800,400,0.9529455492517831,null,800,400,1.0192702579917676,null,800,400,1.0097472886511611]
[null,800,425,1.0233292972610466,null,800,425,0.95888047570382551,null,800,425,1.0197702352513096,null,800,425,1.0106529856411395]
[null,800,450,1.0236323625286556,null,800,450,0.96412280457227884,null,800,450,1.0201757400570359,null,800,450,1.0114340210741275]
[null,800,475,1.0238607519028167,null,800,475,0.96877232780719669,null,800,475,1.0205001800033393,null,800,475,1.0121070568185504]
[null,800,500,1.0240251891592504,null,800,500,0.97291130370370482,null,800,500,1.0207549092246071,null,800,500,1.0126862546865114]
[null,900,50,0.98916021721758762,null,900,50,0.13118669220747697,null,900,50,0.98115715215075638,null,900,50,0.95499626441548779]
[null,900,{"$f":"C806+10","v":60},0.99217521466348924,null,900,{"$f":"G806+10","v":60},0.1358107712288634,null,900,{"$f":"K806+10","v":60},0.98442238817530536,null,900,{"$f":"O806+10","v":60},0.95922473562968014]
[null,900,70,0.99494517283067663,null,900,70,0.14430312392337349,null,900,70,0.98742424300734333,null,900,70,0.96312412183228535]
[null,900,80,0.99749293196098721,null,900,80,0.54924781625856478,null,900,80,0.99018754934425435,null,900,80,0.9667258854432339]
[null,900,90,0.9998387818831227,null,900,90,0.60842409735221725,null,900,90,0.99273431905862297,null,900,90,0.97005777521629533]
[null,900,100,1.002000799181763,null,900,100,0.65008758181967141,null,900,100,0.99508412316840922,null,900,100,0.97314435640390851]
[null,900,110,1.0039951325327783,null,900,110,0.68291070209875337,null,900,110,0.99725441231230683,null,900,110,0.97600745146890633]
[null,900,120,1.0058362453124317,null,900,120,0.71011877832501824,null,900,120,0.99926078836382737,null,900,120,0.97866650879261941]
[null,900,130,1.0075371227855743,null,900,130,0.73334887004332872,null,900,130,1.0011172356820008,null,900,130,0.98113891297128253]
[null,900,140,1.0091094497751729,null,900,140,0.75357311107431468,null,900,140,1.0028363188364682,null,900,140,0.98344024738493097]
[null,900,150,1.010563763608866,null,900,150,0.77142686080415157,null,900,150,1.0044293523441208,null,900,150,0.98558451750838805]
[null,900,160,1.0119095862629184,null,900,160,0.78735347144553869,null,900,160,1.0059065469280113,null,900,160,0.98758434173104459]
[null,900,170,1.0131555389255427,null,900,170,0.80167757062792822,null,900,170,1.0072771359936672,null,900,170,0.98945111513095507]
[null,900,180,1.0143094416412146,null,900,180,0.81464576983533055,null,900,180,1.0085494853657104,null,900,180,0.99119515061527874]
[null,900,190,1.0153784002453021,null,900,190,0.82645087873975009,null,900,190,1.009731188802987,null,900,190,0.99282580102432305]
[null,900,200,1.0163688824312753,null,900,200,0.83724712691604342,null,900,200,1.0108291513858758,null,900,200,0.99435156514950995]
[null,900,225,1.0185391991841073,null,900,225,0.86059656292465858,null,900,225,1.0132476224866906,null,900,225,0.99775621454930408]
[null,900,{"$f":"C822+25","v":250},1.0203336196410491,null,900,{"$f":"G822+25","v":250},0.87982798818026731,null,900,{"$f":"K822+25","v":250},1.0152648148293779,null,900,{"$f":"O822+25","v":250},1.0006554844413584]
[null,900,275,1.02181570941637,null,900,275,0.89591117806770226,null,900,275,1.0169483349330379,null,900,275,1.0031325061690253]
[null,900,300,1.0230369425389993,null,900,300,0.90952467667937731,null,900,300,1.0183528596357407,null,900,300,1.0052545562165558]
[null,900,325,1.0240393066984936,null,900,325,0.92116189440070551,null,900,325,1.0195229479624479,null,900,325,1.0070765291671131]
[null,900,350,1.0248572794247623,null,900,350,0.93119229011499305,null,900,350,1.0204951663936064,null,900,350,1.0086435503514743]
[null,900,375,1.0255193432993679,null,900,375,0.93989899185074466,null,900,375,1.0212997132011394,null,900,375,1.0099929656668092]
[null,900,400,1.0260491591572607,null,900,400,0.94750309962703416,null,900,400,1.0219616725986376,null,900,400,1.0111558739391118]
[null,900,425,1.0264664826554495,null,900,425,0.95418001006115449,null,900,425,1.0225019921159986,null,900,425,1.0121583189087442]
[null,900,450,1.0267878862717397,null,900,450,0.9600707345224484,null,900,450,1.0229382508166613,null,900,450,1.0130222249668244]
[null,900,475,1.0270273323798504,null,900,475,0.96528995457021083,null,900,475,1.0232852678969822,null,900,475,1.0137661379087584]
[null,900,500,1.0271966313352761,null,900,500,0.96993188323319901,null,900,500,1.0235555883654144,null,900,500,1.014405815869406]
[null,1000,50,0.98930008175704831,null,1000,50,0.14449686933619366,null,1000,50,0.98033969269552368,null,1000,50,0.95088759838790826]
[null,1000,{"$f":"C834+10","v":60},0.99257627276918237,null,1000,{"$f":"G834+10","v":60},0.14890122442260972,null,1000,{"$f":"K834+10","v":60},0.98390578327285894,null,1000,{"$f":"O834+10","v":60},0.95555151827368889]
[null,1000,70,0.9955851856544643,null,1000,70,0.15625412201791899,null,1000,70,0.98718292050141931,null,1000,70,0.95985009948366506]
[null,1000,80,0.99835180545472735,null,1000,80,0.17320432457239529,null,1000,80,0.99019845373821913,null,1000,80,0.96381860274545794]
[null,1000,90,1.0008983171613397,null,1000,90,0.52303020540040834,null,1000,90,0.99297661240046398,null,1000,90,0.96748807336754183]
[null,1000,100,1.0032444775308693,null,1000,100,0.58768686439254503,null,1000,100,0.99553892816421297,null,1000,100,0.97088595248781218]
[null,1000,110,1.0054079294589582,null,1000,110,0.63227229436737864,null,1000,110,0.997904590740046,null,1000,110,0.97403658335442833]
[null,1000,120,1.0074044690545563,null,1000,120,0.66709570072990665,null,1000,120,1.0000907491543349,null,1000,120,0.97696163350309762]
[null,1000,130,1.0092482735429151,null,1000,130,0.69582853255951771,null,1000,130,1.0021127680578077,null,1000,130,0.97968044899314155]
[null,1000,140,1.0109520965551912,null,1000,140,0.72029388420830764,null,1000,140,1.0039844467147025,null,1000,140,0.98221035334286078]
[null,1000,150,1.0125274361284107,null,1000,150,0.74155798425406938,null,1000,150,1.0057182068631971,null,1000,150,0.98456690113796119]
[null,1000,160,1.0139846797629606,null,1000,160,0.76030990818794064,null,1000,160,1.007325254485701,null,1000,160,0.98676409424727185]
[null,1000,170,1.0153332301068148,null,1000,170,0.77702661485442914,null,1000,170,1.0088157196122933,null,1000,170,0.98881456700552273]
[null,1000,180,1.016581614212124,null,1000,180,0.79205528444341011,null,1000,180,1.0101987775499457,null,1000,180,0.99072974549701009]
[null,1000,190,1.0177375788070273,null,1000,190,0.80565846645201766,null,1000,190,1.0114827543427261,null,1000,190,0.99251998511169393]
[null,1000,200,1.0188081736178771,null,1000,200,0.81804067819338977,null,1000,200,1.0126752187933925,null,1000,200,0.99419468978423731]
[null,1000,225,1.0211519739301571,null,1000,225,0.84465152231610618,null,1000,225,1.0152997667592467,null,1000,225,0.99793029249081067]
[null,1000,{"$f":"C850+25","v":250},1.0230870600249899,null,1000,{"$f":"G850+25","v":250},0.86641820878537412,null,1000,{"$f":"K850+25","v":250},1.0174861224437346,null,1000,{"$f":"O850+25","v":250},1.0011097526169908]
[null,1000,275,1.0246826646786316,null,1000,275,0.8845309805825845,null,1000,275,1.0193082976096206,null,1000,275,1.0038248237163685]
[null,1000,300,1.0259948344166756,null,1000,300,0.89980476306751012,null,1000,300,1.0208261181268004,null,1000,300,1.0061496906511427]
[null,1000,325,1.0270692748608083,null,1000,325,0.91282295024635318,null,1000,325,1.0220883161770125,null,1000,325,1.0081448373648834]
[null,1000,350,1.0279435077568781,null,1000,350,0.9240173016854899,null,1000,350,1.0231348655501811,null,1000,350,1.0098599507717396]
[null,1000,375,1.0286485240232992,null,1000,375,0.93371571842245904,null,1000,375,1.0239987652355194,null,1000,375,1.0113361286543345]
[null,1000,400,1.0292100631364989,null,1000,400,0.94217244670862677,null,1000,400,1.0247074156534697,null,1000,400,1.0126075775130283]
[null,1000,425,1.0296496122972616,null,1000,425,0.94958802279196197,null,1000,425,1.0252836905526745,null,1000,425,1.0137029316374637]
[null,1000,450,1.0299851932525843,null,1000,450,0.95612291212793743,null,1000,450,1.0257467790827868,null,1000,450,1.0146462874950868]
[null,1000,475,1.0302319866598841,null,1000,475,0.96190710820504532,null,1000,475,1.0261128525881527,null,1000,475,1.0154580218156253]
[null,1000,500,1.030402831058677,null,1000,500,0.96704705201939989,null,1000,500,1.0263955964980862,null,1000,500,1.0161554436855229]
[null,1100,50,0.9897212623277567,null,1100,50,0.15768869741563166,null,1100,50,0.97978299668273361,null,1100,50,0.94699781731410138]
[null,1100,{"$f":"C862+10","v":60},0.99324096082352942,null,1100,{"$f":"G862+10","v":60},0.16191117630742094,null,1100,{"$f":"K862+10","v":60},0.98363393166864266,null,1100,{"$f":"O862+10","v":60},0.95208526169153407]
[null,1100,70,0.99647262057985864,null,1100,70,0.16854976052152393,null,1100,70,0.98717172889347404,null,1100,70,0.95677187579603229]
[null,1100,80,0.99944321191953678,null,1100,80,0.18082290334472542,null,1100,80,0.99042609429347606,null,1100,80,0.96109667067189553]
[null,1100,90,1.0021766770499638,null,1100,90,0.29071194577005505,null,1100,90,0.99342333808135619,null,1100,90,0.96509394113854874]
[null,1100,100,1.004694332972859,null,1100,100,0.50808327331471526,null,1100,100,0.99618683507509842,null,1100,100,0.96879395895306164]
[null,1100,110,1.0070152120360933,null,1100,110,0.57399770665871874,null,1100,110,0.99873741251072812,null,1100,110,0.97222354513797138]
[null,1100,120,1.0091563511501978,null,1100,120,0.61983396564004756,null,1100,120,1.001093678370816,null,1100,120,0.97540654587206943]
[null,1100,130,1.0111330385035415,null,1100,130,0.65569426423477561,null,1100,130,1.0032723006311237,null,1100,130,0.97836423075683787]
[null,1100,140,1.0129590249025835,null,1100,140,0.68530411662797364,null,1100,140,1.0052882457859493,null,1100,140,0.98111562810932229]
[null,1100,150,1.0146467055214863,null,1100,150,0.71053027013474934,null,1100,150,1.0071549834147897,null,1100,150,0.98367780879595001]
[null,1100,160,1.0162072767832013,null,1100,160,0.73246680173531509,null,1100,160,1.0088846622931482,null,1100,160,0.9860661277337941]
[null,1100,170,1.0176508722480271,null,1100,170,0.75182117655740111,null,1100,170,1.010488262550431,null,1100,170,0.98829443035001774]
[null,1100,180,1.0189866807074928,null,1100,180,0.76908327882989269,null,1100,180,1.0119757275790957,null,1100,180,0.99037522986636894]
[null,1100,190,1.0202230491347377,null,1100,190,0.78460980155259852,null,1100,190,1.0133560787573059,null,1100,190,0.99231986016199725]
[null,1100,200,1.0213675726994058,null,1100,200,0.79867050917845583,null,1100,200,1.0146375155285436,null,1100,200,0.99413860809014432]
[null,1100,225,1.0238710179371475,null,1100,225,0.82868625429895937,null,1100,225,1.0174557450096793,null,1100,225,0.99819410788054697]
[null,1100,{"$f":"C878+25","v":250},1.0259349111859049,null,1100,{"$f":"G878+25","v":250},0.85306186634569114,null,1100,{"$f":"K878+25","v":250},1.0198006100642902,null,1100,{"$f":"O878+25","v":250},1.0016441803053067]
[null,1100,275,1.0276338089893786,null,1100,275,0.8732426354837004,null,1100,275,1.0217522235932157,null,1100,275,1.0045889706889906]
[null,1100,300,1.0290280571565082,null,1100,300,0.89019606889370229,null,1100,300,1.0233753201807441,null,1100,300,1.0071093822951258]
[null,1100,325,1.0301668596903852,null,1100,325,0.90460383099889252,null,1100,325,1.024722613008761,null,1100,325,1.0092713312023756]
[null,1100,350,1.0310906045413404,null,1100,350,0.91696450002921459,null,1100,350,1.0258373279172623,null,1100,350,1.0111289352400665]
[null,1100,375,1.0318326454624023,null,1100,375,0.92765333266669336,null,1100,375,1.0267551379907602,null,1100,375,1.0127269350084265]
[null,1100,400,1.0324206807635576,null,1100,400,0.93695925070585706,null,1100,400,1.027505655720774,null,1100,400,1.0141025532491947]
[null,1100,425,1.0328778298717438,null,1100,425,0.9451088592086605,null,1100,425,1.0281135947804068,null,1100,425,1.015286937825151]
[null,1100,450,1.0332234809595013,null,1100,450,0.95228265227790976,null,1100,450,1.0285996824015335,null,1100,450,1.0163062922063311]
[null,1100,475,1.0334739634685279,null,1100,475,0.9586262941329643,null,1100,475,1.0289813816168416,null,1100,475,1.0171827688247719]
[null,1100,500,1.0336430855067167,null,1100,500,0.96425867817585476,null,1100,500,1.0292734672160033,null,1100,500,1.0179351806591841]
[null,1200,50,0.99042516027167582,null,1200,50,0.17077083778224783,null,1200,50,0.97949114487013633,null,1200,50,0.94333714964693338]
[null,1200,{"$f":"C890+10","v":60},0.99417014278055726,null,1200,{"$f":"G890+10","v":60},0.17483372689935486,null,1200,{"$f":"K890+10","v":60},0.98360985913828902,null,1200,{"$f":"O890+10","v":60},0.94883477578073538]
[null,1200,70,0.99760790344274375,null,1200,70,0.18096211669829901,null,1200,70,0.98739281361182307,null,1200,70,0.95389706380875061]
[null,1200,80,1.0007672201033775,null,1200,80,0.19115700136417701,null,1200,80,0.9908718809901802,null,1200,80,0.95856668759619257]
[null,1200,90,1.0036736396237596,null,1200,90,0.21360627672487992,null,1200,90,0.99407529133520367,null,1200,90,0.96288111293083845]
[null,1200,100,1.0063499075428477,null,1200,100,0.38282887369888741,null,1200,100,0.99702812529377005,null,1200,100,0.96687337160180331]
[null,1200,110,1.0088163313453291,null,1200,110,0.50359121896457038,null,1200,110,0.99975272980302243,null,1200,110,0.97057269888884379]
[null,1200,120,1.0110910890351674,null,1200,120,0.56699970554457935,null,1200,120,1.0022690701598749,null,1200,120,0.97400506238237095]
[null,1200,130,1.0131904924029163,null,1200,130,0.61247273153174653,null,1200,130,1.0045950295431607,null,1200,130,0.97719360358670859]
[null,1200,140,1.0151292125682643,null,1200,140,0.64843715452797668,null,1200,140,1.0067466649226697,null,1200,140,0.98015900895781671]
[null,1200,150,1.0169204739565969,null,1200,150,0.67830185136375931,null,1200,150,1.00873842657292,null,1200,150,0.98291982342156625]
[null,1200,160,1.0185762217407772,null,1200,160,0.70383627111802516,null,1200,160,1.0105833470817258,null,1200,160,0.98549271668299521]
[null,1200,170,1.0201072668800109,null,1200,170,0.72609671605308934,null,1200,170,1.0122932046707118,null,1200,170,0.98789271054072358]
[null,1200,180,1.0215234121661894,null,1200,180,0.74577434977079615,null,1200,180,1.0138786647944176,null,1200,180,0.99013337379969324]
[null,1200,190,1.0228335621059901,null,1200,190,0.76335177043706692,null,1200,190,1.015349403298649,null,1200,190,0.99222699011126048]
[null,1200,200,1.024045818994844,null,1200,200,0.77918246618748344,null,1200,200,1.0167142138641332,null,1200,200,0.99418470307597628]
[null,1200,225,1.0266950703082249,null,1200,225,0.812739010492881,null,1200,225,1.0197136231428856,null,1200,225,0.99854868088027982]
[null,1200,{"$f":"C906+25","v":250},1.0288759402649148,null,1200,{"$f":"G906+25","v":250},0.83978889536459234,null,1200,{"$f":"K906+25","v":250},1.0222063061577256,null,1200,{"$f":"O906+25","v":250},1.0022595222499364]
[null,1200,275,1.0306679546189332,null,1200,275,0.8620691504222785,null,1200,275,1.0242781498112619,null,1200,275,1.0054255061265087]
[null,1200,300,1.0321354779140819,null,1200,300,0.88071620589304145,null,1200,300,1.0259985413405039,null,1200,300,1.0081340449332115]
[null,1200,325,1.0333309881573767,null,1200,325,0.89651802449624984,null,1200,325,1.0274239719372522,null,1200,325,1.0104563160758111]
[null,1200,350,1.0342975583279657,null,1200,350,0.91004423140806778,null,1200,350,1.0286007567486166,null,1200,350,1.0124507279343167]
[null,1200,375,1.0350707574586331,null,1200,375,0.92171978109790165,null,1200,375,1.0295671111579756,null,1200,375,1.0141655478603435]
[null,1200,400,1.0356801215801719,null,1200,400,0.93186961605251206,null,1200,400,1.0303547520229599,null,1200,400,1.0156409183035051]
[null,1200,425,1.0361503022280343,null,1200,425,0.94074720197950401,null,1200,425,1.0309901442012848,null,1200,425,1.0169104199739576]
[null,1200,450,1.0365019706975835,null,1200,450,0.94855353443369994,null,1200,450,1.0314954793480562,null,1200,450,1.0180022954927936]
[null,1200,475,1.0367525354858638,null,1200,475,0.95545023165966991,null,1200,475,1.0318894506277827,null,1200,475,1.0189404156903736]
[null,1200,500,1.0369167155773427,null,1200,500,0.96156880757724694,null,1200,500,1.0321878704277496,null,1200,500,1.0197450488234416]
[null,1300,50,0.99141238220259098,null,1300,50,0.1837508834435555,null,1300,50,0.97946812764984859,null,1300,50,0.93991532858642202]
[null,1300,{"$f":"C918+10","v":60},0.99536399737788783,null,1300,{"$f":"G918+10","v":60},0.18766790531051628,null,1300,{"$f":"K918+10","v":60},0.98383658958532505,null,1300,{"$f":"O918+10","v":60},0.94580840051275217]
[null,1300,70,0.99899086863002551,null,1300,70,0.19340109357610563,null,1300,70,0.98784838835679278,null,1300,70,0.95123283510946077]
[null,1300,80,1.0023233878424971,null,1300,80,0.20234052667482888,null,1300,80,0.99153734749717937,null,1300,80,0.95623484007129389]
[null,1300,90,1.0053885414148838,null,1300,90,0.21841323998067966,null,1300,90,0.99493343463036721,null,1300,90,0.96085494084616363]
[null,1300,100,1.0082103616359974,null,1300,100,0.26380572323442103,null,1300,100,0.99806328139020861,null,1300,100,0.96512883256143123]
[null,1300,110,1.0108103086757776,null,1300,110,0.41420571633399916,null,1300,110,1.000950622125435,null,1300,110,0.96908808026473825]
[null,1300,120,1.0132075953238515,null,1300,120,0.50697460629666358,null,1300,120,1.0036166658125869,null,1300,120,0.97276069875275362]
[null,1300,130,1.0154194642347358,null,1300,130,0.56572233146903472,null,1300,130,1.0060804127342533,null,1300,130,0.97617163596115508]
[null,1300,140,1.0174614255799266,null,1300,140,0.60959702557883078,null,1300,140,1.0083589252429046,null,1300,140,0.97934317848199348]
[null,1300,150,1.0193474615373681,null,1300,150,0.64489348987325579,null,1300,150,1.0104675601714441,null,1300,150,0.98229529372355717]
[null,1300,160,1.021090202880248,null,1300,160,0.67447922463110499,null,1300,160,1.0124201690588959,null,1300,160,0.9850459201605466]
[null,1300,170,1.0227010819926725,null,1300,170,0.69992558473053168,null,1300,170,1.0142292712501597,null,1300,170,0.9876112147769649]
[null,1300,180,1.0241904658884178,null,1300,180,0.72220091454525115,null,1300,180,1.015906204039559,null,1300,180,0.99000576499420367]
[null,1300,190,1.0255677722016239,null,1300,190,0.74195237252049795,null,1300,190,1.0174612533112943,null,1300,190,0.99224277096815072]
[null,1300,200,1.0268415706248557,null,1300,200,0.75963856693851095,null,1300,200,1.0189037675492496,null,1300,200,0.99433420303395792]
[null,1300,225,1.0296228192642718,null,1300,225,0.79685671023935289,null,1300,225,1.022071738202099,null,1300,225,0.99899490518829248]
[null,1300,{"$f":"C934+25","v":250},1.0319088853852898,null,1300,{"$f":"G934+25","v":250},0.82663414531558155,null,1300,{"$f":"K934+25","v":250},1.0247014966181134,null,1300,{"$f":"O934+25","v":250},1.0029564292852653]
[null,1300,275,1.0337839005741041,null,1300,275,0.85103645855476395,null,1300,275,1.0268843552737164,null,1300,275,1.0063349032048448]
[null,1300,300,1.0353159618857424,null,1300,300,0.87138460320274702,null,1300,300,1.0286940833394027,null,1300,300,1.0092240209773737]
[null,1300,325,1.0365605933166591,null,1300,325,0.88858019295124069,null,1300,325,1.0301907368638199,null,1300,325,1.0117000376973797]
[null,1300,350,1.0375633693958892,null,1300,350,0.90326763021481704,null,1300,350,1.0314235504780929,null,1300,350,1.0138255028234295]
[null,1300,375,1.038361925456714,null,1300,375,0.915923559338365,null,1300,375,1.0324331451243449,null,1300,375,1.0156520878532895]
[null,1300,400,1.0389875132949158,null,1300,400,0.92691004437980973,null,1300,400,1.0332532308714686,null,1300,400,1.0172227536689149]
[null,1300,425,1.039466215978359,null,1300,425,0.93650803200398935,null,1300,425,1.0339119326241257,null,1300,425,1.0185734296327664]
[null,1300,450,1.0398199044174148,null,1300,450,0.94493937024947727,null,1300,450,1.0344328311490849,null,1300,450,1.019734327107493]
[null,1300,475,1.0400669963957054,null,1300,475,0.95238182714187658,null,1300,475,1.0348357870636822,null,1300,475,1.0207309761188488]
[null,1300,500,1.0402230631484635,null,1300,500,0.95897964151085768,null,1300,500,1.0351375978456296,null,1300,500,1.021585050169215]
[null,1400,50,0.99268273057230716,null,1400,50,0.19663550754487147,null,1400,50,0.97971756351213612,null,1400,50,0.9367415092966539]
[null,1400,{"$f":"C946+10","v":60},0.99682201181052299,null,1400,{"$f":"G946+10","v":60},0.20041532988435845,null,1400,{"$f":"K946+10","v":60},0.98431689658889476,null,1400,{"$f":"O946+10","v":60},0.94301394026724539]
[null,1400,70,1.0006207548013288,null,1400,70,0.20582456761289375,null,1400,70,0.98854051445344304,null,1400,70,0.9487858675993649]
[null,1400,80,1.0041107590884044,null,1400,80,0.21389359119400672,null,1400,80,0.99242395407730211,null,1400,80,0.95410686118713228]
[null,1400,90,1.0073202752273476,null,1400,90,0.22700313080126486,null,1400,90,0.99599872067487139,null,1400,90,0.95902036143629998]
[null,1400,100,1.0102744722514392,null,1400,100,0.25298513910337589,null,1400,100,0.999292827391976,null,1400,100,0.96356460371064401]
[null,1400,110,1.0129958339539844,null,1400,110,0.32742160305339224,null,1400,110,1.0023312515409424,null,1400,110,0.9677733772685837]
[null,1400,120,1.015504496261479,null,1400,120,0.4402610451627994,null,1400,120,1.0051363220055103,null,1400,120,0.97167665296513983]
[null,1400,130,1.0178185356210367,null,1400,130,0.51553430811520884,null,1400,130,1.0077280495829803,null,1400,130,0.97530110597066133]
[null,1400,140,1.0199542164659856,null,1400,140,0.56892952813269226,null,1400,140,1.010124409787909,null,1400,140,0.97867055381673573]
[null,1400,150,1.0219262043451156,null,1400,150,0.61046231764279713,null,1400,150,1.0123415858687164,null,1400,150,0.98180632563130954]
[null,1400,160,1.0237477501196326,null,1400,160,0.64454133557639604,null,1400,160,1.0143941783787305,null,1400,160,0.98472757505942166]
[null,1400,170,1.0254308496830522,null,1400,170,0.6734359617432194,null,1400,170,1.0162953865155608,null,1400,170,0.98745154679467939]
[null,1400,180,1.0269863828934933,null,1400,180,0.698473693365949,null,1400,180,1.0180571655358679,null,1400,180,0.98999380466428644]
[null,1400,190,1.0284242347868309,null,1400,190,0.72050672174223918,null,1400,190,1.0196903638194477,null,1400,190,0.99236842766911471]
[null,1400,200,1.0297534016332521,null,1400,200,0.74012050908221683,null,1400,200,1.0212048425608879,null,1400,200,0.99458817917234732]
[null,1400,225,1.0326528989505832,null,1400,225,0.78109586766284067,null,1400,225,1.0245286400607585,null,1400,225,0.99953354702912478]
[null,1400,{"$f":"C962+25","v":250},1.0350324522635155,null,1400,{"$f":"G962+25","v":250},0.813637569674317,null,1400,{"$f":"K962+25","v":250},1.0272846751936096,null,1400,{"$f":"O962+25","v":250},1.0037354481206762]
[null,1400,275,1.0369804291174742,null,1400,275,0.84017338885923865,null,1400,275,1.0295693185837076,null,1400,275,1.0073175494750539]
[null,1400,300,1.0385683688191856,null,1400,300,0.86222242083177503,null,1400,300,1.031460437432637,null,1400,300,1.0103795819540904]
[null,1400,325,1.0398546108725992,null,1400,325,0.88080608146521988,null,1400,325,1.0330214302790379,null,1400,325,1.0130026827059473]
[null,1400,350,1.0408870464178615,null,1400,350,0.89664653795568661,null,1400,350,1.0343042749426412,null,1400,350,1.0152533843264746]
[null,1400,375,1.0417052272990583,null,1400,375,0.91027364460489135,null,1400,375,1.0353518566246125,null,1400,375,1.0171866338054059]
[null,1400,400,1.0423419987286793,null,1400,400,0.9220873795193455,null,1400,400,1.0361997642368173,null,1400,400,1.0188481048169646]
[null,1400,425,1.0428247746054502,null,1400,425,0.93239658389476876,null,1400,425,1.0368776893340992,null,1400,425,1.0202759880035723]
[null,1400,450,1.0431765419894619,null,1400,450,0.94144416747512927,null,1400,450,1.037410524904798,null,1400,450,1.0215023907289973]
[null,1400,475,1.0434166583273534,null,1400,475,0.94942414454458757,null,1400,475,1.0378192352491271,null,1400,475,1.0225544412899006]
[null,1400,500,1.0435614886841571,null,1400,500,0.95649351246520153,null,1400,500,1.0381215496874545,null,1400,500,1.0234551671230625]
[null,1500,50,0.99423520876404803,null,1500,50,0.20943060332444616,null,1500,50,0.98024246667922788,null,1500,50,0.93382418980039827]
[null,1500,{"$f":"C974+10","v":60},0.99854298765222926,null,1500,{"$f":"G974+10","v":60},0.21307875484393438,null,1500,{"$f":"K974+10","v":60},0.98505309683561515,null,1500,{"$f":"O974+10","v":60},0.94045860205360243]
[null,1500,70,1.0024962110056401,null,1500,70,0.21821110551838327,null,1500,70,0.98947091619506722,null,1500,70,0.94656229708433637]
[null,1500,80,1.0061278698147877,null,1500,80,0.22562489834503949,null,1500,80,0.99353292166645579,null,1500,80,0.95218799254569764]
[null,1500,90,1.0094672955850637,null,1500,90,0.23694046889716344,null,1500,90,0.99727194261962715,null,1500,90,0.95738186578965956]
[null,1500,100,1.0125406378386204,null,1500,100,0.2561903213093854,null,1500,100,1.0007171929510008,null,1500,100,0.96218454313439772]
[null,1500,110,1.0153712699177526,null,1500,110,0.2962020577182759,null,1500,110,1.0038947390011645,null,1500,110,0.96663191172517171]
[null,1500,120,1.0179801352028186,null,1500,120,0.37874899914046745,null,1500,120,1.0068278977908212,null,1500,120,0.97075579071598062]
[null,1500,130,1.0203860436048209,null,1500,130,0.46417033626475657,null,1500,130,1.0095375772852297,null,1500,130,0.97458448992531677]
[null,1500,140,1.0226059263913174,null,1500,140,0.52723703197216432,null,1500,140,1.0120425682140115,null,1500,140,0.97814327775854504]
[null,1500,150,1.024655055959069,null,1500,150,0.5754431466175427,null,1500,150,1.0143597952347787,null,1500,150,0.98145477542017379]
[null,1500,160,1.0265472360031451,null,1500,160,0.61431142590910925,null,1500,160,1.016504533837816,null,1500,160,0.98453929082745528]
[null,1500,170,1.0282949665915257,null,1500,170,0.64683903901138173,null,1500,170,1.0184905982700383,null,1500,170,0.98741510287573953]
[null,1500,180,1.0299095878908677,null,1500,180,0.67475536464721531,null,1500,180,1.0203305048521008,null,1500,180,0.99009870457666571]
[null,1500,190,1.0314014056670961,null,1500,190,0.69914424214055437,null,1500,190,1.0220356143281717,null,1500,190,0.99260501193445394]
[null,1500,200,1.0327798011756266,null,1500,200,0.72073356565809665,null,1500,200,1.0236162562889153,null,1500,200,0.99494754412784869]
[null,1500,225,1.0357838878963148,null,1500,225,0.76552341604549179,null,1500,225,1.0270830399441591,null,1500,225,1.0001652447821239]
[null,1500,{"$f":"C990+25","v":250},1.0382453121679716,null,1500,{"$f":"G990+25","v":250},0.80084430185439226,null,1500,{"$f":"K990+25","v":250},1.0299544995156769,null,1500,{"$f":"O990+25","v":250},1.0045970215905757]
[null,1500,275,1.0402563034037435,null,1500,275,0.82951156005025051,null,1500,275,1.0323316800933753,null,1500,275,1.0083737474436774]
[null,1500,300,1.0418915504628274,null,1500,300,0.85325241561815846,null,1500,300,1.0342962516151037,null,1500,300,1.0116009292434613]
[null,1500,325,1.0432119765418268,null,1500,325,0.87321239732990852,null,1500,325,1.0359147247068294,null,1500,325,1.0143643794646271]
[null,1500,350,1.0442676038093461,null,1500,350,0.89019340409136316,null,1500,350,1.037241638386458,null,1500,350,1.0167344481111174]
[null,1500,375,1.0450997506130135,null,1500,375,0.90477941672879725,null,1500,375,1.0383219967669823,null,1500,375,1.0187692234773211]
[null,1500,400,1.0457427332758464,null,1500,400,0.91740874511042525,null,1500,400,1.0391931503563427,null,1500,400,1.0205169824180911]
[null,1500,425,1.0462251960214672,null,1500,425,0.92841829658992536,null,1500,425,1.0398862619192271,null,1500,425,1.0220180866074788]
[null,1500,450,1.0465711588756246,null,1500,450,0.93807209058738017,null,1500,450,1.0404274583318078,null,1500,450,1.0233064645714487]
[null,1500,475,1.0468008496481207,null,1500,475,0.94658037375782345,null,1500,475,1.0408387427965216,null,1500,475,1.0244107804119986]
[null,1500,500,1.0469313691517692,null,1500,500,0.95411285835704951,null,1500,500,1.0411387225313571,null,1500,500,1.0253553630512104]
[null,1600,50,0.99606803893359008,null,1600,50,0.22214140449272535,null,1600,50,0.98104506612162068,null,1600,50,0.93117113694818998]
[null,1600,{"$f":"C1002+10","v":60},1.0005250574477804,null,1600,{"$f":"G1002+10","v":60},0.22566138923182363,null,1600,{"$f":"K1002+10","v":60},0.98604688698220644,null,1600,{"$f":"O1002+10","v":60},0.93814893863667381]
[null,1600,70,1.0046153118003907,null,1600,70,0.23054940393533283,null,1600,70,0.99064083322678476,null,1600,70,0.94456767343046488]
[null,1600,80,1.0083727615763183,null,1600,80,0.23744151914956116,null,1600,80,0.9948650978049558,null,1600,80,0.95048295038788699]
[null,1600,90,1.0118276307306582,null,1600,90,0.24751976525183078,null,1600,90,0.99875361186220379,null,1600,90,0.95594347333916563]
[null,1600,100,1.0150068887904988,null,1600,100,0.26325183134722402,null,1600,100,1.0023366015949191,null,1600,100,0.96099208488202403]
[null,1600,110,1.0179346611899309,null,1600,110,0.29079801988498433,null,1600,110,1.0056410618289933,null,1600,110,0.96566662367086564]
[null,1600,120,1.0206325803697931,null,1600,120,0.34303736071999458,null,1600,120,1.0086911602731734,null,1600,120,0.97000063342561149]
[null,1600,130,1.0231200872020181,null,1600,130,0.41828432745275446,null,1600,130,1.0115085838314977,null,1600,130,0.97402395320221014]
[null,1600,140,1.025414690615071,null,1600,140,0.48667823995445486,null,1600,140,1.0141128363009584,null,1600,140,0.97776321184379311]
[null,1600,150,1.0275321919285223,null,1600,150,0.54077368259430192,null,1600,150,1.0165214951248065,null,1600,150,0.98124224454647968]
[null,1600,160,1.0294868792907703,null,1600,160,0.58430542589256496,null,1600,160,1.0187504335350253,null,1600,160,0.98448244568726229]
[null,1600,170,1.0312916967051264,null,1600,170,0.62046456116289417,null,1600,170,1.0208140133340078,null,1600,170,0.98750306915991437]
[null,1600,180,1.0329583913861353,null,1600,180,0.65127697381590732,null,1600,180,1.0227252526838748,null,1600,180,0.99032148522298824]
[null,1600,190,1.0344976425782639,null,1600,190,0.67803665966133819,null,1600,190,1.0244959725518039,null,1600,190,0.99295340111809083]
[null,1600,200,1.035919174467447,null,1600,200,0.70161057672893401,null,1600,200,1.0261369248693384,null,1600,200,0.99541305134677793]
[null,1600,225,1.0390143088856179,null,1600,225,0.75021732545345199,null,1600,225,1.0297337655118415,null,1600,225,1.0008905092329812]
[null,1600,{"$f":"C1018+25","v":250},1.0415461010335654,null,1600,{"$f":"G1018+25","v":250},0.78830458361654421,null,1600,{"$f":"K1018+25","v":250},1.0327097524858835,null,1600,{"$f":"O1018+25","v":250},1.0055414893545718]
[null,1600,275,1.0436102660787383,null,1600,275,0.81908518740089786,null,1600,275,1.0351702084863426,null,1600,275,1.0095037154804272]
[null,1600,300,1.045284348828063,null,1600,300,0.84449875702462518,null,1600,300,1.0372003015328639,null,1600,300,1.0128881950580053]
[null,1600,325,1.0466316241102818,null,1600,325,0.86581666010881941,null,1600,325,1.0388694172564994,null,1600,325,1.0157851990350153]
[null,1600,350,1.0477040596761453,null,1600,350,0.88392116948755828,null,1600,350,1.0402344690991163,null,1600,350,1.0182687220231044]
[null,1600,375,1.0485445907180355,null,1600,375,0.89945056857506622,null,1600,375,1.0413424313053734,null,1600,375,1.0203998544374129]
[null,1600,400,1.0491888828200187,null,1600,400,0.91288147558945454,null,1600,400,1.0422322962683186,null,1600,400,1.0222293631351715]
[null,1600,425,1.0496667105263895,null,1600,425,0.92457875973894343,null,1600,425,1.0429366007569805,null,1600,425,1.0237996880058033]
[null,1600,450,1.050003044153432,null,1600,450,0.93482741866450114,null,1600,450,1.0434826259430916,null,1600,450,1.0251465020361981]
[null,1600,475,1.0502189130683552,null,1600,475,0.94385379708090977,null,1600,475,1.0438933482607817,null,1600,475,1.026299941309355]
[null,1600,500,1.0503320962168274,null,1600,500,0.95184019551949373,null,1600,500,1.0441881982597849,null,1600,500,1.0272855827874403]
[null,1700,50,0.99817869073763954,null,1700,50,0.23477258549413155,null,1700,50,0.98212667590589975,null,1700,50,0.92878931882208282]
[null,1700,{"$f":"C1030+10","v":60},1.0027657103539793,null,1700,{"$f":"G1030+10","v":60},0.2381665636664142,null,1700,{"$f":"K1030+10","v":60},0.98729922376358503,null,1700,{"$f":"O1030+10","v":60},0.93609079752107982]
[null,1700,70,1.0069755799598299,null,1700,70,0.24283354981648317,null,1700,70,0.99205090967878695,null,1700,70,0.94280692195210036]
[null,1700,80,1.0108430014876062,null,1700,80,0.24929286808530524,null,1700,80,0.99642085405256919,null,1700,80,0.94899589633725545]
[null,1700,90,1.0143989000999618,null,1700,90,0.25844746255150625,null,1700,90,1.0004438630277441,null,1700,90,0.95470870971215149]
[null,1700,100,1.0176709026433755,null,1700,100,0.27196935354410595,null,1700,100,1.0041509826037329,null,1700,100,0.9599902222463802]
[null,1700,110,1.0206837474279202,null,1700,110,0.2933880550112225,null,1700,110,1.0075699718748556,null,1700,110,0.96488005880091532]
[null,1700,120,1.023459636163494,null,1700,120,0.32956542646789072,null,1700,120,1.01072570848432,null,1700,120,0.96941334889789965]
[null,1700,130,1.0260185370741011,null,1700,130,0.38624370406761482,null,1700,130,1.0136405370934018,null,1700,130,0.97362134338793727]
[null,1700,140,1.0283784467058406,null,1700,140,0.45099754620852173,null,1700,140,1.0163345697942769,null,1700,140,0.97753193141397055]
[null,1700,150,1.0305556166960865,null,1700,150,0.50809134855150029,null,1700,150,1.0188259458677382,null,1700,150,0.98117007620313645]
[null,1700,160,1.0325647507391262,null,1700,160,0.55535253589432898,null,1700,160,1.0211310570388319,null,1700,160,0.9845581843468495]
[null,1700,170,1.0344191761304082,null,1700,170,0.59479751906467659,null,1700,170,1.0232647433612359,null,1700,170,0.98771642024939377]
[null,1700,180,1.0361309935661751,null,1700,180,0.62835421543066183,null,1700,180,1.0252404640220687,null,1700,180,0.99066297511425461]
[null,1700,190,1.0377112082913131,null,1700,190,0.65740545173588838,null,1700,190,1.0270704466680753,null,1700,190,0.99341429803208836]
[null,1700,200,1.0391698452040292,null,1700,200,0.68291535697665395,null,1700,200,1.0287658182839055,null,1700,200,0.99598529531419655]
[null,1700,225,1.0423426300166125,null,1700,225,0.73526685939962111,null,1700,225,1.0324797221668638,null,1700,225,1.0017097244280226]
[null,1700,{"$f":"C1046+25","v":250},1.0449334195552504,null,1700,{"$f":"G1046+25","v":250},0.77607350645124962,null,1700,{"$f":"K1046+25","v":250},1.0355493087310932,null,1700,{"$f":"O1046+25","v":250},1.0065690890283889]
[null,1700,275,1.0470410386989586,null,1700,275,0.80893079292898218,null,1700,275,1.0380837715375466,null,1700,275,1.0107075890366675]
[null,1700,300,1.0487455951488707,null,1700,300,0.83598679155818767,null,1700,300,1.0401714648738742,null,1700,300,1.0142414436474534]
[null,1700,325,1.0501124840895064,null,1700,325,0.85863702346746129,null,1700,325,1.0418844070984818,null,1700,325,1.0172651563169515]
[null,1700,350,1.0511954342815883,null,1700,350,0.87784313381701495,null,1700,350,1.0432816955293602,null,1700,350,1.0198561871377891]
[null,1700,375,1.0520388489866315,null,1700,375,0.89429700707044468,null,1700,375,1.0444121230218488,null,1700,375,1.0220784850175773]
[null,1700,400,1.0526796220483814,null,1700,400,0.90851304153651247,null,1700,400,1.0453162021551514,null,1700,400,1.0239851904845205]
[null,1700,425,1.0531485591183527,null,1700,425,0.92088365661809957,null,1700,425,1.0460277450597959,null,1700,425,1.025620726571665]
[null,1700,450,1.0534714988522205,null,1700,450,0.9317145010831086,null,1700,450,1.0465751065774294,null,1700,450,1.0270224324013328]
[null,1700,475,1.053670204023972,null,1700,475,0.94124775431701491,null,1700,475,1.0469821699670889,null,1700,475,1.0282218510373964]
[null,1700,500,1.053763074685554,null,1700,500,0.94967809079166743,null,1700,500,1.0472691340270051,null,1700,500,1.0292457531824264]
[null,1800,50,1.0005639190901181,null,1800,50,0.24732834412828952,null,1800,50,0.98348761466953483,null,1800,50,0.92668484487044855]
[null,1800,{"$f":"C1058+10","v":60},1.0052618252263614,null,1800,{"$f":"G1058+10","v":60},0.25059756470859329,null,1800,{"$f":"K1058+10","v":60},0.98881024552425356,null,1800,{"$f":"O1058+10","v":60},0.934289276668401]
[null,1800,70,1.0095740153893147,null,1800,70,0.2550606664773305,null,1800,70,0.99370111850322518,null,1800,70,0.94128431061917961]
[null,1800,80,1.0135357074264006,null,1800,80,0.2611493630481011,null,1800,80,0.99820001354722065,null,1800,80,0.94773041315025719]
[null,1800,90,1.0171783362358597,null,1800,90,0.26957637889696334,null,1800,90,1.002342384945665,null,1800,90,0.95368058887607854]
[null,1800,100,1.0205300230828154,null,1800,100,0.28155290007589362,null,1800,100,1.0061599054565677,null,1800,100,0.9591814947241577]
[null,1800,110,1.0236159797639128,null,1800,110,0.29933277774437084,null,1800,110,1.0096809333928991,null,1800,110,0.96427435906992653]
[null,1800,120,1.0264588573440838,null,1800,120,0.3269596313816468,null,1800,120,1.0129309145901066,null,1800,120,0.96899574468142446]
[null,1800,130,1.0290790477189418,null,1800,130,0.36920306148918824,null,1800,130,1.0159327292282629,null,1800,130,0.97337818573730406]
[null,1800,140,1.0314949449837434,null,1800,140,0.42396782751478973,null,1800,140,1.0187069918552554,null,1800,140,0.97745072266875521]
[null,1800,150,1.0337231725033473,null,1800,150,0.47954568671954279,null,1800,150,1.0212723116009295,null,1800,150,0.98123935358334491]
[null,1800,160,1.0357787806580798,null,1800,160,0.52859861874517966,null,1800,160,1.0236455184441837,null,1800,160,0.98476741718003358]
[null,1800,170,1.0376754194661679,null,1800,170,0.57049265411090222,null,1800,170,1.0258418604581403,null,1800,170,0.98805591907993795]
[null,1800,180,1.0394254896334674,null,1800,180,0.60639581810556498,null,1800,180,1.0278751761801399,null,1800,180,0.99112381116849624]
[null,1800,190,1.0410402750363483,null,1800,190,0.6375257317682792,null,1800,190,1.0297580456060174,null,1800,190,0.99398823171627548]
[null,1800,200,1.042530059186964,null,1800,200,0.66484420235512476,null,1800,200,1.0315019227690194,null,1800,200,0.99666471260139899]
[null,1800,225,1.0457672667425328,null,1800,225,0.72077224749682445,null,1800,225,1.0353198602102323,null,1800,225,1.0026231491023267]
[null,1800,{"$f":"C1074+25","v":250},1.0484058340982925,null,1800,{"$f":"G1074+25","v":250},0.76421052034025305,null,1800,{"$f":"K1074+25","v":250},1.0384721058067401,null,1800,{"$f":"O1074+25","v":250},1.0076799577227697]
[null,1800,275,1.0505473218418608,null,1800,275,0.79908681075696109,null,1800,275,1.0410713107806346,null,1800,275,1.011985422156048]
[null,1800,300,1.0522741094333912,null,1800,300,0.82774275614941129,null,1800,300,1.0432086990099549,null,1800,300,1.015660672714553]
[null,1800,325,1.0536534828856225,null,1800,325,0.8516920707229465,null,1800,325,1.0449586756704408,null,1800,325,1.0188042113418727]
[null,1800,350,1.0547407489614191,null,1800,350,0.87197280883497241,null,1800,350,1.04638232871009,null,1800,350,1.0214967789242215]
[null,1800,375,1.0555816315988342,null,1800,375,0.8893287463759515,null,1800,375,1.0475301160788888,null,1800,375,1.0238050353519796]
[null,1800,400,1.0562141331138362,null,1800,400,0.90431097053512199,null,1800,400,1.0484439473755869,null,1800,400,1.0257843757583698]
[null,1800,425,1.0566699921126332,null,1800,425,0.91733870443061039,null,1800,425,1.049158810376466,null,1800,425,1.0274811093072949]
[null,1800,450,1.0569758345642237,null,1800,450,0.92873771166949937,null,1800,450,1.0497040521896999,null,1800,450,1.0289341615453054]
[null,1800,475,1.0571540893045939,null,1800,475,0.93876560694879174,null,1800,475,1.0501043959352365,null,1800,475,1.0301764165236988]
[null,1800,500,1.0572237211673594,null,1800,500,0.94762913306430385,null,1800,500,1.0503807531839984,null,1800,500,1.0312357836720754]
[null,1900,50,1.0032198091555014,null,1900,50,0.2598124695399544,null,1900,50,0.98512717013436302,null,1900,50,0.92486291497649586]
[null,1900,{"$f":"C1086+10","v":60},1.0080097096199956,null,1900,{"$f":"G1086+10","v":60},0.26295755397556164,null,1900,{"$f":"K1086+10","v":60},0.99057923191557395,null,1900,{"$f":"O1086+10","v":60},0.93274868772430097]
[null,1900,70,1.0124071289327627,null,1900,70,0.26722965507310109,null,1900,70,0.99559071836789925,null,1900,70,0.94000342357996947]
[null,1900,80,1.016447577332757,null,1900,80,0.27299288523731707,null,1900,80,1.0002018065179101,null,1900,80,0.94668948578255741]
[null,1900,90,1.0201628101687148,null,1900,90,0.28082377034855982,null,1900,90,1.0044483757805951,null,1900,90,0.95286159976536333]
[null,1900,100,1.0235812819140344,null,1900,100,0.2916414850351689,null,1900,100,1.0083625352773957,null,1900,100,0.95856797875987898]
[null,1900,110,1.0267285398051018,null,1900,110,0.30699711792282397,null,1900,110,1.0119730792798665,null,1900,110,0.96385125649322323]
[null,1900,120,1.0296275654417366,null,1900,120,0.32949371888979878,null,1900,120,1.0153058812440687,null,1900,120,0.96874926414401963]
[null,1900,130,1.032299071622788,null,1900,130,0.36239600364121333,null,1900,130,1.0183842353561681,null,1900,130,0.97329568093696506]
[null,1900,140,1.0347617607002273,null,1900,140,0.40678615394143069,null,1900,140,1.0212291531891557,null,1900,140,0.97752058168129596]
[null,1900,150,1.0370325498477808,null,1900,150,0.45701218662123178,null,1900,150,1.0238596219190521,null,1900,150,0.98145089981836919]
[null,1900,160,1.0391267678616964,null,1900,160,0.50530783939957502,null,1900,160,1.0262928295701543,null,1900,160,0.98511082083816426]
[null,1900,170,1.0410583274374121,null,1900,170,0.54832613034870514,null,1900,170,1.0285443619288974,null,1900,170,0.9885221180183934]
[null,1900,180,1.0428398762878801,null,1900,180,0.58589018172974228,null,1900,180,1.0306283750648519,null,1900,180,0.99170444015141768]
[null,1900,190,1.0444829299760925,null,1900,190,0.6187214021391555,null,1900,190,1.0325577468063782,null,1900,190,0.99467555911381311]
[null,1900,200,1.0459979889150541,null,1900,200,0.64762338197502667,null,1900,200,1.0343442100205007,null,1900,200,0.99745158369441311]
[null,1900,225,1.0492865847081152,null,1900,225,0.7068434718821891,null,1900,225,1.0382531474247914,null,1900,225,1.0036309186521826]
[null,1900,{"$f":"C1102+25","v":250},1.0519618782782147,null,1900,{"$f":"G1102+25","v":250},0.75277865806278976,null,1900,{"$f":"K1102+25","v":250},1.0414771198073691,null,1900,{"$f":"O1102+25","v":250},1.0088741339647906]
[null,1900,275,1.0541277957892818,null,1900,275,0.78959308096838488,null,1900,275,1.0441318198007801,null,1900,275,1.0133371892570064]
[null,1900,300,1.0558687005121083,null,1900,300,0.81979344238641838,null,1900,300,1.0463110216546385,null,1900,300,1.0171458150259194]
[null,1900,325,1.057253542402651,null,1900,325,0.84500058704013592,null,1900,325,1.0480912694161539,null,1900,325,1.0204022707072347]
[null,1900,350,1.0583390254213418,null,1900,350,0.8663237599818695,null,1900,350,1.0495354468278035,null,1900,350,1.0231903885119877]
[null,1900,375,1.059172048635695,null,1900,375,0.88455579502696613,null,1900,375,1.050695522200132,null,1900,375,1.0255793884910964]
[null,1900,400,1.0597916045988169,null,1900,400,0.90028276485525904,null,1900,400,1.0516146780655471,null,1900,400,1.0276267990027736]
[null,1900,425,1.0602302680300468,null,1900,425,0.91394959292831102,null,1900,425,1.0523289774465505,null,1900,425,1.0293807167022977]
[null,1900,450,1.0605153722969642,null,1900,450,0.92590140197988891,null,1900,450,1.0528686778138157,null,1900,450,1.0308815727008682]
[null,1900,475,1.0606699458983344,null,1900,475,0.93641070188629938,null,1900,475,1.053259274824661,null,1900,475,1.032163525231369]
[null,1900,500,1.0607134629322528,null,1900,500,0.94569590464383457,null,1900,500,1.0535223370952402,null,1900,500,1.0332555668624721]
[null,2000,50,1.0061418269066849,null,2000,50,0.27222839833286394,null,2000,50,0.98704360309015049,null,2000,50,0.92332777853584991]
[null,2000,{"$f":"C1114+10","v":60},1.0110051432830507,null,2000,{"$f":"G1114+10","v":60},0.27524953151307302,null,2000,{"$f":"K1114+10","v":60},0.99260459735880613,null,2000,{"$f":"O1114+10","v":60},0.93147252741747832]
[null,2000,70,1.0154709798612342,null,2000,70,0.27934048325663402,null,2000,70,0.99771823957555961,null,2000,70,0.938967141396021]
[null,2000,80,1.0195749215667778,null,2000,80,0.28481201526890709,null,2000,80,1.0024248508724298,null,2000,80,0.94587548799750876]
[null,2000,90,1.0233488593720081,null,2000,90,0.29213943186894942,null,2000,90,1.0067605199412388,null,2000,90,0.95225369750559075]
[null,2000,100,1.026821423227869,null,2000,100,0.3020443376958129,null,2000,100,1.0107576072906095,null,2000,100,0.95815128231967028]
[null,2000,110,1.0300183605279245,null,2000,110,0.31565453921505593,null,2000,110,1.0144451839914037,null,2000,110,0.9636120701509262]
[null,2000,120,1.0329628668195039,null,2000,120,0.33475403688519262,null,2000,120,1.0178494136440066,null,2000,120,0.96867498523531315]
[null,2000,130,1.0356758748677364,null,2000,130,0.36159766627680145,null,2000,130,1.0209938852605731,null,2000,130,0.97337470513271473]
[null,2000,140,1.0381763075123414,null,2000,140,0.39775455076904298,null,2000,140,1.0238999037614489,null,2000,140,0.97774221532586003]
[null,2000,150,1.0404812991008054,null,2000,150,0.44121845661113518,null,2000,150,1.0265867438780174,null,2000,150,0.98180527953578711]
[null,2000,160,1.0426063896688469,null,2000,160,0.48648020387643875,null,2000,160,1.0290718724484436,null,2000,160,0.98558884023890925]
[null,2000,170,1.0445656954848728,null,2000,170,0.52905781767694171,null,2000,170,1.0313711433885624,null,2000,170,0.9891153611335981]
[null,2000,180,1.0463720590838188,null,2000,180,0.56735597971542062,null,2000,180,1.0334989690110363,null,2000,180,0.99240512111947565]
[null,2000,190,1.0480371814857861,null,2000,190,0.60134544197901507,null,2000,190,1.0354684708424891,null,2000,190,0.99547646760526165]
[null,2000,200,1.0495717389218528,null,2000,200,0.63150000268459361,null,2000,200,1.0372916126403999,null,2000,200,0.99834603555944901]
[null,2000,225,1.0528989032130642,null,2000,225,0.69359780774742297,null,2000,225,1.0412785466504693,null,2000,225,1.0047330476151908]
[null,2000,{"$f":"C1130+25","v":250},1.055600055078205,null,2000,{"$f":"G1130+25","v":250},0.74184342010042359,null,2000,{"$f":"K1130+25","v":250},1.0445633450315606,null,2000,{"$f":"O1130+25","v":250},1.010151559973741]
[null,2000,275,1.0577811216782864,null,2000,275,0.78049022724671757,null,2000,275,1.0472643258647696,null,2000,275,1.014762787165465]
[null,2000,300,1.0595281664968634,null,2000,300,0.8121658150200054,null,2000,300,1.0494774942990441,null,2000,300,1.0186967402011531]
[null,2000,325,1.0609115800096993,null,2000,325,0.83858131205899034,null,2000,325,1.051281284859146,null,2000,325,1.0220591891390207]
[null,2000,350,1.0619892853586426,null,2000,350,0.86090943921786012,null,2000,350,1.0527401817704092,null,2000,350,1.0249368640507328]
[null,2000,375,1.062809213462627,null,2000,375,0.879988039096261,null,2000,375,1.0539075085394742,null,2000,375,1.027401391583201]
[null,2000,400,1.0634112307391752,null,2000,400,0.89643581738766931,null,2000,400,1.0548275961887694,null,2000,400,1.029512310044812]
[null,2000,425,1.0638286527192913,null,2000,425,0.91072192235017957,null,2000,425,1.0555374823065342,null,2000,425,1.0313194036280404]
[null,2000,450,1.064089441536507,null,2000,450,0.92320985441132619,null,2000,450,1.0560682526116636,null,2000,450,1.0328645272355266]
[null,2000,475,1.064217160026967,null,2000,475,0.93418633528947659,null,2000,475,1.0564461078257745,null,2000,475,1.0341830458418648]
[null,2000,500,1.0642317369403917,null,2000,500,0.94388095280033568,null,2000,500,1.0566932177832642,null,2000,500,1.0353049791290179]
[null,2100,50,1.0093248737256433,null,2100,50,0.284579261113247,null,2100,50,0.9892341842891802,null,2100,50,0.92208270445394125]
[null,2100,{"$f":"C1142+10","v":60},1.0142434248573191,null,2100,{"$f":"G1142+10","v":60},0.28747632269507789,null,2100,{"$f":"K1142+10","v":60},0.99488391308516899,null,2100,{"$f":"O1142+10","v":60},0.93046345765852123]
[null,2100,70,1.0187612159507944,null,2100,70,0.29139376553128415,null,2100,70,1.0000814948528898,null,2100,70,0.93817762827840834]
[null,2100,80,1.0229136973933877,null,2100,80,0.29659945315369513,null,2100,80,1.0048671544989631,null,2100,80,0.9452901746567971]
[null,2100,90,1.0267327174947749,null,2100,90,0.30349123583242588,null,2100,90,1.0092769840017757,null,2100,90,0.95185829928284194]
[null,2100,100,1.0302469290748577,null,2100,100,0.31265027151421093,null,2100,100,1.0133434179908685,null,2100,100,0.9579325432864022]
[null,2100,110,1.0334821484717929,null,2100,110,0.32493151536629444,null,2100,110,1.0170956512092957,null,2100,110,0.96355770635332016]
[null,2100,120,1.0364616718716573,null,2100,120,0.34161617322680188,null,2100,120,1.0205600046581065,null,2100,120,0.96877362187760085]
[null,2100,130,1.0392065537441337,null,2100,130,0.36432560145318343,null,2100,130,1.0237602467141791,null,2100,130,0.97361581215188664]
[null,2100,140,1.0417358518567437,null,2100,140,0.39442835452599467,null,2100,140,1.0267178748945547,null,2100,140,0.97811604404635544]
[null,2100,150,1.0440668429397313,null,2100,150,0.43157059940938475,null,2100,150,1.0294523633026753,null,2100,150,0.98230280196739961]
[null,2100,160,1.0462152126467805,null,2100,160,0.4725226685220445,null,2100,160,1.0319813801807445,null,2100,160,0.98620169186414686]
[null,2100,170,1.0481952230381213,null,2100,170,0.51324595684401464,null,2100,170,1.034320979430164,null,2100,170,0.98983578757679958]
[null,2100,180,1.0500198604206825,null,2100,180,0.5512578674991625,null,2100,180,1.0364857694572989,null,2100,180,0.99322592880616789]
[null,2100,190,1.051700966023271,null,2100,190,0.58574249889211383,null,2100,190,1.038489062255765,null,2100,190,0.99639097834676515]
[null,2100,200,1.0532493516659613,null,2100,200,0.61672437009232428,null,2100,200,1.0403430052462319,null,2100,200,0.99934804489573859]
[null,2100,225,1.0566024991529279,null,2100,225,0.68115578802642629,null,2100,225,1.0443949979002822,null,2100,225,1.005929432619812]
[null,2100,{"$f":"C1158+25","v":250},1.0593188393861832,null,2100,{"$f":"G1158+25","v":250},0.73147127194714645,null,2100,{"$f":"K1158+25","v":250},1.0477297773433649,null,2100,{"$f":"O1158+25","v":250},1.0115120842618992]
[null,2100,275,1.0615059430251594,null,2100,275,0.77181891677585002,null,2100,275,1.0504678745993268,null,2100,275,1.0162620373750697]
[null,2100,300,1.0632512955740989,null,2100,300,0.80488658970494542,null,2100,300,1.0527072081892721,null,2100,300,1.0203132566629185]
[null,2100,325,1.0646265088089664,null,2100,325,0.83245267747305163,null,2100,325,1.0545278558154625,null,2100,325,1.0237747711690708]
[null,2100,350,1.0656905503554113,null,2100,350,0.85574301234241679,null,2100,350,1.0559957074902455,null,2100,350,1.0267360121521596]
[null,2100,375,1.0664922423584959,null,2100,375,0.8756351235995804,null,2100,375,1.0571652871013997,null,2100,375,1.0292708571154121]
[null,2100,400,1.0670722108707631,null,2100,400,0.89277732733294279,null,2100,400,1.0580819499213168,null,2100,400,1.03144072956296]
[null,2100,425,1.067464418681306,null,2100,425,0.9076611417051772,null,2100,425,1.0587836075492094,null,2100,425,1.033297000263389]
[null,2100,450,1.0676973794941407,null,2100,450,0.92066723585617649,null,2100,450,1.0593020919239045,null,2100,450,1.034882865454738]
[null,2100,475,1.0677951263477605,null,2100,475,0.93209571696844662,null,2100,475,1.059664241425422,null,2100,475,1.0362348289542744]
[null,2100,500,1.0677779890231813,null,2100,500,0.94218676186100314,null,2100,500,1.0598927713388908,null,2100,500,1.0373838812274105]
[null,2200,50,1.0127633436921837,null,2200,50,0.29686792132395312,null,2200,50,0.99169525722108987,null,2200,50,0.92112996276975456]
[null,2200,{"$f":"C1170+10","v":60},1.0177194206480185,null,2200,{"$f":"G1170+10","v":60},0.29964057764966057,null,2200,{"$f":"K1170+10","v":60},0.99741395215340645,null,2200,{"$f":"O1170+10","v":60},0.92972329471370008]
[null,2200,70,1.0222731151876958,null,2200,70,0.30339050734374712,null,2200,70,1.0026776105063426,null,2200,70,0.93763632649857109]
[null,2200,80,1.0264595447757814,null,2200,80,0.30835053165799553,null,2200,80,1.0075261356102274,null,2200,80,0.94493467974501766]
[null,2200,90,1.030310345170711,null,2200,90,0.31485782404929058,null,2200,90,1.0119954286369734,null,2200,90,0.95167628483822142]
[null,2200,100,1.0338540460453576,null,2200,100,0.32338980694569774,null,2200,100,1.0161178305434766,null,2200,100,0.95791243161572004]
[null,2200,110,1.0371164067119423,null,2200,110,0.33461581408326696,null,2200,110,1.0199225141827506,null,2200,110,0.96368866188584024]
[null,2200,120,1.0401207149056131,null,2200,120,0.34949082793703301,null,2200,120,1.0234358312678766,null,2200,120,0.96904552789414111]
[null,2200,130,1.0428880519737034,null,2200,130,0.36922225730675978,null,2200,130,1.0266816189378982,null,2200,130,0.97401923782803834]
[null,2200,140,1.0454375278780155,null,2200,140,0.39490142151894231,null,2200,140,1.0296814704641295,null,2200,140,0.97864220637530275]
[null,2200,150,1.047786489289614,null,2200,150,0.42678669690269988,null,2200,150,1.0324549742900773,null,2200,150,0.98294352552122088]
[null,2200,160,1.0499507038290239,null,2200,160,0.46319513921908306,null,2200,160,1.0350199251992782,null,2200,160,0.98694936828745639]
[null,2200,170,1.0519445232339539,null,2200,170,0.50111498809771193,null,2200,170,1.0373925109986109,null,2200,170,0.99068333599863323]
[null,2200,180,1.0537810279543542,null,2200,180,0.53791629988501344,null,2200,180,1.0395874777148824,null,2200,180,0.99416675788519104]
[null,2200,190,1.055472155399477,null,2200,190,0.57220009699461871,null,2200,190,1.0416182759420274,null,2200,190,0.99741895035241379]
[null,2200,200,1.0570288138038122,null,2200,200,0.60352481641513112,null,2200,200,1.0434971906502826,null,2200,200,1.0004574420218024]
[null,2200,225,1.0603956113056274,null,2200,225,0.66963546563729903,null,2200,225,1.0476014045626383,null,2200,225,1.0072198557633225]
[null,2200,{"$f":"C1186+25","v":250},1.0631166808476153,null,2200,{"$f":"G1186+25","v":250},0.72172773194569217,null,2200,{"$f":"K1186+25","v":250},1.0509754008732473,null,2200,{"$f":"O1186+25","v":250},1.0129554645293122]
[null,2200,275,1.0653008875391718,null,2200,275,0.76361900665484728,null,2200,275,1.0537415174319393,null,2200,275,1.0178346885116769]
[null,2200,300,1.0670368670644501,null,2200,300,0.79798177668767867,null,2200,300,1.0559992726131442,null,2200,300,1.0219951137303767]
[null,2200,325,1.068397238148558,null,2200,325,0.82663253470683073,null,2200,325,1.0578301425546679,null,2200,325,1.0255487729138757]
[null,2200,350,1.0694418419966427,null,2200,350,0.85083718429294575,null,2200,350,1.0593012300237292,null,2200,350,1.028587599404307]
[null,2200,375,1.0702202543510961,null,2200,375,0.87150633445389902,null,2200,375,1.060468105579768,null,2200,375,1.0311875642064727]
[null,2200,400,1.0707737490652525,null,2200,400,0.88931421717804471,null,2200,400,1.0613770252579806,null,2200,400,1.0334118501945793]
[null,2200,425,1.0711368445670304,null,2200,425,0.90477248843084057,null,2200,425,1.0620666746412826,null,2200,425,1.0353133130470846]
[null,2200,450,1.0713385305118421,null,2200,450,0.91827755260695776,null,2200,450,1.0625695502416255,null,2200,450,1.036936407424186]
[null,2200,475,1.0714032473006498,null,2200,475,0.93014193585538074,null,2200,475,1.062913060977082,null,2200,475,1.0383187077981717]
[null,2200,500,1.0713516731973527,null,2200,500,0.9406157262006809,null,2200,500,1.0631204120374385,null,2200,500,1.039492118914183]
[null,2300,50,1.0164511823760194,null,2300,50,0.30909700784915028,null,2300,50,0.99442231975606732,null,2300,50,0.92047081836893108]
[null,2300,{"$f":"C1198+10","v":60},1.0214276144753989,null,2300,{"$f":"G1198+10","v":60},0.31174477721772542,null,2300,{"$f":"K1198+10","v":60},1.0001907517987141,null,2300,{"$f":"O1198+10","v":60},0.92925300765704522]
[null,2300,70,1.026001628270117,null,2300,70,0.31533194501233763,null,2300,70,1.0055030733673527,null,2300,70,0.93734395802372905]
[null,2300,80,1.0302078227730675,null,2300,80,0.32006231692139459,null,2300,80,1.0103986574055095,null,2300,80,0.9448095200900386]
[null,2300,90,1.0340774613024271,null,2300,90,0.32622460221236016,null,2300,90,1.0149130334924261,null,2300,90,0.95170800150135093]
[null,2300,100,1.037638812238848,null,2300,100,0.33421724290654042,null,2300,100,1.0190782918604411,null,2300,100,0.95809115514307486]
[null,2300,110,1.04091745816479,null,2300,110,0.34457765772740218,null,2300,110,1.0229234466063424,null,2300,110,0.96400503021489603]
[null,2300,120,1.0439365743194924,null,2300,120,0.35803975479104716,null,2300,120,1.0264747605254485,null,2300,120,0.969490703355954]
[null,2300,130,1.0467171782046922,null,2300,130,0.37552677656016475,null,2300,130,1.0297560346610353,null,2300,130,0.97458490631381045]
[null,2300,140,1.0492783526142015,null,2300,140,0.39790644355128041,null,2300,140,1.0327888658831772,null,2300,140,0.97932056509659193]
[null,2300,150,1.0516374445132732,null,2300,150,0.42559690173099712,null,2300,150,1.0355928757769992,null,2300,150,0.98372726371953056]
[null,2300,160,1.0538102421759985,null,2300,160,0.45782660674563908,null,2300,160,1.0381859139481044,null,2300,160,0.9878316438421566]
[null,2300,170,1.055811132874247,null,2300,170,0.49254343544845658,null,2300,170,1.0405842386128317,null,2300,170,0.99165774992240807]
[null,2300,180,1.0576532432461605,null,2300,180,0.52745291306179576,null,2300,180,1.0428026770747991,null,2300,180,0.99522732803852731]
[null,2300,190,1.0593485642849552,null,2300,190,0.56090465449299742,null,2300,190,1.0448547684211822,null,2300,190,0.99856008525650453]
[null,2300,200,1.0609080626972522,null,2300,200,0.59208031964293562,null,2300,200,1.0467528905157477,null,2300,200,1.0016739153378968]
[null,2300,225,1.0642764448489164,null,2300,225,0.65914527554319791,null,2300,225,1.0508966232390493,null,2300,225,1.0086039883755165]
[null,2300,{"$f":"C1214+25","v":250},1.0669920069432246,null,2300,{"$f":"G1214+25","v":250},0.71267508276750469,null,2300,{"$f":"K1214+25","v":250},1.0542991777072708,null,2300,{"$f":"O1214+25","v":250},1.0144813708208402]
[null,2300,275,1.0691645691529437,null,2300,275,0.75592859089238384,null,2300,275,1.0570843015149936,null,2300,275,1.0194804189784217]
[null,2300,300,1.070883652688869,null,2300,300,0.79147619939553493,null,2300,300,1.0593528052707673,null,2300,300,1.0237420038382321]
[null,2300,325,1.0722226743306069,null,2300,325,0.82113787842267938,null,2300,325,1.0611873227244417,null,2300,325,1.027380903941443]
[null,2300,350,1.0732421821717684,null,2300,350,0.84620402605868172,null,2300,350,1.0626559790148482,null,2300,350,1.030491353947943]
[null,2300,375,1.0739923712239849,null,2300,375,0.86761048331658186,null,2300,375,1.0638152394874443,null,2300,375,1.0331512599434785]
[null,2300,400,1.0745150539253658,null,2300,400,0.88605305247598687,null,2300,400,1.0647121387332041,null,2300,400,1.0354254376745342]
[null,2300,425,1.0748452148229539,null,2300,425,0.90206093043448754,null,2300,425,1.0653860372082535,null,2300,425,1.0373681256521157]
[null,2300,450,1.0750122456044069,null,2300,450,0.91604460719476966,null,2300,450,1.0658700150213729,null,2300,450,1.0390249538075029]
[null,2300,475,1.0750409325815375,null,2300,475,0.92832792702137146,null,2300,475,1.0661919850094832,null,2300,475,1.0404344989571956]
[null,2300,500,1.0749522510952758,null,2300,500,0.9391701244641727,null,2300,500,1.0663755871038765,null,2300,500,1.0416295235745385]
[null,2400,50,1.0203819461102648,null,2400,50,0.32126894256095301,null,2400,50,0.99741011807996038,null,2400,50,0.92010553697063535]
[null,2400,{"$f":"C1226+10","v":60},1.0253621577649179,null,2400,{"$f":"G1226+10","v":60},0.32379124212163407,null,2400,{"$f":"K1226+10","v":60},1.0032096877319845,null,2400,{"$f":"O1226+10","v":60},0.92905272611622514]
[null,2400,70,1.0299414212018834,null,2400,70,0.32721944370009232,null,2400,70,1.008553789113072,null,2400,70,0.93730053329751695]
[null,2400,80,1.034153645947232,null,2400,80,0.33173304264827719,null,2400,80,1.0134810734029185,null,2400,80,0.94491460465034494]
[null,2400,90,1.0380295743141419,null,2400,90,0.33758140211916221,null,2400,90,1.0180265319725088,null,2400,90,0.95195327361208792]
[null,2400,100,1.0415970841875464,null,2400,100,0.34510133655718239,null,2400,100,1.0222218588346497,null,2400,100,0.95846846888543635]
[null,2400,110,1.0448814688500627,null,2400,110,0.3547331026071448,null,2400,110,1.0260957819205285,null,2400,110,0.96450651050200542]
[null,2400,120,1.0479056927486927,null,2400,120,0.36705521458138463,null,2400,120,1.029674363238213,null,2400,120,0.97010880320345794]
[null,2400,130,1.0506906234935687,null,2400,130,0.38278852328094654,null,2400,130,1.032981269262061,null,2400,130,0.97531243824962466]
[null,2400,140,1.0532552411887779,null,2400,140,0.40263358382904235,null,2400,140,1.0360380135715344,null,2400,140,0.980150714931879]
[null,2400,150,1.0556168266280761,null,2400,150,0.42700835748725247,null,2400,150,1.0388641740489679,null,2400,150,0.9846535923949552]
[null,2400,160,1.0577911300820677,null,2400,160,0.45562342733661565,null,2400,160,1.0414775870113453,null,2400,160,0.98884808133341073]
[null,2400,170,1.0597925224485112,null,2400,170,0.48715672359491868,null,2400,170,1.0438945205863828,null,2400,170,0.9927585839879004]
[null,2400,180,1.0616341304930352,null,2400,180,0.51979175074620598,null,2400,180,1.0461298295075339,null,2400,180,0.9964071897533946]
[null,2400,190,1.0633279578122314,null,2400,190,0.5519190842073447,null,2400,190,1.048197093332363,null,2400,190,0.9998139326881551]
[null,2400,200,1.0648849930296171,null,2400,200,0.58249916745193819,null,2400,200,1.0501087399063305,null,2400,200,1.0029970163051591]
[null,2400,225,1.0682431760100923,null,2400,225,0.64977638019083439,null,2400,225,1.0542794567765632,null,2400,225,1.0100813951245378]
[null,2400,{"$f":"C1242+25","v":250},1.070943226213025,null,2400,{"$f":"G1242+25","v":250},0.70436982472279985,null,2400,{"$f":"K1242+25","v":250},1.0577000402232384,null,2400,{"$f":"O1242+25","v":250},1.0160893889134046]
[null,2400,275,1.0730955902058164,null,2400,275,0.74878297683482942,null,2400,275,1.0604952618633816,null,2400,275,1.021198839757669]
[null,2400,300,1.0747904179890651,null,2400,300,0.78539299983402955,null,2400,300,1.062766924511908,null,2400,300,1.025553564863757]
[null,2400,325,1.0761017214712654,null,2400,325,0.81598457216096409,null,2400,325,1.0645985838617797,null,2400,325,1.0292708292130213]
[null,2400,350,1.0770905935231214,null,2400,350,0.84185480691066727,null,2400,350,1.066059200596442,null,2400,350,1.0324469671050771]
[null,2400,375,1.0778077176637149,null,2400,375,0.86395579758737295,null,2400,375,1.0672059854550915,null,2400,375,1.0351616607549552]
[null,2400,400,1.0782953385130325,null,2400,400,0.88299996588442942,null,2400,400,1.0680866311542789,null,2400,400,1.0374812319991042]
[null,2400,425,1.0785888194616629,null,2400,425,0.8995311114725647,null,2400,425,1.0687410752000712,null,2400,425,1.0394611999775796]
[null,2400,450,1.0787178821185135,null,2400,450,0.91397195780452734,null,2400,450,1.0692029012699344,null,2400,450,1.0411482867159296]
[null,2400,475,1.0787075987245489,null,2400,475,0.92665644068141018,null,2400,475,1.0695004602106348,null,2400,475,1.042582003100607]
[null,2400,500,1.078579191496484,null,2400,500,0.93785209533210501,null,2400,500,1.0696577720727771,null,2400,500,1.0437959128553309]
[null,2500,50,1.0245488608737821,null,2500,50,0.33338596373552648,null,2500,50,1.0006527470924251,null,2500,50,0.92003340326765526]
[null,2500,{"$f":"C1254+10","v":60},1.0295169191655356,null,2500,{"$f":"G1254+10","v":60},0.33578214348679086,null,2500,{"$f":"K1254+10","v":60},1.0064655555421409,null,2500,{"$f":"O1254+10","v":60},0.92912175712835299]
[null,2500,70,1.034086917390149,null,2500,70,0.33905443155065035,null,2500,70,1.0118251479117959,null,2500,70,0.93750536695347519]
[null,2500,80,1.0382919202860852,null,2500,80,0.34336174261214186,null,2500,80,1.0167692800596355,null,2500,80,0.94524924915033215]
[null,2500,90,1.0421620129542257,null,2500,90,0.34892104764610105,null,2500,90,1.0213322531091165,null,2500,90,0.95241141611766156]
[null,2500,100,1.0457245633757475,null,2500,100,0.35602008983344308,null,2500,100,1.0255452313451494,null,2500,100,0.95904368763812653]
[null,2500,110,1.0490044707999846,null,2500,110,0.36502541381962456,null,2500,110,1.0294365390169418,null,2500,110,0.96519241924331367]
[null,2500,120,1.0520243969120624,null,2500,120,0.37640279436504537,null,2500,120,1.0330319336664511,null,2500,120,0.97089914797776511]
[null,2500,130,1.0548049785374278,null,2500,130,0.39072506450772676,null,2500,130,1.036354855525687,null,2500,130,0.97620116064055606]
[null,2500,140,1.0573650218014206,null,2500,140,0.40856580465341624,null,2500,140,1.0394266536531769,null,2500,140,0.98113199161953191]
[null,2500,150,1.0597216783657719,null,2500,150,0.4303020932280901,null,2500,150,1.0422667901048557,null,2500,150,0.98572185802875989]
[null,2500,160,1.0618906047656353,null,2500,160,0.45587199744690737,null,2500,160,1.0448930237454559,null,2500,160,0.98999803969236777]
[null,2500,170,1.0638861060752296,null,2500,170,0.48446303239850275,null,2500,170,1.0473215754235323,null,2500,170,0.99398521097595904]
[null,2500,180,1.0657212652080545,null,2500,180,0.51470552601714226,null,2500,180,1.0495672762332251,null,2500,180,0.99770573076927849]
[null,2500,190,1.0674080591561832,null,2500,190,0.54518764818843146,null,2500,190,1.0516437005178279,null,2500,190,1.0011798961909333]
[null,2500,200,1.0689574634238777,null,2500,200,0.57481031220144174,null,2500,200,1.0535632851652064,null,2500,200,1.004426164880738]
[null,2500,225,1.072293956764157,null,2500,225,0.64159586673241165,null,2500,225,1.0577486500700868,null,2500,225,1.0116515384208915]
[null,2500,{"$f":"C1270+25","v":250},1.0749687315594794,null,2500,{"$f":"G1270+25","v":250},0.69686008981633663,null,2500,{"$f":"K1270+25","v":250},1.0611768857459294,null,2500,{"$f":"O1270+25","v":250},1.0177790239014441]
[null,2500,275,1.0770925437254457,null,2500,275,0.74221363887237146,null,2500,275,1.0639734154472928,null,2500,275,1.0229894973463816]
[null,2500,300,1.0787559238569902,null,2500,300,0.77975314644114335,null,2500,300,1.0662407432331087,null,2500,300,1.0274293825444405]
[null,2500,325,1.0800332824747281,null,2500,325,0.81118708309995669,null,2500,325,1.0680631173223767,null,2500,325,1.0312181710867312]
[null,2500,350,1.0809861000093655,null,2500,350,0.83779983567076,null,2500,350,1.0695101514906027,null,2500,350,1.0344540950498586]
[null,2500,375,1.0816654215202248,null,2500,375,0.86054981775631445,null,2500,375,1.0706396555837585,null,2500,375,1.037218453812897]
[null,2500,400,1.0821138203870877,null,2500,400,0.88016058682207443,null,2500,400,1.0714998622500365,null,2500,400,1.0395789486095395]
[null,2500,425,1.0823669539371767,null,2500,425,0.89718730074846387,null,2500,425,1.072131189855752,null,2500,425,1.0415922771536774]
[null,2500,450,1.082454803491153,null,2500,450,0.91206288085529252,null,2500,450,1.072567646829284,null,2500,450,1.0433061705665414]
[null,2500,475,1.0824026687779034,null,2500,475,0.92513001359091251,null,2500,475,1.0728379570277478,null,2500,475,1.0447610057201853]
[null,2500,500,1.0822319699469634,null,2500,500,0.93666361511334129,null,2500,500,1.0729664666918892,null,2500,500,1.0459910913011059]
[null,2600,50,1.0289448800423295,null,2600,50,0.34545014607549634,null,2600,50,1.0041437523825476,null,2600,50,0.92025275078088742]
[null,2600,{"$f":"C1282+10","v":60},1.033885533103897,null,2600,{"$f":"G1282+10","v":60},0.34771951368184389,null,2600,{"$f":"K1282+10","v":60},1.0099526550063382,null,2600,{"$f":"O1282+10","v":60},0.9294586107176801]
[null,2600,70,1.0384323387632473,null,2600,70,0.35083835688529541,null,2600,70,1.0153120938397804,null,2600,70,0.937957100115971]
[null,2600,80,1.0426173782400663,null,2600,80,0.35494800559711115,null,2600,80,1.0202587736616144,null,2600,80,0.94581219575655073]
[null,2600,90,1.0464699563084221,null,2600,90,0.36023843898138269,null,2600,90,1.0248261679465527,null,2600,90,0.95308125207356165]
[null,2600,100,1.0500168220652986,null,2600,100,0.36695765728660873,null,2600,100,1.0290447898507922,null,2600,100,0.95981570162751062]
[null,2600,110,1.0532823843657113,null,2600,110,0.37541488856384364,null,2600,110,1.0329424524859405,null,2600,110,0.96606170432459226]
[null,2600,120,1.0562889169402949,null,2600,120,0.38599181813379774,null,2600,120,1.0365445136394003,null,2600,120,0.97186073647805815]
[null,2600,130,1.0590567504664998,null,2600,130,0.39915073290761166,null,2600,130,1.0398741026458496,null,2600,130,0.97725011828119945]
[null,2600,140,1.0616044503493522,null,2600,140,0.41536598726823887,null,2600,140,1.0429523286986788,null,2600,140,0.98226348224654414]
[null,2600,150,1.0639489799260173,null,2600,150,0.43497067021959218,null,2600,150,1.0457984708518619,null,2600,150,0.98693118710979466]
[null,2600,160,1.0661058494090359,null,2600,160,0.45799954871633541,null,2600,160,1.0484301505228795,null,2600,160,0.99128068246651091]
[null,2600,170,1.0680892512425033,null,2600,170,0.48396983564577811,null,2600,170,1.0508634876099712,null,2600,170,0.9953368295217655]
[null,2600,180,1.0699121827437459,null,2600,180,0.5118811154983165,null,2600,180,1.0531132414762245,null,2600,180,0.99912218309476741]
[null,2600,190,1.0715865569951897,null,2600,190,0.54056135613638423,null,2600,190,1.0551929380900573,null,2600,190,1.0026572396120121]
[null,2600,200,1.0731233029746146,null,2600,200,0.56896854759804227,null,2600,200,1.0571149845865868,null,2600,200,1.0059606553477973]
[null,2600,225,1.0764269195102645,null,2600,225,0.63464222547812787,null,2600,225,1.061302888230385,null,2600,225,1.0133137830759054]
[null,2600,{"$f":"C1298+25","v":250},1.0790669035729485,null,2600,{"$f":"G1298+25","v":250},0.69018331891957185,null,2600,{"$f":"K1298+25","v":250},1.0647285732099028,null,2600,{"$f":"O1298+25","v":250},1.0195497039490031]
[null,2600,275,1.0811540157609238,null,2600,275,0.73624721719023711,null,2600,275,1.0675177569951702,null,2600,275,1.0248518768018868]
[null,2600,300,1.0827789281344722,null,2600,300,0.77457496423500372,null,2600,300,1.069773364238505,null,2600,300,1.0293689929693159]
[null,2600,325,1.0840162600885246,null,2600,325,0.80675823361689758,null,2600,325,1.0715801134689893,null,2600,325,1.0332225113705105]
[null,2600,350,1.0849277275560378,null,2600,350,0.83404831470478447,null,2600,350,1.0730080941972997,null,2600,350,1.0365123605124107]
[null,2600,375,1.0855646141565172,null,2600,375,0.85739930414130217,null,2600,375,1.0741155727425167,null,2600,375,1.0393212984566096]
[null,2600,400,1.0859697217299229,null,2600,400,0.87753997797507666,null,2600,400,1.0749512061438427,null,2600,400,1.0417182795898081]
[null,2600,425,1.0861789191071942,null,2600,425,0.89503334751414099,null,2600,425,1.075555799389925,null,2600,425,1.0437610785556533]
[null,2600,450,1.0862223790918333,null,2600,450,0.91032033726637851,null,2600,450,1.0759637082961631,null,2600,450,1.0454983529457851]
[null,2600,475,1.08612557205973,null,2600,475,0.9237509431896167,null,2600,475,1.0762039658269915,null,2600,475,1.0469712778699298]
[null,2600,500,1.0859100684541734,null,2600,500,0.93560647741318659,null,2600,500,1.0763011913211451,null,2600,500,1.0482148509912199]
[null,2700,50,1.0335627403836973,null,2700,50,0.35746341792675768,null,2700,50,1.0078762299232613,null,2700,50,0.92076100267407068]
[null,2700,{"$f":"C1310+10","v":60},1.0384614467849085,null,2700,{"$f":"G1310+10","v":60},0.35960525691255596,null,2700,{"$f":"K1310+10","v":60},1.0136648739253877,null,2700,{"$f":"O1310+10","v":60},0.93006103360698822]
[null,2700,70,1.0429717455157659,null,2700,70,0.36257266038999664,null,2700,70,1.0190091950982134,null,2700,70,0.9386537288145802]
[null,2700,80,1.0471246125505687,null,2700,80,0.36649180836931811,null,2700,80,1.0239447089040297,null,2700,80,0.94660163740459424]
[null,2700,90,1.0509484627543906,null,2700,90,0.37152994814510604,null,2700,90,1.0285039382122863,null,2700,90,0.95396113372215419]
[null,2700,100,1.0544693281985562,null,2700,100,0.37790242275829755,null,2700,100,1.0327166356459101,null,2700,100,0.96078299494464459]
[null,2700,110,1.0577110397243152,null,2700,110,0.38587295910540637,null,2700,110,1.03661000574236,null,2700,110,0.96711296125845914]
[null,2700,120,1.0606954050154325,null,2700,120,0.3957589833043183,null,2700,120,1.0402089196504354,null,2700,120,0.97299226014623419]
[null,2700,130,1.0634423790465206,null,2700,130,0.40793869752505035,null,2700,130,1.0435361182270571,null,2700,130,0.97845808655847033]
[null,2700,140,1.0659702245462948,null,2700,140,0.42280731759101253,null,2700,140,1.0466124014285427,null,2700,140,0.98354403668756829]
[null,2700,150,1.0682956613051235,null,2700,150,0.44065873770938813,null,2700,150,1.0494568031855565,null,2700,150,0.98828049638872772]
[null,2700,160,1.0704340039420173,null,2700,160,0.4615660128245071,null,2700,160,1.0520867517600381,null,2700,160,0.99269498703821912]
[null,2700,170,1.0723992882523268,null,2700,170,0.48524476992176124,null,2700,170,1.0545182160719706,null,2700,170,0.99681247242352]
[null,2700,180,1.0742043865715958,null,2700,180,0.51098172726212765,null,2700,180,1.0567658387639927,null,2700,180,1.0006556305135306]
[null,2700,190,1.0758611127743696,null,2700,190,0.53783239557475082,null,2700,190,1.0588430569158325,null,2700,190,1.0042450939000906]
[null,2700,200,1.0773803176220598,null,2700,200,0.56486953981719379,null,2700,200,1.0607622113770698,null,2700,200,1.0075996624797017]
[null,2700,225,1.0806401816686133,null,2700,225,0.62892401822756638,null,2700,225,1.06494079673808,null,2700,225,1.0150674011716316]
[null,2700,{"$f":"C1326+25","v":250},1.083236113832059,null,2700,{"$f":"G1326+25","v":250},0.68436452864569264,null,2700,{"$f":"K1326+25","v":250},1.0683539215369677,null,2700,{"$f":"O1326+25","v":250},1.0214007841776245]
[null,2700,275,1.0852785877280238,null,2700,275,0.73090464442043701,null,2700,275,1.0711272562765048,null,2700,275,1.0267854048756819]
[null,2700,300,1.0868581872498808,null,2700,300,0.76987371093610557,null,2700,300,1.0733638768801257,null,2700,300,1.0313718851275757]
[null,2700,325,1.0880495580119516,null,2700,325,0.80270897802084396,null,2700,325,1.0751487579693015,null,2700,325,1.035283393412237]
[null,2700,350,1.0889145047691227,null,2700,350,0.83060821030202225,null,2700,350,1.0765522931484099,null,2700,350,1.0386213545065173]
[null,2700,375,1.0895044308668485,null,2700,375,0.85451015489623694,null,2700,375,1.0776330667091369,null,2700,375,1.0414698276315111]
[null,2700,400,1.0898622695450375,null,2700,400,0.87514257973690313,null,2700,400,1.0784400475654154,null,2700,400,1.0438988948733035]
[null,2700,425,1.0900240212665062,null,2700,425,0.89307264135079278,null,2700,425,1.0790143353290877,null,2700,425,1.0459673068226536]
[null,2700,450,1.0900199841347447,null,2700,450,0.90874694285240609,null,2700,450,1.0793905575148812,null,2700,450,1.0477245654752168]
[null,2700,475,1.0898757439816771,null,2700,475,0.92252126479465046,null,2700,475,1.0795979935605424,null,2700,475,1.0492125769061358]
[null,2700,500,1.0896129752470678,null,2700,500,0.93468227508874446,null,2700,500,1.0796614837819094,null,2700,500,1.0504669721761248]
[null,2800,50,1.0383950157714152,null,2800,50,0.36942757616165517,null,2800,50,1.0118429206404937,null,2800,50,0.92155472248049786]
[null,2800,{"$f":"C1338+10","v":60},1.0432379652371253,null,2800,{"$f":"G1338+10","v":60},0.37144115927501531,null,2800,{"$f":"K1338+10","v":60},1.0175957688558663,null,2800,{"$f":"O1338+10","v":60},0.93092605028808761]
[null,2800,70,1.0476990741655057,null,2800,70,0.37425875719745089,null,2800,70,1.0229107126680286,null,2800,70,0.93959263791923964]
[null,2800,80,1.0518081086158197,null,2800,80,0.37799339973682283,null,2800,80,1.0278219570559457,null,2800,80,0.94761524631041716]
[null,2800,90,1.0555924976482625,null,2800,90,0.38279300881962974,null,2800,90,1.03236096541042,null,2800,90,0.95504896677445683]
[null,2800,100,1.0590774692027998,null,2800,100,0.38884575532826826,null,2800,100,1.0365566321385553,null,2800,100,0.96194366645404983]
[null,2800,110,1.0622861974357205,null,2800,110,0.39637860363961352,null,2800,110,1.0404354655909698,null,2800,110,0.96834445135104397]
[null,2800,120,1.0652399531907535,null,2800,120,0.40565882127563113,null,2800,120,1.0440217716707516,null,2800,120,0.97429211896790568]
[null,2800,130,1.0679582521761084,null,2800,130,0.41699957238290153,null,2800,130,1.0473378321793048,null,2800,130,0.97982358545508652]
[null,2800,140,1.0704589974370882,null,2800,140,0.43073217468176528,null,2800,140,1.0504040744082592,null,2800,140,0.98497228000119197]
[null,2800,150,1.0727586141087873,null,2800,150,0.44711618424189203,null,2800,150,1.0532392301033831,null,2800,150,0.98976850390020277]
[null,2800,160,1.0748721753866,null,2800,160,0.46623940542230974,null,2800,160,1.0558604829797225,null,2800,160,0.99423975446284807]
[null,2800,170,1.0768135192939676,null,2800,170,0.48793141276922114,null,2800,170,1.0582836046418687,null,2800,170,0.99841101545346278]
[null,2800,180,1.0785953562498471,null,2800,180,0.51168956554789846,null,2800,180,1.0605230791841238,null,2800,180,1.0023050164994687]
[null,2800,190,1.0802293677087806,null,2800,190,0.5367677702498761,null,2800,190,1.0625922169967095,null,2800,190,1.0059424642340151]
[null,2800,200,1.0817262963111511,null,2800,200,0.56236914861046972,null,2800,200,1.0645032584430443,null,2800,200,1.009342247978815]
[null,2800,225,1.0849318501510705,null,2800,225,0.62442174672489204,null,2800,225,1.0686609432315681,null,2800,225,1.0169115771003803]
[null,2800,{"$f":"C1354+25","v":250},1.0874747281400952,null,2800,{"$f":"G1354+25","v":250},0.67941543026664519,null,2800,{"$f":"K1354+25","v":250},1.0720517094558513,null,2800,{"$f":"O1354+25","v":250},1.0233315506602647]
[null,2800,275,1.0894648387338379,null,2800,275,0.72620048651792779,null,2800,275,1.0748008566498417,null,2800,275,1.0287894532138111]
[null,2800,300,1.0909924578639572,null,2800,300,0.76566122505428702,null,2800,300,1.0770113548059019,null,2800,300,1.0334375034988061]
[null,2800,325,1.0921320820337488,null,2800,325,0.79904821326518904,null,2800,325,1.0787682290638632,null,2800,325,1.0374003242154548]
[null,2800,350,1.0929454636909874,null,2800,350,0.82748614297098155,null,2800,350,1.0801420117125839,null,2800,350,1.0407806380725422]
[null,2800,375,1.0934840113454738,null,2800,375,0.85188733696349817,null,2800,375,1.0811914710586621,null,2800,375,1.0436636493363818]
[null,2800,400,1.0937906959098185,null,2800,400,0.87297216350055007,null,2800,400,1.0819657787217039,null,2800,400,1.0461204434535858]
[null,2800,425,1.0939015722378156,null,2800,425,0.89130807868315787,null,2800,425,1.0825062394301881,null,2800,425,1.0482106468777348]
[null,2800,450,1.0938469996487745,null,2800,450,0.90734494320592141,null,2800,450,1.0828476785860057,null,2800,450,1.049984524676532]
[null,2800,475,1.0936526259296027,null,2800,475,0.9214427320859262,null,2800,475,1.0830195608918525,null,2800,475,1.0514846472255899]
[null,2800,500,1.093340184591618,null,2800,500,0.93389238466196156,null,2800,500,1.0830468966142397,null,2800,500,1.0527472239110538]
[null,2900,50,1.0434341681778212,null,2900,50,0.38134429910954853,null,2900,50,1.0160362979427808,null,2900,50,0.92262967343804925]
[null,2900,{"$f":"C1366+10","v":60},1.0482082940760447,null,2900,{"$f":"G1366+10","v":60},0.38322889813040939,null,2900,{"$f":"K1366+10","v":60},1.0217386408712339,null,2900,{"$f":"O1366+10","v":60},0.93205001051396275]
[null,2900,70,1.0526081736723889,null,2900,70,0.38589802557972869,null,2900,70,1.0270106656329365,null,2900,70,0.94077063989980347]
[null,2900,80,1.0566622751978283,null,2900,80,0.38945321884147543,null,2900,80,1.0318851620732477,null,2900,80,0.94885020613418991]
[null,2900,90,1.0603969595844835,null,2900,90,0.3940258314700289,null,2900,90,1.0363924388483612,null,2900,90,0.95634223747919367]
[null,2900,100,1.0638365745645972,null,2900,100,0.39978117798317092,null,2900,100,1.0405604458090914,null,2900,100,0.96329545284618678]
[null,2900,110,1.067003567938142,null,2900,110,0.40691606932273189,null,2900,110,1.0444149170305013,null,2900,110,0.96975412152982954]
[null,2900,120,1.0699186102947451,null,2900,120,0.41565788671122023,null,2900,120,1.0479795226113668,null,2900,120,0.97575843866987144]
[null,2900,130,1.0726007205945651,null,2900,130,0.42626869972469345,null,2900,130,1.051276021555523,null,2900,130,0.98134489457162555]
[null,2900,140,1.0750673902327135,null,2900,140,0.43902781740011948,null,2900,140,1.0543244108908867,null,2900,140,0.98654662563138973]
[null,2900,150,1.0773347027810971,null,2900,150,0.45416433806607975,null,2900,150,1.0571430681023548,null,2900,150,0.99139374062504582]
[null,2900,160,1.0794174477018643,null,2900,160,0.47177144373521451,null,2900,160,1.0597488852424044,null,2900,160,0.99591361981818016]
[null,2900,170,1.0813292270902932,null,2900,170,0.49174412511101467,null,2900,170,1.0621573939380722,null,2900,170,1.0001311865794287]
[null,2900,180,1.0830825550279888,null,2900,180,0.51372594385618087,null,2900,180,1.0643828810722664,null,2900,180,1.0040691524625014]
[null,2900,190,1.0846889494789473,null,2900,190,0.53713585339175463,null,2900,190,1.0664384952752306,null,2900,190,1.0077482374202582]
[null,2900,200,1.0861590168914572,null,2900,200,0.56130246389734784,null,2900,200,1.0683363445830323,null,2900,200,1.0111873671319818]
[null,2900,225,1.0893000256685412,null,2900,225,0.62109211862819003,null,2900,225,1.0724618406064517,null,2900,225,1.0188454127335513]
[null,2900,{"$f":"C1382+25","v":250},1.0917811096660412,null,2900,{"$f":"G1382+25","v":250},0.67533451614076379,null,2900,{"$f":"K1382+25","v":250},1.0758206765132114,null,2900,{"$f":"O1382+25","v":250},1.0253412244926861]
[null,2900,275,1.0937113478539024,null,2900,275,0.72214257096639634,null,2900,275,1.0785374746777043,null,2900,275,1.0308633416032795]
[null,2900,300,1.0951804985015781,null,2900,300,0.76194567140786973,null,2900,300,1.0807148546563183,null,2900,300,1.03556525066988]
[null,2900,325,1.0962627411788142,null,2900,325,0.79578263238321212,null,2900,325,1.0824376956747843,null,2900,325,1.0395727765696869]
[null,2900,350,1.0970196405810528,null,2900,350,0.82468730098433041,null,2900,350,1.0837765099445611,null,2900,350,1.042989744027355]
[null,2900,375,1.0975025001904586,null,2900,375,0.84953483144434394,null,2900,375,1.0847901207114428,null,2900,375,1.0459023480728937]
[null,2900,400,1.0977542382698975,null,2900,400,0.87103179454600432,null,2900,400,1.0855277967526662,null,2900,400,1.0483825545944523]
[null,2900,425,1.0978108895078964,null,2900,425,0.88974203595474843,null,2900,425,1.0860309611188248,null,2900,425,1.0504907669454209]
[null,2900,450,1.0977028124946633,null,2900,450,0.90611619333728433,null,2900,450,1.0863345653375558,null,2900,450,1.052277932833096]
[null,2900,475,1.0974556651918324,null,2900,475,0.92051680106539091,null,2900,475,1.0864681997334065,null,2900,475,1.0537872209997063]
[null,2900,500,1.0970911966533563,null,2900,500,0.93323795331796133,null,2900,500,1.086456994702788,null,2900,500,1.0550553646854022]
[null,3000,50,1.0486725955835841,null,3000,50,0.39321515784418692,null,3000,50,1.0204486470954237,null,3000,50,0.92398088492778585]
[null,3000,{"$f":"C1394+10","v":60},1.0533655797223394,null,3000,{"$f":"G1394+10","v":60},0.39497005075370079,null,3000,{"$f":"K1394+10","v":60},1.0260866051415396,null,3000,{"$f":"O1394+10","v":60},0.93342864214470478]
[null,3000,70,1.0576928394243301,null,3000,70,0.3974918000958394,null,3000,70,1.0313028919437726,null,3000,70,0.94218401763025428]
[null,3000,80,1.0616814733218118,null,3000,80,0.40087183685062572,null,3000,80,1.0361287934658991,null,3000,80,0.95030324721221715]
[null,3000,90,1.0653567051122814,null,3000,90,0.40522720151600966,null,3000,90,1.0405933814659265,null,3000,90,0.9578380420307977]
[null,3000,100,1.0687419370796936,null,3000,100,0.41070379663614714,null,3000,100,1.0447235857978159,null,3000,100,0.9648357534827352]
[null,3000,110,1.0718588299033327,null,3000,110,0.41747337592495848,null,3000,110,1.0485442973311907,null,3000,110,0.97133962555333708]
[null,3000,120,1.0747273978518153,null,3000,120,0.42573108205332727,null,3000,120,1.0520784875553881,null,3000,120,0.97738908898847587]
[null,3000,130,1.0773661117411624,null,3000,130,0.4356982608687302,null,3000,130,1.0553473355373992,null,3000,130,0.9830200689827796]
[null,3000,140,1.0797920044131344,null,3000,140,0.44761161455573573,null,3000,140,1.0583703560916968,null,3000,140,0.98826528926190138]
[null,3000,150,1.0820207752022162,null,3000,150,0.46167301693174057,null,3000,150,1.0611655252178767,null,3000,150,0.99315456266572344]
[null,3000,160,1.0840668910850806,null,3000,160,0.47797668197357374,null,3000,160,1.0637494003691537,null,3000,160,0.99771506295883738]
[null,3000,170,1.0859436830767715,null,3000,170,0.49645715393582862,null,3000,170,1.066137234141417,null,3000,170,1.0019715755060781]
[null,3000,180,1.0876634370504727,null,3000,180,0.51685581032284955,null,3000,180,1.0683430806656846,null,3000,180,1.0059467262487352]
[null,3000,190,1.0892374785836811,null,3000,190,0.53872278778296623,null,3000,190,1.0703798944487206,null,3000,190,1.0096611894923697]
[null,3000,200,1.0906762517250919,null,3000,200,0.56149983091947187,null,3000,200,1.0722596217086364,null,3000,200,1.0131338756269608]
[null,3000,225,1.0937428068467323,null,3000,225,0.61887355287320334,null,3000,225,1.0763419511351158,null,3000,225,1.020867932681284]
[null,3000,{"$f":"C1410+25","v":250},1.0961536219655714,null,3000,{"$f":"G1410+25","v":250},0.67210804552102199,null,3000,{"$f":"K1410+25","v":250},1.0796595250475487,null,3000,{"$f":"O1410+25","v":250},1.0274289659152207]
[null,3000,275,1.0980166963401541,null,3000,275,0.71873194504784099,null,3000,275,1.0823360006269029,null,3000,275,1.0330063412451225]
[null,3000,300,1.0994210711504071,null,3000,300,0.75873140523583626,null,3000,300,1.0844734155635485,null,3000,300,1.0377544899644462]
[null,3000,325,1.1004404488471573,null,3000,325,0.79291662854640654,null,3000,325,1.0861563162360648,null,3000,325,1.041800191184989]
[null,3000,350,1.1011360767063159,null,3000,350,0.82221538012659234,null,3000,350,1.0874550429807801,null,3000,350,1.0452481787135859]
[null,3000,375,1.1015590474293786,null,3000,375,0.847455594583997,null,3000,375,1.0884283500589331,null,3000,375,1.0481854862916282]
[null,3000,400,1.1017521397633658,null,3000,400,0.86932380507923712,null,3000,400,1.0891255017033203,null,3000,400,1.0506848390349546]
[null,3000,425,1.1017512963986555,null,3000,425,0.88837634976084967,null,3000,425,1.0895879553889882,null,3000,425,1.0528073195634424]
[null,3000,450,1.1015868154199968,null,3000,450,0.90506214225092119,null,3000,450,1.0898507192092055,null,3000,450,1.0546044788453914]
[null,3000,475,1.1012843149266527,null,3000,475,0.91974461760892334,null,3000,475,1.0899434511545383,null,3000,475,1.0561200189025954]
[null,3000,500,1.1008655173994866,null,3000,500,0.9327198885726008,null,3000,500,1.0898913532347518,null,3000,500,1.0573911430462337]
[null,3100,50,1.0541026765103458,null,3100,50,0.40504162608070149,null,3100,50,1.0250721359672899,null,3100,50,0.92560272437562818]
[null,3100,{"$f":"C1422+10","v":60},1.0587029468677112,null,3100,{"$f":"G1422+10","v":60},0.406666102259514,null,3100,{"$f":"K1422+10","v":60},1.0306326536775241,null,3100,{"$f":"O1422+10","v":60},0.93505710818825827]
[null,3100,70,1.0629468449414596,null,3100,70,0.40904136775737993,null,3100,70,1.0357811038681697,null,3100,70,0.94382857039856416]
[null,3100,80,1.0668600432592601,null,3100,80,0.41224991492383128,null,3100,80,1.0405471951199501,null,3100,80,0.95197068423521525]
[null,3100,90,1.0704665718267312,null,3100,90,0.41639633388361952,null,3100,90,1.0449586926638961,null,3100,90,0.95953311784554152]
[null,3100,100,1.0737888327144467,null,3100,100,0.42160989870600191,null,3100,100,1.0490414413415474,null,3100,100,0.96656165667110749]
[null,3100,110,1.0768476473998685,null,3100,110,0.42804130241161653,null,3100,110,1.0528194286448505,null,3100,110,0.97309834631695091]
[null,3100,120,1.0796623249762971,null,3100,120,0.43585925477341747,null,3100,120,1.0563148720675273,null,3100,120,0.97918170278089567]
[null,3100,130,1.0822507427281962,null,3100,130,0.4452522091282522,null,3100,130,1.0595483199285038,null,3100,130,0.98484695574351599]
[null,3100,140,1.0846294330642972,null,3100,140,0.45642174683863757,null,3100,140,1.0625387583063992,null,3100,140,0.99012630317284311]
[null,3100,150,1.0868136726239972,null,3100,150,0.46954540729039423,null,3100,150,1.0653037191663546,null,3100,150,0.99504916381062014]
[null,3100,160,1.0888175707006205,null,3100,160,0.48471581844851586,null,3100,160,1.0678593864672445,null,3100,160,0.99964241957206823]
[null,3100,170,1.0906541550863114,null,3100,170,0.50189347801614359,null,3100,170,1.0702206982240137,null,3100,170,1.0039306434519699]
[null,3100,180,1.0923354541342198,null,3100,180,0.52088484503095456,null,3100,180,1.0724014433199649,null,3100,180,1.0079363108216473]
[null,3100,190,1.093872574325963,null,3100,190,0.54133984237710464,null,3100,190,1.0744143524258434,null,3100,190,1.0116799934503837]
[null,3100,200,1.0952757729794447,null,3100,200,0.5627983288341869,null,3100,200,1.0762711827633531,null,3100,200,1.0151805364766704]
[null,3100,225,1.0982582941294259,null,3100,225,0.61769189416527781,null,3100,225,1.080299691346694,null,3100,225,1.0229780896065359]
[null,3100,{"$f":"C1438+25","v":250},1.1005906318631078,null,3100,{"$f":"G1438+25","v":250},0.66971170654992873,null,3100,{"$f":"K1438+25","v":250},1.0835669229202727,null,3100,{"$f":"O1438+25","v":250},1.0295938784594405]
[null,3100,275,1.1023794697427007,null,3100,275,0.7159631648863628,null,3100,275,1.0861952996895698,null,3100,275,1.0352176780359683]
[null,3100,300,1.1037129428110894,null,3100,300,0.75601896782105871,null,3100,300,1.0882860593198258,null,3100,300,1.0400045480718711]
[null,3100,325,1.1046641239312867,null,3100,325,0.79045225583457135,null,3100,325,1.0899232381365638,null,3100,325,1.0440819788211093]
[null,3100,350,1.105293819129324,null,3100,350,0.82007255200006834,null,3100,350,1.0911768599911826,null,3100,350,1.04755542374105]
[null,3100,375,1.1056528090557494,null,3100,375,0.84565153527146386,null,3100,375,1.0921054915920907,null,3100,375,1.0505126058292318]
[null,3100,400,1.105783649564829,null,3100,400,0.86784977779233563,null,3100,400,1.0927582949488526,null,3100,400,1.0530268901853113]
[null,3100,425,1.1057221222640923,null,3100,425,0.88721230410462837,null,3100,425,1.0931766811107617,null,3100,425,1.0551599425855771]
[null,3100,450,1.1054984071439253,null,3100,450,0.9041838225468668,null,3100,450,1.0933956475037736,null,3100,450,1.0569638390780023]
[null,3100,475,1.105138034161766,null,3100,475,0.9191270086672807,null,3100,475,1.0934448636200564,null,3100,475,1.0584827508312304]
[null,3100,500,1.1046626585339994,null,3100,500,0.93233885064969035,null,3100,500,1.0933495559560189,null,3100,500,1.0597542982144741]
[null,3200,50,1.0597168109485025,null,3200,50,0.41682508888996855,null,3200,50,1.0298988771649302,null,3200,50,0.9274889729121194]
[null,3200,{"$f":"C1450+10","v":60},1.0642135330306191,null,3200,{"$f":"G1450+10","v":60},0.41831845283628949,null,3200,{"$f":"K1450+10","v":60},1.0353697110254465,null,3200,{"$f":"O1450+10","v":60},0.93693006682912727]
[null,3200,70,1.0683639711897186,null,3200,70,0.42054796624199159,null,3200,70,1.0404389377575336,null,3200,70,0.94569966225075375]
[null,3200,80,1.0721923295187596,null,3200,80,0.42358817367112839,null,3200,80,1.0451346296100781,null,3200,80,0.95384845573083576]
[null,3200,90,1.0757213997805875,null,3200,90,0.42753276663139156,null,3200,90,1.0494831876152895,null,3200,90,0.96142387622335546]
[null,3200,100,1.0789725390394538,null,3200,100,0.43249666519285124,null,3200,100,1.0535093165214264,null,3200,100,0.96846996699895505]
[null,3200,110,1.0819656858344229,null,3200,110,0.43861268260008329,null,3200,110,1.057236048610523,null,3200,110,0.97502741896748091]
[null,3200,120,1.0847194022155859,null,3200,120,0.44602758043329283,null,3200,120,1.0606847990592341,null,3200,120,0.98113369575222509]
[null,3200,130,1.0872509324073063,null,3200,130,0.45490291866745375,null,3200,130,1.063875440657448,null,3200,130,0.98682321086316727]
[null,3200,140,1.0895762714309967,null,3200,140,0.46541114701432118,null,3200,140,1.0668263894051833,null,3200,140,0.99212753095200312]
[null,3200,150,1.0917102389265638,null,3200,150,0.47770813787602895,null,3200,150,1.069554695155756,null,3200,150,0.99707558836622046]
[null,3200,160,1.0936665548204643,null,3200,160,0.49188307769445078,null,3200,160,1.072076133355137,null,3200,160,1.0016938924348775]
[null,3200,170,1.0954579145241896,null,3200,170,0.50791475642075634,null,3200,170,1.0744052952591403,null,3200,170,1.0060067330739595]
[null,3200,180,1.097096062104449,null,3200,180,0.52565417589768426,null,3200,180,1.0765556749478953,null,3200,180,1.0100363730542354]
[null,3200,190,1.0985918604166087,null,3200,190,0.54482479683141227,null,3200,190,1.0785397521135711,null,3200,190,1.0138032270809709]
[null,3200,200,1.0999553575896253,null,3200,200,0.56504854008365302,null,3200,200,1.0803690700534854,null,3200,200,1.0173260270009172]
[null,3200,225,1.1028445934546365,null,3200,225,0.61746566595105268,null,3200,225,1.0843334374389164,null,3200,225,1.0251747695593443]
[null,3200,{"$f":"C1466+25","v":250},1.105090512181002,null,3200,{"$f":"G1466+25","v":250},0.66811265488614979,null,3200,{"$f":"K1466+25","v":250},1.087541506820616,null,3200,{"$f":"O1466+25","v":250},1.0318350130958445]
[null,3200,275,1.1067982599322634,null,3200,275,0.71382487244875081,null,3200,275,1.0901142137768254,null,3200,275,1.0374965358411101]
[null,3200,300,1.1080548869867695,null,3200,300,0.75380521526311084,null,3200,300,1.092151791094377,null,3200,300,1.0423147176633385]
[null,3200,325,1.1089326919007516,null,3200,325,0.78838925001034699,null,3200,325,1.0937375976763566,null,3200,325,1.046417522402229]
[null,3200,350,1.1094919214832504,null,3200,350,0.81825946238631897,null,3200,350,1.094941203604874,null,3200,350,1.0499109377136409]
[null,3200,375,1.1097829475667407,null,3200,375,0.84412350958313043,null,3200,375,1.0958208749634668,null,3200,375,1.0528832293316588]
[null,3200,400,1.1098480232406971,null,3200,400,0.86661054008630423,null,3200,400,1.0964255780146537,null,3200,400,1.0554082853098707]
[null,3200,425,1.1097227027053347,null,3200,425,0.88625062481061212,null,3200,425,1.0967965996965929,null,3200,425,1.0575482601726374]
[null,3200,450,1.1094369924645233,null,3200,450,0.90348184504827722,null,3200,450,1.0969688619637799,null,3200,450,1.0593556781958486]
[null,3200,475,1.1090162878192462,null,3200,475,0.91866447711174182,null,3200,475,1.0969719915233638,null,3200,475,1.0608751166159105]
[null,3200,500,1.1084821374599441,null,3200,500,0.93209524756581075,null,3200,500,1.0968311936941029,null,3200,500,1.0621445606923841]
[null,3300,50,1.0655074575155776,null,3300,50,0.42856685040204429,null,3300,50,1.0349209819097456,null,3300,50,0.92963290309253066]
[null,3300,{"$f":"C1478+10","v":60},1.0698905200899536,null,3300,{"$f":"G1478+10","v":60},0.4299284243337283,null,3300,{"$f":"K1478+10","v":60},1.0402906830274898,null,3300,{"$f":"O1478+10","v":60},0.93904173323499796]
[null,3300,70,1.0739380334298008,null,3300,70,0.43201278349222622,null,3300,70,1.0452699980666422,null,3300,70,0.94779227179324843]
[null,3300,80,1.077672703796726,null,3300,80,0.43488737083270607,null,3300,80,1.0498853178107941,null,3300,80,0.95593216470581555]
[null,3300,90,1.0811160511864786,null,3300,90,0.43863628215300715,null,3300,90,1.0541616327823966,null,3300,90,0.96350643591281404]
[null,3300,100,1.084288352216104,null,3300,100,0.44336196054660237,null,3300,100,1.058122461992461,null,3300,100,0.97055723336147715]
[null,3300,110,1.0872086266586074,null,3300,110,0.44918190456052942,null,3300,110,1.0617898385980922,null,3300,110,0.97712375454258316]
[null,3300,120,1.0898946543338939,null,3300,120,0.45622444635891535,null,3300,120,1.0651843338412741,null,3300,120,0.98324228657561596]
[null,3300,130,1.0923630125225599,null,3300,130,0.46462891095008541,null,3300,130,1.0683251059246734,null,3300,130,0.98894631657033116]
[null,3300,140,1.0946291266799211,null,3300,140,0.47454343032496454,null,3300,140,1.0712299643462582,null,3300,140,0.99426668241822935]
[null,3300,150,1.0967073291902558,null,3300,150,0.4861046736882772,null,3300,150,1.0739154430231903,null,3300,150,0.99923174414114568]
[null,3300,160,1.0986109223703817,null,3300,160,0.49939705985058214,null,3300,160,1.0763968775643769,null,3300,160,1.0038675627771301]
[null,3300,170,1.1003522430266424,null,3300,170,0.51441274341290077,null,3300,170,1.078688483509767,null,3300,170,1.0081980784649598]
[null,3300,180,1.1019427266818189,null,3300,180,0.53103480237970402,null,3300,180,1.080803433398642,null,3300,180,1.0122452825660651]
[null,3300,190,1.1033929701881346,null,3300,190,0.54904031784003227,null,3300,190,1.0827539312729977,null,3300,190,1.0160293808027512]
[null,3300,200,1.1047127918825057,null,3300,200,0.56811749758000352,null,3300,200,1.0845512837491589,null,3300,200,1.0195689458185651]
[null,3300,225,1.1074998196945982,null,3300,225,0.61811052817880319,null,3300,225,1.0884415310240867,null,3300,225,1.0274567972995512]
[null,3300,{"$f":"C1494+25","v":250},1.1096516443063327,null,3300,{"$f":"G1494+25","v":250},0.66727164250812332,null,3300,{"$f":"K1494+25","v":250},1.0915818859832584,null,3300,{"$f":"O1494+25","v":250},1.0341513723606095]
[null,3300,275,1.1112716670137701,null,3300,275,0.71230058376873906,null,3300,275,1.0940915637534345,null,3300,275,1.0398420597435518]
[null,3300,300,1.1124456851026696,null,3300,300,0.75208356957320111,null,3300,300,1.09606960059076,null,3300,300,1.0446842599839425]
[null,3300,325,1.1132450858450185,null,3300,325,0.78672510901020243,null,3300,325,1.0975985204470067,null,3300,325,1.0488061791091412]
[null,3300,350,1.1137294447257917,null,3300,350,0.81677526004865997,null,3300,350,1.0987473097350435,null,3300,350,1.0523141579356652]
[null,3300,375,1.1139486324944767,null,3300,375,0.84287133246653778,null,3300,375,1.0995738264203465,null,3300,375,1.0552968616590084]
[null,3300,400,1.1139445231085985,null,3300,400,0.86560616891596809,null,3300,400,1.1001267517383002,null,3300,400,1.0578285866937489]
[null,3300,425,1.1137523797972166,null,3300,425,0.88549148100038944,null,3300,425,1.1004471740810413,null,3300,425,1.0599718837690353]
[null,3300,450,1.1134019823827905,null,3300,450,0.90295639837107144,null,3300,450,1.1005698776344264,null,3300,450,1.0617796499877139]
[null,3300,475,1.1129185467605482,null,3300,475,0.91835720016237588,null,3300,475,1.1005243939807994,null,3300,475,1.0632968067195305]
[null,3300,500,1.112323477263881,null,3300,500,0.93198923288039925,null,3300,500,1.1003358631190763,null,3300,500,1.0645616528611508]
[null,3400,50,1.0714671667426321,null,3400,50,0.44026814064136993,null,3400,50,1.0401306062294027,null,3400,50,0.93202735705288642]
[null,3400,{"$f":"C1506+10","v":60},1.075727162727691,null,3400,{"$f":"G1506+10","v":60},0.44149726625438457,null,3400,{"$f":"K1506+10","v":60},1.0453884989895292,null,3400,{"$f":"O1506+10","v":60},0.9413859419701337]
[null,3400,70,1.0796629055586326,null,3400,70,0.44343695824361495,null,3400,70,1.0502678957842564,null,3400,70,0.95010104260006534]
[null,3400,80,1.0832955858640856,null,3400,80,0.44614828490804759,null,3400,80,1.0547934738242135,null,3400,80,0.95821711981773572]
[null,3400,90,1.0866454283981895,null,3400,90,0.44970684815570627,null,3400,90,1.0589887775542712,null,3400,90,0.96577665710769045]
[null,3400,100,1.0897316025328041,null,3400,100,0.45420417697066173,null,3400,100,1.0628761035369529,null,3400,100,0.97281977732338742]
[null,3400,110,1.0925721808427031,null,3400,110,0.45974454784128937,null,3400,110,1.0664764493837127,null,3400,110,0.97938406385916521]
[null,3400,120,1.0951841320401998,null,3400,120,0.46644066330529416,null,3400,120,1.0698095071279718,null,3400,120,0.98550451719005894]
[null,3400,130,1.097583337954579,null,3400,130,0.47441327683103679,null,3400,130,1.0728936867414347,null,3400,130,0.99121359869815395]
[null,3400,140,1.0997846268768841,null,3400,140,0.48379009177766091,null,3400,140,1.0757461594519475,null,3400,140,0.99654132862046318]
[null,3400,150,1.1018018175861113,null,3400,150,0.49469082290932398,null,3400,150,1.0783829134442562,null,3400,150,1.0015154154715837]
[null,3400,160,1.1036477698838272,null,3400,160,0.50719424928879508,null,3400,160,1.0808188166697998,null,3400,160,1.0061614016602907]
[null,3400,170,1.1053344386039148,null,3400,170,0.52130228977630277,null,3400,170,1.0830676830569501,null,3400,170,1.0105028151474487]
[null,3400,180,1.106872928920436,null,3400,180,0.53692237889597105,null,3400,180,1.0851423395502535,null,3400,180,1.0145613205431854]
[null,3400,190,1.1082735514172148,null,3400,190,0.55387120891287689,null,3400,190,1.0870546922298416,null,3400,190,1.0183568654847808]
[null,3400,200,1.1095458758597088,null,3400,200,0.57188911343480764,null,3400,200,1.0888157903545259,null,3400,200,1.0219078198062674]
[null,3400,225,1.1122220998548458,null,3400,225,0.61954281651409771,null,3400,225,1.0926222850404763,null,3400,225,1.0298229415785722]
[null,3400,{"$f":"C1522+25","v":250},1.1142724205892891,null,3400,{"$f":"G1522+25","v":250},0.66714502537436404,null,3400,{"$f":"K1522+25","v":250},1.095686646178534,null,3400,{"$f":"O1522+25","v":250},1.0365419144410801]
[null,3400,275,1.115798301124358,null,3400,275,0.71136959517860809,null,3400,275,1.0981261519973422,null,3400,275,1.0422533592546683]
[null,3400,300,1.1168841278487192,null,3400,300,0.75084436994329884,null,3400,300,1.1000384635481888,null,3400,300,1.0471124074104163]
[null,3400,325,1.1176002474676894,null,3400,325,0.78545522890711139,null,3400,325,1.1015051220553163,null,3400,325,1.0512472824412686]
[null,3400,350,1.1180054578650995,null,3400,350,0.81561765505208561,null,3400,350,1.1025944077356662,null,3400,350,1.0547645020919849]
[null,3400,375,1.1181490409244434,null,3400,375,0.84189380616770526,null,3400,375,1.1033636685519668,null,3400,375,1.0577529912677099]
[null,3400,400,1.1180724185948179,null,3400,400,0.86483600595582033,null,3400,400,1.1038612157250938,null,3400,400,1.0602873427898993]
[null,3400,425,1.1178105023207043,null,3400,425,0.8849344934079818,null,3400,425,1.1041278679726354,null,3400,425,1.0624304130624405]
[null,3400,450,1.1173927942380186,null,3400,450,0.90260725327141467,null,3400,450,1.1041982119774783,null,3400,450,1.0642353981751185]
[null,3400,475,1.1168442878466687,null,3400,475,0.91820503128261288,null,3400,475,1.1041016338565131,null,3400,475,1.0657475029241201]
[null,3400,500,1.1161862067179975,null,3400,500,0.93202070603084519,null,3400,500,1.103863165715864,null,3400,500,1.0670052895673914]
[null,3500,50,1.0775886104474708,null,3500,50,0.45193012161294882,null,3500,50,1.045519990150003,null,3500,50,0.93466482360799563]
[null,3500,{"$f":"C1534+10","v":60},1.0817168137530604,null,3500,{"$f":"G1534+10","v":60},0.45302616120136419,null,3500,{"$f":"K1534+10","v":60},1.0506561477396119,null,3500,{"$f":"O1534+10","v":60},0.9439562089213106]
[null,3500,70,1.0855325419296922,null,3500,70,0.45482158116559734,null,3500,70,1.0554262815856059,null,3500,70,0.95262033341881569]
[null,3500,80,1.0890554623862863,null,3500,80,0.45737170313334036,null,3500,80,1.0598533353952129,null,3500,80,0.96069837647747436]
[null,3500,90,1.0923044901762484,null,3500,90,0.46074457302285421,null,3500,90,1.0639593820658297,null,3500,90,0.96823017542528256]
[null,3500,100,1.0952976685009299,null,3500,100,0.46502211751530043,null,3500,100,1.0677654674200068,null,3500,100,0.97525372147376299]
[null,3500,110,1.0980521011288513,null,3500,110,0.47029711606646318,null,3500,110,1.0712915241746588,null,3500,110,0.98180488138786648]
[null,3500,120,1.1005839226737451,null,3500,120,0.47666889748598629,null,3500,120,1.0745563358682741,null,3500,120,0.98791727307104815]
[null,3500,130,1.1029082960686512,null,3500,130,0.4842425588100896,null,3500,130,1.0775775357079143,null,3500,130,0.99362224402863919]
[null,3500,140,1.1050394291900556,null,3500,140,0.4931285342499408,null,3500,140,1.0803716292770296,null,3500,140,0.99894891678377939]
[null,3500,150,1.1069906045951523,null,3500,150,0.50343160837524603,null,3500,150,1.0829540330348253,null,3500,150,1.003924276184448]
[null,3500,160,1.1087742178720925,null,3500,160,0.51522443263304007,null,3500,160,1.0853391227657319,null,3500,160,1.0085732812874419]
[null,3500,170,1.1104018212745448,null,3500,170,0.52851586541285833,null,3500,170,1.0875402877871487,null,3500,170,1.0129189899944602]
[null,3500,180,1.1118841702017992,null,3500,180,0.54323256521486118,null,3500,180,1.0895699879389276,null,3500,180,1.0169826884835276]
[null,3500,190,1.1132312707592082,null,3500,190,0.55922142275318476,null,3500,190,1.0914398112694967,null,3500,190,1.02078402019031]
[null,3500,200,1.114452427141571,null,3500,200,0.57626325118255217,null,3500,200,1.0931605309846695,null,3500,200,1.0243411109835086]
[null,3500,225,1.1170095760315151,null,3500,225,0.62168214562088897,null,3500,225,1.0968739896880955,null,3500,225,1.0322719203534443]
[null,3500,{"$f":"C1550+25","v":250},1.1189512465702849,null,3500,{"$f":"G1550+25","v":250},0.66768653207601358,null,3500,{"$f":"K1550+25","v":250},1.0998543538553285,null,3500,{"$f":"O1550+25","v":250},1.0390055572016546]
[null,3500,275,1.1203767841117056,null,3500,275,0.71100791712395861,null,3500,275,1.1022167651830945,null,3500,275,1.0447295114735915]
[null,3500,300,1.1213690164404493,null,3500,300,0.7500752940124864,null,3500,300,1.1040573435019656,null,3500,300,1.0495983659652661]
[null,3500,325,1.1219971280269494,null,3500,325,0.78457308731018738,null,3500,325,1.1054565091191055,null,3500,325,1.0537401442418115]
[null,3500,350,1.1223190386525574,null,3500,350,0.81478300427817663,null,3500,350,1.106481720829622,null,3500,350,1.0572613698970084]
[null,3500,375,1.1223833579959142,null,3500,375,0.84118876447193081,null,3500,375,1.1071897202995937,null,3500,375,1.0602510915663592]
[null,3500,400,1.1222309865848594,null,3500,400,0.86429868256858977,null,3500,400,1.10762836805346,null,3500,400,1.0627840893438405]
[null,3500,425,1.1218964259965132,null,3500,425,0.88457874918752022,null,3500,425,1.1078381453403956,null,3500,425,1.0649234369244156]
[null,3500,450,1.121408851850149,null,3500,450,0.90243377153188331,null,3500,450,1.1078533842037663,null,3500,450,1.0667225572049455]
[null,3500,475,1.1207929940093895,null,3500,475,0.91820750537428075,null,3500,475,1.1077032769899313,null,3500,475,1.0682268790034299]
[null,3500,500,1.120069860296119,null,3500,500,0.93218931513793635,null,3500,500,1.1074127069436019,null,3500,500,1.0694751786976164]
[null,3600,50,1.0838646072129681,null,3600,50,0.46355389273959252,null,3600,50,1.0510814906153259,null,3600,50,0.9375375129720992]
[null,3600,{"$f":"C1562+10","v":60},1.0878529463206046,null,3600,{"$f":"G1562+10","v":60},0.46451622983251778,null,3600,{"$f":"K1562+10","v":60},1.0560867081336438,null,3600,{"$f":"O1562+10","v":60},0.94674579174969675]
[null,3600,70,1.0915409966656455,null,3600,70,0.46616769639496186,null,3600,70,1.0607388741108281,null,3600,70,0.9553442674378444]
[null,3600,80,1.0949469036931692,null,3600,80,0.46855841266406589,null,3600,80,1.0650591900876007,null,3600,80,0.9633707773285336]
[null,3600,90,1.0980882662570695,null,3600,90,0.47174967177203897,null,3600,90,1.0690682413648156,null,3600,90,0.97086243544780915]
[null,3600,100,1.1009819895313973,null,3600,100,0.47581490726015674,null,3600,100,1.0727858026277377,null,3600,100,0.97785501745439074]
[null,3600,110,1.1036441930850016,null,3600,110,0.48083683686310658,null,3600,110,1.0762307189979252,null,3600,110,0.98438258886756325]
[null,3600,120,1.1060901598677684,null,3600,120,0.48690325403607532,null,3600,120,1.0794208418680662,null,3600,120,0.99047730328258843]
[null,3600,130,1.1083343151862133,null,3600,130,0.49410594446027339,null,3600,130,1.0823730039585446,null,3600,130,0.99616931744524795]
[null,3600,140,1.1103902273367676,null,3600,140,0.50254065509932344,null,3600,140,1.0851030219719038,null,3600,140,1.0014867850825775]
[null,3600,150,1.1122706235719795,null,3600,150,0.51229904109144009,null,3600,150,1.087625718230915,null,3600,150,1.0064559024019928]
[null,3600,160,1.1139874166240453,null,3600,160,0.52344744190248638,null,3600,160,1.0899549549634866,null,3600,160,1.0111009861664695]
[null,3600,170,1.1155517382020705,null,3600,170,0.53599939665584961,null,3600,170,1.0921036766084031,null,3600,170,1.0154445710139621]
[null,3600,180,1.1169739767938367,null,3600,180,0.54989703668738832,null,3600,180,1.0940839567933325,null,3600,180,1.019507516814989]
[null,3600,190,1.1182638178020128,null,3600,190,0.56501117744716822,null,3600,190,1.0959070475859318,null,3600,190,1.0233091198018802]
[null,3600,200,1.1194302845776196,null,3600,200,0.58115421224967523,null,3600,200,1.097583429321447,null,3600,200,1.0268672232871412]
[null,3600,225,1.1218604081289061,null,3600,225,0.62445314007687969,null,3600,225,1.1011949182731076,null,3600,225,1.0348024059088232]
[null,3600,{"$f":"C1578+25","v":250},1.1236865430353691,null,3600,{"$f":"G1578+25","v":250},0.66884875197445015,null,3600,{"$f":"K1578+25","v":250},1.1040835603354602,null,3600,{"$f":"O1578+25","v":250},1.0415411821334395]
[null,3600,275,1.1250057510906,null,3600,275,0.7111891631327566,null,3600,275,1.1063621772021257,null,3600,275,1.0472695641836547]
[null,3600,300,1.1258991637950304,null,3600,300,0.7497618155588911,null,3600,300,1.1081251937287633,null,3600,300,1.0521413177789471]
[null,3600,325,1.1264346892185271,null,3600,325,0.78407046309947959,null,3600,325,1.1094517804717965,null,3600,325,1.0562840566799161]
[null,3600,350,1.1266692742383828,null,3600,350,0.81426642046520181,null,3600,350,1.1104084667543468,null,3600,350,1.0598041447080062]
[null,3600,375,1.1266507773802639,null,3600,375,0.84075313128518259,null,3600,375,1.1110512971833892,null,3600,375,1.0627906222418135]
[null,3600,400,1.1264195117630407,null,3600,400,0.8639921538164671,null,3600,400,1.1114276051906986,null,3600,400,1.0653183504934545]
[null,3600,425,1.1260095137159567,null,3600,425,0.88442282275467698,null,3600,425,1.1115774701009722,null,3600,425,1.0674505343300489]
[null,3600,450,1.1254495856653346,null,3600,450,0.90243491907807361,null,3600,450,1.1115349147948639,null,3600,450,1.0692407530242618]
[null,3600,475,1.1247641543300242,null,3600,475,0.91836384706247409,null,3600,475,1.1113288916002353,null,3600,475,1.0707346013803543]
[null,3600,500,1.1239739782002494,null,3600,500,0.93249446213602261,null,3600,500,1.1109840955597567,null,3600,500,1.0719710217397043]
[null,3700,50,1.0902881440459558,null,3700,50,0.47514049573468231,null,3700,50,1.0568076088473486,null,3700,50,0.9406374279875469]
[null,3700,{"$f":"C1590+10","v":60},1.0941291730928699,null,3700,{"$f":"G1590+10","v":60},0.47596853536854117,null,3700,{"$f":"K1590+10","v":60},1.0616733745871809,null,3700,{"$f":"O1590+10","v":60},0.94974774801269735]
[null,3700,70,1.0976824405026544,null,3700,70,0.47747630330793295,null,3700,70,1.0661994838199513,null,3700,70,0.9582667799618515]
[null,3700,80,1.1009645785329991,null,3700,80,0.47970919413732277,null,3700,80,1.0704053975567669,null,3700,80,0.96622899160619702]
[null,3700,90,1.1039918702575215,null,3700,90,0.48272243990653463,null,3700,90,1.0743102061628911,null,3700,90,0.97366872344730571]
[null,3700,100,1.1067800772220469,null,3700,100,0.48658192513061188,null,3700,100,1.0779324001418102,null,3700,100,0.98061947337018973]
[null,3700,110,1.1093443249881692,null,3700,110,0.49136151017106922,null,3700,110,1.0812897205392373,null,3700,110,0.9871134384345287]
[null,3700,120,1.1116990322181091,null,3700,120,0.49713896666987673,null,3700,120,1.0843990682375326,null,3700,120,0.99318124013476794]
[null,3700,130,1.1138578722040977,null,3700,130,0.50399467455671443,null,3700,130,1.0872764562675907,null,3700,130,0.99885177875547015]
[null,3700,140,1.1158337582958795,null,3700,140,0.51201181617856195,null,3700,140,1.0899369931030385,null,3700,140,1.00415217713104]
[null,3700,150,1.1176388466721696,null,3700,150,0.5212705050674048,null,3700,150,1.09239488788677,null,3700,150,1.0091077850997721]
[null,3700,160,1.1192845514524796,null,3700,160,0.53183080774610914,null,3700,160,1.0946634708346206,null,3700,160,1.0137422240551415]
[null,3700,170,1.120781568348785,null,3700,170,0.54370915408571108,null,3700,170,1.096755223809404,null,3700,170,1.0180774569384632]
[null,3700,180,1.1221399039873889,null,3700,180,0.55686018041375218,null,3700,180,1.0986818173816151,null,3700,180,1.0221338733383372]
[null,3700,190,1.1233689087495338,null,3700,190,0.57117430506346301,null,3700,190,1.1004541516888111,null,3700,190,1.025930382488073]
[null,3700,200,1.124477311531958,null,3700,200,0.58648904695314641,null,3700,200,1.1020823991516924,null,3700,200,1.0294845092022449]
[null,3700,225,1.1267727763417799,null,3700,225,0.62778641932002299,null,3700,225,1.1055833328683811,null,3700,225,1.0374130298651585]
[null,3700,{"$f":"C1606+25","v":250},1.12847674790159,null,3700,{"$f":"G1606+25","v":250},0.67058434670406775,null,3700,{"$f":"K1606+25","v":250},1.1083728059757014,null,3700,{"$f":"O1606+25","v":250},1.0441476382128885]
[null,3700,275,1.1296838518774466,null,3700,275,0.71188534712469287,null,3700,275,1.110561152146065,null,3700,275,1.0498725388755741]
[null,3700,300,1.1304733956208577,null,3700,300,0.74988766649902105,null,3700,300,1.1122409593126357,null,3700,300,1.0547404234927085]
[null,3700,325,1.1309119039987396,null,3700,325,0.7839376794938917,null,3700,325,1.1134900285204803,null,3700,325,1.0588782941845039]
[null,3700,350,1.1310552617871503,null,3700,350,0.81406189996043976,null,3700,350,1.1143738585773855,null,3700,350,1.062392195098794]
[null,3700,375,1.130950501734028,null,3700,375,0.84058299157233574,null,3700,375,1.1149477117050468,null,3700,375,1.0653710305525765]
[null,3700,400,1.13063728693789,null,3700,400,0.86391374052926906,null,3700,400,1.1152583220836567,null,3700,400,1.0678896398416207]
[null,3700,425,1.1301491357658036,null,3700,425,0.88446480207088329,null,3700,425,1.1153453059757434,null,3700,425,1.0700112752548769]
[null,3700,450,1.1295144329015652,null,3700,450,0.90260928295530507,null,3700,450,1.1152423251873005,null,3700,450,1.0717896038360371]
[null,3700,475,1.1287572641226487,null,3700,475,0.91867298182043522,null,3700,475,1.1149780478446323,null,3700,475,1.0732703297681749]
[null,3700,500,1.1278981063947777,null,3700,500,0.9329353100553941,null,3700,500,1.1145769430886892,null,3700,500,1.074492514330597]
[null,3800,50,1.0968523943451745,null,3800,50,0.48669091898203126,null,3800,50,1.0626910128175417,null,3800,50,0.94395643096762183]
[null,3800,{"$f":"C1618+10","v":60},1.1005392624345993,null,3800,{"$f":"G1618+10","v":60},0.48738408769874864,null,3800,{"$f":"K1618+10","v":60},1.0674094781991696,null,3800,{"$f":"O1618+10","v":60},0.95295499024478625]
[null,3800,70,1.1039511752301336,null,3800,70,0.48874835842351716,null,3800,70,1.0718020328867064,null,3800,70,0.96138166393970492]
[null,3800,80,1.1071032668614986,null,3800,80,0.49082481701163216,null,3800,80,1.0758864082836346,null,3800,80,0.96926755294475875]
[null,3800,90,1.1100105109581295,null,3800,90,0.49366323320693034,null,3800,90,1.0796802004481416,null,3800,90,0.97664419895970411]
[null,3800,100,1.1126875252940913,null,3800,100,0.49732275106711471,null,3800,100,1.0832006094516968,null,3800,100,0.98354278032245412]
[null,3800,110,1.1151484365714532,null,3800,110,0.5018693918735333,null,3800,110,1.0864642615700015,null,3800,110,0.98999357506436769]
[null,3800,120,1.1174067909878749,null,3800,120,0.50737216317823275,null,3800,120,1.0894870937486203,null,3800,120,0.99602561828879443]
[null,3800,130,1.1194754993897142,null,3800,130,0.51390160209922708,null,3800,130,1.0922842843579097,null,3800,130,1.0016664990586621]
[null,3800,140,1.1213668083109465,null,3800,140,0.52153008191953376,null,3800,140,1.0948702179404894,null,3800,140,1.006942256091754]
[null,3800,150,1.1230922901658793,null,3800,150,0.53032756605499198,null,3800,150,1.0972584745754741,null,3800,150,1.0118773423385377]
[null,3800,160,1.1246628474067484,null,3800,160,0.54034804089672139,null,3800,160,1.0994618367650943,null,3800,160,1.0164946366239227]
[null,3800,170,1.1260887266636486,null,3800,170,0.55160943714708977,null,3800,170,1.1014923085126036,null,3800,170,1.020815486567578]
[null,3800,180,1.1273795398248621,null,3800,180,0.56407643985270128,null,3800,180,1.1033611426124164,null,3800,180,1.0248597714520278]
[null,3800,190,1.12854428974726,null,3800,190,0.5776558939788029,null,3800,190,1.1050788732035581,null,3800,190,1.0286459769763934]
[null,3800,200,1.1295913988540416,null,3800,200,0.59220587751604481,null,3800,200,1.1066553514184692,null,3800,200,1.032191276219742]
[null,3800,225,1.1317448834087256,null,3800,225,0.63161900260415071,null,3800,225,1.1100374897184211,null,3800,225,1.040102388053759]
[null,3800,{"$f":"C1634+25","v":250},1.1333203179355871,null,3800,{"$f":"G1634+25","v":250},0.6728470068735668,null,3800,{"$f":"K1634+25","v":250},1.1127206242293957,null,3800,{"$f":"O1634+25","v":250},1.0468237456563942]
[null,3800,275,1.1344097523038397,null,3800,275,0.71306756763949875,null,3800,275,1.114812447291281,null,3800,275,1.052537433688302]
[null,3800,300,1.13509055142032,null,3800,300,0.75043527651161723,null,3800,300,1.1164035792769516,null,3800,300,1.0573948245956513]
[null,3800,325,1.1354277573462894,null,3800,325,0.78416385695009072,null,3800,325,1.1175703407094417,null,3800,325,1.0615221153250713]
[null,3800,350,1.1354761090512691,null,3800,350,0.81416246356691058,null,3800,350,1.1183771056400071,null,3800,350,1.0650248763903218]
[null,3800,375,1.13528174312436,null,3800,375,0.84067367223363154,null,3800,375,1.1188782738898142,null,3800,375,1.0679917525868932]
[null,3800,400,1.1348836133507902,null,3800,400,0.86406017823939851,null,3800,400,1.1191199123927078,null,3800,400,1.0704974614997271]
[null,3800,425,1.134314670044525,null,3800,425,0.8847023197141195,null,3800,425,1.1191411164903151,null,3800,425,1.0726052215476012]
[null,3800,450,1.1336028376917504,null,3800,450,0.90295509174074218,null,3800,450,1.1189751375952715,null,3800,450,1.0743687208345982]
[null,3800,475,1.1327718250192802,null,3800,475,0.91913354965111915,null,3800,475,1.1186503175093714,null,3800,475,1.075833717794735]
[null,3800,500,1.1318417966459098,null,3800,500,0.9335107922616499,null,3800,500,1.1181908634161919,null,3800,500,1.0770393467895156]
[null,3900,50,1.1035507323544143,null,3900,50,0.49820610148378158,null,3900,50,1.0687245554364677,null,3900,50,0.94748630548310864]
[null,3900,{"$f":"C1646+10","v":60},1.107077151758612,null,3900,{"$f":"G1646+10","v":60},0.49876384712443506,null,3900,{"$f":"K1646+10","v":60},1.0732885039981119,null,3900,{"$f":"O1646+10","v":60},0.95636033743734827]
[null,3900,70,1.1103416458125017,null,3900,70,0.49998477736342312,null,3900,70,1.0775405715807516,null,3900,70,0.96468261289081447]
[null,3900,80,1.1133578707321035,null,3900,80,0.50190603624075025,null,3900,80,1.081496779139961,null,3900,80,0.9724808952716415]
[null,3900,90,1.1161395020185436,null,3900,90,0.50457245203381862,null,3900,90,1.0851732362546047,null,3900,90,0.97978392492311717]
[null,3900,100,1.1187000182229463,null,3900,100,0.50803712475063101,null,3900,100,1.0885858525333221,null,3900,100,0.98662053784086234]
[null,3900,110,1.121052546674268,null,3900,110,0.51235910357948988,null,3900,110,1.0917501341324647,null,3900,110,0.99301905815054947]
[null,3900,120,1.1232097568830401,null,3900,120,0.51759968598284545,null,3900,120,1.0946810452232958,null,3900,120,0.99900689317055458]
[null,3900,130,1.1251837903831592,null,3900,130,0.5238208591949356,null,3900,130,1.0973929184923759,null,3900,130,1.0046102765490874]
[null,3900,140,1.1269862182117363,null,3900,140,0.53108564794812463,null,3900,140,1.0998994022583952,null,3900,140,1.0098541183147718]
[null,3900,150,1.1286280191620537,null,3900,150,0.53945508015044186,null,3900,150,1.1022134346111196,null,3900,150,1.0147619310997076]
[null,3900,160,1.1301195734731824,null,3900,160,0.54897735323356889,null,3900,160,1.1043472372182919,null,3900,160,1.0193558097796753]
[null,3900,170,1.1314706678231543,null,3900,170,0.55967084543469303,null,3900,170,1.1063123232030765,null,3900,170,1.0236564478172949]
[null,3900,180,1.1326905084373664,null,3900,180,0.57150822563338954,null,3900,180,1.108119514859355,null,3900,180,1.0276831781210163]
[null,3900,190,1.1337877398640164,null,3900,190,0.58441025518314305,null,3900,190,1.1097789680248882,null,3900,190,1.0314540296010066]
[null,3900,200,1.134770467546858,null,3900,200,0.59825231617248575,null,3900,200,1.1113002007395796,null,3900,200,1.034985793094727]
[null,3900,225,1.1367749566443255,null,3900,225,0.63589430585872087,null,3900,225,1.1145556443352478,null,3900,225,1.0428690452418694]
[null,3900,{"$f":"C1662+25","v":250},1.1382157303099578,null,3900,{"$f":"G1662+25","v":250},0.67559217927969595,null,3900,{"$f":"K1662+25","v":250},1.1171255455537752,null,3900,{"$f":"O1662+25","v":250},1.0495682995594782]
[null,3900,275,1.139182135411438,null,3900,275,0.71470657719475617,null,3900,275,1.1191148160338524,null,3900,275,1.0552632262596768]
[null,3900,300,1.139749485406387,null,3900,300,0.75138617143944786,null,3900,300,1.1206119887360098,null,3900,300,1.0601036456904058]
[null,3900,325,1.1399812469623289,null,3900,325,0.78473716327361942,null,3900,325,1.1216918010478607,null,3900,325,1.0642147646354003]
[null,3900,350,1.1399309349012039,null,3900,350,0.81456030449195016,null,3900,350,1.1224174145924157,null,3900,350,1.0677015321351695]
[null,3900,375,1.1396437234252104,null,3900,375,0.84101983018288795,null,3900,375,1.1228422919358589,null,3900,375,1.0706522144833017]
[null,3900,400,1.1391578009659293,null,3900,400,0.86442767162452183,null,3900,400,1.1230117688409118,null,3900,400,1.0731413111003543]
[null,3900,425,1.1385055022678277,null,3900,425,0.88513258796224037,null,3900,425,1.1229643650917789,null,3900,425,1.0752319277772939]
[null,3900,450,1.1377142512221017,null,3900,450,0.90347023892074663,null,3900,450,1.1227328749501884,null,3900,450,1.076977708919822]
[null,3900,475,1.1368073450548399,null,3900,475,0.91974392101469804,null,3900,475,1.122345273814467,null,3900,475,1.0784244136087551]
[null,3900,500,1.1358046065642173,null,3900,500,0.93421962343840048,null,3900,500,1.1218254724932184,null,3900,500,1.0796112046360837]
[null,4000,50,1.1103767443178771,null,4000,50,0.50968693642843632,null,4000,50,1.0749012890012659,null,4000,50,0.95121881263737451]
[null,4000,{"$f":"C1674+10","v":60},1.113736958174413,null,4000,{"$f":"G1674+10","v":60},0.51010872777592409,null,4000,{"$f":"K1674+10","v":60},1.0793041047937211,null,4000,{"$f":"O1674+10","v":60},0.95995656250724415]
[null,4000,70,1.116848450301593,null,4000,70,0.51118643681700049,null,4000,70,1.0834092915598397,null,4000,70,0.96816326088054672]
[null,4000,80,1.1197234233693654,null,4000,80,0.51295358995224627,null,4000,80,1.0872311861434303,null,4000,80,0.97586338650009319]
[null,4000,90,1.1223742701900226,null,4000,90,0.51545052908434408,null,4000,90,1.0907844258859403,null,4000,90,0.98308289614690036]
[null,4000,100,1.1248133386168675,null,4000,100,0.51872491311746438,null,4000,100,1.094083635534028,null,4000,100,0.98984827802721398]
[null,4000,110,1.1270527598412663,null,4000,110,0.52282956201694819,null,4000,110,1.0971432006715094,null,4000,110,0.99618588207038228]
[null,4000,120,1.1291043259385287,null,4000,120,0.52781895325615669,null,4000,120,1.0999771080958509,null,4000,120,1.002121458573894]
[null,4000,130,1.130979405441094,null,4000,130,0.5337476022472375,null,4000,130,1.102598837452528,null,4000,130,1.0076798516593648]
[null,4000,140,1.1326888880849766,null,4000,140,0.54067040716530101,null,4000,140,1.105021291720534,null,4000,140,1.0128848064312419]
[null,4000,150,1.1342431517706468,null,4000,150,0.54864051817814441,null,4000,150,1.1072567568378306,null,4000,150,1.0177588586633828]
[null,4000,160,1.1356520462875515,null,4000,160,0.55770069177694204,null,4000,160,1.1093168829304347,null,4000,160,1.0223232836008977]
[null,4000,170,1.1369248895465804,null,4000,170,0.56786897656647461,null,4000,170,1.1112126813393046,null,4000,170,1.0265980864357946]
[null,4000,180,1.1380704730091717,null,4000,180,0.57912429193604142,null,4000,180,1.1129545330015165,null,4000,180,1.0306020215566694]
[null,4000,190,1.1390970737463426,null,4000,190,0.59139921539449658,null,4000,190,1.1145522048057923,null,4000,190,1.0343526310981941]
[null,4000,200,1.1400124711468038,null,4000,200,0.60458402023762281,null,4000,200,1.1160148713673612,null,4000,200,1.0378662958830196]
[null,4000,225,1.141861249758882,null,4000,225,0.64056187932373432,null,4000,225,1.1191360562477353,null,4000,225,1.0457115396932444]
[null,4000,{"$f":"C1690+25","v":250},1.1431614840029276,null,4000,{"$f":"G1690+25","v":250},0.67877758955079204,null,4000,{"$f":"K1690+25","v":250},1.1215861011217063,null,4000,{"$f":"O1690+25","v":250},1.0523800734108766]
[null,4000,275,1.1439997025313084,null,4000,275,0.71677324666731379,null,4000,275,1.1234670107340845,null,4000,275,1.0580488764801892]
[null,4000,300,1.1444490673344814,null,4000,300,0.75272132007037251,null,4000,300,1.1248651210279177,null,4000,300,1.062865996682687]
[null,4000,325,1.1445713839090785,null,4000,325,0.78564505034625864,null,4000,325,1.1258534916666258,null,4000,325,1.0669554743767506]
[null,4000,350,1.1444188698119022,null,4000,350,0.81524693749349508,null,4000,350,1.1264939904890594,null,4000,350,1.0704214955534275]
[null,4000,375,1.1440356746831488,null,4000,375,0.84161554472118261,null,4000,375,1.1268390729429465,null,4000,375,1.0733518336117647]
[null,4000,400,1.1434591687401183,null,4000,400,0.86501195297802536,null,4000,400,1.1269332836535468,null,4000,400,1.0758206767777116]
[null,4000,425,1.1427210261618448,null,4000,425,0.88575243706817663,null,4000,425,1.1268145153617926,null,4000,425,1.0778909420540064]
[null,4000,450,1.1418481318640663,null,4000,450,0.90415230872776164,null,4000,450,1.1265150609377073,null,4000,450,1.0796161673892131]
[null,4000,475,1.1408633387501352,null,4000,475,0.92050221467021243,null,4000,475,1.1260624913150068,null,4000,475,1.0810420604676403]
[null,4000,500,1.1397860996485349,null,4000,500,0.93506031208565243,null,4000,500,1.1254803881336426,null,4000,500,1.0822077690928469]
[null,4100,50,1.1173242365896676,null,4100,50,0.52113427442375004,null,4100,50,1.0812144763739489,null,4100,50,0.95514574157293453]
[null,4100,{"$f":"C1702+10","v":60},1.1205129866081174,null,4100,{"$f":"G1702+10","v":60},0.52141960073578997,null,4100,{"$f":"K1702+10","v":60},1.0854501120651858,null,4100,{"$f":"O1702+10","v":60},0.96373643548591681]
[null,4100,70,1.1234663476580955,null,4100,70,0.52235417647609883,null,4100,70,1.0894025364568096,null,4100,70,0.97181721929640785]
[null,4100,80,1.1261950965107812,null,4100,80,0.52396819788459292,null,4100,80,1.0930844347385527,null,4100,80,0.97940935980434196]
[null,4100,90,1.1287103620883645,null,4100,90,0.52629791981264418,null,4100,90,1.0965089918800215,null,4100,90,0.98653606592988385]
[null,4100,100,1.1310233733920849,null,4100,100,0.52938608462258163,null,4100,100,1.0996895584031614,null,4100,100,0.99322148826140988]
[null,4100,110,1.1331452719084751,null,4100,110,0.53327992330139573,null,4100,110,1.1026394033082301,null,4100,110,0.9994899956168638]
[null,4100,120,1.1350869745460157,null,4100,120,0.53802785033238187,null,4100,120,1.1053715353045399,null,4100,120,1.0053656633553685]
[null,4100,130,1.1368590759481612,null,4100,130,0.54367781481133992,null,4100,130,1.1078985770246306,null,4100,130,1.0108719214651345]
[null,4100,140,1.1384717813158076,null,4100,140,0.55027761638964645,null,4100,140,1.1102326799407976,null,4100,140,1.0160313218377421]
[null,4100,150,1.1399348627208412,null,4100,150,0.55787344767545077,null,4100,150,1.1123854702498133,null,4100,150,1.0208653934772969]
[null,4100,160,1.1412576333746811,null,4100,160,0.56650299934464776,null,4100,160,1.1143680180811348,null,4100,160,1.0253945618426303]
[null,4100,170,1.1424489354982481,null,4100,170,0.57618343414717987,null,4100,170,1.116190824071001,null,4100,170,1.0296381143516857]
[null,4100,180,1.1435171383799725,null,4100,180,0.58689848015843682,null,4100,180,1.1178638186907739,null,4100,180,1.0336141985798364]
[null,4100,190,1.1444701439541523,null,4100,190,0.59859071594609714,null,4100,190,1.119396370781413,null,4100,190,1.037339843126508]
[null,4100,200,1.1453153978223078,null,4100,200,0.61116340747320796,null,4100,200,1.1207973025802234,null,4100,200,1.0408309937368632]
[null,4100,225,1.1470020444766957,null,4100,225,0.64557699773305632,null,4100,225,1.1237769933805679,null,4100,225,1.0486283875519877]
[null,4100,{"$f":"C1718+25","v":250},1.1481561010487953,null,4100,{"$f":"G1718+25","v":250},0.68236358584695411,null,4100,{"$f":"K1718+25","v":250},1.1261008263076127,null,4100,{"$f":"O1718+25","v":250},1.0552578224734004]
[null,4100,275,1.1488611742516071,null,4100,275,0.71923893905918168,null,4100,275,1.1278677854385111,null,4100,275,1.060893329144277]
[null,4100,300,1.149188183251771,null,4100,300,0.7544214264242346,null,4100,300,1.12916190979738,null,4100,300,1.0656809748908054]
[null,4100,325,1.1491971931878953,null,4100,325,0.7868744696364911,null,4100,325,1.1300544943748514,null,4100,325,1.0697434662377101]
[null,4100,350,1.1489390563054631,null,4100,350,0.81621334384280986,null,4100,350,1.1306060379171265,null,4100,350,1.0731840909178878]
[null,4100,375,1.1484568394522645,null,4100,375,0.84245441129413201,null,4100,375,1.1308679236961365,null,4100,375,1.0760900197138259]
[null,4100,400,1.1477870448715259,null,4100,400,0.86580834316432065,null,4100,400,1.1308838490662574,null,4100,400,1.0785350401146514]
[null,4100,425,1.1469606436427633,null,4100,425,0.88655835585729847,null,4100,425,1.1306910313060818,null,4100,425,1.0805818068218884]
[null,4100,450,1.1460039452984596,null,4100,450,0.9049986039066148,null,4100,450,1.1303212201149646,null,4100,450,1.0822836906071991]
[null,4100,475,1.1449393271914028,null,4100,475,0.92140631708511322,null,4100,475,1.1298015458836872,null,4100,475,1.0836862973062549]
[null,4100,500,1.1437858453297363,null,4100,500,0.93603117429658367,null,4100,500,1.1291552298923959,null,4100,500,1.0848287175717835]
[null,4200,50,1.1243872409624893,null,4200,50,0.53254892643300145,null,4200,50,1.087657599302581,null,4200,50,0.95925895412756634]
[null,4200,{"$f":"C1730+10","v":60},1.1273997356036367,null,4200,{"$f":"G1730+10","v":60},0.53269729689737189,null,4200,{"$f":"K1730+10","v":60},1.0917205442657825,null,4200,{"$f":"O1730+10","v":60},0.96769276229055678]
[null,4200,70,1.1301902636395458,null,4200,70,0.53348880091645756,null,4200,70,1.0955148101063206,null,4200,70,0.97563811027161385]
[null,4200,80,1.1327682061394759,null,4200,80,0.53495056039742106,null,4200,80,1.0990514679108492,null,4200,80,0.98311314233019431]
[null,4200,90,1.1351434496261372,null,4200,90,0.53711509491845,null,4200,90,1.1023422749831842,null,4200,90,0.9901383706965009]
[null,4200,100,1.1373261188273089,null,4200,100,0.5400206887291813,null,4200,100,1.1053993226985246,null,4200,100,0.9967356323570945]
[null,4200,110,1.1393263746483067,null,4200,110,0.54370953860548044,null,4200,110,1.1082347714486203,null,4200,110,1.00292732020214]
[null,4200,120,1.1411542636868683,null,4200,120,0.54822464401391102,null,4200,120,1.1108606546715978,null,4200,120,1.0087358271426601]
[null,4200,130,1.1428196082529583,null,4200,130,0.55360815347592462,null,4200,130,1.113288737121142,null,4200,130,1.0141831532872301]
[null,4200,140,1.1443319280517206,null,4200,140,0.55990163751342414,null,4200,140,1.1155304153191676,null,4200,140,1.0192906365193664]
[null,4200,150,1.1457003864825153,null,4200,150,0.56714513150949852,null,4200,150,1.1175966505191472,null,4200,150,1.0240787754743741]
[null,4200,160,1.1469337559583692,null,4200,160,0.57537164204463831,null,4200,160,1.1194979264954148,null,4200,160,1.028567120976515]
[null,4200,170,1.1480403978161975,null,4200,170,0.58459706280819446,null,4200,170,1.1212442261031308,null,4200,170,1.032774217626462]
[null,4200,180,1.1490282533208804,null,4200,180,0.59480874504561909,null,4200,180,1.1228450218708219,null,4200,180,1.0367175816439234]
[null,4200,190,1.1499048430103151,null,4200,190,0.60595768075692835,null,4200,190,1.124309276940944,null,4200,190,1.0404137044925565]
[null,4200,200,1.1506772722207814,null,4200,200,0.61795854158413321,null,4200,200,1.1256454535095706,null,4200,200,1.0438780744439569]
[null,4200,225,1.1521956519544185,null,4200,225,0.6509001781042556,null,4200,225,1.1284767360503696,null,4200,225,1.0516180870395557]
[null,4200,{"$f":"C1746+25","v":250},1.153198127639115,null,4200,{"$f":"G1746+25","v":250},0.68631333125813687,null,4200,{"$f":"K1746+25","v":250},1.1306682639268175,null,4200,{"$f":"O1746+25","v":250},1.0582002870248803]
[null,4200,275,1.153765291279343,null,4200,275,0.72207580662207882,null,4200,275,1.1323158984550601,null,4200,275,1.063795516494594]
[null,4200,300,1.1539657361664755,null,4200,300,0.75646717028968646,null,4200,300,1.1335012910032858,null,4200,300,1.0685476670719192]
[null,4200,325,1.1538577142581234,null,4200,325,0.78841206170334421,null,4200,325,1.1342938921917491,null,4200,325,1.0725779529683785]
[null,4200,350,1.1534906493504768,null,4200,350,0.81745010759741954,null,4200,350,1.1347527621354065,null,4200,350,1.0759886348868333]
[null,4200,375,1.1529064710979489,null,4200,375,0.84352963387865765,null,4200,375,1.1349281514835445,null,4200,375,1.0788661760005165]
[null,4200,400,1.1521407670266897,null,4200,400,0.86681181351671632,null,4200,400,1.1348628578827928,null,4200,400,1.0812838770552959]
[null,4200,425,1.151223764981973,null,4200,425,0.88754653376067039,null,4200,425,1.1345933777032386,null,4200,425,1.0833040596240697]
[null,4200,450,1.1501811646306757,null,4200,450,0.90600617486754242,null,4200,450,1.1341508780926584,null,4200,450,1.0849798686510506]
[null,4200,475,1.1490348381052118,null,4200,475,0.92245390305860608,null,4200,475,1.1335620147608234,null,4200,475,1.0863567592862033]
[null,4200,500,1.1478034190131272,null,4200,500,0.93713034857007682,null,4200,500,1.1328496190116653,null,4200,500,1.0874737241444408]
[null,4300,50,1.1315600175279461,null,4300,50,0.54393166644797852,null,4300,50,1.0942243642443821,null,4300,50,0.96355042370671096]
[null,4300,{"$f":"C1758+10","v":60},1.1343919009975612,null,4300,{"$f":"G1758+10","v":60},0.54394260958464091,null,4300,{"$f":"K1758+10","v":60},1.0981096128760053,null,4300,{"$f":"O1758+10","v":60},0.97181841905308453]
[null,4300,70,1.1370152948881429,null,4300,70,0.54459108141059298,null,4300,70,1.1017407827165226,null,4300,70,0.97961959668870524]
[null,4300,80,1.1394382166994024,null,4300,80,0.54590135791459871,null,4300,80,1.1051273724109389,null,4300,80,0.98696908125815308]
[null,4300,90,1.1416693341669137,null,4300,90,0.54790253445082115,null,4300,90,1.1082797403806637,null,4300,90,0.99388475256717201]
[null,4300,100,1.1437176845401016,null,4300,100,0.55062883947748176,null,4300,100,1.1112087377845121,null,4300,100,1.0003861700898005]
[null,4300,110,1.1455924595018445,null,4300,110,0.55411791865036009,null,4300,110,1.1139254279129795,null,4300,110,1.0064937667647864]
[null,4300,120,1.1473028423887375,null,4300,120,0.55840791437526682,null,4300,120,1.1164408749284254,null,4300,120,1.0122282549988202]
[null,4300,130,1.1488578868400658,null,4300,130,0.56353582623526366,null,4300,130,1.1187659876676532,null,4300,130,1.0176101974428817]
[null,4300,140,1.15026642809542,null,4300,140,0.56953773453300405,null,4300,140,1.1209114067589541,null,4300,140,1.0226597041713508]
[null,4300,150,1.1515370198937376,null,4300,150,0.57644821383808331,null,4300,150,1.1228874255155223,null,4300,150,1.0273962258057574]
[null,4300,160,1.1526778913417364,null,4300,160,0.58429596133726092,null,4300,160,1.124703936942542,null,4300,160,1.0318384187387692]
[null,4300,170,1.1536969192654492,null,4300,170,0.59309535144524195,null,4300,170,1.1263704007552293,null,4300,170,1.0360040639887782]
[null,4300,180,1.1546016124809009,null,4300,180,0.60283639530287769,null,4300,180,1.1278958255832205,null,4300,180,1.0399100254995544]
[null,4300,190,1.1553991051598924,null,4300,190,0.61347711027178342,null,4300,190,1.1292887625712877,null,4300,190,1.043572237067212]
[null,4300,200,1.1560961570589103,null,4300,200,0.62494218560863202,null,4300,200,1.130557307416193,null,4300,200,1.0470057096972565]
[null,4300,225,1.1574404140290675,null,4300,225,0.65649667184460803,null,4300,225,1.1332335805760576,null,4300,225,1.0546791224569303]
[null,4300,{"$f":"C1774+25","v":250},1.158286135097383,null,4300,{"$f":"G1774+25","v":250},0.69059287402343605,null,4300,{"$f":"K1774+25","v":250},1.1352869672156987,null,4300,{"$f":"O1774+25","v":250},1.0612061954539593]
[null,4300,275,1.1587108151931595,null,4300,275,0.72525702274746318,null,4300,275,1.1368101147638838,null,4300,275,1.0667543606557093]
[null,4300,300,1.158780646641812,null,4300,300,0.75883940211290801,null,4300,300,1.137882204831635,null,4300,300,1.0714651513625746]
[null,4300,325,1.1585520014997286,null,4300,325,0.79024431780080318,null,4300,325,1.138570770834141,null,4300,325,1.0754581399471452]
[null,4300,350,1.1580728167189043,null,4300,350,0.8189475397867424,null,4300,350,1.1389333702045115,null,4300,350,1.0788344377831625]
[null,4300,375,1.157383834069768,null,4300,375,0.84483411354899562,null,4300,375,1.1390190649303535,null,4300,375,1.081679700207077]
[null,4300,400,1.1565196825455573,null,4300,400,0.86801704720071993,null,4300,400,1.1388697040659539,null,4300,400,1.0840666587825718]
[null,4300,425,1.1555098089561666,null,4300,425,0.88871290340779674,null,4300,425,1.1385210204978748,null,4300,425,1.0860572338387808]
[null,4300,450,1.1543792704962164,null,4300,450,0.9071718496834118,null,4300,450,1.1380035617684514,null,4300,450,1.0877042879330281]
[null,4300,475,1.1531494059278142,null,4300,475,0.92364245720381555,null,4300,475,1.1373434766596346,null,4300,475,1.0890530783253123]
[null,4300,500,1.1518384021184642,null,4300,500,0.93835581141531399,null,4300,500,1.1365631784241872,null,4300,500,1.0901424599954639]
[null,4400,50,1.1388370553399125,null,4400,50,0.55528323392758683,null,4400,50,1.1009087060050549,null,4400,50,0.9680122685596021]
[null,4400,{"$f":"C1786+10","v":60},1.1414843776995391,null,4400,{"$f":"G1786+10","v":60},0.55515629695670421,null,4400,{"$f":"K1786+10","v":60},1.1046117264951114,null,4400,{"$f":"O1786+10","v":60},0.97610638207939804]
[null,4400,70,1.1439367113943857,null,4400,70,0.55566175766310988,null,4400,70,1.1080752952535933,null,4400,70,0.98375540877108647]
[null,4400,80,1.146200743929271,null,4400,80,0.55682125069339306,null,4400,80,1.1113073833341893,null,4400,80,0.9909715671936814]
[null,4400,90,1.1482839495095873,null,4400,90,0.55866072317985216,null,4400,90,1.1143169824067551,null,4400,90,0.99777017982288163]
[null,4400,100,1.1501942964733918,null,4400,100,0.56121070226033409,null,4400,100,1.1171137256214769,null,4400,100,1.0041685750533516]
[null,4400,110,1.1519400204725398,null,4400,110,0.56450470508209061,null,4400,110,1.1197075937613694,null,4400,110,1.0101852513380365]
[null,4400,120,1.1535294504695948,null,4400,120,0.56857650007485616,null,4400,120,1.1221086905375581,null,4400,120,1.0158392510034204]
[null,4400,130,1.1549708768941325,null,4400,130,0.57345849566813434,null,4400,130,1.1243270733843382,null,4400,130,1.0211496991119373]
[null,4400,140,1.1562724532765221,null,4400,140,0.57918191294370625,null,4400,140,1.1263726283733937,null,4400,140,1.0261354705902306]
[null,4400,150,1.1574421243391981,null,4400,150,0.58577647219639595,null,4400,150,1.1282549799069492,null,4400,150,1.0308149559648891]
[null,4400,160,1.1584875748986465,null,4400,160,0.5932669202859846,null,4400,160,1.1299834276036604,null,4400,160,1.035205902165711]
[null,4400,170,1.1594161950527695,null,4400,170,0.60166596266130079,null,4400,170,1.1315669042730159,null,4400,170,1.0393253099336577]
[null,4400,180,1.1602350580374299,null,4400,180,0.61096549655423782,null,4400,180,1.1330139501044227,null,4400,180,1.0431893734868238]
[null,4400,190,1.1609509078695064,null,4400,190,0.62112935893821675,null,4400,190,1.1343326992052341,null,4400,190,1.0468134513806644]
[null,4400,200,1.1615701544839256,null,4400,200,0.63209101138775103,null,4400,200,1.1355308754394318,null,4400,200,1.0502120600859237]
[null,4400,225,1.1627347042816862,null,4400,225,0.66233595934930001,null,4400,225,1.1380458425092577,null,4400,225,1.0578099679858732]
[null,4400,{"$f":"C1802+25","v":250},1.1634187207148721,null,4400,{"$f":"G1802+25","v":250},0.69517112419043514,null,4400,{"$f":"K1802+25","v":250},1.1399555025467918,null,4400,{"$f":"O1802+25","v":250},1.0642742672067829]
[null,4400,275,1.16369652911036,null,4400,275,0.72875695727442269,null,4400,275,1.1413492082521182,null,4400,275,1.0697687759545833]
[null,4400,300,1.1636318533090433,null,4400,300,0.76151929962533604,null,4400,300,1.142303597499156,null,4400,300,1.0744324991316874]
[null,4400,325,1.1632791246149234,null,4400,325,0.79235771411344746,null,4400,325,1.1428842201439005,null,4400,325,1.0783832266787414]
[null,4400,350,1.1626847393029087,null,4400,350,0.82069578832162027,null,4400,350,1.1431470720927637,null,4400,350,1.0817208048188895]
[null,4400,375,1.1618882041438596,null,4400,375,0.84636053119057331,null,4400,375,1.1431399748340265,null,4400,375,1.0845299856037756]
[null,4400,400,1.1609231486245204,null,4400,400,0.86941849869085952,null,4400,400,1.1429037833476228,null,4400,400,1.0868828525601142]
[null,4400,425,1.1598182029820183,null,4400,425,0.89005318293948898,null,4400,425,1.1424734272250971,null,4400,425,1.0888408593862895]
[null,4400,450,1.1585977511559207,null,4400,450,0.90849226440133757,null,4400,450,1.1418787995997681,null,4400,450,1.0904565317984356]
[null,4400,475,1.1572825718681883,null,4400,475,0.92496929593942701,null,4400,475,1.1411455119159595,null,4400,475,1.0917748836070642]
[null,4400,500,1.1558903821167557,null,4400,500,0.93970539350768112,null,4400,500,1.1402955328037891,null,4400,500,1.0928345938593211]
[null,4500,50,1.1462130711967287,null,4500,50,0.56660433602726024,null,4500,50,1.1077047894716725,null,4500,50,0.9726367797400105]
[null,4500,{"$f":"C1814+10","v":60},1.1486722597970866,null,4500,{"$f":"G1814+10","v":60},0.56633908421774426,null,4500,{"$f":"K1814+10","v":60},1.1112214932258371,null,4500,{"$f":"O1814+10","v":60},0.98054975359013485]
[null,4500,70,1.1509499574988109,null,4500,70,0.56670153946358048,null,4500,70,1.1145133622749919,null,4500,70,0.98803936733408304]
[null,4500,80,1.1530515564355182,null,4500,80,0.56771087883816451,null,4500,80,1.1175868872740966,null,4500,80,0.99511505490941521]
[null,4500,90,1.1549833637925413,null,4500,90,0.5693901469684115,null,4500,90,1.1204497279265306,null,4500,90,1.0017896652628173]
[null,4500,100,1.1567522989598187,null,4500,100,0.57176648313644463,null,4500,100,1.1231103243185805,null,4500,100,1.0080783508302567]
[null,4500,110,1.1583656562331301,null,4500,110,0.57486964726434919,null,4500,110,1.1255775919674682,null,4500,110,1.0139977092590815]
[null,4500,120,1.1598309206095712,null,4500,120,0.57872945419115762,null,4500,120,1.1278606854440503,null,4500,120,1.019565130729402]
[null,4500,130,1.1611556262880158,null,4500,130,0.58337420125026906,null,4500,130,1.1299688175754687,null,4500,130,1.0247983092977981]
[null,4500,140,1.1623472493278808,null,4500,140,0.58883079158842799,null,4500,140,1.1319111232771726,null,4500,140,1.0297148833161411]
[null,4500,150,1.1634131275007038,null,4500,150,0.59512462015189216,null,4500,150,1.1336965589203953,null,4500,150,1.0343321762865818]
[null,4500,160,1.1643604016937337,null,4500,160,0.6022768218218143,null,4500,160,1.135333829772152,null,4500,160,1.0386670151030886]
[null,4500,170,1.1651959743176121,null,4500,170,0.61029835812857847,null,4500,170,1.1368313394428335,null,4500,170,1.0427356073750251]
[null,4500,180,1.1659264810631578,null,4500,180,0.61918239759819416,null,4500,180,1.1381971564525706,null,4500,180,1.0465534634454328]
[null,4500,190,1.1665582730773165,null,4500,190,0.62889755855071561,null,4500,190,1.1394389940028209,null,4500,190,1.050135351888225]
[null,4500,200,1.1670974072147642,null,4500,200,0.63938494731188611,null,4500,200,1.1405641998390765,null,4500,200,1.0534952798007196]
[null,4500,225,1.1680769289438448,null,4500,225,0.66839126434482965,null,4500,225,1.1429118594886081,null,4500,225,1.0610090912850263]
[null,4500,{"$f":"C1830+25","v":250},1.1685945084686871,null,4500,{"$f":"G1830+25","v":250},0.70001976262248811,null,4500,{"$f":"K1830+25","v":250},1.1446724518801028,null,4500,{"$f":"O1830+25","v":250},1.0674032155818589]
[null,4500,275,1.1687212382504391,null,4500,275,0.73255130194918705,null,4500,275,1.1459319637670595,null,4500,275,1.0728376711260408]
[null,4500,300,1.1685183133237236,null,4500,300,0.76448849333737068,null,4500,300,1.1467644229372613,null,4500,300,1.0774487767447767]
[null,4500,325,1.1680381689870123,null,4500,325,0.79473882091312986,null,4500,325,1.1472333354432396,null,4500,325,1.0813524082227481]
[null,4500,350,1.1673256113856236,null,4500,350,0.82268493261957665,null,4500,350,1.1473930817451157,null,4500,350,1.0846470372644328]
[null,4500,375,1.1664188686369734,null,4500,375,0.84810142282459366,null,4500,375,1.1472901949882102,null,4500,375,1.0874164219624016]
[null,4500,400,1.1653505324776632,null,4500,400,0.87101045018556555,null,4500,400,1.1469644938459207,null,4500,400,1.0897319225382271]
[null,4500,425,1.1641483832353279,null,4500,425,0.89156291726428005,null,4500,425,1.1464500674550853,null,4500,425,1.0916544634064258]
[null,4500,450,1.1628361025805505,null,4500,450,0.90996389316420212,null,4500,450,1.1457761219055995,null,4500,450,1.0932361810994022]
[null,4500,475,1.1614338839642491,null,4500,475,0.92643158965376171,null,4500,475,1.1449677026728631,null,4500,475,1.0945218020698468]
[null,4500,500,1.1599589525632106,null,4500,500,0.94117679616201411,null,4500,500,1.1440463086544859,null,4500,500,1.0955497924401256]
[null,4600,50,1.1536830068251063,null,4600,50,0.57789564964116713,null,4600,50,1.114607009687661,null,4600,50,0.97741644410030992]
[null,4600,{"$f":"C1842+10","v":60},1.1559508392077589,null,4600,{"$f":"G1842+10","v":60},0.57749166565096666,null,4600,{"$f":"K1842+10","v":60},1.1179337215685012,null,4600,{"$f":"O1842+10","v":60},0.98514178345530468]
[null,4600,70,1.1580506516018045,null,4600,70,0.57771110825512884,null,4600,70,1.1210501734085587,null,4600,70,0.99246540381887816]
[null,4600,80,1.1599865761339205,null,4600,80,0.5785708624960878,null,4600,80,1.1239614242301117,null,4600,80,0.99939408150636466]
[null,4600,90,1.1617637804171361,null,4600,90,0.58009128993581116,null,4600,90,1.1266738385791011,null,4600,90,1.0059382824876271]
[null,4600,100,1.1633881559411923,null,4600,100,0.58229642016374594,null,4600,100,1.1291946906268395,null,4600,100,1.0121110454883029]
[null,4600,110,1.1648660715067884,null,4600,110,0.5852125833632662,null,4600,110,1.1315318501035811,null,4600,110,1.0179271080202428]
[null,4600,120,1.1662041797996674,null,4600,120,0.58886600832865132,null,4600,120,1.133693535904527,null,4600,120,1.0234022326104972]
[null,4600,130,1.1674092670352005,null,4600,130,0.59328129656320727,null,4600,130,1.135688125060607,null,4600,130,1.0285526948752806]
[null,4600,140,1.1684881373001299,null,4600,140,0.59848149960738806,null,4600,140,1.1375240065820367,null,4600,140,1.0333949005176957]
[null,4600,150,1.1694475247082188,null,4600,150,0.6044881489934536,null,4600,150,1.1392094713675873,null,4600,150,1.037945103812731]
[null,4600,160,1.1702940277555061,null,4600,160,0.61131908261797385,null,4600,160,1.1407526308787805,null,4600,160,1.0422192051815886]
[null,4600,170,1.1710340613204804,null,4600,170,0.61898349772849315,null,4600,170,1.1421613585887487,null,4600,170,1.0462326098448511]
[null,4600,180,1.1716738226279786,null,4600,180,0.62747535100014973,null,4600,180,1.1434432493327034,null,4600,180,1.0500001332369331]
[null,4600,190,1.1722192682099812,null,4600,190,0.63676715612218393,null,4600,190,1.1446055926243461,null,4600,190,1.0535359419020078]
[null,4600,200,1.1726760994775549,null,4600,200,0.64680664409776256,null,4600,200,1.1456553567793708,null,4600,200,1.0568535210497361]
[null,4600,225,1.1734655276504955,null,4600,225,0.67463909888994311,null,4600,225,1.1478299937488925,null,4600,225,1.0642749568782852]
[null,4600,{"$f":"C1858+25","v":250},1.1738121496240466,null,4600,{"$f":"G1858+25","v":250},0.7051131040794606,null,4600,{"$f":"K1858+25","v":250},1.1494364149464931,null,4600,{"$f":"O1858+25","v":250},1.0705917503714939]
[null,4600,275,1.1737837704164245,null,4600,275,0.73661715186422616,null,4600,275,1.1505571789781606,null,4600,275,1.0759599514022147]
[null,4600,300,1.1734390027428823,null,4600,300,0.76772916686756443,null,4600,300,1.1512636443510069,null,4600,300,1.080513047238773]
[null,4600,325,1.1728282359788238,null,4600,325,0.79737438996848342,null,4600,325,1.1516172188088476,null,4600,325,1.0843648765520961]
[null,4600,350,1.1719946408847406,null,4600,350,0.82490506298388733,null,4600,350,1.1516706181050698,null,4600,350,1.087612433562368]
[null,4600,375,1.1709751265851007,null,4600,375,0.85004924653215075,null,4600,375,1.1514690429850485,null,4600,375,1.0903383964782012]
[null,4600,400,1.1698012114780754,null,4600,400,0.87278706399974371,null,4600,400,1.1510512366793904,null,4600,400,1.0926133305237227]
[null,4600,425,1.1684997947546409,null,4600,425,0.89323751756709846,null,4600,425,1.1504504132481337,null,4600,425,1.0944975709065616]
[null,4600,450,1.1670938285244841,null,4600,450,0.91158307767434665,null,4600,450,1.1496950611882744,null,4600,450,1.0960428147442913]
[null,4600,475,1.1656028971318197,null,4600,475,0.92802638472249954,null,4600,475,1.1488096330917392,null,4600,475,1.097293458875944]
[null,4600,500,1.1640437131258017,null,4600,500,0.94276760789955094,null,4600,500,1.1478151344303809,null,4600,500,1.0982877208144863]
[null,4700,50,1.161242024742793,null,4700,50,0.58915782327647703,null,4700,50,1.1216099904833328,null,4700,50,0.98234396271257562]
[null,4700,{"$f":"C1870+10","v":60},1.163315603095098,null,4700,{"$f":"G1870+10","v":60},0.58861470649315872,null,4700,{"$f":"K1870+10","v":60},1.1247434200367834,null,4700,{"$f":"O1870+10","v":60},0.98987588717990549]
[null,4700,70,1.1652345847491685,null,4700,70,0.5886911186189222,null,4700,70,1.1276810936754544,null,4700,70,0.99702757727303515]
[null,4700,80,1.1670018776891387,null,4700,80,0.58940180218686988,null,4700,80,1.1304266884572038,null,4700,80,1.0038032820955431]
[null,4700,90,1.1686215380903202,null,4700,90,0.59076463225078257,null,4700,90,1.1329853120185491,null,4700,90,1.010211180169166]
[null,4700,100,1.1700984514206454,null,4700,100,0.59280077634988138,null,4700,100,1.1353631014946395,null,4700,100,1.0162622644383899]
[null,4700,110,1.1714380777835092,null,4700,110,0.59553342485640992,null,4700,110,1.1375669021453212,null,4700,110,1.0219694587810175]
[null,4700,120,1.1726462502160078,null,4700,120,0.59898554327269804,null,4700,120,1.1396040124887969,null,4700,120,1.0273469282084995]
[null,4700,130,1.1737290162459837,null,4700,130,0.60317839820133445,null,4700,130,1.1414819843289981,null,4700,130,1.0324095477289927]
[null,4700,140,1.1746925145470177,null,4700,140,0.60813159297615915,null,4700,140,1.1432084676651493,null,4700,140,1.0371724991198801]
[null,4700,150,1.175542879918771,null,4700,150,0.61386319981616444,null,4700,150,1.1447910919925453,null,4700,150,1.0416509695234748]
[null,4700,160,1.1762861710257668,null,4700,160,0.6203880502969733,null,4700,160,1.1462373768870391,null,4700,160,1.0458599302566025]
[null,4700,170,1.1769283163487356,null,4700,170,0.62771359605705157,null,4700,170,1.1475546659876086,null,4700,170,1.0498139782367839]
[null,4700,180,1.1774750746532705,null,4700,180,0.63583420654892986,null,4700,180,1.1487500795466321,null,4700,180,1.053527225877037]
[null,4700,190,1.1779320069817769,null,4700,190,0.64472554125642256,null,4700,190,1.1498304816133933,null,4700,190,1.0570132281866305]
[null,4700,200,1.1783044577487762,null,4700,200,0.65434103860098758,null,4700,200,1.1508024586666676,null,4700,200,1.0602849381828863]
[null,4700,225,1.1788989740499505,null,4700,225,0.68105884586827825,null,4700,225,1.1527986342837335,null,4700,225,1.0676060293344827]
[null,4700,{"$f":"C1886+25","v":250},1.1790703232287485,null,4700,{"$f":"G1886+25","v":250},0.71042793147444605,null,4700,{"$f":"K1886+25","v":250},1.1542460111905188,null,4700,{"$f":"O1886+25","v":250},1.073838580349266]
[null,4700,275,1.1788829763930853,null,4700,275,0.74093304850853414,null,4700,275,1.1552236660648669,null,4700,275,1.0791345204857055]
[null,4700,300,1.1783929168451222,null,4700,300,0.77122413660954658,null,4700,300,1.1558002356414241,null,4700,300,1.0836243719072927]
[null,4700,325,1.1776484431874721,null,4700,325,0.80025142392606052,null,4700,325,1.1560349802602106,null,4700,325,1.0874198218415245]
[null,4700,350,1.1766910495487293,null,4700,350,0.82734634561251952,null,4700,350,1.1559789060832215,null,4700,350,1.0906162903856575]
[null,4700,375,1.1755562889063407,null,4700,375,0.85219644048289045,null,4700,375,1.1556758409876648,null,4700,375,1.0932952946472743]
[null,4700,400,1.1742745732714654,null,4700,400,0.87474243021377884,null,4700,400,1.1551634165698745,null,4700,400,1.0955265367136773]
[null,4700,425,1.1728718915310847,null,4700,425,0.89507229848246095,null,4700,425,1.1544739396120216,null,4700,425,1.0973697053800784]
[null,4700,450,1.1713704405884799,null,4700,450,0.91334605557877635,null,4700,450,1.15363515246743,null,4700,450,1.0988760102227753]
[null,4700,475,1.1697891732061272,null,4700,475,0.92975062508517781,null,4700,475,1.152670889582625,null,4700,475,1.100089477860297]
[null,4700,500,1.1681442696090878,null,4700,500,0.94447532089851249,null,4700,500,1.1516016406796079,null,4700,500,1.1010480428174356]
[null,4800,50,1.1688855030574063,null,4800,50,0.60039147877661714,null,4800,50,1.1287085818826632,null,4800,50,0.98741226513571012]
[null,4800,{"$f":"C1898+10","v":60},1.170762230254929,null,4800,{"$f":"G1898+10","v":60},0.59970884466469332,null,4800,{"$f":"K1898+10","v":60},1.1316457956524866,null,4800,{"$f":"O1898+10","v":60},0.99474566042754631]
[null,4800,70,1.1724977182565368,null,4800,70,0.59964219967621302,null,4800,70,1.1344016627932194,null,4800,70,1.0017200884708246]
[null,4800,80,1.1740936870797734,null,4800,80,0.60020427922948583,null,4800,80,1.136978528377125,null,4800,80,1.0083374031281096]
[null,4800,90,1.175553110085908,null,4800,90,0.60141064842600178,null,4800,90,1.1393802823003449,null,4800,90,1.0146035943904783]
[null,4800,100,1.1768798892253476,null,4800,100,0.60327983390374273,null,4800,100,1.1416119548251882,null,4800,100,1.0205276817076849]
[null,4800,110,1.1780785934331097,null,4800,110,0.60583214379049155,null,4800,110,1.1436793895269537,null,4800,110,1.0261208265754727]
[null,4800,120,1.1791542495685652,null,4800,120,0.60908756486810989,null,4800,120,1.1455889813761049,null,4800,120,1.0313956314021433]
[null,4800,130,1.1801121766269802,null,4800,130,0.61306434393919795,null,4800,130,1.1473474690299292,null,4800,130,1.0363655929958264]
[null,4800,140,1.180957855313987,null,4800,140,0.61777898645744833,null,4800,140,1.1489617718134257,null,4800,140,1.0410446821833552]
[null,4800,150,1.1816968263502539,null,4800,150,0.62324645946917612,null,4800,150,1.1504388632344433,null,4800,150,1.0454470249389671]
[null,4800,160,1.1823346120081746,null,4800,160,0.62947885468319731,null,4800,160,1.1517856741428119,null,4800,160,1.0495866643154215]
[null,4800,170,1.1828766563593371,null,4800,170,0.63648192396870229,null,4800,170,1.1530090197770053,null,4800,170,1.0534773860962372]
[null,4800,180,1.1833282805354097,null,4800,180,0.64425016156533632,null,4800,180,1.1541155459337653,null,4800,180,1.057132594279236]
[null,4800,190,1.1836946499905767,null,4800,190,0.65276174352127048,null,4800,190,1.1551116903480116,null,4800,190,1.0605652252197926]
[null,4800,200,1.183980751318958,null,4800,200,0.66197499755324707,null,4800,200,1.1560036560913443,null,4800,200,1.0637876915257736]
[null,4800,225,1.1843757762803837,null,4800,225,0.68763238272701654,null,4800,225,1.1578161986964424,null,4800,225,1.0710007762387863]
[null,4800,{"$f":"C1914+25","v":250},1.1843677365067355,null,4800,{"$f":"G1914+25","v":250},0.71594331416294343,null,4800,{"$f":"K1914+25","v":250},1.1590998814586457,null,4800,{"$f":"O1914+25","v":250},1.077142415603914]
[null,4800,275,1.1840177302680095,null,4800,275,0.74547899014240393,null,4800,275,1.1599302532133713,null,4800,275,1.0823602824067855]
[null,4800,300,1.1833790703903091,null,4800,300,0.77495691388300691,null,4800,300,1.1603731827088557,null,4800,300,1.0867818117966703]
[null,4800,325,1.1824979246525897,null,4800,325,0.80335723125326075,null,4800,325,1.1604857388492418,null,4800,325,1.0905164336862503]
[null,4800,350,1.1814140731229381,null,4800,350,0.82999907470448009,null,4800,350,1.1603171774597218,null,4800,350,1.0936579036405507]
[null,4800,375,1.1801616785256319,null,4800,375,0.85453547204336044,null,4800,375,1.159909916467633,null,4800,375,1.0962865010996001]
[null,4800,400,1.1787700158823355,null,4800,400,0.87687060910530534,null,4800,400,1.1593004424272113,null,4800,400,1.0984710003932243]
[null,4800,425,1.1772641365760523,null,4800,425,0.89706251246071245,null,4800,425,1.1585201249548276,null,4800,425,1.1002703893954242]
[null,4800,450,1.1756654582730937,null,4800,450,0.91524898741058014,null,4800,450,1.1575959336195034,null,4800,450,1.1017353441066446]
[null,4800,475,1.1739922809768566,null,4800,475,0.9316011731142021,null,4800,475,1.1565510610473515,null,4800,475,1.102909481959101]
[null,4800,500,1.1722602339729902,null,4800,500,0.94629734713455405,null,4800,500,1.1554054602063097,null,4800,500,1.1038304214114618]
[null,4900,50,1.1766090294367963,null,4900,50,0.6115972129084416,null,4900,50,1.1358978564452773,null,4900,50,0.99261451995660732]
[null,4900,{"$f":"C1926+10","v":60},1.1782865866655645,null,4900,{"$f":"G1926+10","v":60},0.61077469236825999,null,4900,{"$f":"K1926+10","v":60},1.1386362514899442,null,4900,{"$f":"O1926+10","v":60},0.99974489038627956]
[null,4900,70,1.1798361805285988,null,4900,70,0.610564956410522,null,4900,70,1.1412075936149808,null,4900,70,1.0065372913865203]
[null,4900,80,1.1812583794129647,null,4900,80,0.61097885623744763,null,4900,80,1.1436129456976178,null,4900,80,1.0129913135217519]
[null,4900,90,1.1825551028224937,null,4900,90,0.61202980601329093,null,4900,90,1.1458550195272448,null,4900,90,1.0191108591575837]
[null,4900,100,1.1837292921570877,null,4900,100,0.61373388953863928,null,4900,100,1.1479377695410844,null,4900,100,1.0249030496975651]
[null,4900,110,1.1847846432760827,null,4900,110,0.61610876225831046,null,4900,110,1.1498660615442664,null,4900,110,1.0303773392624522]
[null,4900,120,1.1857253909732666,null,4900,120,0.61917168409221512,null,4900,120,1.1516454050346627,null,4900,120,1.0355448065300341]
[null,4900,130,1.1865561365634127,null,4900,130,0.62293815828372279,null,4900,130,1.1532817388794454,null,4900,130,1.040417596433854]
[null,4900,140,1.187281710962288,null,4900,140,0.62742189777608626,null,4900,140,1.1547812613159558,null,4900,140,1.0450084855506581]
[null,4900,150,1.1879070667968954,null,4900,150,0.63263507538222696,null,4900,150,1.1561502964697841,null,4900,150,1.049330548102656]
[null,4900,160,1.1884371941384595,null,4900,160,0.63858728600964543,null,4900,160,1.1573951907344415,null,4900,160,1.0533969028596952]
[null,4900,170,1.1888770553777062,null,4900,170,0.6452826457891635,null,4900,170,1.1585222334047343,null,4900,170,1.0572205244626915]
[null,4900,180,1.1892315355550191,null,4900,180,0.65271555601372921,null,4900,180,1.1595375968844053,null,4900,180,1.0608141056141016]
[null,4900,190,1.1895054051249996,null,4900,190,0.66086618482019488,null,4900,190,1.1604472925950695,null,4900,190,1.0641899591211246]
[null,4900,200,1.1897032926894509,null,4900,200,0.66969702572462908,null,4900,200,1.1612571394030673,null,4900,200,1.0673599509256668]
[null,4900,225,1.189894477322005,null,4900,225,0.69434374766630547,null,4900,225,1.1628811347558718,null,4900,225,1.0744576709575986]
[null,4900,{"$f":"C1942+25","v":250},1.1897031251575132,null,4900,{"$f":"G1942+25","v":250},0.72164041966418724,null,4900,{"$f":"K1942+25","v":250},1.1639966894627172,null,4900,{"$f":"O1942+25","v":250},1.0805019697209233]
[null,4900,275,1.1891869296805524,null,4900,275,0.75023641523420082,null,4900,275,1.1646757859424264,null,4900,275,1.0856361432656576]
[null,4900,300,1.1883964978236181,null,4900,300,0.77891175169525484,null,4900,300,1.1649814846147648,null,4900,300,1.0899844291135408]
[null,4900,325,1.1873758310215128,null,4900,325,0.8066794698631885,null,4900,325,1.1649686236702061,null,4900,325,1.0936539022514737]
[null,4900,350,1.1861629614815088,null,4900,350,0.8328537134721683,null,4900,350,1.1646846717334303,null,4900,350,1.0967365694146598]
[null,4900,375,1.1847906304792721,null,4900,375,0.85705887833731764,null,4900,375,1.1641706028949343,null,4900,375,1.0993114003880864]
[null,4900,400,1.1832869477886807,null,4900,400,0.87916566813163777,null,4900,400,1.1634617279117163,null,4900,400,1.1014461805977112]
[null,4900,425,1.1816760019876125,null,4900,425,0.89920338097923214,null,4900,425,1.1625884515275551,null,4900,425,1.1031991451560155]
[null,4900,450,1.1799784090140246,null,4900,450,0.91728798178298521,null,4900,450,1.1615769457171461,null,4900,450,1.1046203925265767]
[null,4900,475,1.1782117962099494,null,4900,475,0.93357482954273552,null,4900,475,1.1604497391301181,null,4900,475,1.1057530936184106]
[null,4900,500,1.1763912243476045,null,4900,500,0.94823103403607878,null,4900,500,1.1592262282455088,null,4900,500,1.106634519038812]
[null,5000,50,1.1844083944618142,null,5000,50,0.62277559882648181,null,5000,50,1.1431731047275999,null,5000,50,0.99794414202926851]
[null,5000,{"$f":"C1954+10","v":60},1.1858847203798895,null,5000,{"$f":"G1954+10","v":60},0.62181283756822281,null,5000,{"$f":"K1954+10","v":60},1.1457103834077214,null,5000,{"$f":"O1954+10","v":60},1.0048675642872082]
[null,5000,70,1.1872462632196676,null,5000,70,0.62145997091316285,null,5000,70,1.1480947698242754,null,5000,70,1.0114737022452263]
[null,5000,80,1.1884924761071405,null,5000,80,0.62172607766065358,null,5000,80,1.1503260938460103,null,5000,80,1.0177600137441489]
[null,5000,90,1.1896242538529831,null,5000,90,0.62262256461947729,null,5000,90,1.152405928859582,null,5000,90,1.0237284151975525]
[null,5000,100,1.1906436006064582,null,5000,100,0.62416325062911848,null,5000,100,1.1543371850536783,null,5000,100,1.0293842075076254]
[null,5000,110,1.1915533576726807,null,5000,110,0.62636334367702429,null,5000,110,1.1561237751961173,null,5000,110,1.0347351952762889]
[null,5000,120,1.1923569823958236,null,5000,120,0.6292376005168645,null,5000,120,1.157770342369298,null,5000,120,1.0397909755287718]
[null,5000,130,1.1930583698232504,null,5000,130,0.63279902395637566,null,5000,130,1.15928204006189,null,5000,130,1.044562370947167]
[null,5000,140,1.1936617098604891,null,5000,140,0.63705880155738992,null,5000,140,1.1606643560765155,null,5000,140,1.0490609837807185]
[null,5000,150,1.1941713736527177,null,5000,150,0.64202658543523849,null,5000,150,1.1619229727993463,null,5000,150,1.0532988489618373]
[null,5000,160,1.194591823898304,null,5000,160,0.64770969461671868,null,5000,160,1.1630636574221682,null,5000,160,1.0572881677749224]
[null,5000,170,1.1949275446713199,null,5000,170,0.65411068499899594,null,5000,170,1.1640921766723369,null,5000,170,1.0610411062731913]
[null,5000,180,1.1951829870878881,null,5000,180,0.66122370325338597,null,5000,180,1.1650142314719876,null,5000,180,1.0645696452912345]
[null,5000,190,1.1953625277965263,null,5000,190,0.66903047527001869,null,5000,190,1.1658354077084356,null,5000,190,1.0678854712548576]
[null,5000,200,1.1954704378142893,null,5000,200,0.67749702573679749,null,5000,200,1.1665611399546356,null,5000,200,1.0709998990140779]
[null,5000,225,1.1954536552336363,null,5000,225,0.7011788474021653,null,5000,225,1.1679919216807726,null,5000,225,1.0779751951998231]
[null,5000,{"$f":"C1970+25","v":250},1.1950752535678819,null,5000,{"$f":"G1970+25","v":250},0.72750232560532291,null,5000,{"$f":"K1970+25","v":250},1.1689351230258509,null,5000,{"$f":"O1970+25","v":250},1.0839159618138174]
[null,5000,275,1.1943894960034336,null,5000,275,0.7551881644996763,null,5000,275,1.1694591282599824,null,5000,275,1.0889610128612062]
[null,5000,300,1.1934442534274288,null,5000,300,0.7830736776122984,null,5000,300,1.1696241546214656,null,5000,300,1.0932312885450528]
[null,5000,325,1.1922813296739554,null,5000,325,0.81020618190240123,null,5000,325,1.1694827747631158,null,5000,325,1.0968314193535402]
[null,5000,350,1.1909369787278186,null,5000,350,0.83590092598249133,null,5000,350,1.1690806368944084,null,5000,350,1.0998515848708397]
[null,5000,375,1.1894424919940925,null,5000,375,0.85975929893691327,null,5000,375,1.1684572403947089,null,5000,375,1.1023693777341272]
[null,5000,400,1.1878247879836785,null,5000,400,0.88162171345314377,null,5000,400,1.1676466919620911,null,5000,400,1.1044515367395862]
[null,5000,425,1.1861069689902002,null,5000,425,0.90149012237493253,null,5000,425,1.166678405853373,null,5000,425,1.1061554950312817]
[null,5000,450,1.1843088282206824,null,5000,450,0.91945911859792206,null,5000,450,1.1655777333637916,null,5000,450,1.107530731625076]
[null,5000,475,1.1824473016722792,null,5000,475,0.93566835225329403,null,5000,475,1.1643665184707805,null,5000,475,1.1086199351829318]
[null,5000,500,1.1805368650369463,null,5000,500,0.95027367949995645,null,5000,500,1.1630635826463158,null,5000,500,1.1094599979571933]
[null,5100,50,1.1922795845468546,null,5100,50,0.6339271874259621,null,5100,50,1.1505298300095119,null,5100,50,1.0033947968217976]
[null,5100,{"$f":"C1982+10","v":60},1.1935528559201865,null,5100,{"$f":"G1982+10","v":60},0.63282384536125746,null,5100,{"$f":"K1982+10","v":60},1.1528639760974042,null,5100,{"$f":"O1982+10","v":60},1.0101078753841857]
[null,5100,70,1.1947244168711209,null,5100,70,0.63232780355568241,null,5100,70,1.1550592429986826,null,5100,70,1.0165240063801781]
[null,5100,80,1.1957926415547302,null,5100,80,0.63244647035693491,null,5100,80,1.1571142758186879,null,5100,80,1.0226386430219465]
[null,5100,90,1.1967574293567298,null,5100,90,0.6331893751791885,null,5100,90,1.1590295489817828,null,5100,90,1.0284518171660877]
[null,5100,100,1.197619870704012,null,5100,100,0.63456823206342905,null,5100,100,1.1608069602223658,null,5100,100,1.0339670879156648]
[null,5100,110,1.1983819711892685,null,5100,110,0.63659598553577867,null,5100,110,1.1624494945441144,null,5100,110,1.0391906702437104]
[null,5100,120,1.1990464257148676,null,5100,120,0.63928508852433652,null,5100,120,1.163960948411386,null,5100,120,1.0441307241144187]
[null,5100,130,1.1996164349217064,null,5100,130,0.64264625816754428,null,5100,130,1.1653457051952396,null,5100,130,1.0487967823022157]
[null,5100,140,1.2000955569748308,null,5100,140,0.64668839111695564,null,5100,140,1.1666085538099096,null,5100,140,1.0531992953982001]
[null,5100,150,1.2004875886689164,null,5100,150,0.65141885989589376,null,5100,150,1.167754543438339,null,5100,150,1.0573492741654626]
[null,5100,160,1.2007964706945162,null,5100,160,0.65684290790197775,null,5100,160,1.1687888681900431,null,5100,160,1.0612580117022841]
[null,5100,170,1.2010262127163183,null,5100,170,0.66296161280465105,null,5100,170,1.1697167764205645,null,5100,170,1.064936870338915]
[null,5100,180,1.2011808346331512,null,5100,180,0.66976874938496267,null,5100,180,1.1705435002469571,null,5100,180,1.0683971205732694]
[null,5100,190,1.2012643210100047,null,5100,190,0.67724724376767276,null,5100,190,1.1712742015087525,null,5100,190,1.0716498215138486]
[null,5100,200,1.201280586198803,null,5100,200,0.68536609925080416,null,5100,200,1.1719139310474915,null,5100,200,1.0747057341921065]
[null,5100,225,1.2010519232821346,null,5100,225,0.70812520406325641,null,5100,225,1.1731470711754739,null,5100,225,1.0815518413784586]
[null,5100,{"$f":"C1998+25","v":250},1.2004829149422431,null,5100,{"$f":"G1998+25","v":250},0.73351383677338167,null,5100,{"$f":"K1998+25","v":250},1.1739138951264771,null,5100,{"$f":"O1998+25","v":250},1.0873831184078875]
[null,5100,275,1.1996243744616557,null,5100,275,0.76031842665249372,null,5100,275,1.1742791636600833,null,5100,275,1.0923338062082468]
[null,5100,300,1.1985214114245579,null,5100,300,0.78742851394722968,null,5100,300,1.1743002211075186,null,5100,300,1.0965214584932117]
[null,5100,325,1.1972136048087292,null,5100,325,0.81392582151749049,null,5100,325,1.1740273439304449,null,5100,325,1.1000481794739008]
[null,5100,350,1.1957354032653169,null,5100,350,0.83913160167973144,null,5100,350,1.1735043301336099,null,5100,350,1.1030022490877482]
[null,5100,375,1.1941166225435906,null,5100,375,0.86262950157324647,null,5100,375,1.1727691763457024,null,5100,375,1.1054598197303556]
[null,5100,400,1.1923829660185017,null,5100,400,0.8842329161812178,null,5100,400,1.1718547593045492,null,5100,400,1.1074865292005693]
[null,5100,425,1.1905565279666326,null,5100,425,0.90391797619448833,null,5100,425,1.1707894791314108,null,5100,425,1.1091389620592706]
[null,5100,450,1.1886562592915282,null,5100,450,0.92175847009800749,null,5100,450,1.1695978450210227,null,5100,450,1.1104659379859423]
[null,5100,475,1.1866983871388697,null,5100,475,0.93787847376631561,null,5100,475,1.1683009969581306,null,5100,475,1.1115096292652802]
[null,5100,500,1.1846967865281604,null,5100,500,0.9524225461351622,null,5100,500,1.1669171640596414,null,5100,500,1.1123065205591021]
[null,5200,50,1.2002187745877202,null,5200,50,0.64505250859493857,null,5200,50,1.1579637424264033,null,5200,50,1.0089604022598986]
[null,5200,{"$f":"C2010+10","v":60},1.2012873883183455,null,5200,{"$f":"G2010+10","v":60},0.64380825924786722,null,5200,{"$f":"K2010+10","v":60},1.1600929985665169,null,5200,{"$f":"O2010+10","v":60},1.0154602266938557]
[null,5200,70,1.202267246148951,null,5200,70,0.64316899409296591,null,5200,70,1.1620972291432392,null,5200,70,1.0216830631239173]
[null,5200,80,1.2031556793686311,null,5200,80,0.64314054418033106,null,5200,80,1.163973941535879,null,5200,80,1.0276224848464317]
[null,5200,90,1.2039516212201102,null,5200,90,0.6437306794336326,null,5200,90,1.16572255010623,null,5200,90,1.0332767393926874]
[null,5200,100,1.2046552720786254,null,5200,100,0.64494915366486594,null,5200,100,1.1673439718786773,null,5200,100,1.0386477231092104]
[null,5200,110,1.2052678208989982,null,5200,110,0.64680681334743362,null,5200,110,1.1688402896602148,null,5200,110,1.0437401225382479]
[null,5200,120,1.2057912154506603,null,5200,120,0.64931398577312149,null,5200,120,1.1702144736163727,null,5200,120,1.0485607070607026]
[null,5200,130,1.2062279741837199,null,5200,130,0.65247929278686212,null,5200,130,1.1714701529212888,null,5200,130,1.0531177540758379]
[null,5200,140,1.2065810331891877,null,5200,140,0.65630954660435437,null,5200,140,1.1726114298789558,null,5200,140,1.0574205874881759]
[null,5200,150,1.2068536224705131,null,5200,150,0.66081005310008856,null,5200,150,1.1736427297622998,null,5200,150,1.061479211302619]
[null,5200,160,1.2070491665245915,null,5200,160,0.66598416120318793,null,5200,160,1.1745686804685209,null,5200,160,1.0653040219309751]
[null,5200,170,1.207171204974824,null,5200,170,0.671831555228947,null,5200,170,1.1753940169006227,null,5200,170,1.0689055849091216]
[null,5200,180,1.207223329673776,null,5200,180,0.6783455557192426,null,5200,180,1.1761235057318613,null,5200,180,1.0722944638333154]
[null,5200,190,1.2072091352854519,null,5200,190,0.68550999644521049,null,5200,190,1.1767618868802165,null,5200,190,1.0754810912941863]
[null,5200,200,1.2071321808661717,null,5200,200,0.69329638138062755,null,5200,200,1.1773138286103102,null,5200,200,1.0784756733460981]
[null,5200,225,1.2066879299727225,null,5200,225,0.71517173776180998,null,5200,225,1.1783451282392672,null,5200,225,1.0851861147773829]
[null,5200,{"$f":"C2026+25","v":250},1.2059249313574441,null,5200,{"$f":"G2026+25","v":250},0.73966131075335539,null,5200,{"$f":"K2026+25","v":250},1.1789317447555652,null,5200,{"$f":"O2026+25","v":250},1.090902175179679]
[null,5200,275,1.204890534193215,null,5200,275,0.76561267237883834,null,5200,275,1.179134795969331,null,5200,275,1.095753444945639]
[null,5200,300,1.2036270660361743,null,5200,300,0.79196288641189039,null,5200,300,1.1790087283649082,null,5200,300,1.0998540122250955]
[null,5200,325,1.2021718574949896,null,5200,325,0.81782727682619794,null,5200,325,1.1786014954620523,null,5200,325,1.1033033807071837]
[null,5200,350,1.200557527840546,null,5200,350,0.84253687424205681,null,5200,350,1.177955018484061,null,5200,350,1.1061878638480975]
[null,5200,375,1.1988123938823141,null,5200,375,0.86566240186937671,null,5200,375,1.177105765935164,null,5200,375,1.1085821150013706]
[null,5200,400,1.1969609220282136,null,5200,400,0.88699353369154066,null,5200,400,1.176085360916707,null,5200,400,1.1105506198896937]
[null,5200,425,1.1950241784759701,null,5200,425,0.90648222406955903,null,5200,425,1.1749211676321087,null,5200,425,1.1121490704213071]
[null,5200,450,1.193020253625666,null,5200,450,0.92418211965686548,null,5200,450,1.1736368333168943,null,5200,450,1.1134255890406402]
[null,5200,475,1.1909646493974522,null,5200,475,0.94020191730613201,null,5200,475,1.1722527759731201,null,5200,475,1.1144217990960057]
[null,5200,500,1.1888706254852031,null,5200,500,0.95467487462465062,null,5200,500,1.1707866161282952,null,5200,500,1.1151737496750334]
[null,5300,50,1.2082223204713305,null,5300,50,0.65615207237478756,null,5300,50,1.165470752632517,null,5300,50,1.0146351284292663]
[null,5300,{"$f":"C2038+10","v":60},1.2090848769257203,null,5300,{"$f":"G2038+10","v":60},0.65476660231336736,null,5300,{"$f":"K2038+10","v":60},1.1673935991616629,null,5300,{"$f":"O2038+10","v":60},1.0209192327811742]
[null,5300,70,1.2098715047916613,null,5300,70,0.65398406270082521,null,5300,70,1.169205104784683,null,5300,70,1.0269459089546309]
[null,5300,80,1.2105785283073611,null,5300,80,0.65380879257619351,null,5300,80,1.170901684781767,null,5300,80,1.0327069709458847]
[null,5300,90,1.2112039437855437,null,5300,90,0.65424690957449116,null,5300,90,1.1724817315864304,null,5300,90,1.0381989802931073]
[null,5300,100,1.2117470852894303,null,5300,100,0.65530633807984728,null,5300,100,1.1739452129811645,null,5300,100,1.0434222492672216]
[null,5300,110,1.2122083443713703,null,5300,110,0.656995975591259,null,5300,110,1.1752933352236052,null,5300,110,1.0483799978471167]
[null,5300,120,1.2125889372040304,null,5300,120,0.65932418351102529,null,5300,120,1.1765282628263358,null,5300,120,1.0530776526310535]
[null,5300,130,1.2128907125409463,null,5300,130,0.66229765769854165,null,5300,130,1.1776528871745577,null,5300,130,1.0575222718786792]
[null,5300,140,1.2131159943845886,null,5300,140,0.66592130831935736,null,5300,140,1.1786706368225262,null,5300,140,1.0617220796697957]
[null,5300,150,1.2132674538569963,null,5300,150,0.67019856304520775,null,5300,150,1.1795853230556803,null,5300,150,1.0656860926078191]
[null,5300,160,1.2133480054492087,null,5300,160,0.6751310400010393,null,5300,160,1.1804010150711768,null,5300,160,1.0694238238315599]
[null,5300,170,1.2133607235002417,null,5300,170,0.68071711527689438,null,5300,170,1.1811219398711175,null,5300,170,1.0729450508387355]
[null,5300,180,1.2133087753839817,null,5300,180,0.6869496000749552,null,5300,180,1.1817524026540316,null,5300,180,1.0762596354689089]
[null,5300,190,1.2131953684436798,null,5300,190,0.69381299772800498,null,5300,190,1.1822967241172337,null,5300,190,1.0793773861709903]
[null,5300,200,1.2130237082027111,null,5300,200,0.7012809019154258,null,5300,200,1.1827591916401496,null,5300,200,1.0823079543023517]
[null,5300,225,1.2123603589879355,null,5300,225,0.72230858085596139,null,5300,225,1.1835846717711715,null,5300,225,1.0888765355289318]
[null,5300,{"$f":"C2054+25","v":250},1.2114001537478536,null,5300,{"$f":"G2054+25","v":250},0.74593249454695876,null,5300,{"$f":"K2054+25","v":250},1.1839874376021016,null,5300,{"$f":"O2054+25","v":250},1.0944718785560714]
[null,5300,275,1.2101869682558626,null,5300,275,0.77105758038411454,null,5300,275,1.184024950052794,null,5300,275,1.0992188586379941]
[null,5300,300,1.2087603314975892,null,5300,300,0.79666422243387658,null,5300,300,1.1837487372838702,null,5300,300,1.1032280289409504]
[null,5300,325,1.2071553056904003,null,5300,325,0.82189988685849324,null,5300,325,1.1832044067724048,null,5300,325,1.1065962256448876]
[null,5300,350,1.2054026595601255,null,5300,350,0.84610813614527691,null,5300,350,1.1824319793952685,null,5300,350,1.1094077343757371]
[null,5300,375,1.2035291900597684,null,5300,375,0.868851078128279,null,5300,375,1.1814663726634032,null,5300,375,1.1117356548233166]
[null,5300,400,1.2015581067416405,null,5300,400,0.88989792646046906,null,5300,400,1.1803379344619058,null,5300,400,1.1136432727679233]
[null,5300,425,1.1995094292589346,null,5300,425,0.90917820722198472,null,5300,425,1.1790729730566822,null,5300,425,1.1151853458892238]
[null,5300,450,1.1974003706237326,null,5300,450,0.92672617826562176,null,5300,450,1.1776942553532246,null,5300,450,1.1164092634519918]
[null,5300,475,1.1952456922449533,null,5300,475,0.94263541135968509,null,5300,475,1.1762214606352768,null,5300,475,1.1173560688547253]
[null,5300,500,1.1930580247421103,null,5300,500,0.95702789611884664,null,5300,500,1.1746715856698038,null,5300,500,1.1180613488608298]
[null,5400,50,1.2162867515580895,null,5400,50,0.66722637003727536,null,5400,50,1.1730469651089213,null,5400,50,1.0204133954700783]
[null,5400,{"$f":"C2066+10","v":60},1.2169420390987591,null,5400,{"$f":"G2066+10","v":60},0.66569937832610226,null,5400,{"$f":"K2066+10","v":60},1.1747621002278006,null,5400,{"$f":"O2066+10","v":60},1.0264797198579643]
[null,5400,70,1.2175340903654621,null,5400,70,0.66477351095187087,null,5400,70,1.1763794027086847,null,5400,70,1.0323077591093406]
[null,5400,80,1.2180582579644239,null,5400,80,0.66445169317559294,null,5400,80,1.1778942398016556,null,5400,80,1.0378876838903122]
[null,5400,90,1.2185116303424683,null,5400,90,0.66473848802004132,null,5400,90,1.1793040192035564,null,5400,90,1.0432144655778386]
[null,5400,100,1.2188926989933604,null,5400,100,0.66564010905001569,null,5400,100,1.1806077904594785,null,5400,100,1.0482869100915244]
[null,5400,110,1.2192010774023692,null,5400,110,0.66716363947444124,null,5400,110,1.1818059088209198,null,5400,110,1.0531068328274447]
[null,5400,120,1.2194372658482677,null,5400,120,0.6693156184121728,null,5400,120,1.1828997539481407,null,5400,120,1.0576783662239151]
[null,5400,130,1.219602456098458,null,5400,130,0.67210096677414888,null,5400,130,1.1838914961774158,null,5400,130,1.0620073869001032]
[null,5400,140,1.2196983703073188,null,5400,140,0.67552285426244307,null,5400,140,1.1847839036192747,null,5400,140,1.0661010474849153]
[null,5400,150,1.2197271289109446,null,5400,150,0.67958299744616657,null,5400,150,1.1855801840049374,null,5400,150,1.0699673981613644]
[null,5400,160,1.2196911428916335,null,5400,160,0.68428143136902797,null,5400,160,1.1862838558845092,null,5400,160,1.0736150838527441]
[null,5400,170,1.2195930263872659,null,5400,170,0.68961530744193456,null,5400,170,1.1868986444567606,null,5400,170,1.0770531043775011]
[null,5400,180,1.2194355261977337,null,5400,180,0.69557689350776863,null,5400,180,1.1874283979490212,null,5400,180,1.0802906264869621]
[null,5400,190,1.2192214652677913,null,5400,190,0.70215116985353843,null,5400,190,1.1878770210512319,null,5400,190,1.0833368382872375]
[null,5400,200,1.2189536976922903,null,5400,200,0.70931346830538422,null,5400,200,1.1882484224335776,null,5400,200,1.0862008380306454]
[null,5400,225,1.2180679290425873,null,5400,225,0.72952691979862649,null,5400,225,1.1888643149907701,null,5400,225,1.0926216404085956]
[null,5400,{"$f":"C2082+25","v":250},1.2169074618261264,null,5400,{"$f":"G2082+25","v":250},0.75231637369048043,null,5400,{"$f":"K2082+25","v":250},1.1890797665817285,null,5400,{"$f":"O2082+25","v":250},1.0980909871772637]
[null,5400,275,1.2155126935840352,null,5400,275,0.77664095870462924,null,5400,275,1.1889485723894837,null,5400,275,1.1027289859740534]
[null,5400,300,1.2139203420350475,null,5400,300,0.80152074042698329,null,5400,300,1.1885193259317999,null,5400,300,1.1066425947624225]
[null,5400,325,1.2121631842285649,null,5400,325,0.82613345391903936,null,5400,325,1.1878352689537177,null,5400,325,1.1099259221963778]
[null,5400,350,1.2102701198834471,null,5400,350,0.84983705000054788,null,5400,350,1.1869345012424444,null,5400,350,1.1126611700228646]
[null,5400,375,1.208266407415143,null,5400,375,0.87218878216739959,null,5400,375,1.1858503687991264,null,5400,375,1.1149198337033179]
[null,5400,400,1.206173981476153,null,5400,400,0.89294057095895873,null,5400,400,1.1846119246864912,null,5400,400,1.1167639543401175]
[null,5400,425,1.2040117982315459,null,5400,425,0.91200134078571138,null,5400,425,1.1832444028772326,null,5400,425,1.1182473162458033]
[null,5400,450,1.2017961776796875,null,5400,450,0.92938679873137919,null,5400,450,1.1817696729837495,null,5400,450,1.1194165414756958]
[null,5400,475,1.1995411264770681,null,5400,475,0.94517570268002304,null,5400,475,1.1802066600297905,null,5400,475,1.1203120639827633]
[null,5400,500,1.1972586332902091,null,5400,500,0.95947884359708702,null,5400,500,1.1785717228659638,null,5400,500,1.1209689826695057]
[null,5400,50,1.2162867515580895,null,5400,50,0.66722637003727536,null,5400,50,1.1730469651089213,null,5400,50,1.0204133954700783]
[null,5400,{"$f":"C2094+10","v":60},1.2169420390987591,null,5400,{"$f":"G2094+10","v":60},0.66569937832610226,null,5400,{"$f":"K2094+10","v":60},1.1747621002278006,null,5400,{"$f":"O2094+10","v":60},1.0264797198579643]
[null,5400,70,1.2175340903654621,null,5400,70,0.66477351095187087,null,5400,70,1.1763794027086847,null,5400,70,1.0323077591093406]
[null,5400,80,1.2180582579644239,null,5400,80,0.66445169317559294,null,5400,80,1.1778942398016556,null,5400,80,1.0378876838903122]
[null,5400,90,1.2185116303424683,null,5400,90,0.66473848802004132,null,5400,90,1.1793040192035564,null,5400,90,1.0432144655778386]
[null,5400,100,1.2188926989933604,null,5400,100,0.66564010905001569,null,5400,100,1.1806077904594785,null,5400,100,1.0482869100915244]
[null,5400,110,1.2192010774023692,null,5400,110,0.66716363947444124,null,5400,110,1.1818059088209198,null,5400,110,1.0531068328274447]
[null,5400,120,1.2194372658482677,null,5400,120,0.6693156184121728,null,5400,120,1.1828997539481407,null,5400,120,1.0576783662239151]
[null,5400,130,1.219602456098458,null,5400,130,0.67210096677414888,null,5400,130,1.1838914961774158,null,5400,130,1.0620073869001032]
[null,5400,140,1.2196983703073188,null,5400,140,0.67552285426244307,null,5400,140,1.1847839036192747,null,5400,140,1.0661010474849153]
[null,5400,150,1.2197271289109446,null,5400,150,0.67958299744616657,null,5400,150,1.1855801840049374,null,5400,150,1.0699673981613644]
[null,5400,160,1.2196911428916335,null,5400,160,0.68428143136902797,null,5400,160,1.1862838558845092,null,5400,160,1.0736150838527441]
[null,5400,170,1.2195930263872659,null,5400,170,0.68961530744193456,null,5400,170,1.1868986444567606,null,5400,170,1.0770531043775011]
[null,5400,180,1.2194355261977337,null,5400,180,0.69557689350776863,null,5400,180,1.1874283979490212,null,5400,180,1.0802906264869621]
[null,5400,190,1.2192214652677913,null,5400,190,0.70215116985353843,null,5400,190,1.1878770210512319,null,5400,190,1.0833368382872375]
[null,5400,200,1.2189536976922903,null,5400,200,0.70931346830538422,null,5400,200,1.1882484224335776,null,5400,200,1.0862008380306454]
[null,5400,225,1.2180679290425873,null,5400,225,0.72952691979862649,null,5400,225,1.1888643149907701,null,5400,225,1.0926216404085956]
[null,5400,{"$f":"C2110+25","v":250},1.2169074618261264,null,5400,{"$f":"G2110+25","v":250},0.75231637369048043,null,5400,{"$f":"K2110+25","v":250},1.1890797665817285,null,5400,{"$f":"O2110+25","v":250},1.0980909871772637]
[null,5400,275,1.2155126935840352,null,5400,275,0.77664095870462924,null,5400,275,1.1889485723894837,null,5400,275,1.1027289859740534]
[null,5400,300,1.2139203420350475,null,5400,300,0.80152074042698329,null,5400,300,1.1885193259317999,null,5400,300,1.1066425947624225]
[null,5400,325,1.2121631842285649,null,5400,325,0.82613345391903936,null,5400,325,1.1878352689537177,null,5400,325,1.1099259221963778]
[null,5400,350,1.2102701198834471,null,5400,350,0.84983705000054788,null,5400,350,1.1869345012424444,null,5400,350,1.1126611700228646]
[null,5400,375,1.208266407415143,null,5400,375,0.87218878216739959,null,5400,375,1.1858503687991264,null,5400,375,1.1149198337033179]
[null,5400,400,1.206173981476153,null,5400,400,0.89294057095895873,null,5400,400,1.1846119246864912,null,5400,400,1.1167639543401175]
[null,5400,425,1.2040117982315459,null,5400,425,0.91200134078571138,null,5400,425,1.1832444028772326,null,5400,425,1.1182473162458033]
[null,5400,450,1.2017961776796875,null,5400,450,0.92938679873137919,null,5400,450,1.1817696729837495,null,5400,450,1.1194165414756958]
[null,5400,475,1.1995411264770681,null,5400,475,0.94517570268002304,null,5400,475,1.1802066600297905,null,5400,475,1.1203120639827633]
[null,5400,500,1.1972586332902091,null,5400,500,0.95947884359708702,null,5400,500,1.1785717228659638,null,5400,500,1.1209689826695057]
[null,5500,50,1.2244087632258904,null,5500,50,0.67827587508556186,null,5500,50,1.1806886712173381,null,5500,50,1.0262898699661394]
[null,5500,{"$f":"C2122+10","v":60},1.2248557438491909,null,5500,{"$f":"G2122+10","v":60},0.6766070727598742,null,5500,{"$f":"K2122+10","v":60},1.1821949924899597,null,5500,{"$f":"O2122+10","v":60},1.0321367244421371]
[null,5500,70,1.2252520389105475,null,5500,70,0.6755378227333475,null,5500,70,1.1836168074140558,null,5500,70,1.0377640078635035]
[null,5500,80,1.2255920642977449,null,5500,80,0.67506970838335867,null,5500,80,1.1849484776205987,null,5500,80,1.0431603584874563]
[null,5500,90,1.2258720294269081,null,5500,90,0.67520582729697387,null,5500,90,1.1861864621834992,null,5500,90,1.0483192503820689]
[null,5500,100,1.2260896069055223,null,5500,100,0.67595079000113678,null,5500,100,1.1873289227993828,null,5500,100,1.0532380593865345]
[null,5500,110,1.2262436515335187,null,5500,110,0.67730998737267534,null,5500,110,1.1883753889974762,null,5500,110,1.0579172579290832]
[null,5500,120,1.2263339635144079,null,5500,120,0.67928826567664979,null,5500,120,1.1893264763916587,null,5500,120,1.06235973329183]
[null,5500,130,1.2263610905047653,null,5500,130,0.68188890600693219,null,5500,130,1.1901836512032109,null,5500,130,1.0665702188221162]
[null,5500,140,1.2263261632534836,null,5500,140,0.68511348116964732,null,5500,140,1.190949034726416,null,5500,140,1.0705548252391552]
[null,5500,150,1.226230759937798,null,5500,150,0.68896214509791376,null,5500,150,1.1916252419731539,null,5500,150,1.0743206586145051]
[null,5500,160,1.2260767947833242,null,5500,160,0.69343348301680641,null,5500,160,1.1922152493455556,null,5500,160,1.0778755121052992]
[null,5500,170,1.2258664270827817,null,5500,170,0.69852350236646399,null,5500,170,1.1927222868012395,null,5500,170,1.0812276195998243]
[null,5500,180,1.2256019872519897,null,5500,180,0.70422390975936588,null,5500,180,1.1931497505648145,null,5500,180,1.0843854607752432]
[null,5500,190,1.225285917052211,null,5500,190,0.71052000757480815,null,5500,190,1.193501132985251,null,5500,190,1.0873576084683538]
[null,5500,200,1.2249207215498616,null,5500,200,0.71738856643580085,null,5500,200,1.1937799666330275,null,5500,200,1.0901526106071207]
[null,5500,225,1.2238093936618057,null,5500,225,0.73681886063070279,null,5500,225,1.1941827056946615,null,5500,225,1.0964199844536793]
[null,5500,{"$f":"C2138+25","v":250},1.2224457639448369,null,5500,{"$f":"G2138+25","v":250},0.75880303466242061,null,5500,{"$f":"K2138+25","v":250},1.1942075522229674,null,5500,{"$f":"O2138+25","v":250},1.1017582732283182]
[null,5500,275,1.2208667508998274,null,5500,275,0.78235166387995891,null,5500,275,1.1939046315275672,null,5500,275,1.1062827758650324]
[null,5500,300,1.2191062518064466,null,5500,300,0.80652143136431487,null,5500,300,1.1933195900329694,null,5500,300,1.1100968036433394]
[null,5500,325,1.2171947447779603,null,5500,325,0.83051825164277093,null,5500,325,1.192493287249119,null,5500,325,1.113291684349007]
[null,5500,350,1.2151592445927635,null,5500,350,0.85371555743610283,null,5500,350,1.1914618837726734,null,5500,350,1.1159474849087334]
[null,5500,375,1.2130234545541003,null,5500,375,0.87566894709809928,null,5500,375,1.190257135786239,null,5500,375,1.1181340499198267]
[null,5500,400,1.2108080181182534,null,5500,400,0.89611606917641196,null,5500,400,1.1889067837807925,null,5500,400,1.1199121341151703]
[null,5500,425,1.2085308124676011,null,5500,425,0.91494712519727017,null,5500,425,1.1874349706495735,null,5500,425,1.1213345116790641]
[null,5500,450,1.2062072501639163,null,5500,450,0.93216018765484765,null,5500,450,1.1858626530803931,null,5500,450,1.1224470053001774]
[null,5500,475,1.2038505698711748,null,5500,475,0.94781956772111087,null,5500,475,1.1842079874280504,null,5500,475,1.1232894114777041]
[null,5500,500,1.2014721062603335,null,5500,500,0.96202496215555833,null,5500,500,1.1824866814363839,null,5500,500,1.1238963169078695]
[null,5600,50,1.2325852095451082,null,5600,50,0.68930104418573113,null,5600,50,1.1883923420894278,null,5600,50,1.0322594601003716]
[null,5600,{"$f":"C2150+10","v":60},1.2328230055313514,null,5600,{"$f":"G2150+10","v":60},0.68749015374689437,null,5600,{"$f":"K2150+10","v":60},1.189688929234616,null,5600,{"$f":"O2150+10","v":60},1.0378854908041544]
[null,5600,70,1.2330225195494626,null,5600,70,0.68627746511053245,null,5600,70,1.1909141503504517,null,5600,70,1.0433102276627817]
[null,5600,80,1.2331772650653856,null,5600,80,0.68566328595555193,null,5600,80,1.1920614021413072,null,5600,80,1.048520882120453]
[null,5600,90,1.2332826009891527,null,5600,90,0.68564933000645845,null,5600,90,1.1931262299955299,null,5600,90,1.0535095204377243]
[null,5600,100,1.2333354046045246,null,5600,100,0.68623870289393762,null,5600,100,1.1941059374146852,null,5600,100,1.0582721627833593]
[null,5600,110,1.2333337914046347,null,5600,110,0.68743521383591499,null,5600,110,1.1949992531016633,null,5600,110,1.0628079994602866]
[null,5600,120,1.2332768774078284,null,5600,120,0.68924213318061045,null,5600,120,1.1958060493072302,null,5600,120,1.0671187215948348]
[null,5600,130,1.2331645791570001,null,5600,130,0.69166122343946346,null,5600,130,1.1965271051441611,null,5600,130,1.071207958150372]
[null,5600,140,1.2329974465966278,null,5600,140,0.69469258842878712,null,5600,140,1.1971639089282193,null,5600,140,1.0750808083336802]
[null,5600,150,1.2327765242589632,null,5600,150,0.69833495161686765,null,5600,150,1.1977184940889352,null,5600,150,1.0787434574700341]
[null,5600,160,1.232503236574306,null,5600,160,0.70258556859977683,null,5600,160,1.1981933037381587,null,5600,160,1.0822028645578265]
[null,5600,170,1.232179293573243,null,5600,170,0.70743937989858474,null,5600,170,1.198591079543176,null,5600,170,1.0854665104953054]
[null,5600,180,1.2318066137178412,null,5600,180,0.71288752524762411,null,5600,180,1.1989147710938188,null,5600,180,1.0885421970767319]
[null,5600,190,1.23138726105041,null,5600,190,0.7189155054351386,null,5600,190,1.1991674624613646,null,5600,190,1.0914378880760407]
[null,5600,200,1.2309233942636937,null,5600,200,0.72550127604201098,null,5600,200,1.1993523131114614,null,5600,200,1.0941615849477146]
[null,5600,225,1.2295835408888685,null,5600,225,0.74417731451369395,null,5600,225,1.1995385263667706,null,5600,225,1.1002701424131887]
[null,5600,{"$f":"C2166+25","v":250},1.2280139969038864,null,5600,{"$f":"G2166+25","v":250},0.76538354077071025,null,5600,{"$f":"K2166+25","v":250},1.1993696429248568,null,5600,{"$f":"O2166+25","v":250},1.10547252364424]
[null,5600,275,1.2262482045816885,null,5600,275,0.78817952006130398,null,5600,275,1.1988921184293169,null,5600,275,1.1098791884464556]
[null,5600,300,1.2243172348087934,null,5600,300,0.81165603401493502,null,5600,300,1.1981486433559485,null,5600,300,1.113589758205606]
[null,5600,325,1.2222492557744853,null,5600,325,0.83504502894197286,null,5600,325,1.1971776814502608,null,5600,325,1.1166927328692582]
[null,5600,350,1.2200693837422762,null,5600,350,0.85773588603352668,null,5600,350,1.196013438490563,null,5600,350,1.1192659985113187]
[null,5600,375,1.2177997523088249,null,5600,375,0.87928519282087203,null,5600,375,1.1946860646032658,null,5600,375,1.1213777060250021]
[null,5600,400,1.2154596990908606,null,5600,400,0.89941915535059414,null,5600,400,1.1932219717039192,null,5600,400,1.1230872850351967]
[null,5600,425,1.213066008170629,null,5600,425,0.91801115494588215,null,5600,425,1.1916441962992776,null,5600,425,1.1244464651510815]
[null,5600,450,1.210633171398092,null,5600,450,0.93504261529803545,null,5600,450,1.1899727677794052,null,5600,450,1.1255002393653171]
[null,5600,475,1.2081736471628712,null,5600,475,0.95056382252207738,null,5600,475,1.1882250604946716,null,5600,475,1.1262877401702955]
[null,5600,500,1.2056981049001947,null,5600,500,0.9646635182014468,null,5600,500,1.1864161188093596,null,5600,500,1.1268430188782947]
[null,5700,50,1.2408130961366759,null,5700,50,0.70030231803476251,null,5700,50,1.1961546214300036,null,5700,50,1.0383173098181546]
[null,5700,{"$f":"C2178+10","v":60},1.2408409776244349,null,5700,{"$f":"G2178+10","v":60},0.69834907296695092,null,5700,{"$f":"K2178+10","v":60},1.1972407203592719,null,5700,{"$f":"O2178+10","v":60},1.0437214674058142]
[null,5700,70,1.240842829116541,null,5700,70,0.69699288913909285,null,5700,70,1.1982684049990542,null,5700,70,1.0489421672780135]
[null,5700,80,1.2408112952243147,null,5700,80,0.69623285956328229,null,5700,80,1.1992301460731736,null,5700,80,1.0539652941677955]
[null,5700,90,1.2407409124819886,null,5700,90,0.69606938885706704,null,5700,90,1.2001206089782721,null,5700,90,1.0587815924020636]
[null,5700,100,1.2406277862296631,null,5700,100,0.69650416729196074,null,5700,100,1.2009362678470779,null,5700,100,1.063385798700772]
[null,5700,110,1.2404693119812669,null,5700,110,0.69753952306598288,null,5700,110,1.2016750749598701,null,5700,110,1.0677758809706708]
[null,5700,120,1.2402639374913924,null,5700,120,0.69917725650371687,null,5700,120,1.20233617965698,null,5700,120,1.0719523828478741]
[null,5700,130,1.2400109612711938,null,5700,130,0.70141772058552965,null,5700,130,1.2029196909164455,null,5700,130,1.0759178680101951]
[null,5700,140,1.2397103631836837,null,5700,140,0.70425966438947241,null,5700,140,1.2034264780248096,null,5700,140,1.079676455126269]
[null,5700,150,1.2393626628794971,null,5700,150,0.70770049881298713,null,5700,150,1.2038580041785039,null,5700,150,1.0832334329494586]
[null,5700,160,1.2389688021261427,null,5700,160,0.71173625822376574,null,5700,160,1.2042161883352533,null,5700,160,1.0865949448696055]
[null,5700,170,1.238530047463541,null,5700,170,0.71636088912322105,null,5700,170,1.2045032911410014,null,5700,170,1.0897677327405719]
[null,5700,180,1.2380479100322694,null,5700,180,0.72156496783488211,null,5700,180,1.2047218212568822,null,5700,180,1.0927589306837848]
[null,5700,190,1.2375240798321505,null,5700,190,0.72733409551261119,null,5700,190,1.2048744588835822,null,5700,190,1.0955759006153385]
[null,5700,200,1.2369603720555549,null,5700,200,0.73364719825738267,null,5700,200,1.2049639937163705,null,5700,200,1.0982261023238149]
[null,5700,225,1.2353891929293239,null,5700,225,0.75159590011953781,null,5700,225,1.2049304941595187,null,5700,225,1.1041707100366267]
[null,5700,{"$f":"C2194+25","v":250},1.2336111257084239,null,5700,{"$f":"G2194+25","v":250},0.77204982123046206,null,5700,{"$f":"K2194+25","v":250},1.2045649150991864,null,5700,{"$f":"O2194+25","v":250},1.1092325411938344]
[null,5700,275,1.2316561424944119,null,5700,275,0.7941152396869593,null,5700,275,1.2039100467156316,null,5700,275,1.1135171959872188]
[null,5700,300,1.2295524847551016,null,5700,300,0.81691500516444593,null,5700,300,1.2030056180157196,null,5700,300,1.1171205705029628]
[null,5700,325,1.2273260023297348,null,5700,325,0.83970501004256526,null,5700,325,1.2018876862240877,null,5700,325,1.1201282959469845]
[null,5700,350,1.224999901587829,null,5700,350,0.86189055462180175,null,5700,350,1.2005884889863221,null,5700,350,1.1226160362135056]
[null,5700,375,1.2225947336825651,null,5700,375,0.88303132986311805,null,5700,375,1.1991365560769716,null,5700,375,1.1246502093103452]
[null,5700,400,1.2201285173082017,null,5700,400,0.90284470045485843,null,5700,400,1.1975569564729802,null,5700,400,1.1262888838747249]
[null,5700,425,1.2176169306360012,null,5700,425,0.92118912502244765,null,5700,425,1.1958716063808339,null,5700,425,1.1275827127421085]
[null,5700,450,1.2150735326222737,null,5700,450,0.938030423488316,null,5700,450,1.1940995947078683,null,5700,450,1.128575830660673]
[null,5700,475,1.2125099900164666,null,5700,475,0.95340533108715408,null,5700,475,1.1922575014809023,null,5700,475,1.129306680984201]
[null,5700,500,1.2099362965471303,null,5700,500,0.9673918075527056,null,5700,500,1.1903596962831384,null,5700,500,1.1298087576060472]
[null,5800,50,1.2490895732505245,null,5800,50,0.71128012217026826,null,5800,50,1.2039723183021507,null,5800,50,1.0444587922111712]
[null,5800,{"$f":"C2206+10","v":60},1.2489069466542351,null,5800,{"$f":"G2206+10","v":60},0.70918426647795674,null,5800,{"$f":"K2206+10","v":60},1.2048473263506172,null,5800,{"$f":"O2206+10","v":60},1.0496403025152348]
[null,5800,70,1.2487103868562259,null,5800,70,0.70768453062966619,null,5800,70,1.2056766818491504,null,5800,70,1.0546557491392545]
[null,5800,80,1.2484917023400293,null,5800,80,0.7067788493406939,null,5800,80,1.2064519667387281,null,5800,80,1.0594897846357239]
[null,5800,90,1.2482446349148741,null,5800,90,0.7064663867504497,null,5800,90,1.2071669988338256,null,5800,90,1.0641319134501834]
[null,5800,100,1.2479645411115419,null,5800,100,0.70674749960951655,null,5800,100,1.2078174508303539,null,5800,100,1.0685756586309572]
[null,5800,110,1.2476481156938537,null,5800,110,0.70762312678932948,null,5800,110,1.2084005224150516,null,5800,110,1.0728178240229891]
[null,5800,120,1.2472931540674581,null,5800,120,0.70909369469198658,null,5800,120,1.2089146601505079,null,5800,120,1.0768578538203011]
[null,5800,130,1.2468983498454498,null,5800,130,0.71115824510217251,null,5800,130,1.2093593197309742,null,5800,130,1.0806972854547006]
[null,5800,140,1.2464631236228894,null,5800,140,0.71381427467057534,null,5800,140,1.2097347653881214,null,5800,140,1.0843392883598637]
[null,5800,150,1.2459874790503862,null,5800,150,0.71705798708558932,null,5800,150,1.2100419015664339,null,5800,150,1.0877882794778171]
[null,5800,160,1.2454718825044335,null,5800,160,0.72088429327578263,null,5800,160,1.2102821324112867,null,5800,160,1.0910496058859092]
[null,5800,170,1.2449171629616551,null,5800,170,0.72528621421155581,null,5800,170,1.2104572450695783,null,5800,170,1.0941292851732467]
[null,5800,180,1.2443244290425945,null,5800,180,0.73025377293918448,null,5800,180,1.2105693132608983,null,5800,180,1.0970337948692972]
[null,5800,190,1.2436950005605241,null,5800,190,0.73577259393072159,null,5800,190,1.2106206180164918,null,5800,190,1.0997699031092112]
[null,5800,200,1.2430303522676442,null,5800,200,0.74182239328185784,null,5800,200,1.2106135828920559,null,5800,200,1.1023445336720692]
[null,5800,225,1.2412252057374895,null,5800,225,0.75906886013946118,null,5800,225,1.2103573607614153,null,5800,225,1.108120305209531]
[null,5800,{"$f":"C2222+25","v":250},1.2392361432816796,null,5800,{"$f":"G2222+25","v":250},0.77879457278447894,null,5800,{"$f":"K2222+25","v":250},1.2097922732096356,null,5800,{"$f":"O2222+25","v":250},1.1130371454477141]
[null,5800,275,1.2370896757836833,null,5800,275,0.80015034697788812,null,5800,275,1.2089574528194598,null,5800,275,1.1171957837096722]
[null,5800,300,1.2348112149232326,null,5800,300,0.8222894860567288,null,5800,300,1.2078896646972979,null,5800,300,1.1206883627153561]
[null,5800,325,1.232424286116871,null,5800,325,0.8444898908476407,null,5800,325,1.2066225513734978,null,5800,325,1.1235976097847855]
[null,5800,350,1.2299501764986494,null,5800,350,0.8661723770819737,null,5800,350,1.2051863712093323,null,5800,350,1.1259969298053596]
[null,5800,375,1.2274078437797449,null,5800,375,0.88690136204022607,null,5800,375,1.2036080211519775,null,5800,375,1.1279509722367782]
[null,5800,400,1.2248139761191306,null,5800,400,0.90638771494707193,null,5800,400,1.2019112144175306,null,5800,400,1.1295164116108183]
[null,5800,425,1.2221831342037872,null,5800,425,0.92447683538622671,null,5800,425,1.2001167343099974,null,5800,425,1.1307427939707164]
[null,5800,450,1.219527932954654,null,5800,450,0.94112003173178815,null,5800,450,1.1982427171901637,null,5800,450,1.1316733690037579]
[null,5800,475,1.2168592369897047,null,5800,475,0.95634101233160274,null,5800,475,1.1963049374036463,null,5800,475,1.1323458671790405]
[null,5800,500,1.2141863545963838,null,5800,500,0.97020716246072969,null,5800,500,1.194317079177474,null,5800,500,1.1327932040525288]
[null,5900,50,1.2574119290892556,null,5900,50,0.72223486772678336,null,5900,50,1.2118423999523507,null,5900,50,1.0506795023073292]
[null,5900,{"$f":"C2234+10","v":60},1.2570183262873915,null,5900,{"$f":"G2234+10","v":60},0.7199961554925437,null,5900,{"$f":"K2234+10","v":60},1.2125058522438785,null,5900,{"$f":"O2234+10","v":60},1.0556378391614247]
[null,5900,70,1.2566227292279866,null,5900,70,0.71835281086772662,null,5900,70,1.2131362233173466,null,5900,70,1.0604470659896625]
[null,5900,80,1.2562161420463982,null,5900,80,0.71730166241561788,null,5900,80,1.2137242417987435,null,5900,80,1.0650906921223569]
[null,5900,90,1.2557915389127461,null,5900,90,0.71684069690831198,null,5900,90,1.2142629090264778,null,5900,90,1.0695570602313786]
[null,5900,100,1.2553435503724895,null,5900,100,0.71696901250930989,null,5900,100,1.2147471232515556,null,5900,100,1.0738385468328797]
[null,5900,110,1.2548681895217084,null,5900,110,0.71768624246161306,null,5900,110,1.2151733547584171,null,5900,110,1.0779308484219519]
[null,5900,120,1.2543626152881784,null,5900,120,0.71899152663917665,null,5900,120,1.2155393670720418,null,5900,120,1.081832356943436]
[null,5900,130,1.2538249295416899,null,5900,130,0.72088268451168991,null,5900,130,1.2158439792550801,null,5900,130,1.0855436223308479]
[null,5900,140,1.2532540044858451,null,5900,140,0.72335605214131915,null,5900,140,1.216086864408745,null,5900,140,1.0890668961961536]
[null,5900,150,1.2526493367443721,null,5900,150,0.72640672034815523,null,5900,150,1.2162683797674871,null,5900,150,1.0924057488169434]
[null,5900,160,1.2520109246869313,null,5900,160,0.73002856487230883,null,5900,160,1.2163894241461295,null,5900,160,1.0955647508211239]
[null,5900,170,1.2513391657827693,null,5900,170,0.73421374514417759,null,5900,170,1.2164513189088721,null,5900,170,1.0985492109889698]
[null,5900,180,1.2506347710752606,null,5900,180,0.7389517458137399,null,5900,180,1.2164557090492545,null,5900,180,1.1013649620722386]
[null,5900,190,1.2498986941986976,null,5900,190,0.74422815474495663,null,5900,190,1.2164044813778399,null,5900,190,1.1040181872551458]
[null,5900,200,1.2491320726847595,null,5900,200,0.75002332654380321,null,5900,200,1.216299697197297,null,5900,200,1.1065152807105334]
[null,5900,225,1.2470904685512658,null,5900,225,0.76659098959851413,null,5900,225,1.2158179121654202,null,5900,225,1.1121175689438401]
[null,5900,{"$f":"C2250+25","v":250},1.2448880701370082,null,5900,{"$f":"G2250+25","v":250},0.7856111729737022,null,5900,{"$f":"K2250+25","v":250},1.215050649719404,null,5900,{"$f":"O2250+25","v":250},1.1168851736360295]
[null,5900,275,1.2425479386384026,null,5900,275,0.80627710518263151,null,5900,275,1.2140333960571554,null,5900,275,1.1209139505247037]
[null,5900,300,1.2400926579791152,null,5900,300,0.82777126618220465,null,5900,300,1.2127999528076177,null,5900,300,1.124292267776857]
[null,5900,325,1.2375434252360156,null,5900,325,0.84939183192217438,null,5900,325,1.2113815420367513,null,5900,325,1.1270999191347253]
[null,5900,350,1.2349196008526142,null,5900,350,0.87057446471893263,null,5900,350,1.2098064336905321,null,5900,350,1.1294080179441668]
[null,5900,375,1.2322385397228079,null,5900,375,0.89088948828440595,null,5900,375,1.2080998811184747,null,5900,375,1.1312794128304746]
[null,5900,400,1.2295155892397442,null,5900,400,0.91004335022261096,null,5900,400,1.2062842304004266,null,5900,400,1.1327693537651595]
[null,5900,425,1.2267641822030175,null,5900,425,0.9278701937903574,null,5900,425,1.2043791205698176,null,5900,425,1.1339262520907727]
[null,5900,450,1.2239959793444637,null,5900,450,0.9443079417270035,null,5900,450,1.2024017244343537,null,5900,450,1.1347924472990425]
[null,5900,475,1.2212210334930744,null,5900,475,0.95936784568385292,null,5900,475,1.2003670002096811,null,5900,475,1.1354049345772828]
[null,5900,500,1.2184479584651831,null,5900,500,0.97310695758916699,null,5900,500,1.1982879369747865,null,5900,500,1.1357960313148763]
[null,6000,50,1.2657775833917424,null,6000,50,0.73316695214294669,null,6000,50,1.2197619847246097,null,6000,50,1.0569752494272855]
[null,6000,{"$f":"C2262+10","v":60},1.2651726516212343,null,6000,{"$f":"G2262+10","v":60},0.73078514710495346,null,6000,{"$f":"K2262+10","v":60},1.2202135416087385,null,6000,{"$f":"O2262+10","v":60},1.0617101095724004]
[null,6000,70,1.2645775048465642,null,6000,70,0.7289981372916351,null,6000,70,1.2206443986503566,null,6000,70,1.0663123769853091]
[null,6000,80,1.2639823735873794,null,6000,80,0.7278016934219369,null,6000,80,1.2210444649324568,null,6000,80,1.0707645012220002]
[null,6000,90,1.2633794908117599,null,6000,90,0.72719268303136131,null,6000,90,1.2214059551184162,null,6000,90,1.0750537372812308]
[null,6000,100,1.2627627835280533,null,6000,100,0.72716901442458781,null,6000,100,1.221723019037996,null,6000,100,1.0791713795102296]
[null,6000,110,1.2621276020509591,null,6000,110,0.72772909175166911,null,6000,110,1.2219914200803781,null,6000,110,1.0831120719643879]
[null,6000,120,1.2614704846204479,null,6000,120,0.72887084799010038,null,6000,120,1.2222082580229843,null,6000,120,1.0868732004794834]
[null,6000,130,1.2607889545093478,null,6000,130,0.73059096080867536,null,6000,130,1.222371731687327,null,6000,130,1.0904543657474886]
[null,6000,140,1.2600813464440868,null,6000,140,0.73288468831018061,null,6000,140,1.2224809368545007,null,6000,140,1.0938569328905696]
[null,6000,150,1.2593466590629072,null,6000,150,0.73574609307688188,null,6000,150,1.2225356950892898,null,6000,150,1.0970836508772475]
[null,6000,160,1.2585844302023794,null,6000,160,0.73916809534468209,null,6000,160,1.2225364094392401,null,6000,160,1.1001383341545765]
[null,6000,170,1.257794631985734,null,6000,170,0.743142052532483,null,6000,170,1.2224839433425403,null,6000,170,1.103025598682166]
[null,6000,180,1.2569775829399481,null,6000,180,0.7476569290280537,null,6000,180,1.2223795194621299,null,6000,180,1.1057506448548049]
[null,6000,190,1.2561338746557711,null,6000,190,0.752698230063228,null,6000,190,1.2222246355411956,null,6000,190,1.1083190803782195]
[null,6000,200,1.2552643107997419,null,6000,200,0.75824682202960025,null,6000,200,1.2220209947336833,null,6000,200,1.1107367768733138]
[null,6000,225,1.2529839033808188,null,6000,225,0.77415757404589669,null,6000,225,1.221310968351059,null,6000,225,1.116161166231199]
[null,6000,{"$f":"C2278+25","v":250},1.2505659540131309,null,6000,{"$f":"G2278+25","v":250},0.79249360402085356,null,6000,{"$f":"K2278+25","v":250},1.220339004957989,null,6000,{"$f":"O2278+25","v":250},1.1207754814015043]
[null,6000,275,1.248030088023744,null,6000,275,0.81248844822185295,null,6000,275,1.2191369586262109,null,6000,275,1.1246707096857971]
[null,6000,300,1.2453960657766106,null,6000,300,0.83335274541064852,null,6000,300,1.2177356705621332,null,6000,300,1.1279314299400141]
[null,6000,325,1.2426827540608771,null,6000,325,0.85440344844652627,null,6000,325,1.2161639388303638,null,6000,325,1.1306344777845525]
[null,6000,350,1.2399075809163747,null,6000,350,0.8750902272062977,null,6000,350,1.2144480377169402,null,6000,350,1.1328486465738692]
[null,6000,375,1.2370862905567885,null,6000,375,0.89499010386696809,null,6000,375,1.2126115678002174,null,6000,375,1.1346349550457187]
[null,6000,400,1.2342328806760818,null,6000,400,0.9138068991431747,null,6000,400,1.2106754980063898,null,6000,400,1.1360472007190854]
[null,6000,425,1.2313596468879393,null,6000,425,0.93136521728870392,null,6000,425,1.2086583128909525,null,6000,425,1.1371326343660493]
[null,6000,450,1.2284772865184364,null,6000,450,0.94759074047993286,null,6000,450,1.2065762116985772,null,6000,450,1.1379326617782939]
[null,6000,475,1.2255950317440107,null,6000,475,0.96248287544947075,null,6000,475,1.2044433269247949,null,6000,475,1.1384835217754521]
[null,6000,500,1.2227207935527993,null,6000,500,0.97608861499573785,null,6000,500,1.2022719434504003,null,6000,500,1.1388169148123208]
["Source:  Lemmon, E.W., Huber, M.L., McLinden, M.O.  NIST Standard Reference Database 23:  Reference Fluid Thermodynamic and Transport Properties-REFPROP, Version 9.1., National Institute of Standards and Technology, Standard Reference Data Program, Gaithersburg, 2013."]
["REFPROP's equation of state for Nitrogen: Span, R., Lemmon, E.W., Jacobsen, R.T., Wagner, W., and Yokozeki, A. \"A Reference Equation of State for the Thermodynamic Properties of Nitrogen for Temperatures from 63.151 to 1000 K and Pressures to 2200 Mpa,\" J. Phys. Chem. Ref. Data, 29(6):1361-1433, 2000."]
["REFPROP's equation of state for Carbon Dioxide: Span, R. and Wagner, W., \"A New Equation of State for Carbon Dioxide Covering the Fluid Region from the Triple-Point Temperature to 1100 K at Pressures up to 800 Mpa,\" J. Phys. Chem. Ref. Data, 25(6):1509-1596, 1996."]
["REFPROP's equation of state for Air: Lemmon, E.W., Jacobsen, R.T, Penoncello, S.G., and Friend, D.G., \"Thermodynamic Properties of Air and Mixtures of Nitrogen, Argon, and Oxygen from 60 to 2000 K at Pressures to 2000 MPa,\" Phys. Chem. Ref. Data, 29(3):331-385, 2000."]
["REFPROP's equation of state for Oxygen: Schmidt, R. and Wagner, W., \"A New Form of the Equation of State for Pure Substances and its Application to Oxygen,\" Fluid Phase Equilibria, 19:175-200, 1985."]
[]
["3. Gas turbine characteristics"]
[]
[null,"Table 3.1: Gas turbine characteristics"]
[null,"Parameter",null,null,"Unit",null,"A","B","C","D"]
[null,"Turbine exhaust temp.",null,null,"F",null,931.97,947.92,949.99,1074.08]
[null,"Turbine efficiency",null,null,"Btu e-/Btu LHV fuel input",null,0.22682172644068782,0.26171047361916316,0.30929238317494734,0.35813064658740001]
[null,"Turbine specific power",null,null,"Btu e-/lb of exhaust",null,69.456000000000003,85.4,108.017,155.70099999999999]
[null,"Turbine excess air",null,null,"Mol O2/Mol O2 stoichiometric",null,4,3.75,3.5,2.8]
[null,"Turbine loss",null,null,"Btu loss/Btu HHV fuel",null,4.0621729283865482E-2,3.6108203807880428E-2,3.159467833189538E-2,2.7081152855910322E-2]
[null,"Notes: Gas turbines are classed as \"A\" through \"D\" with \"D\" being most efficient.  Data based roughly on turbines from Kim (2004), Table 2.  Calculations for turbine efficiency and exit temperature documented in model documentation."]
[null,"Notes: Gas turbine efficiency is modeled in an HHV basis, but is adjusted here to account for use of LHV.  This is done by using ratio of HHV to LHV for typical input fuel mix."]
[]
["4. Enthalpy of air and exhaust gas"]
[]
[null,"Table 4.1: Coefficients for specific heat capacity Cp as a function of temperature"]
[null,null,"N2","O2","CO2","SO2","Air","Other (assume N2)","H2O (v)","Fuel inputs (assume CH4)"]
[null,"a",6.9029999999999996,6.085,5.3159999999999998,6.157,6.7130000000000001,{"$f":"C2312","v":6.9029999999999996},7.7,4.75]
[null,"b",-2.085E-4,2.0170000000000001E-3,7.9360999999999998E-3,7.6889999999999997E-3,2.609E-4,{"$f":"C2313","v":-2.085E-4},2.5520000000000002E-4,6.6600000000000001E-3]
[null,"c",5.9569999999999997E-7,-5.2750000000000003E-7,-2.5809999999999999E-6,-2.8100000000000002E-6,3.5400000000000002E-7,{"$f":"C2314","v":5.9569999999999997E-7},7.7810000000000001E-7,9.3519999999999996E-7]
[null,"d",-1.1760000000000001E-10,5.3720000000000003E-11,3.059E-10,3.5269999999999998E-10,-8.0519999999999997E-11,{"$f":"C2315","v":-1.1760000000000001E-10},-1.4719999999999999E-10,-4.5099999999999999E-10]
[null,"Specific heats as a function of temperature",null,null,"Cp = a + bT + cT2 + dT3","Btu/lbmol-R",null,"Functions useful from 491-3240 Rankine","Cengel & Boles (2006, 5th edition) Table A-2E"]
[null,null,null,null,"See table below for a, b, c, d"]
[]
[null,"Change in enthalpy with change in temperature",null,null,"dh = Cp * dT"]
[null,"Integrating to get change in enthalpy",null,null,"h = int (dh) _(T=0C) ^(T=T)"]
[null,null,null,null,"h = int (Cp*dT) from: _(T=0C) ^(T=T)"]
[null,null,null,null,"h = aT + b/2T2 + c/3*T3 + d/4*T4 + C"]
[]
[null,"Assumed reference temperature: ",null,null,"300 °K = 540 R"]
[null,"Set enthalpy h = ",null,null,"0 @ 30 °C or 540 R"]
[null,"Solve for C to obtain set point of h = 0 @ 0C"]
[]
[null,"T0 =",null,null,540,"R"]
[]
[null,"Table 4.2: Coefficients of integration for enthalpy as a function of temperature"]
[null,null,"N2","O2","CO2","SO2","Air","Other (assume N2)","H2O (v)","Fuel inputs (assume CH4)"]
[null,"C =",{"$f":"-(C2312*$E$2328+1/2*C2313*$E$2328^2+C2314/3*$E$2328^3+C2315/4*$E$2328^4)","v":-3725.9879031359997},-3553.4331404207996,-3898.754564076,-4305.8424896279994,-3679.9283068271998,-3725.9879031359997,-4232.9199481920004,-3575.5275819600001]
[]
[]
[]
[null,"Table 4.3: OTSG inlet combustion conditions"]
[null,"Inputs",null,null,"Value","Unit",null,"Notes"]
[null,"OTSG inlet air and fuel temperature",null,null,{"$f":"'Steam Generation'!M47","v":80.33},"°F",null,"h = 0 @ 300 °K, water in vapor phase"]
[null,"OTSG inlet air and fuel temperature",null,null,{"$f":"E2338+459.67","v":540},"R"]
[null,"Result","N2","O2","CO2","SO2","Air","Other (assume N2)","H2O (v)","Fuel inputs (assume CH4)","H2O latent heat vaporization (hfg) @ 0 °C"]
[null,"Enthalpy (Btu/lbmol)",{"$f":"(C2312*$E$2339+1/2*C2313*$E$2339^2+C2314/3*$E$2339^3+C2315/4*$E$2339^4)+C2332","v":0},{"$f":"(D2312*$E$2339+1/2*D2313*$E$2339^2+D2314/3*$E$2339^3+D2315/4*$E$2339^4)+D2332","v":0},0,0,0,0,0,0,{"$f":"K2342*453.592","v":19353.258666666665}]
[null,"Enthalpy (Btu/mol)",{"$f":"C2341/453.592","v":0},{"$f":"D2341/453.592","v":0},0,0,0,0,0,{"$f":"J2341/453.592","v":0},{"$f":"E2389","v":42.666666666666664}]
[]
[]
[null,"Table 4.4: OTSG outlet exhaust conditions"]
[null,"Inputs",null,null,"Value","Unit",null,"Notes"]
[null,"OTSG outlet exhaust temperature",null,null,{"$f":"'Steam Generation'!M62","v":350},"°F",null,"h = 0 @ 300 °K, water in vapor phase"]
[null,"OTSG outlet exhaust temperature",null,null,{"$f":"E2347+459.67","v":809.67000000000007},"R"]
[null,null,"N2","O2","CO2","SO2","Air","Other (assume N2)","H2O (v)","Fuel inputs (assume CH4)","H2O latent heat vaporization (hfg) @ 0 °C"]
[null,"Enthalpy (Btu/lbmol)",{"$f":"(C2312*$E$2348+1/2*C2313*$E$2348^2+C2314/3*$E$2348^3+C2315/4*$E$2348^4)+C2332","v":1887.5838217941364},{"$f":"(D2312*$E$2348+1/2*D2313*$E$2348^2+D2314/3*$E$2348^3+D2315/4*$E$2348^4)+D2332","v":1946.9875061010707},2582.9764242168603,2740.3370121167227,1894.8871551016246,1887.5838217941364,2207.0434974827394,2570.4474047154672,{"$f":"K2341","v":19353.258666666665}]
[null,"Enthalpy (Btu/mol)",{"$f":"C2350/453.592","v":4.1614133886711766},{"$f":"D2350/453.592","v":4.2923762017431324},5.6944929015874628,6.0414138964459756,4.1775144956296071,4.1614133886711766,4.8657019909582608,5.6668711192337327,{"$f":"K2342","v":42.666666666666664}]
[]
[]
[null,"Table 4.5   Gas turbine exhaust conditions"]
[null,"Inputs",null,null,"Value","Unit",null,"Notes"]
[null,"Gas turbine exhaust temperature",null,null,{"$f":"'Steam Generation'!M284","v":949.99},"°F",null,"h = 0 @ 300 °K, water in vapor phase"]
[null,"Gas turbine exhaust temperature",null,null,{"$f":"E2356+459.67","v":1409.66},"R"]
[null,null,"N2","O2","CO2","SO2","Air","Other (assume N2)","H2O (v)","Fuel inputs (assume CH4)","H2O latent heat vaporization (hfg) @ 0 °C"]
[null,"Enthalpy (Btu/lbmol)",{"$f":"((C2312*$E$2357+1/2*C2313*$E$2357^2+C2314/3*$E$2357^3+C2315/4*$E$2357^4)+C2332)","v":6237.8665960237777},{"$f":"((D2312*$E$2357+1/2*D2313*$E$2357^2+D2314/3*$E$2357^3+D2315/4*$E$2357^4)+D2332)","v":6588.8682156909717},9372.0930161650995,9737.3935423291605,6293.3947586304148,6237.8665960237777,7456.2442510077017,10165.544049558262,{"$f":"K2350","v":19353.258666666665}]
[null,"Enthalpy (Btu/mol)",{"$f":"C2359/453.592","v":13.752153027442676},{"$f":"D2359/453.592","v":14.52597976968503},20.661945131671413,21.467295592358685,13.874571770733203,13.752153027442676,16.43821815862648,22.411206656110036,{"$f":"K2342","v":42.666666666666664}]
[]
[null,"Table 4.6   HRSG inlet gas conditions (after duct-firing, if any)"]
[null,"Inputs",null,null,"Value","Unit",null,"Notes"]
[null,"HRSG inlet gas temperature",null,null,{"$f":"'Steam Generation'!M290","v":949.99},"°F",null,"h = 0 @ 300 °K, water in vapor phase"]
[null,"HRSG inlet gas temperature",null,null,{"$f":"E2364+459.67","v":1409.66},"R"]
[null,null,"N2","O2","CO2","SO2","Air","Other (assume N2)","H2O (v)","Fuel inputs (assume CH4)","H2O latent heat vaporization (hfg) @ 0 °C"]
[null,"Enthalpy (Btu/lbmol)",{"$f":"((C2312*$E$2365+1/2*C2313*$E$2365^2+C2314/3*$E$2365^3+C2315/4*$E$2365^4)+C2332)","v":6237.8665960237777},{"$f":"((D2312*$E$2365+1/2*D2313*$E$2365^2+D2314/3*$E$2365^3+D2315/4*$E$2365^4)+D2332)","v":6588.8682156909717},9372.0930161650995,9737.3935423291605,6293.3947586304148,6237.8665960237777,7456.2442510077017,10165.544049558262,{"$f":"K2359","v":19353.258666666665}]
[null,"Enthalpy (Btu/mol)",{"$f":"C2367/453.592","v":13.752153027442676},{"$f":"D2367/453.592","v":14.52597976968503},20.661945131671413,21.467295592358685,13.874571770733203,13.752153027442676,16.43821815862648,22.411206656110036,{"$f":"K2360","v":42.666666666666664}]
[]
[null,"Table 4.7: HRSG outlet exhaust conditions"]
[null,"Inputs",null,null,"Value","Unit",null,"Notes"]
[null,"HRSG outlet exhaust temperature",null,null,{"$f":"'Steam Generation'!M291","v":350},"°F",null,"h = 0 @ 300 °K, water in vapor phase"]
[null,"HRSG outlet exhaust temperature",null,"conv.",{"$f":"E2372+459.67","v":809.67000000000007},"R"]
[null,null,"N2","O2","CO2","SO2","Air","Other (assume N2)","H2O (v)","Fuel inputs (assume CH4)","H2O latent heat vaporization (hfg) @ 0 °C"]
[null,"Enthalpy (Btu/lbmol)",{"$f":"(C2312*$E$2373+1/2*C2313*$E$2373^2+C2314/3*$E$2373^3+C2315/4*$E$2373^4)+C2332","v":1887.5838217941364},1946.9875061010707,2582.9764242168603,2740.3370121167227,1894.8871551016246,1887.5838217941364,2207.0434974827394,2570.4474047154672,{"$f":"K2341","v":19353.258666666665}]
[null,"Enthalpy (Btu/mol)",{"$f":"C2375/453.592","v":4.1614133886711766},{"$f":"D2375/453.592","v":4.2923762017431324},5.6944929015874628,6.0414138964459756,4.1775144956296071,4.1614133886711766,4.8657019909582608,5.6668711192337327,{"$f":"K2342","v":42.666666666666664}]
[]
[]
[]
["5. Properties of water and steam"]
[]
[null,"Table 5.1: Properties of water"]
[null,"Parameter",null,"Case","Value","Unit","Notes"]
[null,"Density of fresh water",null,null,8.3436000000000003,"lb/gal","at 32 °F"]
[null,null,null,null,{"$f":"E2384*42","v":350.43119999999999},"lb/bbl","at 32 °F"]
[null,null,null,null,{"$f":"E2385/E35","v":62.414460384499726},"lb/ft3","at 32 °F"]
[null,"Water hfg",null,null,1075.2,"Btu/lbmass","Enthalpy of vaporization of pure water @ 0C"]
[null,null,null,"conv.",{"$f":"E2387/453.6","v":2.3703703703703702},"Btu/g"]
[null,null,null,"conv.",{"$f":"E2388*18","v":42.666666666666664},"Btu/mol"]
[null,"Source: www.engineeringtoolbox.com"]
[null,"Cengel & Boles (2006, 5th edition) Table A-4E"]
[]
[]
[null,"Table 5.2: Properties of saturated water and steam as a function of temperature"]
[null,"T","P","Liquid volume","Liquid U","Liquid H","Liquid S","Vapor volume"]
[null,"°F","psia","ft^3/lb","Btu/lbm","Btu/lbm","Btu/(lbm °R)","ft^3/lb"]
[null,32,8.8649000000000006E-2,1.602E-2,-1.814E-2,-1.788E-2,-3.6999999999999998E-5,3302]
[null,40,0.12173,1.602E-2,8.032,8.032,1.6199999999999999E-2,2443]
[null,60,0.25639000000000001,1.6029999999999999E-2,28.08,28.08,5.5539999999999999E-2,1206]
[null,80,0.50744,1.6070000000000001E-2,48.07,48.07,9.3289999999999998E-2,632.4]
[null,100,0.95043999999999995,1.6129999999999999E-2,68.03,68.040000000000006,0.12959999999999999,349.9]
[null,120,1.6949000000000001,1.6199999999999999E-2,88,88,0.16470000000000001,203]
[null,140,2.8929,1.6289999999999999E-2,108,108,0.19850000000000001,122.8]
[null,160,4.7472000000000003,1.6389999999999998E-2,128,128,0.23130000000000001,77.19]
[null,180,7.5195999999999996,1.651E-2,148,148,0.2631,50.17]
[null,200,11.538,1.6629999999999999E-2,168.1,168.1,0.29399999999999998,33.61]
[null,220,17.201000000000001,1.677E-2,188.2,188.2,0.3241,23.13]
[null,240,24.984999999999999,1.6920000000000001E-2,208.4,208.5,0.35339999999999999,16.32]
[null,260,35.445,1.7080000000000001E-2,228.7,228.8,0.38200000000000001,11.76]
[null,280,49.218000000000004,1.7260000000000001E-2,249.1,249.2,0.40989999999999999,8.6440000000000001]
[null,300,67.021000000000001,1.745E-2,269.5,269.8,0.43719999999999998,6.4669999999999996]
[null,320,89.653000000000006,1.7649999999999999E-2,290.2,290.39999999999998,0.46400000000000002,4.915]
[null,340,118,1.787E-2,310.89999999999998,311.3,0.49030000000000001,3.7890000000000001]
[null,360,153,1.8110000000000001E-2,331.8,332.3,0.51619999999999999,2.9580000000000002]
[null,380,195.71,1.8360000000000001E-2,352.9,353.6,0.54159999999999997,2.3359999999999999]
[null,400,247.22,1.864E-2,374.2,375.1,0.56669999999999998,1.8640000000000001]
[null,420,308.70999999999998,1.8939999999999999E-2,395.8,396.9,0.59150000000000003,1.5009999999999999]
[null,440,381.44,1.9259999999999999E-2,417.6,419,0.61609999999999998,1.218]
[null,460,466.71,1.9619999999999999E-2,439.8,441.5,0.64049999999999996,0.99519999999999997]
[null,480,565.91999999999996,2.001E-2,462.3,464.4,0.66479999999999995,0.81799999999999995]
[null,500,680.53,2.044E-2,485.3,487.9,0.68899999999999995,0.67559999999999998]
[null,520,812.08,2.0920000000000001E-2,508.8,511.9,0.71330000000000005,0.56010000000000004]
[null,540,962.23,2.146E-2,532.9,536.70000000000005,0.73770000000000002,0.46560000000000001]
[null,560,1132.7,2.2079999999999999E-2,557.70000000000005,562.29999999999995,0.76239999999999997,0.38750000000000001]
[null,580,1325.4,2.2790000000000001E-2,583.4,589,0.78749999999999998,0.32229999999999998]
[null,600,1542.5,2.3630000000000002E-2,610.20000000000005,616.9,0.81330000000000002,0.26750000000000002]
[null,620,1786.1,2.4649999999999998E-2,638.5,646.6,0.84,0.22070000000000001]
[null,640,2059.1999999999998,2.5930000000000002E-2,668.8,678.7,0.86829999999999996,0.1802]
[null,660,2364.8000000000002,2.7660000000000001E-2,702.4,714.5,0.89910000000000001,0.1444]
[null,680,2707.3,2.7660000000000001E-2,702.4,714.5,0.89910000000000001,0.1444]
[null,700,3092.9,2.7660000000000001E-2,702.4,714.5,0.89910000000000001,0.1444]
[null,705.10299999999995,3200.1,4.9750000000000003E-2,868,897.5,1.054,4.9750000000000003E-2]
[null,"Source: Knovel Steam Tables, Table: 1b. Saturation Properties vs. Temperature - English Units"]
[]
[]
[null,"Table 5.3: Properties of saturated water and steam as a function of pressure"]
[null,"P (psia)","T  (°F)","liquid v  (ft3/lb)","liquid u (Btu/lb)","liquid h (Btu/lb)","liquid s (Btu/(lb °R))","vapor v  (ft3/lb)","vapor u (Btu/lb)","vapor h (Btu/lb)","vapor s (Btu/(lb °R))"]
[null,15,213,1.6719999999999999E-2,181.1,181.2,0.31369999999999998,26.3,1078,1151,1.7549999999999999]
[null,20,227.9,1.6830000000000001E-2,196.2,196.2,0.33579999999999999,20.09,1082,1156,1.732]
[null,25,240,1.6920000000000001E-2,208.4,208.5,0.35339999999999999,16.309999999999999,1085,1161,1.714]
[null,30,250.3,1.7000000000000001E-2,218.8,218.9,0.36820000000000003,13.75,1088,1164,1.7]
[null,35,259.3,1.7080000000000001E-2,227.9,228,0.38090000000000002,11.9,1090,1167,1.6870000000000001]
[null,40,267.2,1.7149999999999999E-2,236,236.2,0.3921,10.5,1092,1170,1.677]
[null,45,274.39999999999998,1.721E-2,243.4,243.5,0.4022,9.4019999999999992,1094,1172,1.667]
[null,50,281,1.7270000000000001E-2,250.1,250.2,0.4113,8.5169999999999995,1095,1174,1.659]
[null,55,287.10000000000002,1.7319999999999999E-2,256.3,256.39999999999998,0.41959999999999997,7.7880000000000003,1097,1176,1.651]
[null,60,292.7,1.738E-2,262,262.2,0.42730000000000001,7.1760000000000002,1098,1178,1.6439999999999999]
[null,65,298,1.7430000000000001E-2,267.39999999999998,267.7,0.4345,6.6559999999999997,1099,1179,1.6379999999999999]
[null,70,302.89999999999998,1.7479999999999999E-2,272.5,272.8,0.44119999999999998,6.2069999999999999,1100,1181,1.6319999999999999]
[null,75,307.60000000000002,1.7520000000000001E-2,277.39999999999998,277.60000000000002,0.44750000000000001,5.8159999999999998,1101,1182,1.6259999999999999]
[null,80,312,1.7569999999999999E-2,281.89999999999998,282.2,0.45340000000000003,5.4729999999999999,1102,1183,1.621]
[null,85,316.2,1.7610000000000001E-2,286.3,286.60000000000002,0.45900000000000002,5.1689999999999996,1103,1184,1.6160000000000001]
[null,90,320.3,1.7659999999999999E-2,290.39999999999998,290.7,0.46439999999999998,4.8970000000000002,1104,1186,1.6120000000000001]
[null,95,324.10000000000002,1.77E-2,294.39999999999998,294.7,0.46949999999999997,4.6529999999999996,1105,1187,1.607]
[null,100,327.8,1.7739999999999999E-2,298.2,298.60000000000002,0.47439999999999999,4.4320000000000004,1105,1187,1.603]
[null,105,331.4,1.7770000000000001E-2,301.89999999999998,302.3,0.47899999999999998,4.2320000000000002,1106,1188,1.599]
[null,110,334.8,1.7809999999999999E-2,305.5,305.8,0.48349999999999999,4.05,1107,1189,1.595]
[null,115,338.1,1.7850000000000001E-2,308.89999999999998,309.3,0.48780000000000001,3.8820000000000001,1107,1190,1.5920000000000001]
[null,120,341.3,1.789E-2,312.2,312.60000000000002,0.49199999999999999,3.7290000000000001,1108,1191,1.5880000000000001]
[null,125,344.3,1.7919999999999998E-2,315.39999999999998,315.89999999999998,0.496,3.5870000000000002,1108,1191,1.585]
[null,130,347.3,1.796E-2,318.60000000000002,319,0.49980000000000002,3.4550000000000001,1109,1192,1.5820000000000001]
[null,135,350.2,1.7989999999999999E-2,321.60000000000002,322,0.50360000000000005,3.3330000000000002,1109,1193,1.579]
[null,140,353,1.8020000000000001E-2,324.5,325,0.50719999999999998,3.22,1110,1193,1.5760000000000001]
[null,145,355.8,1.806E-2,327.39999999999998,327.9,0.51070000000000004,3.1139999999999999,1110,1194,1.573]
[null,150,358.4,1.8089999999999998E-2,330.2,330.7,0.5141,3.0150000000000001,1111,1194,1.57]
[null,155,361,1.8120000000000001E-2,332.9,333.4,0.51749999999999996,2.9220000000000002,1111,1195,1.5669999999999999]
[null,160,363.6,1.8149999999999999E-2,335.6,336.1,0.52070000000000005,2.8340000000000001,1112,1196,1.5649999999999999]
[null,165,366,1.8180000000000002E-2,338.2,338.7,0.52390000000000003,2.7519999999999998,1112,1196,1.5620000000000001]
[null,170,368.4,1.821E-2,340.7,341.3,0.52690000000000003,2.6749999999999998,1112,1196,1.56]
[null,175,370.8,1.8239999999999999E-2,343.2,343.8,0.52990000000000004,2.601,1113,1197,1.5569999999999999]
[null,180,373.1,1.8270000000000002E-2,345.6,346.2,0.53280000000000005,2.532,1113,1197,1.5549999999999999]
[null,185,375.3,1.83E-2,348,348.6,0.53569999999999995,2.4660000000000002,1113,1198,1.5529999999999999]
[null,190,377.5,1.8329999999999999E-2,350.3,351,0.53849999999999998,2.4039999999999999,1114,1198,1.55]
[null,195,379.7,1.8360000000000001E-2,352.6,353.3,0.54120000000000001,2.3439999999999999,1114,1198,1.548]
[null,200,381.8,1.839E-2,354.9,355.5,0.54390000000000005,2.2879999999999998,1114,1199,1.546]
[null,205,383.9,1.8409999999999999E-2,357.1,357.8,0.54649999999999999,2.234,1114,1199,1.544]
[null,210,385.9,1.8440000000000002E-2,359.2,359.9,0.54910000000000003,2.1829999999999998,1115,1199,1.542]
[null,215,387.9,1.847E-2,361.3,362.1,0.55159999999999998,2.1339999999999999,1115,1200,1.54]
[null,220,389.9,1.8499999999999999E-2,363.4,364.2,0.55410000000000004,2.0870000000000002,1115,1200,1.538]
[null,225,391.8,1.8519999999999998E-2,365.5,366.3,0.55649999999999999,2.0419999999999998,1115,1200,1.536]
[null,230,393.7,1.8550000000000001E-2,367.5,368.3,0.55879999999999996,1.9990000000000001,1116,1201,1.534]
[null,235,395.6,1.8579999999999999E-2,369.5,370.3,0.56120000000000003,1.958,1116,1201,1.532]
[null,240,397.4,1.8599999999999998E-2,371.5,372.3,0.5635,1.9179999999999999,1116,1201,1.5309999999999999]
[null,245,399.2,1.8630000000000001E-2,373.4,374.2,0.56569999999999998,1.88,1116,1201,1.5289999999999999]
[null,250,401,1.865E-2,375.3,376.2,0.56789999999999996,1.8440000000000001,1116,1202,1.5269999999999999]
[null,255,402.7,1.8679999999999999E-2,377.2,378.1,0.57010000000000005,1.8089999999999999,1116,1202,1.5249999999999999]
[null,260,404.5,1.8700000000000001E-2,379,379.9,0.57230000000000003,1.7749999999999999,1117,1202,1.524]
[null,265,406.1,1.873E-2,380.8,381.8,0.57440000000000002,1.742,1117,1202,1.522]
[null,270,407.8,1.8749999999999999E-2,382.6,383.6,0.57640000000000002,1.7110000000000001,1117,1202,1.52]
[null,275,409.5,1.8780000000000002E-2,384.4,385.4,0.57850000000000001,1.68,1117,1203,1.5189999999999999]
[null,280,411.1,1.8800000000000001E-2,386.2,387.1,0.58050000000000002,1.651,1117,1203,1.5169999999999999]
[null,285,412.7,1.883E-2,387.9,388.9,0.58250000000000002,1.623,1117,1203,1.516]
[null,290,414.3,1.8849999999999999E-2,389.6,390.6,0.58440000000000003,1.5960000000000001,1117,1203,1.514]
[null,295,415.8,1.8870000000000001E-2,391.3,392.3,0.58640000000000003,1.569,1118,1203,1.5129999999999999]
[null,300,417.4,1.89E-2,393,394,0.58830000000000005,1.5429999999999999,1118,1203,1.5109999999999999]
[null,305,418.9,1.8919999999999999E-2,394.6,395.7,0.59009999999999996,1.5189999999999999,1118,1204,1.51]
[null,310,420.4,1.8939999999999999E-2,396.2,397.3,0.59199999999999997,1.4950000000000001,1118,1204,1.508]
[null,315,421.9,1.8970000000000001E-2,397.8,398.9,0.59379999999999999,1.4710000000000001,1118,1204,1.5069999999999999]
[null,320,423.3,1.899E-2,399.4,400.5,0.59560000000000002,1.4490000000000001,1118,1204,1.5049999999999999]
[null,325,424.8,1.9009999999999999E-2,401,402.1,0.59740000000000004,1.427,1118,1204,1.504]
[null,330,426.2,1.9040000000000001E-2,402.5,403.7,0.59919999999999995,1.405,1118,1204,1.5029999999999999]
[null,335,427.6,1.9060000000000001E-2,404.1,405.3,0.60089999999999999,1.385,1118,1204,1.5009999999999999]
[null,340,429,1.908E-2,405.6,406.8,0.60260000000000002,1.365,1118,1204,1.5]
[null,345,430.4,1.9099999999999999E-2,407.1,408.3,0.60429999999999995,1.345,1119,1204,1.4990000000000001]
[null,350,431.8,1.9130000000000001E-2,408.6,409.8,0.60599999999999998,1.3260000000000001,1119,1204,1.4970000000000001]
[null,355,433.1,1.915E-2,410.1,411.3,0.60760000000000003,1.3080000000000001,1119,1205,1.496]
[null,360,434.4,1.917E-2,411.5,412.8,0.60929999999999995,1.29,1119,1205,1.4950000000000001]
[null,365,435.8,1.9189999999999999E-2,413,414.3,0.6109,1.272,1119,1205,1.494]
[null,370,437.1,1.9210000000000001E-2,414.4,415.7,0.61250000000000004,1.2549999999999999,1119,1205,1.492]
[null,375,438.4,1.924E-2,415.8,417.2,0.61409999999999998,1.2390000000000001,1119,1205,1.4910000000000001]
[null,380,439.6,1.9259999999999999E-2,417.2,418.6,0.61560000000000004,1.222,1119,1205,1.49]
[null,385,440.9,1.9279999999999999E-2,418.6,420,0.61719999999999997,1.2070000000000001,1119,1205,1.4890000000000001]
[null,390,442.2,1.9300000000000001E-2,420,421.4,0.61870000000000003,1.1910000000000001,1119,1205,1.488]
[null,395,443.4,1.932E-2,421.4,422.8,0.62019999999999997,1.1759999999999999,1119,1205,1.486]
[null,400,444.6,1.934E-2,422.7,424.2,0.62170000000000003,1.1619999999999999,1119,1205,1.4850000000000001]
[null,405,445.8,1.9359999999999999E-2,424.1,425.5,0.62319999999999998,1.147,1119,1205,1.484]
[null,410,447.1,1.9380000000000001E-2,425.4,426.9,0.62470000000000003,1.133,1119,1205,1.4830000000000001]
[null,415,448.2,1.941E-2,426.7,428.2,0.62619999999999998,1.1200000000000001,1119,1205,1.482]
[null,420,449.4,1.9429999999999999E-2,428.1,429.6,0.62760000000000005,1.1060000000000001,1119,1205,1.4810000000000001]
[null,425,450.6,1.9449999999999999E-2,429.4,430.9,0.629,1.093,1119,1205,1.48]
[null,430,451.8,1.9470000000000001E-2,430.6,432.2,0.63049999999999995,1.081,1119,1205,1.4790000000000001]
[null,435,452.9,1.949E-2,431.9,433.5,0.63190000000000002,1.0680000000000001,1119,1205,1.4770000000000001]
[null,440,454.1,1.951E-2,433.2,434.8,0.63329999999999997,1.056,1119,1205,1.476]
[null,445,455.2,1.9529999999999999E-2,434.5,436.1,0.63460000000000005,1.044,1119,1205,1.4750000000000001]
[null,450,456.3,1.9550000000000001E-2,435.7,437.3,0.63600000000000001,1.032,1119,1205,1.474]
[null,455,457.4,1.9570000000000001E-2,436.9,438.6,0.63739999999999997,1.0209999999999999,1119,1205,1.4730000000000001]
[null,460,458.5,1.959E-2,438.2,439.8,0.63870000000000005,1.01,1119,1205,1.472]
[null,465,459.6,1.9609999999999999E-2,439.4,441.1,0.64,0.99880000000000002,1119,1205,1.4710000000000001]
[null,470,460.7,1.9630000000000002E-2,440.6,442.3,0.64139999999999997,0.98809999999999998,1119,1205,1.47]
[null,475,461.8,1.9650000000000001E-2,441.8,443.5,0.64270000000000005,0.97760000000000002,1119,1205,1.4690000000000001]
[null,480,462.9,1.967E-2,443,444.8,0.64400000000000002,0.96730000000000005,1119,1205,1.468]
[null,485,463.9,1.9689999999999999E-2,444.2,446,0.6452,0.95720000000000005,1119,1205,1.4670000000000001]
[null,490,465,1.9709999999999998E-2,445.4,447.2,0.64649999999999996,0.94740000000000002,1119,1205,1.466]
[null,495,466,1.9730000000000001E-2,446.5,448.3,0.64780000000000004,0.93769999999999998,1119,1205,1.4650000000000001]
[null,500,467,1.975E-2,447.7,449.5,0.64900000000000002,0.92820000000000003,1119,1205,1.464]
[null,505,468.1,1.9769999999999999E-2,448.9,450.7,0.65029999999999999,0.91879999999999995,1119,1205,1.4630000000000001]
[null,510,469.1,1.9789999999999999E-2,450,451.9,0.65149999999999997,0.90969999999999995,1119,1205,1.462]
[null,515,470.1,1.9810000000000001E-2,451.1,453,0.65280000000000005,0.90069999999999995,1119,1205,1.4610000000000001]
[null,520,471.1,1.983E-2,452.3,454.2,0.65400000000000003,0.89190000000000003,1119,1205,1.46]
[null,525,472.1,1.985E-2,453.4,455.3,0.6552,0.88319999999999999,1119,1205,1.46]
[null,530,473.1,1.9869999999999999E-2,454.5,456.5,0.65639999999999998,0.87470000000000003,1119,1205,1.4590000000000001]
[null,535,474.1,1.9890000000000001E-2,455.6,457.6,0.65759999999999996,0.86639999999999995,1119,1205,1.458]
[null,540,475.1,1.9910000000000001E-2,456.7,458.7,0.65880000000000005,0.85819999999999996,1119,1205,1.4570000000000001]
[null,545,476,1.993E-2,457.8,459.8,0.65990000000000004,0.85009999999999997,1119,1205,1.456]
[null,550,477,1.9949999999999999E-2,458.9,460.9,0.66110000000000002,0.84219999999999995,1119,1205,1.4550000000000001]
[null,555,477.9,1.9970000000000002E-2,460,462.1,0.6623,0.83450000000000002,1119,1205,1.454]
[null,560,478.9,1.9990000000000001E-2,461.1,463.2,0.66339999999999999,0.82679999999999998,1119,1204,1.4530000000000001]
[null,565,479.8,2.001E-2,462.1,464.2,0.66459999999999997,0.81930000000000003,1119,1204,1.452]
[null,570,480.8,2.0029999999999999E-2,463.2,465.3,0.66569999999999996,0.81189999999999996,1119,1204,1.4510000000000001]
[null,575,481.7,2.0039999999999999E-2,464.3,466.4,0.66679999999999995,0.80469999999999997,1119,1204,1.4510000000000001]
[null,580,482.6,2.0060000000000001E-2,465.3,467.5,0.66790000000000005,0.79759999999999998,1119,1204,1.45]
[null,585,483.5,2.0080000000000001E-2,466.4,468.5,0.66900000000000004,0.79049999999999998,1119,1204,1.4490000000000001]
[null,590,484.4,2.01E-2,467.4,469.6,0.67020000000000002,0.78359999999999996,1118,1204,1.448]
[null,595,485.3,2.0119999999999999E-2,468.4,470.7,0.67120000000000002,0.77680000000000005,1118,1204,1.4470000000000001]
[null,600,486.2,2.0140000000000002E-2,469.5,471.7,0.67230000000000001,0.7702,1118,1204,1.446]
[null,605,487.1,2.0160000000000001E-2,470.5,472.8,0.6734,0.76359999999999995,1118,1204,1.446]
[null,610,488,2.018E-2,471.5,473.8,0.67449999999999999,0.7571,1118,1204,1.4450000000000001]
[null,615,488.9,2.0199999999999999E-2,472.5,474.8,0.67559999999999998,0.75070000000000003,1118,1204,1.444]
[null,620,489.8,2.0219999999999998E-2,473.5,475.8,0.67659999999999998,0.74450000000000005,1118,1204,1.4430000000000001]
[null,625,490.7,2.0230000000000001E-2,474.5,476.9,0.67769999999999997,0.73829999999999996,1118,1203,1.4419999999999999]
[null,630,491.5,2.0250000000000001E-2,475.5,477.9,0.67869999999999997,0.73219999999999996,1118,1203,1.4410000000000001]
[null,635,492.4,2.027E-2,476.5,478.9,0.67979999999999996,0.72619999999999996,1118,1203,1.4410000000000001]
[null,640,493.2,2.0289999999999999E-2,477.5,479.9,0.68079999999999996,0.72030000000000005,1118,1203,1.44]
[null,645,494.1,2.0310000000000002E-2,478.5,480.9,0.68179999999999996,0.71450000000000002,1118,1203,1.4390000000000001]
[null,650,494.9,2.0330000000000001E-2,479.5,481.9,0.68289999999999995,0.70879999999999999,1118,1203,1.4379999999999999]
[null,655,495.8,2.035E-2,480.4,482.9,0.68389999999999995,0.70309999999999995,1118,1203,1.4370000000000001]
[null,660,496.6,2.0369999999999999E-2,481.4,483.9,0.68489999999999995,0.6976,1118,1203,1.4370000000000001]
[null,665,497.4,2.0379999999999999E-2,482.4,484.9,0.68589999999999995,0.69210000000000005,1118,1203,1.4359999999999999]
[null,670,498.3,2.0400000000000001E-2,483.3,485.8,0.68689999999999996,0.68669999999999998,1117,1203,1.4350000000000001]
[null,675,499.1,2.0420000000000001E-2,484.3,486.8,0.68789999999999996,0.68140000000000001,1117,1202,1.4339999999999999]
[null,680,499.9,2.044E-2,485.2,487.8,0.68889999999999996,0.67610000000000003,1117,1202,1.4339999999999999]
[null,685,500.7,2.0459999999999999E-2,486.2,488.8,0.68989999999999996,0.67100000000000004,1117,1202,1.4330000000000001]
[null,690,501.5,2.0480000000000002E-2,487.1,489.7,0.69089999999999996,0.66590000000000005,1117,1202,1.4319999999999999]
[null,695,502.3,2.0500000000000001E-2,488,490.7,0.69179999999999997,0.66080000000000005,1117,1202,1.431]
[null,700,503.1,2.051E-2,489,491.6,0.69279999999999997,0.65590000000000004,1117,1202,1.431]
[null,705,503.9,2.053E-2,489.9,492.6,0.69379999999999997,0.65100000000000002,1117,1202,1.43]
[null,710,504.7,2.0549999999999999E-2,490.8,493.5,0.69469999999999998,0.64610000000000001,1117,1202,1.429]
[null,715,505.5,2.0570000000000001E-2,491.7,494.4,0.69569999999999999,0.64139999999999997,1117,1202,1.4279999999999999]
[null,720,506.3,2.0590000000000001E-2,492.6,495.4,0.6966,0.63670000000000004,1117,1201,1.4279999999999999]
[null,725,507.1,2.061E-2,493.5,496.3,0.6976,0.63200000000000001,1117,1201,1.427]
[null,730,507.8,2.0619999999999999E-2,494.5,497.2,0.69850000000000001,0.62749999999999995,1116,1201,1.4259999999999999]
[null,735,508.6,2.0639999999999999E-2,495.4,498.2,0.69940000000000002,0.62290000000000001,1116,1201,1.425]
[null,740,509.4,2.0660000000000001E-2,496.3,499.1,0.70040000000000002,0.61850000000000005,1116,1201,1.425]
[null,745,510.1,2.068E-2,497.1,500,0.70130000000000003,0.61409999999999998,1116,1201,1.4239999999999999]
[null,750,510.9,2.07E-2,498,500.9,0.70220000000000005,0.60970000000000002,1116,1201,1.423]
[null,755,511.7,2.0719999999999999E-2,498.9,501.8,0.70309999999999995,0.60550000000000004,1116,1201,1.4219999999999999]
[null,760,512.4,2.0729999999999998E-2,499.8,502.7,0.70399999999999996,0.60119999999999996,1116,1200,1.4219999999999999]
[null,765,513.1,2.0750000000000001E-2,500.7,503.6,0.70499999999999996,0.59699999999999998,1116,1200,1.421]
[null,770,513.9,2.077E-2,501.6,504.5,0.70589999999999997,0.59289999999999998,1116,1200,1.42]
[null,775,514.6,2.0789999999999999E-2,502.4,505.4,0.70679999999999998,0.58879999999999999,1116,1200,1.42]
[null,780,515.4,2.0809999999999999E-2,503.3,506.3,0.70760000000000001,0.58479999999999999,1115,1200,1.419]
[null,785,516.1,2.0820000000000002E-2,504.2,507.2,0.70850000000000002,0.58079999999999998,1115,1200,1.4179999999999999]
[null,790,516.79999999999995,2.0840000000000001E-2,505,508.1,0.70940000000000003,0.57689999999999997,1115,1200,1.4179999999999999]
[null,795,517.5,2.086E-2,505.9,509,0.71030000000000004,0.57299999999999995,1115,1199,1.417]
[null,800,518.29999999999995,2.0879999999999999E-2,506.7,509.8,0.71120000000000005,0.56920000000000004,1115,1199,1.4159999999999999]
[null,805,519,2.0899999999999998E-2,507.6,510.7,0.71209999999999996,0.56540000000000001,1115,1199,1.4159999999999999]
[null,810,519.70000000000005,2.0920000000000001E-2,508.4,511.6,0.71289999999999998,0.56159999999999999,1115,1199,1.415]
[null,815,520.4,2.0930000000000001E-2,509.3,512.4,0.71379999999999999,0.55789999999999995,1115,1199,1.4139999999999999]
[null,820,521.1,2.095E-2,510.1,513.29999999999995,0.71460000000000001,0.55430000000000001,1115,1199,1.413]
[null,825,521.79999999999995,2.0969999999999999E-2,511,514.20000000000005,0.71550000000000002,0.55069999999999997,1114,1199,1.413]
[null,830,522.5,2.0990000000000002E-2,511.8,515,0.71640000000000004,0.54710000000000003,1114,1198,1.4119999999999999]
[null,835,523.20000000000005,2.1010000000000001E-2,512.6,515.9,0.71719999999999995,0.54359999999999997,1114,1198,1.411]
[null,840,523.9,2.102E-2,513.5,516.70000000000005,0.71809999999999996,0.54010000000000002,1114,1198,1.411]
[null,845,524.6,2.104E-2,514.29999999999995,517.6,0.71889999999999998,0.53659999999999997,1114,1198,1.41]
[null,850,525.29999999999995,2.1059999999999999E-2,515.1,518.4,0.71970000000000001,0.53320000000000001,1114,1198,1.409]
[null,855,526,2.1080000000000002E-2,515.9,519.29999999999995,0.72060000000000002,0.52980000000000005,1114,1198,1.409]
[null,860,526.70000000000005,2.1100000000000001E-2,516.70000000000005,520.1,0.72140000000000004,0.52649999999999997,1114,1197,1.4079999999999999]
[null,865,527.29999999999995,2.111E-2,517.6,520.9,0.72219999999999995,0.5232,1114,1197,1.407]
[null,870,528,2.1129999999999999E-2,518.4,521.79999999999995,0.72309999999999997,0.51990000000000003,1113,1197,1.407]
[null,875,528.70000000000005,2.1149999999999999E-2,519.20000000000005,522.6,0.72389999999999999,0.51670000000000005,1113,1197,1.4059999999999999]
[null,880,529.4,2.1170000000000001E-2,520,523.4,0.72470000000000001,0.51349999999999996,1113,1197,1.4059999999999999]
[null,885,530,2.1190000000000001E-2,520.79999999999995,524.29999999999995,0.72550000000000003,0.51029999999999998,1113,1197,1.405]
[null,890,530.70000000000005,2.12E-2,521.6,525.1,0.72629999999999995,0.50719999999999998,1113,1196,1.4039999999999999]
[null,895,531.4,2.1219999999999999E-2,522.4,525.9,0.72709999999999997,0.50409999999999999,1113,1196,1.4039999999999999]
[null,900,532,2.1239999999999998E-2,523.20000000000005,526.70000000000005,0.72789999999999999,0.50109999999999999,1113,1196,1.403]
[null,905,532.70000000000005,2.1260000000000001E-2,524,527.5,0.72870000000000001,0.498,1113,1196,1.4019999999999999]
[null,910,533.29999999999995,2.128E-2,524.79999999999995,528.29999999999995,0.72950000000000004,0.495,1112,1196,1.4019999999999999]
[null,915,534,2.129E-2,525.6,529.20000000000005,0.73029999999999995,0.49209999999999998,1112,1196,1.401]
[null,920,534.6,2.1309999999999999E-2,526.29999999999995,530,0.73109999999999997,0.48920000000000002,1112,1195,1.4]
[null,925,535.29999999999995,2.1329999999999998E-2,527.1,530.79999999999995,0.7319,0.48630000000000001,1112,1195,1.4]
[null,930,535.9,2.1350000000000001E-2,527.9,531.6,0.73270000000000002,0.4834,1112,1195,1.399]
[null,935,536.6,2.137E-2,528.70000000000005,532.4,0.73350000000000004,0.48049999999999998,1112,1195,1.399]
[null,940,537.20000000000005,2.138E-2,529.5,533.20000000000005,0.73429999999999995,0.47770000000000001,1112,1195,1.3979999999999999]
[null,945,537.79999999999995,2.1399999999999999E-2,530.20000000000005,534,0.73499999999999999,0.47489999999999999,1112,1195,1.397]
[null,950,538.5,2.1420000000000002E-2,531,534.79999999999995,0.73580000000000001,0.47220000000000001,1111,1194,1.397]
[null,955,539.1,2.1440000000000001E-2,531.79999999999995,535.5,0.73660000000000003,0.46949999999999997,1111,1194,1.3959999999999999]
[null,960,539.70000000000005,2.146E-2,532.5,536.29999999999995,0.73740000000000006,0.4667,1111,1194,1.395]
[null,965,540.29999999999995,2.147E-2,533.29999999999995,537.1,0.73809999999999998,0.46410000000000001,1111,1194,1.395]
[null,970,541,2.1489999999999999E-2,534,537.9,0.7389,0.46139999999999998,1111,1194,1.3939999999999999]
[null,975,541.6,2.1510000000000001E-2,534.79999999999995,538.70000000000005,0.73960000000000004,0.45879999999999999,1111,1194,1.3939999999999999]
[null,980,542.20000000000005,2.1530000000000001E-2,535.6,539.5,0.74039999999999995,0.45619999999999999,1111,1193,1.393]
[null,985,542.79999999999995,2.155E-2,536.29999999999995,540.20000000000005,0.74119999999999997,0.4536,1110,1193,1.3919999999999999]
[null,990,543.4,2.1559999999999999E-2,537.1,541,0.7419,0.4511,1110,1193,1.3919999999999999]
[null,995,544,2.1579999999999998E-2,537.79999999999995,541.79999999999995,0.74270000000000003,0.4486,1110,1193,1.391]
[null,1000,544.70000000000005,2.1600000000000001E-2,538.6,542.6,0.74339999999999995,0.4461,1110,1193,1.391]
[null,1005,545.29999999999995,2.162E-2,539.29999999999995,543.29999999999995,0.74419999999999997,0.44359999999999999,1110,1192,1.39]
[null,1010,545.9,2.164E-2,540.1,544.1,0.74490000000000001,0.44109999999999999,1110,1192,1.389]
[null,1015,546.5,2.1649999999999999E-2,540.79999999999995,544.9,0.74560000000000004,0.43869999999999998,1110,1192,1.389]
[null,1020,547.1,2.1669999999999998E-2,541.5,545.6,0.74639999999999995,0.43630000000000002,1109,1192,1.3879999999999999]
[null,1025,547.70000000000005,2.1690000000000001E-2,542.29999999999995,546.4,0.74709999999999999,0.43390000000000001,1109,1192,1.3879999999999999]
[null,1030,548.29999999999995,2.171E-2,543,547.1,0.74780000000000002,0.43159999999999998,1109,1191,1.387]
[null,1035,548.79999999999995,2.1729999999999999E-2,543.70000000000005,547.9,0.74860000000000004,0.42920000000000003,1109,1191,1.3859999999999999]
[null,1040,549.4,2.1739999999999999E-2,544.5,548.6,0.74929999999999997,0.4269,1109,1191,1.3859999999999999]
[null,1045,550,2.1760000000000002E-2,545.20000000000005,549.4,0.75,0.42459999999999998,1109,1191,1.385]
[null,1050,550.6,2.1780000000000001E-2,545.9,550.20000000000005,0.75070000000000003,0.42230000000000001,1109,1191,1.385]
[null,1055,551.20000000000005,2.18E-2,546.6,550.9,0.75149999999999995,0.42009999999999997,1108,1190,1.3839999999999999]
[null,1060,551.79999999999995,2.1819999999999999E-2,547.4,551.6,0.75219999999999998,0.4178,1108,1190,1.3839999999999999]
[null,1065,552.4,2.1829999999999999E-2,548.1,552.4,0.75290000000000001,0.41560000000000002,1108,1190,1.383]
[null,1070,552.9,2.1850000000000001E-2,548.79999999999995,553.1,0.75360000000000005,0.41339999999999999,1108,1190,1.3819999999999999]
[null,1075,553.5,2.1870000000000001E-2,549.5,553.9,0.75429999999999997,0.41120000000000001,1108,1190,1.3819999999999999]
[null,1080,554.1,2.189E-2,550.20000000000005,554.6,0.755,0.40910000000000002,1108,1189,1.381]
[null,1085,554.6,2.1909999999999999E-2,551,555.29999999999995,0.75570000000000004,0.40699999999999997,1107,1189,1.381]
[null,1090,555.20000000000005,2.1919999999999999E-2,551.70000000000005,556.1,0.75639999999999996,0.40479999999999999,1107,1189,1.38]
[null,1095,555.79999999999995,2.1940000000000001E-2,552.4,556.79999999999995,0.7571,0.4027,1107,1189,1.38]
[null,1100,556.4,2.196E-2,553.1,557.6,0.75780000000000003,0.40060000000000001,1107,1189,1.379]
[null,1105,556.9,2.198E-2,553.79999999999995,558.29999999999995,0.75849999999999995,0.39860000000000001,1107,1188,1.3779999999999999]
[null,1110,557.5,2.1999999999999999E-2,554.5,559,0.75919999999999999,0.39650000000000002,1107,1188,1.3779999999999999]
[null,1115,558,2.2020000000000001E-2,555.20000000000005,559.70000000000005,0.75990000000000002,0.39450000000000002,1107,1188,1.377]
[null,1120,558.6,2.2030000000000001E-2,555.9,560.5,0.76060000000000005,0.39250000000000002,1106,1188,1.377]
[null,1125,559.1,2.205E-2,556.6,561.20000000000005,0.76129999999999998,0.39050000000000001,1106,1188,1.3759999999999999]
[null,1130,559.70000000000005,2.2069999999999999E-2,557.29999999999995,561.9,0.76200000000000001,0.38850000000000001,1106,1187,1.3759999999999999]
[null,1135,560.29999999999995,2.2089999999999999E-2,558,562.6,0.76270000000000004,0.3866,1106,1187,1.375]
[null,1140,560.79999999999995,2.2110000000000001E-2,558.70000000000005,563.29999999999995,0.76339999999999997,0.3846,1106,1187,1.3740000000000001]
[null,1145,561.4,2.2120000000000001E-2,559.4,564.1,0.7641,0.38269999999999998,1106,1187,1.3740000000000001]
[null,1150,561.9,2.214E-2,560.1,564.79999999999995,0.76470000000000005,0.38080000000000003,1105,1186,1.373]
[null,1155,562.4,2.2159999999999999E-2,560.79999999999995,565.5,0.76539999999999997,0.37890000000000001,1105,1186,1.373]
[null,1160,563,2.2179999999999998E-2,561.4,566.20000000000005,0.7661,0.377,1105,1186,1.3720000000000001]
[null,1165,563.5,2.2200000000000001E-2,562.1,566.9,0.76680000000000004,0.37509999999999999,1105,1186,1.3720000000000001]
[null,1170,564.1,2.222E-2,562.79999999999995,567.6,0.76739999999999997,0.37330000000000002,1105,1186,1.371]
[null,1175,564.6,2.223E-2,563.5,568.29999999999995,0.7681,0.37140000000000001,1105,1185,1.371]
[null,1180,565.1,2.2249999999999999E-2,564.20000000000005,569,0.76880000000000004,0.36959999999999998,1104,1185,1.37]
[null,1185,565.70000000000005,2.2270000000000002E-2,564.9,569.70000000000005,0.76939999999999997,0.36780000000000002,1104,1185,1.369]
[null,1190,566.20000000000005,2.2290000000000001E-2,565.5,570.4,0.77010000000000001,0.36599999999999999,1104,1185,1.369]
[null,1195,566.70000000000005,2.231E-2,566.20000000000005,571.1,0.77080000000000004,0.36420000000000002,1104,1184,1.3680000000000001]
[null,1200,567.29999999999995,2.2329999999999999E-2,566.9,571.79999999999995,0.77139999999999997,0.36249999999999999,1104,1184,1.3680000000000001]
[null,1205,567.79999999999995,2.2339999999999999E-2,567.6,572.5,0.77210000000000001,0.36070000000000002,1104,1184,1.367]
[null,1210,568.29999999999995,2.2360000000000001E-2,568.20000000000005,573.20000000000005,0.77280000000000004,0.35899999999999999,1103,1184,1.367]
[null,1215,568.79999999999995,2.2380000000000001E-2,568.9,573.9,0.77339999999999998,0.35730000000000001,1103,1184,1.3660000000000001]
[null,1220,569.4,2.24E-2,569.6,574.6,0.77410000000000001,0.35549999999999998,1103,1183,1.3660000000000001]
[null,1225,569.9,2.2419999999999999E-2,570.20000000000005,575.29999999999995,0.77470000000000006,0.3538,1103,1183,1.365]
[null,1230,570.4,2.2440000000000002E-2,570.9,576,0.77539999999999998,0.35220000000000001,1103,1183,1.3640000000000001]
[null,1235,570.9,2.2450000000000001E-2,571.6,576.70000000000005,0.77600000000000002,0.35049999999999998,1102,1183,1.3640000000000001]
[null,1240,571.4,2.247E-2,572.20000000000005,577.4,0.77669999999999995,0.3488,1102,1182,1.363]
[null,1245,571.9,2.249E-2,572.9,578.1,0.77729999999999999,0.34720000000000001,1102,1182,1.363]
[null,1250,572.5,2.2509999999999999E-2,573.6,578.79999999999995,0.77800000000000002,0.34560000000000002,1102,1182,1.3620000000000001]
[null,1255,573,2.2530000000000001E-2,574.20000000000005,579.4,0.77859999999999996,0.34389999999999998,1102,1182,1.3620000000000001]
[null,1260,573.5,2.2550000000000001E-2,574.9,580.1,0.7792,0.34229999999999999,1102,1181,1.361]
[null,1265,574,2.257E-2,575.5,580.79999999999995,0.77990000000000004,0.3407,1101,1181,1.361]
[null,1270,574.5,2.2579999999999999E-2,576.20000000000005,581.5,0.78049999999999997,0.33910000000000001,1101,1181,1.36]
[null,1275,575,2.2599999999999999E-2,576.79999999999995,582.20000000000005,0.78120000000000001,0.33760000000000001,1101,1181,1.36]
[null,1280,575.5,2.2620000000000001E-2,577.5,582.79999999999995,0.78180000000000005,0.33600000000000002,1101,1180,1.359]
[null,1285,576,2.264E-2,578.1,583.5,0.78239999999999998,0.33450000000000002,1101,1180,1.359]
[null,1290,576.5,2.266E-2,578.79999999999995,584.20000000000005,0.78310000000000002,0.33289999999999997,1101,1180,1.3580000000000001]
[null,1295,577,2.2679999999999999E-2,579.4,584.9,0.78369999999999995,0.33139999999999997,1100,1180,1.3580000000000001]
[null,1300,577.5,2.2700000000000001E-2,580.1,585.5,0.7843,0.32990000000000003,1100,1179,1.357]
[null,1305,578,2.2710000000000001E-2,580.70000000000005,586.20000000000005,0.78490000000000004,0.32840000000000003,1100,1179,1.3560000000000001]
[null,1310,578.5,2.273E-2,581.4,586.9,0.78559999999999997,0.32690000000000002,1100,1179,1.3560000000000001]
[null,1315,579,2.2749999999999999E-2,582,587.6,0.78620000000000001,0.32540000000000002,1100,1179,1.355]
[null,1320,579.5,2.2769999999999999E-2,582.70000000000005,588.20000000000005,0.78680000000000005,0.32390000000000002,1099,1179,1.355]
[null,1325,580,2.2790000000000001E-2,583.29999999999995,588.9,0.78739999999999999,0.32250000000000001,1099,1178,1.3540000000000001]
[null,1330,580.4,2.281E-2,583.9,589.6,0.78810000000000002,0.32100000000000001,1099,1178,1.3540000000000001]
[null,1335,580.9,2.283E-2,584.6,590.20000000000005,0.78869999999999996,0.3196,1099,1178,1.353]
[null,1340,581.4,2.2849999999999999E-2,585.20000000000005,590.9,0.7893,0.31809999999999999,1099,1178,1.353]
[null,1345,581.9,2.2870000000000001E-2,585.9,591.6,0.78990000000000005,0.31669999999999998,1098,1177,1.3520000000000001]
[null,1350,582.4,2.2880000000000001E-2,586.5,592.20000000000005,0.79049999999999998,0.31530000000000002,1098,1177,1.3520000000000001]
[null,1355,582.9,2.29E-2,587.1,592.9,0.79110000000000003,0.31390000000000001,1098,1177,1.351]
[null,1360,583.29999999999995,2.2919999999999999E-2,587.79999999999995,593.5,0.79169999999999996,0.3125,1098,1176,1.351]
[null,1365,583.79999999999995,2.2939999999999999E-2,588.4,594.20000000000005,0.79239999999999999,0.31109999999999999,1098,1176,1.35]
[null,1370,584.29999999999995,2.2960000000000001E-2,589,594.79999999999995,0.79300000000000004,0.30969999999999998,1097,1176,1.35]
[null,1375,584.79999999999995,2.298E-2,589.70000000000005,595.5,0.79359999999999997,0.30840000000000001,1097,1176,1.349]
[null,1380,585.29999999999995,2.3E-2,590.29999999999995,596.20000000000005,0.79420000000000002,0.307,1097,1175,1.349]
[null,1385,585.70000000000005,2.3019999999999999E-2,590.9,596.79999999999995,0.79479999999999995,0.30570000000000003,1097,1175,1.3480000000000001]
[null,1390,586.20000000000005,2.3040000000000001E-2,591.5,597.5,0.7954,0.30430000000000001,1097,1175,1.3480000000000001]
[null,1395,586.70000000000005,2.3060000000000001E-2,592.20000000000005,598.1,0.79600000000000004,0.30299999999999999,1096,1175,1.347]
[null,1400,587.1,2.307E-2,592.79999999999995,598.79999999999995,0.79659999999999997,0.30170000000000002,1096,1174,1.347]
[null,1405,587.6,2.3089999999999999E-2,593.4,599.4,0.79720000000000002,0.3004,1096,1174,1.3460000000000001]
[null,1410,588.1,2.3109999999999999E-2,594,600.1,0.79779999999999995,0.29909999999999998,1096,1174,1.345]
[null,1415,588.5,2.3130000000000001E-2,594.70000000000005,600.70000000000005,0.7984,0.29780000000000001,1096,1174,1.345]
[null,1420,589,2.315E-2,595.29999999999995,601.4,0.79900000000000004,0.29649999999999999,1095,1173,1.3440000000000001]
[null,1425,589.5,2.317E-2,595.9,602,0.79959999999999998,0.29520000000000002,1095,1173,1.3440000000000001]
[null,1430,589.9,2.3189999999999999E-2,596.5,602.70000000000005,0.80020000000000002,0.29399999999999998,1095,1173,1.343]
[null,1435,590.4,2.3210000000000001E-2,597.1,603.29999999999995,0.80079999999999996,0.29270000000000002,1095,1173,1.343]
[null,1440,590.79999999999995,2.3230000000000001E-2,597.79999999999995,603.9,0.8014,0.29139999999999999,1095,1172,1.3420000000000001]
[null,1445,591.29999999999995,2.325E-2,598.4,604.6,0.80200000000000005,0.29020000000000001,1094,1172,1.3420000000000001]
[null,1450,591.79999999999995,2.3269999999999999E-2,599,605.20000000000005,0.80249999999999999,0.28899999999999998,1094,1172,1.341]
[null,1455,592.20000000000005,2.3290000000000002E-2,599.6,605.9,0.80310000000000004,0.28770000000000001,1094,1171,1.341]
[null,1460,592.70000000000005,2.3310000000000001E-2,600.20000000000005,606.5,0.80369999999999997,0.28649999999999998,1094,1171,1.34]
[null,1465,593.1,2.333E-2,600.79999999999995,607.1,0.80430000000000001,0.2853,1094,1171,1.34]
[null,1470,593.6,2.3349999999999999E-2,601.4,607.79999999999995,0.80489999999999995,0.28410000000000002,1093,1171,1.339]
[null,1475,594,2.3359999999999999E-2,602,608.4,0.80549999999999999,0.28289999999999998,1093,1170,1.339]
[null,1480,594.5,2.3380000000000001E-2,602.70000000000005,609.1,0.80610000000000004,0.28170000000000001,1093,1170,1.3380000000000001]
[null,1485,594.9,2.3400000000000001E-2,603.29999999999995,609.70000000000005,0.80659999999999998,0.28050000000000003,1093,1170,1.3380000000000001]
[null,1490,595.4,2.342E-2,603.9,610.29999999999995,0.80720000000000003,0.27939999999999998,1093,1170,1.337]
[null,1495,595.79999999999995,2.3439999999999999E-2,604.5,611,0.80779999999999996,0.2782,1092,1169,1.337]
[null,1500,596.29999999999995,2.3460000000000002E-2,605.1,611.6,0.80840000000000001,0.27700000000000002,1092,1169,1.3360000000000001]
[null,1505,596.70000000000005,2.3480000000000001E-2,605.70000000000005,612.20000000000005,0.80900000000000005,0.27589999999999998,1092,1169,1.3360000000000001]
[null,1510,597.20000000000005,2.35E-2,606.29999999999995,612.9,0.8095,0.2747,1092,1168,1.335]
[null,1515,597.6,2.3519999999999999E-2,606.9,613.5,0.81010000000000004,0.27360000000000001,1091,1168,1.335]
[null,1520,598,2.3539999999999998E-2,607.5,614.1,0.81069999999999998,0.27250000000000002,1091,1168,1.3340000000000001]
[null,1525,598.5,2.3560000000000001E-2,608.1,614.70000000000005,0.81130000000000002,0.27129999999999999,1091,1168,1.3340000000000001]
[null,1530,598.9,2.358E-2,608.70000000000005,615.4,0.81179999999999997,0.2702,1091,1167,1.333]
[null,1535,599.4,2.3599999999999999E-2,609.29999999999995,616,0.81240000000000001,0.26910000000000001,1091,1167,1.333]
[null,1540,599.79999999999995,2.3619999999999999E-2,609.9,616.6,0.81299999999999994,0.26800000000000002,1090,1167,1.3320000000000001]
[null,1545,600.20000000000005,2.3640000000000001E-2,610.5,617.20000000000005,0.8135,0.26690000000000003,1090,1166,1.3320000000000001]
[null,1550,600.70000000000005,2.366E-2,611.1,617.9,0.81410000000000005,0.26579999999999998,1090,1166,1.331]
[null,1555,601.1,2.368E-2,611.70000000000005,618.5,0.81469999999999998,0.26469999999999999,1090,1166,1.331]
[null,1560,601.5,2.3699999999999999E-2,612.29999999999995,619.1,0.81520000000000004,0.26369999999999999,1089,1166,1.33]
[null,1565,602,2.3720000000000001E-2,612.9,619.70000000000005,0.81579999999999997,0.2626,1089,1165,1.33]
[null,1570,602.4,2.3740000000000001E-2,613.5,620.4,0.81640000000000001,0.26150000000000001,1089,1165,1.329]
[null,1575,602.79999999999995,2.376E-2,614.1,621,0.81689999999999996,0.26050000000000001,1089,1165,1.329]
[null,1580,603.20000000000005,2.3779999999999999E-2,614.6,621.6,0.8175,0.25940000000000002,1089,1164,1.3280000000000001]
[null,1585,603.70000000000005,2.3800000000000002E-2,615.20000000000005,622.20000000000005,0.81810000000000005,0.25840000000000002,1088,1164,1.3280000000000001]
[null,1590,604.1,2.3820000000000001E-2,615.79999999999995,622.79999999999995,0.81859999999999999,0.25729999999999997,1088,1164,1.327]
[null,1595,604.5,2.384E-2,616.4,623.5,0.81920000000000004,0.25629999999999997,1088,1164,1.327]
[null,1600,604.9,2.3859999999999999E-2,617,624.1,0.81969999999999998,0.25530000000000003,1088,1163,1.3260000000000001]
[null,1605,605.4,2.3879999999999998E-2,617.6,624.70000000000005,0.82030000000000003,0.25419999999999998,1087,1163,1.3260000000000001]
[null,1610,605.79999999999995,2.3900000000000001E-2,618.20000000000005,625.29999999999995,0.82089999999999996,0.25319999999999998,1087,1163,1.325]
[null,1615,606.20000000000005,2.392E-2,618.79999999999995,625.9,0.82140000000000002,0.25219999999999998,1087,1162,1.325]
[null,1620,606.6,2.3939999999999999E-2,619.4,626.5,0.82199999999999995,0.25119999999999998,1087,1162,1.3240000000000001]
[null,1625,607,2.3970000000000002E-2,619.9,627.1,0.82250000000000001,0.25019999999999998,1087,1162,1.3240000000000001]
[null,1630,607.5,2.3990000000000001E-2,620.5,627.79999999999995,0.82310000000000005,0.2492,1086,1161,1.323]
[null,1635,607.9,2.401E-2,621.1,628.4,0.8236,0.2482,1086,1161,1.323]
[null,1640,608.29999999999995,2.4029999999999999E-2,621.70000000000005,629,0.82420000000000004,0.2472,1086,1161,1.3220000000000001]
[null,1645,608.70000000000005,2.4049999999999998E-2,622.29999999999995,629.6,0.82469999999999999,0.24629999999999999,1086,1161,1.3220000000000001]
[null,1650,609.1,2.4070000000000001E-2,622.9,630.20000000000005,0.82530000000000003,0.24529999999999999,1085,1160,1.321]
[null,1655,609.5,2.409E-2,623.4,630.79999999999995,0.82579999999999998,0.24429999999999999,1085,1160,1.321]
[null,1660,609.9,2.4109999999999999E-2,624,631.4,0.82640000000000002,0.24329999999999999,1085,1160,1.32]
[null,1665,610.29999999999995,2.4129999999999999E-2,624.6,632,0.82689999999999997,0.2424,1085,1159,1.32]
[null,1670,610.79999999999995,2.4150000000000001E-2,625.20000000000005,632.6,0.82750000000000001,0.2414,1084,1159,1.319]
[null,1675,611.20000000000005,2.4170000000000001E-2,625.79999999999995,633.29999999999995,0.82799999999999996,0.24049999999999999,1084,1159,1.319]
[null,1680,611.6,2.419E-2,626.29999999999995,633.9,0.8286,0.23960000000000001,1084,1158,1.3180000000000001]
[null,1685,612,2.4209999999999999E-2,626.9,634.5,0.82909999999999995,0.23860000000000001,1084,1158,1.3180000000000001]
[null,1690,612.4,2.4240000000000001E-2,627.5,635.1,0.82969999999999999,0.23769999999999999,1083,1158,1.3169999999999999]
[null,1695,612.79999999999995,2.426E-2,628.1,635.70000000000005,0.83020000000000005,0.23680000000000001,1083,1157,1.3169999999999999]
[null,1700,613.20000000000005,2.4279999999999999E-2,628.6,636.29999999999995,0.83069999999999999,0.23580000000000001,1083,1157,1.3160000000000001]
[null,1705,613.6,2.4299999999999999E-2,629.20000000000005,636.9,0.83130000000000004,0.2349,1083,1157,1.3160000000000001]
[null,1710,614,2.4320000000000001E-2,629.79999999999995,637.5,0.83179999999999998,0.23400000000000001,1082,1157,1.3149999999999999]
[null,1715,614.4,2.4340000000000001E-2,630.4,638.1,0.83240000000000003,0.2331,1082,1156,1.3149999999999999]
[null,1720,614.79999999999995,2.436E-2,630.9,638.70000000000005,0.83289999999999997,0.23219999999999999,1082,1156,1.3140000000000001]
[null,1725,615.20000000000005,2.4379999999999999E-2,631.5,639.29999999999995,0.83350000000000002,0.23130000000000001,1082,1156,1.3140000000000001]
[null,1730,615.6,2.4400000000000002E-2,632.1,639.9,0.83399999999999996,0.23039999999999999,1081,1155,1.3129999999999999]
[null,1735,616,2.443E-2,632.70000000000005,640.5,0.83450000000000002,0.22950000000000001,1081,1155,1.3129999999999999]
[null,1740,616.4,2.445E-2,633.20000000000005,641.1,0.83509999999999995,0.2286,1081,1155,1.3120000000000001]
[null,1745,616.79999999999995,2.4469999999999999E-2,633.79999999999995,641.70000000000005,0.83560000000000001,0.2278,1081,1154,1.3120000000000001]
[null,1750,617.20000000000005,2.4490000000000001E-2,634.4,642.29999999999995,0.83609999999999995,0.22689999999999999,1080,1154,1.3109999999999999]
[null,1755,617.6,2.4510000000000001E-2,634.9,642.9,0.8367,0.22600000000000001,1080,1154,1.3109999999999999]
[null,1760,618,2.453E-2,635.5,643.5,0.83720000000000006,0.22520000000000001,1080,1153,1.31]
[null,1765,618.4,2.4559999999999998E-2,636.1,644.1,0.8377,0.2243,1080,1153,1.31]
[null,1770,618.70000000000005,2.4580000000000001E-2,636.6,644.70000000000005,0.83830000000000005,0.22339999999999999,1079,1153,1.3089999999999999]
[null,1775,619.1,2.46E-2,637.20000000000005,645.29999999999995,0.83879999999999999,0.22259999999999999,1079,1152,1.3089999999999999]
[null,1780,619.5,2.462E-2,637.79999999999995,645.9,0.83930000000000005,0.22170000000000001,1079,1152,1.3080000000000001]
[null,1785,619.9,2.4639999999999999E-2,638.29999999999995,646.5,0.83989999999999998,0.22090000000000001,1079,1152,1.3080000000000001]
[null,1790,620.29999999999995,2.4660000000000001E-2,638.9,647.1,0.84040000000000004,0.22009999999999999,1078,1151,1.3069999999999999]
[null,1795,620.70000000000005,2.469E-2,639.5,647.70000000000005,0.84089999999999998,0.21920000000000001,1078,1151,1.3069999999999999]
[null,1800,621.1,2.4709999999999999E-2,640,648.29999999999995,0.84150000000000003,0.21840000000000001,1078,1151,1.306]
[null,1805,621.5,2.4729999999999999E-2,640.6,648.9,0.84199999999999997,0.21759999999999999,1078,1150,1.306]
[null,1810,621.79999999999995,2.4750000000000001E-2,641.20000000000005,649.5,0.84250000000000003,0.2167,1077,1150,1.3049999999999999]
[null,1815,622.20000000000005,2.477E-2,641.70000000000005,650.1,0.84299999999999997,0.21590000000000001,1077,1150,1.3049999999999999]
[null,1820,622.6,2.4799999999999999E-2,642.29999999999995,650.6,0.84360000000000002,0.21510000000000001,1077,1149,1.304]
[null,1825,623,2.4819999999999998E-2,642.9,651.20000000000005,0.84409999999999996,0.21429999999999999,1077,1149,1.304]
[null,1830,623.4,2.4840000000000001E-2,643.4,651.79999999999995,0.84460000000000002,0.2135,1076,1149,1.3029999999999999]
[null,1835,623.70000000000005,2.486E-2,644,652.4,0.84519999999999995,0.2127,1076,1148,1.3029999999999999]
[null,1840,624.1,2.4889999999999999E-2,644.5,653,0.84570000000000001,0.21190000000000001,1076,1148,1.302]
[null,1845,624.5,2.4910000000000002E-2,645.1,653.6,0.84619999999999995,0.21110000000000001,1076,1148,1.302]
[null,1850,624.9,2.4930000000000001E-2,645.70000000000005,654.20000000000005,0.84670000000000001,0.21029999999999999,1075,1147,1.3009999999999999]
[null,1855,625.29999999999995,2.495E-2,646.20000000000005,654.79999999999995,0.84719999999999995,0.20949999999999999,1075,1147,1.3009999999999999]
[null,1860,625.6,2.4979999999999999E-2,646.79999999999995,655.4,0.8478,0.2087,1075,1147,1.3]
[null,1865,626,2.5000000000000001E-2,647.29999999999995,656,0.84830000000000005,0.20799999999999999,1074,1146,1.3]
[null,1870,626.4,2.5020000000000001E-2,647.9,656.6,0.8488,0.2072,1074,1146,1.2989999999999999]
[null,1875,626.79999999999995,2.504E-2,648.5,657.1,0.84930000000000005,0.2064,1074,1146,1.2989999999999999]
[null,1880,627.1,2.5069999999999999E-2,649,657.7,0.84989999999999999,0.2056,1074,1145,1.298]
[null,1885,627.5,2.5090000000000001E-2,649.6,658.3,0.85040000000000004,0.2049,1073,1145,1.298]
[null,1890,627.9,2.511E-2,650.1,658.9,0.85089999999999999,0.2041,1073,1145,1.2969999999999999]
[null,1895,628.20000000000005,2.5139999999999999E-2,650.70000000000005,659.5,0.85140000000000005,0.2034,1073,1144,1.2969999999999999]
[null,1900,628.6,2.5159999999999998E-2,651.20000000000005,660.1,0.85189999999999999,0.2026,1073,1144,1.296]
[null,1905,629,2.5180000000000001E-2,651.79999999999995,660.7,0.85250000000000004,0.20180000000000001,1072,1143,1.296]
[null,1910,629.4,2.521E-2,652.4,661.3,0.85299999999999998,0.2011,1072,1143,1.2949999999999999]
[null,1915,629.70000000000005,2.5229999999999999E-2,652.9,661.9,0.85350000000000004,0.20039999999999999,1072,1143,1.2949999999999999]
[null,1920,630.1,2.5250000000000002E-2,653.5,662.4,0.85399999999999998,0.1996,1071,1142,1.294]
[null,1925,630.5,2.528E-2,654,663,0.85450000000000004,0.19889999999999999,1071,1142,1.294]
[null,1930,630.79999999999995,2.53E-2,654.6,663.6,0.85499999999999998,0.1981,1071,1142,1.2929999999999999]
[null,1935,631.20000000000005,2.5319999999999999E-2,655.1,664.2,0.85560000000000003,0.19739999999999999,1071,1141,1.2929999999999999]
[null,1940,631.5,2.5350000000000001E-2,655.7,664.8,0.85609999999999997,0.19670000000000001,1070,1141,1.292]
[null,1945,631.9,2.537E-2,656.2,665.4,0.85660000000000003,0.19600000000000001,1070,1141,1.292]
[null,1950,632.29999999999995,2.5389999999999999E-2,656.8,666,0.85709999999999997,0.19520000000000001,1070,1140,1.2909999999999999]
[null,1955,632.6,2.5420000000000002E-2,657.3,666.5,0.85760000000000003,0.19450000000000001,1069,1140,1.2909999999999999]
[null,1960,633,2.5440000000000001E-2,657.9,667.1,0.85809999999999997,0.1938,1069,1139,1.29]
[null,1965,633.4,2.547E-2,658.5,667.7,0.85860000000000003,0.19309999999999999,1069,1139,1.29]
[null,1970,633.70000000000005,2.5489999999999999E-2,659,668.3,0.85919999999999996,0.19239999999999999,1069,1139,1.2889999999999999]
[null,1975,634.1,2.5510000000000001E-2,659.6,668.9,0.85970000000000002,0.19170000000000001,1068,1138,1.2889999999999999]
[null,1980,634.4,2.554E-2,660.1,669.5,0.86019999999999996,0.191,1068,1138,1.288]
[null,1985,634.79999999999995,2.5559999999999999E-2,660.7,670,0.86070000000000002,0.1903,1068,1138,1.288]
[null,1990,635.1,2.5590000000000002E-2,661.2,670.6,0.86119999999999997,0.18959999999999999,1067,1137,1.2869999999999999]
[null,1995,635.5,2.5610000000000001E-2,661.8,671.2,0.86170000000000002,0.18890000000000001,1067,1137,1.2869999999999999]
[null,2000,635.9,2.563E-2,662.3,671.8,0.86219999999999997,0.18820000000000001,1067,1137,1.286]
[null,2005,636.20000000000005,2.5659999999999999E-2,662.9,672.4,0.86270000000000002,0.1875,1067,1136,1.286]
[null,2010,636.6,2.5680000000000001E-2,663.4,673,0.86319999999999997,0.18679999999999999,1066,1136,1.2849999999999999]
[null,2015,636.9,2.571E-2,664,673.5,0.86380000000000001,0.18609999999999999,1066,1135,1.2849999999999999]
[null,2020,637.29999999999995,2.5729999999999999E-2,664.5,674.1,0.86429999999999996,0.1855,1066,1135,1.284]
[null,2025,637.6,2.5760000000000002E-2,665.1,674.7,0.86480000000000001,0.18479999999999999,1065,1135,1.284]
[null,2030,638,2.5780000000000001E-2,665.6,675.3,0.86529999999999996,0.18410000000000001,1065,1134,1.2829999999999999]
[null,2035,638.29999999999995,2.581E-2,666.2,675.9,0.86580000000000001,0.18340000000000001,1065,1134,1.2829999999999999]
[null,2040,638.70000000000005,2.5829999999999999E-2,666.7,676.5,0.86629999999999996,0.18279999999999999,1064,1133,1.282]
[null,2045,639,2.5860000000000001E-2,667.3,677,0.86680000000000001,0.18210000000000001,1064,1133,1.282]
[null,2050,639.4,2.588E-2,667.8,677.6,0.86729999999999996,0.18140000000000001,1064,1133,1.2809999999999999]
[null,2055,639.70000000000005,2.5909999999999999E-2,668.4,678.2,0.86780000000000002,0.18079999999999999,1064,1132,1.2809999999999999]
[null,2060,640.1,2.5930000000000002E-2,668.9,678.8,0.86829999999999996,0.18010000000000001,1063,1132,1.28]
[null,2065,640.4,2.596E-2,669.5,679.4,0.86880000000000002,0.17949999999999999,1063,1131,1.28]
[null,2070,640.70000000000005,2.598E-2,670,680,0.86929999999999996,0.17879999999999999,1063,1131,1.2789999999999999]
[null,2075,641.1,2.6009999999999998E-2,670.5,680.5,0.86990000000000001,0.1782,1062,1131,1.2789999999999999]
[null,2080,641.4,2.6040000000000001E-2,671.1,681.1,0.87039999999999995,0.17749999999999999,1062,1130,1.278]
[null,2085,641.79999999999995,2.606E-2,671.6,681.7,0.87090000000000001,0.1769,1062,1130,1.278]
[null,2090,642.1,2.6089999999999999E-2,672.2,682.3,0.87139999999999995,0.1762,1061,1130,1.2769999999999999]
[null,2095,642.5,2.6110000000000001E-2,672.7,682.9,0.87190000000000001,0.17560000000000001,1061,1129,1.2769999999999999]
[null,2100,642.79999999999995,2.614E-2,673.3,683.4,0.87239999999999995,0.17499999999999999,1061,1129,1.276]
[null,2105,643.1,2.6159999999999999E-2,673.8,684,0.87290000000000001,0.17430000000000001,1060,1128,1.276]
[null,2110,643.5,2.6190000000000001E-2,674.4,684.6,0.87339999999999995,0.17369999999999999,1060,1128,1.2749999999999999]
[null,2115,643.79999999999995,2.622E-2,674.9,685.2,0.87390000000000001,0.1731,1060,1127,1.2749999999999999]
[null,2120,644.20000000000005,2.6239999999999999E-2,675.5,685.8,0.87439999999999996,0.1724,1059,1127,1.274]
[null,2125,644.5,2.6270000000000002E-2,676,686.4,0.87490000000000001,0.17180000000000001,1059,1127,1.274]
[null,2130,644.79999999999995,2.63E-2,676.6,686.9,0.87539999999999996,0.17119999999999999,1059,1126,1.2729999999999999]
[null,2135,645.20000000000005,2.632E-2,677.1,687.5,0.87590000000000001,0.1706,1058,1126,1.2729999999999999]
[null,2140,645.5,2.6349999999999998E-2,677.7,688.1,0.87639999999999996,0.17,1058,1125,1.272]
[null,2145,645.79999999999995,2.6380000000000001E-2,678.2,688.7,0.87690000000000001,0.16930000000000001,1058,1125,1.272]
[null,2150,646.20000000000005,2.64E-2,678.8,689.3,0.87739999999999996,0.16869999999999999,1057,1125,1.2709999999999999]
[null,2155,646.5,2.6429999999999999E-2,679.3,689.8,0.87790000000000001,0.1681,1057,1124,1.2709999999999999]
[null,2160,646.79999999999995,2.6460000000000001E-2,679.9,690.4,0.87839999999999996,0.16750000000000001,1057,1124,1.27]
[null,2165,647.20000000000005,2.648E-2,680.4,691,0.87890000000000001,0.16689999999999999,1056,1123,1.27]
[null,2170,647.5,2.6509999999999999E-2,680.9,691.6,0.87949999999999995,0.1663,1056,1123,1.2689999999999999]
[null,2175,647.79999999999995,2.6540000000000001E-2,681.5,692.2,0.88,0.16569999999999999,1056,1123,1.2689999999999999]
[null,2180,648.20000000000005,2.657E-2,682,692.8,0.88049999999999995,0.1651,1055,1122,1.268]
[null,2185,648.5,2.6589999999999999E-2,682.6,693.3,0.88100000000000001,0.16450000000000001,1055,1122,1.2669999999999999]
[null,2190,648.79999999999995,2.6620000000000001E-2,683.1,693.9,0.88149999999999995,0.16389999999999999,1055,1121,1.2669999999999999]
[null,2195,649.20000000000005,2.665E-2,683.7,694.5,0.88200000000000001,0.1633,1054,1121,1.266]
[null,2200,649.5,2.6679999999999999E-2,684.2,695.1,0.88249999999999995,0.16270000000000001,1054,1120,1.266]
[null,2205,649.79999999999995,2.6710000000000001E-2,684.8,695.7,0.88300000000000001,0.16209999999999999,1054,1120,1.2649999999999999]
[null,2210,650.20000000000005,2.673E-2,685.3,696.3,0.88349999999999995,0.16159999999999999,1053,1120,1.2649999999999999]
[null,2215,650.5,2.6759999999999999E-2,685.9,696.8,0.88400000000000001,0.161,1053,1119,1.264]
[null,2220,650.79999999999995,2.6790000000000001E-2,686.4,697.4,0.88449999999999995,0.16039999999999999,1053,1119,1.264]
[null,2225,651.1,2.682E-2,687,698,0.88500000000000001,0.1598,1052,1118,1.2629999999999999]
[null,2230,651.5,2.6849999999999999E-2,687.5,698.6,0.88549999999999995,0.15920000000000001,1052,1118,1.2629999999999999]
[null,2235,651.79999999999995,2.6880000000000001E-2,688.1,699.2,0.88600000000000001,0.15870000000000001,1052,1117,1.262]
[null,2240,652.1,2.69E-2,688.6,699.8,0.88649999999999995,0.15809999999999999,1051,1117,1.262]
[null,2245,652.4,2.6929999999999999E-2,689.2,700.3,0.88700000000000001,0.1575,1051,1116,1.2609999999999999]
[null,2250,652.70000000000005,2.6960000000000001E-2,689.7,700.9,0.88749999999999996,0.15690000000000001,1051,1116,1.2609999999999999]
[null,2255,653.1,2.699E-2,690.3,701.5,0.88800000000000001,0.15640000000000001,1050,1116,1.26]
[null,2260,653.4,2.7019999999999999E-2,690.8,702.1,0.88849999999999996,0.15579999999999999,1050,1115,1.26]
[null,2265,653.70000000000005,2.7050000000000001E-2,691.4,702.7,0.88900000000000001,0.1552,1050,1115,1.2589999999999999]
[null,2270,654,2.708E-2,691.9,703.3,0.88949999999999996,0.1547,1049,1114,1.2589999999999999]
[null,2275,654.4,2.7109999999999999E-2,692.5,703.9,0.89,0.15409999999999999,1049,1114,1.258]
[null,2280,654.70000000000005,2.7140000000000001E-2,693,704.5,0.89049999999999996,0.15359999999999999,1049,1113,1.2569999999999999]
[null,2285,655,2.717E-2,693.6,705,0.89100000000000001,0.153,1048,1113,1.2569999999999999]
[null,2290,655.29999999999995,2.7199999999999998E-2,694.1,705.6,0.89149999999999996,0.1525,1048,1112,1.256]
[null,2295,655.6,2.7230000000000001E-2,694.7,706.2,0.8921,0.15190000000000001,1047,1112,1.256]
[null,2300,655.9,2.726E-2,695.2,706.8,0.89259999999999995,0.15140000000000001,1047,1111,1.2549999999999999]
[null,2305,656.3,2.7289999999999998E-2,695.8,707.4,0.8931,0.15079999999999999,1047,1111,1.2549999999999999]
[null,2310,656.6,2.7320000000000001E-2,696.3,708,0.89359999999999995,0.15029999999999999,1046,1111,1.254]
[null,2315,656.9,2.7349999999999999E-2,696.9,708.6,0.89410000000000001,0.1497,1046,1110,1.254]
[null,2320,657.2,2.7380000000000002E-2,697.4,709.2,0.89459999999999995,0.1492,1046,1110,1.2529999999999999]
[null,2325,657.5,2.741E-2,698,709.8,0.89510000000000001,0.14860000000000001,1045,1109,1.2529999999999999]
[null,2330,657.8,2.7439999999999999E-2,698.5,710.3,0.89559999999999995,0.14810000000000001,1045,1109,1.252]
[null,2335,658.1,2.7470000000000001E-2,699.1,710.9,0.89610000000000001,0.14749999999999999,1044,1108,1.2509999999999999]
[null,2340,658.5,2.75E-2,699.6,711.5,0.89659999999999995,0.14699999999999999,1044,1108,1.2509999999999999]
[null,2345,658.8,2.7539999999999999E-2,700.2,712.1,0.89710000000000001,0.14649999999999999,1044,1107,1.25]
[null,2350,659.1,2.7570000000000001E-2,700.7,712.7,0.89759999999999995,0.1459,1043,1107,1.25]
[null,2355,659.4,2.76E-2,701.3,713.3,0.89810000000000001,0.1454,1043,1106,1.2490000000000001]
[null,2360,659.7,2.7629999999999998E-2,701.8,713.9,0.89859999999999995,0.1449,1043,1106,1.2490000000000001]
[null,2365,660,2.7660000000000001E-2,702.4,714.5,0.89910000000000001,0.1444,1042,1105,1.248]
[null,2370,660.3,2.7699999999999999E-2,702.9,715.1,0.89959999999999996,0.14380000000000001,1042,1105,1.248]
[null,2375,660.6,2.7730000000000001E-2,703.5,715.7,0.9002,0.14330000000000001,1041,1104,1.2470000000000001]
[null,2380,660.9,2.776E-2,704,716.3,0.90069999999999995,0.14280000000000001,1041,1104,1.2470000000000001]
[null,2385,661.2,2.7789999999999999E-2,704.6,716.9,0.9012,0.14230000000000001,1041,1103,1.246]
[null,2390,661.5,2.7820000000000001E-2,705.2,717.5,0.90169999999999995,0.14169999999999999,1040,1103,1.2450000000000001]
[null,2395,661.9,2.7859999999999999E-2,705.7,718.1,0.9022,0.14119999999999999,1040,1102,1.2450000000000001]
[null,2400,662.2,2.7890000000000002E-2,706.3,718.7,0.90269999999999995,0.14069999999999999,1039,1102,1.244]
[null,2405,662.5,2.792E-2,706.8,719.3,0.9032,0.14019999999999999,1039,1101,1.244]
[null,2410,662.8,2.7959999999999999E-2,707.4,719.9,0.90369999999999995,0.13969999999999999,1039,1101,1.2430000000000001]
[null,2415,663.1,2.7990000000000001E-2,708,720.5,0.9042,0.13919999999999999,1038,1100,1.2430000000000001]
[null,2420,663.4,2.8029999999999999E-2,708.5,721.1,0.90480000000000005,0.13869999999999999,1038,1100,1.242]
[null,2425,663.7,2.8060000000000002E-2,709.1,721.7,0.90529999999999999,0.1381,1037,1099,1.2410000000000001]
[null,2430,664,2.809E-2,709.6,722.3,0.90580000000000005,0.1376,1037,1099,1.2410000000000001]
[null,2435,664.3,2.8129999999999999E-2,710.2,722.9,0.90629999999999999,0.1371,1037,1098,1.24]
[null,2440,664.6,2.8160000000000001E-2,710.8,723.5,0.90680000000000005,0.1366,1036,1098,1.24]
[null,2445,664.9,2.8199999999999999E-2,711.3,724.1,0.9073,0.1361,1036,1097,1.2390000000000001]
[null,2450,665.2,2.8230000000000002E-2,711.9,724.7,0.90780000000000005,0.1356,1035,1097,1.2390000000000001]
[null,2455,665.5,2.827E-2,712.5,725.3,0.9083,0.1351,1035,1096,1.238]
[null,2460,665.8,2.8299999999999999E-2,713,725.9,0.90890000000000004,0.1346,1035,1096,1.238]
[null,2465,666.1,2.8340000000000001E-2,713.6,726.5,0.90939999999999999,0.1341,1034,1095,1.2370000000000001]
[null,2470,666.4,2.8369999999999999E-2,714.1,727.1,0.90990000000000004,0.1336,1034,1095,1.236]
[null,2475,666.7,2.8410000000000001E-2,714.7,727.7,0.91039999999999999,0.1331,1033,1094,1.236]
[null,2480,667,2.844E-2,715.3,728.3,0.91090000000000004,0.1326,1033,1094,1.2350000000000001]
[null,2485,667.3,2.8479999999999998E-2,715.8,728.9,0.91149999999999998,0.1321,1032,1093,1.2350000000000001]
[null,2490,667.6,2.852E-2,716.4,729.6,0.91200000000000003,0.13170000000000001,1032,1093,1.234]
[null,2495,667.9,2.8549999999999999E-2,717,730.2,0.91249999999999998,0.13120000000000001,1032,1092,1.2330000000000001]
[null,2500,668.2,2.8590000000000001E-2,717.6,730.8,0.91300000000000003,0.13070000000000001,1031,1092,1.2330000000000001]
[null,"Source: Knovel Steam Tables: Table: 1d. Saturation Properties vs. Pressure - English Units"]
[]
[]
[null,"Table 5.4: Properties of compressed water and superheated steam"]
[null,"P","T","v ","u ","h","s ","h"]
[null,"(psia)","(°F) ","(ft^3/lb) ","(Btu/lbm) ","(Btu/lbm) ","(Btu/(lbm °R)) ","(Btu/mol)"]
[null,100,40,1.601E-2,8.0310000000000006,8.327,1.6199999999999999E-2,{"$f":"F2942/$E$22*18","v":0.33044206629842565}]
[null,100,60,1.6029999999999999E-2,28.06,28.36,5.552E-2,1.1254157560013629]
[null,100,80,1.6070000000000001E-2,48.04,48.34,9.3240000000000003E-2,1.9182862357230568]
[null,100,100,1.6129999999999999E-2,68,68.3,0.12959999999999999,2.710363051300885]
[null,100,120,1.6199999999999999E-2,87.95,88.25,0.1646,3.5020430348067801]
[null,100,140,1.6289999999999999E-2,107.9,108.2,0.19839999999999999,4.2937230183126758]
[null,100,160,1.6389999999999998E-2,127.9,128.19999999999999,0.23119999999999999,5.0873871621782349]
[null,100,180,1.6500000000000001E-2,147.9,148.19999999999999,0.26300000000000001,5.8810513060437941]
[null,100,200,1.6629999999999999E-2,168,168.3,0.29389999999999999,6.6786837706286821]
[null,100,220,1.677E-2,188.1,188.4,0.32400000000000001,7.4763162352135684]
[null,100,240,1.6920000000000001E-2,208.3,208.6,0.3533,8.2779170205177834]
[null,100,260,1.7080000000000001E-2,228.6,228.9,0.38190000000000002,9.0834861265413256]
[null,100,280,1.7260000000000001E-2,249,249.3,0.4098,9.8930235532841966]
[null,100,300,1.745E-2,269.5,269.8,0.43719999999999998,10.706529300746396]
[null,100,320,1.7649999999999999E-2,290.10000000000002,290.5,0.46400000000000002,11.527971689647249]
[null,100,340,4.5209999999999999,1111,1195,1.6120000000000001,47.421432595967168]
[null,100,360,4.6630000000000003,1120,1206,1.6259999999999999,47.857947875093231]
[null,100,380,4.8,1128,1217,1.64,48.294463154219279]
[null,100,400,4.9359999999999999,1136,1228,1.6519999999999999,48.730978433345335]
[null,100,420,5.069,1145,1238,1.6639999999999999,49.12781050527812]
[null,100,440,5.2009999999999996,1152,1249,1.6759999999999999,49.564325784404176]
[null,100,460,5.3310000000000004,1160,1259,1.6870000000000001,49.961157856336953]
[null,100,480,5.46,1168,1269,1.698,50.357989928269738]
[null,100,500,5.5880000000000001,1176,1279,1.7090000000000001,50.754822000202509]
[null,100,520,5.7149999999999999,1184,1289,1.7190000000000001,51.151654072135294]
[null,100,540,5.8410000000000002,1191,1299,1.7290000000000001,51.548486144068079]
[null,100,560,5.9669999999999996,1199,1309,1.7390000000000001,51.94531821600085]
[null,100,580,6.0919999999999996,1207,1319,1.7490000000000001,52.342150287933634]
[null,100,600,6.2160000000000002,1214,1329,1.7589999999999999,52.738982359866412]
[null,100,620,6.3410000000000002,1222,1339,1.768,53.13581443179919]
[null,100,640,6.4649999999999999,1230,1349,1.7769999999999999,53.532646503731968]
[null,100,660,6.5880000000000001,1238,1359,1.786,53.929478575664753]
[null,100,680,6.7110000000000003,1245,1369,1.7949999999999999,54.326310647597538]
[null,100,700,6.8339999999999996,1253,1379,1.804,54.723142719530308]
[null,100,720,6.9569999999999999,1261,1389,1.8120000000000001,55.119974791463093]
[null,100,740,7.0789999999999997,1269,1400,1.821,55.556490070589149]
[null,100,760,7.202,1276,1410,1.829,55.953322142521927]
[null,100,780,7.3239999999999998,1284,1420,1.837,56.350154214454712]
[null,100,800,7.4459999999999997,1292,1430,1.845,56.746986286387482]
[null,100,820,7.5670000000000002,1300,1440,1.853,57.143818358320267]
[null,100,840,7.6890000000000001,1308,1450,1.861,57.540650430253045]
[null,100,860,7.81,1316,1460,1.869,57.93748250218583]
[null,100,880,7.9320000000000004,1324,1470,1.877,58.334314574118608]
[null,100,900,8.0530000000000008,1332,1481,1.8839999999999999,58.770829853244663]
[null,100,920,8.1739999999999995,1340,1491,1.8919999999999999,59.167661925177441]
[null,100,940,8.2949999999999999,1348,1501,1.899,59.564493997110226]
[null,100,960,8.4160000000000004,1356,1512,1.9059999999999999,60.001009276236275]
[null,100,980,8.5370000000000008,1364,1522,1.9139999999999999,60.397841348169059]
[null,100,1000,8.6579999999999995,1372,1532,1.921,60.794673420101844]
[null,100,1020,8.7780000000000005,1380,1543,1.9279999999999999,61.2311886992279]
[null,100,1040,8.8989999999999991,1389,1553,1.9350000000000001,61.628020771160678]
[null,100,1060,9.0190000000000001,1397,1564,1.9419999999999999,62.064536050286733]
[null,100,1080,9.14,1405,1574,1.9490000000000001,62.461368122219518]
[null,100,1100,9.26,1413,1585,1.956,62.897883401345567]
[null,100,1120,9.3810000000000002,1422,1595,1.962,63.294715473278352]
[null,100,1140,9.5009999999999994,1430,1606,1.9690000000000001,63.731230752404407]
[null,100,1160,9.6210000000000004,1439,1617,1.976,64.16774603153047]
[null,100,1180,9.7409999999999997,1447,1627,1.982,64.564578103463248]
[null,100,1200,9.8620000000000001,1456,1638,1.9890000000000001,65.001093382589303]
[null,100,1220,9.9819999999999993,1464,1649,1.9950000000000001,65.437608661715359]
[null,100,1240,10.1,1473,1660,2.0019999999999998,65.874123940841415]
[null,100,1260,10.220000000000001,1481,1670,2.008,66.270956012774207]
[null,100,1280,10.34,1490,1681,2.0139999999999998,66.707471291900262]
[null,100,1300,10.46,1499,1692,2.02,67.143986571026318]
[null,100,1320,10.58,1507,1703,2.0270000000000001,{"$f":"F3006/$E$22*18","v":67.580501850152373}]
[null,100,1340,10.7,1516,1714,2.0329999999999999,68.017017129278429]
[null,100,1360,10.82,1525,1725,2.0390000000000001,68.453532408404484]
[null,100,1380,10.94,1534,1736,2.0449999999999999,68.89004768753054]
[null,100,1400,11.06,1543,1747,2.0510000000000002,69.326562966656596]
[null,100,1420,11.18,1551,1758,2.0569999999999999,69.763078245782651]
[null,100,1440,11.3,1560,1770,2.0630000000000002,70.239276732101985]
[null,100,1460,11.42,1569,1781,2.0680000000000001,70.675792011228054]
[null,100,1480,11.54,1578,1792,2.0739999999999998,71.11230729035411]
[null,100,1500,11.66,1587,1803,2.08,71.548822569480166]
[null,200,40,1.601E-2,8.0299999999999994,8.6229999999999993,1.6199999999999999E-2,0.34218829562763586]
[null,200,60,1.602E-2,28.05,28.64,5.5489999999999998E-2,1.1365270540154808]
[null,200,80,1.6060000000000001E-2,48.02,48.61,9.3200000000000005E-2,1.9290007016652417]
[null,200,100,1.6119999999999999E-2,67.97,68.56,0.1295,2.7206806851711374]
[null,200,120,1.619E-2,87.91,88.51,0.16450000000000001,3.512360668677033]
[null,200,140,1.6279999999999999E-2,107.9,108.5,0.19839999999999999,4.3056279804706588]
[null,200,160,1.6379999999999999E-2,127.8,128.4,0.2311,5.0953238036168909]
[null,200,180,1.6500000000000001E-2,147.9,148.5,0.26290000000000002,5.8929562682017771]
[null,200,200,1.6619999999999999E-2,167.9,168.5,0.29380000000000001,6.6866204120673363]
[null,200,220,1.6760000000000001E-2,188,188.6,0.32390000000000002,7.4842528766522234]
[null,200,240,1.6910000000000001E-2,208.2,208.8,0.35310000000000002,8.2858536619564394]
[null,200,260,1.7069999999999998E-2,228.5,229.1,0.38169999999999998,9.0914227679799815]
[null,200,280,1.7250000000000001E-2,248.9,249.5,0.40970000000000001,9.9009601947228507]
[null,200,300,1.7440000000000001E-2,269.39999999999998,270,0.437,10.714465942185051]
[null,200,320,1.7639999999999999E-2,290,290.60000000000002,0.46379999999999999,11.531940010366576]
[null,200,340,1.7860000000000001E-2,310.8,311.39999999999998,0.49009999999999998,12.357350719986757]
[null,200,360,1.8100000000000002E-2,331.7,332.4,0.51600000000000001,13.190698071045594]
[null,200,380,1.8360000000000001E-2,352.9,353.6,0.54159999999999997,14.031982063543088]
[null,200,400,2.3610000000000002,1123,1211,1.56,48.056363911059613]
[null,200,420,2.4380000000000002,1133,1223,1.5740000000000001,48.532562397378953]
[null,200,440,2.512,1142,1235,1.5880000000000001,49.008760883698287]
[null,200,460,2.5840000000000001,1151,1247,1.601,49.48495937001762]
[null,200,480,2.6549999999999998,1160,1258,1.613,49.921474649143676]
[null,200,500,2.7250000000000001,1168,1269,1.6240000000000001,50.357989928269738]
[null,200,520,2.7930000000000001,1177,1280,1.6359999999999999,50.794505207395794]
[null,200,540,2.86,1185,1291,1.6459999999999999,51.231020486521849]
[null,200,560,2.927,1193,1301,1.657,51.627852558454627]
[null,200,580,2.9929999999999999,1201,1312,1.667,52.064367837580683]
[null,200,600,3.0579999999999998,1209,1322,1.677,52.461199909513468]
[null,200,620,3.1230000000000002,1217,1333,1.6870000000000001,52.897715188639523]
[null,200,640,3.1880000000000002,1225,1343,1.696,53.294547260572301]
[null,200,660,3.2519999999999998,1233,1353,1.706,53.691379332505086]
[null,200,680,3.3159999999999998,1241,1364,1.7150000000000001,54.127894611631142]
[null,200,700,3.379,1249,1374,1.724,54.524726683563919]
[null,200,720,3.4430000000000001,1257,1384,1.7330000000000001,54.921558755496704]
[null,200,740,3.5059999999999998,1265,1395,1.7410000000000001,55.35807403462276]
[null,200,760,3.5680000000000001,1273,1405,1.75,55.754906106555538]
[null,200,780,3.6309999999999998,1281,1415,1.758,56.151738178488316]
[null,200,800,3.6930000000000001,1289,1426,1.766,56.588253457614378]
[null,200,820,3.7559999999999998,1297,1436,1.7749999999999999,56.985085529547149]
[null,200,840,3.8180000000000001,1305,1446,1.7829999999999999,57.381917601479934]
[null,200,860,3.88,1313,1457,1.79,57.818432880605997]
[null,200,880,3.9409999999999998,1321,1467,1.798,58.215264952538767]
[null,200,900,4.0030000000000001,1329,1477,1.806,58.612097024471552]
[null,200,920,4.0650000000000004,1337,1488,1.8140000000000001,59.048612303597608]
[null,200,940,4.1260000000000003,1345,1498,1.821,59.445444375530386]
[null,200,960,4.1870000000000003,1354,1509,1.8280000000000001,59.881959654656441]
[null,200,980,4.2489999999999997,1362,1519,1.8360000000000001,60.278791726589226]
[null,200,1000,4.3099999999999996,1370,1530,1.843,60.715307005715282]
[null,200,1020,4.3710000000000004,1378,1540,1.85,61.11213907764806]
[null,200,1040,4.4320000000000004,1387,1551,1.857,61.548654356774115]
[null,200,1060,4.4930000000000003,1395,1561,1.8640000000000001,61.9454864287069]
[null,200,1080,4.5540000000000003,1403,1572,1.871,62.382001707832956]
[null,200,1100,4.6150000000000002,1412,1582,1.8779999999999999,62.778833779765733]
[null,200,1120,4.6760000000000002,1420,1593,1.885,{"$f":"F3070/$E$22*18","v":63.215349058891789}]
[null,200,1140,4.7359999999999998,1428,1604,1.8919999999999999,63.651864338017852]
[null,200,1160,4.7969999999999997,1437,1615,1.8979999999999999,64.088379617143914]
[null,200,1180,4.8579999999999997,1445,1625,1.905,64.485211689076692]
[null,200,1200,4.9180000000000001,1454,1636,1.911,64.921726968202748]
[null,200,1220,4.9790000000000001,1463,1647,1.9179999999999999,65.358242247328803]
[null,200,1240,5.0389999999999997,1471,1658,1.9239999999999999,65.794757526454859]
[null,200,1260,5.0999999999999996,1480,1669,1.931,66.231272805580915]
[null,200,1280,5.16,1489,1680,1.9370000000000001,66.66778808470697]
[null,200,1300,5.2210000000000001,1497,1690,1.9430000000000001,67.064620156639762]
[null,200,1320,5.2809999999999997,1506,1701,1.9490000000000001,67.501135435765818]
[null,200,1340,5.3410000000000002,1515,1713,1.956,67.977333922085151]
[null,200,1360,5.4020000000000001,1524,1724,1.962,68.413849201211207]
[null,200,1380,5.4619999999999997,1532,1735,1.968,68.850364480337262]
[null,200,1400,5.5220000000000002,1541,1746,1.974,69.286879759463318]
[null,200,1420,5.5819999999999999,1550,1757,1.98,69.723395038589388]
[null,200,1440,5.6429999999999998,1559,1768,1.986,70.159910317715443]
[null,200,1460,5.7030000000000003,1568,1779,1.992,70.596425596841499]
[null,200,1480,5.7629999999999999,1577,1791,1.9970000000000001,71.072624083160832]
[null,200,1500,5.8230000000000004,1586,1802,2.0030000000000001,71.509139362286888]
[null,150,1480,7.6890000000000001,1578,1791,2.0289999999999999,71.072624083160832]
[null,150,1500,7.7690000000000001,1587,1803,2.0350000000000001,71.548822569480166]
[null,300,32,1.6E-2,-2.1050000000000001E-3,0.88639999999999997,-5.0000000000000004E-6,3.517519485612159E-2]
[null,300,40,1.6E-2,8.0299999999999994,8.9179999999999993,1.6199999999999999E-2,0.35389484174965286]
[null,300,60,1.602E-2,28.04,28.93,5.5460000000000002E-2,1.1480351841015315]
[null,300,80,1.6060000000000001E-2,47.99,48.89,9.3149999999999997E-2,1.9401119996793597]
[null,300,100,1.6119999999999999E-2,67.930000000000007,68.83,0.12939999999999999,2.7313951511133219]
[null,300,120,1.619E-2,87.87,88.77,0.16439999999999999,3.522678302547285]
[null,300,140,1.6279999999999999E-2,107.8,108.7,0.1983,4.3135646219093147]
[null,300,160,1.6379999999999999E-2,127.8,128.69999999999999,0.23100000000000001,5.1072287657748729]
[null,300,180,1.6490000000000001E-2,147.80000000000001,148.69999999999999,0.26279999999999998,5.9008929096404321]
[null,300,200,1.6619999999999999E-2,167.8,168.8,0.29370000000000002,6.6985253742253201]
[null,300,220,1.6750000000000001E-2,187.9,188.9,0.32369999999999999,7.4961578388102073]
[null,300,240,1.6899999999999998E-2,208.1,209.1,0.35299999999999998,8.2977586241144223]
[null,300,260,1.7069999999999998E-2,228.4,229.3,0.38159999999999999,9.0993594094186374]
[null,300,280,1.7239999999999998E-2,248.7,249.7,0.40949999999999998,9.9088968361615066]
[null,300,300,1.7430000000000001E-2,269.2,270.2,0.43680000000000002,10.722402583623706]
[null,300,320,1.7639999999999999E-2,289.8,290.8,0.46360000000000001,11.539876651805232]
[null,300,340,1.7860000000000001E-2,310.60000000000002,311.60000000000002,0.4899,12.365287361425413]
[null,300,360,1.8089999999999998E-2,331.5,332.6,0.51580000000000004,13.198634712484251]
[null,300,380,1.8350000000000002E-2,352.7,353.7,0.5413,14.035950384262415]
[null,300,400,1.8630000000000001E-2,374.1,375.2,0.56659999999999999,14.889139338917891]
[null,300,417.37,1.89E-2,393,394,0.58830000000000005,15.635183634151517]
[null,300,417.37,1.5429999999999999,1118,1203,1.5109999999999999,47.738898253513383]
[null,300,420,1.5509999999999999,1119,1205,1.5129999999999999,47.818264667899946]
[null,300,440,1.609,1130,1220,1.53,48.413512775799113]
[null,300,460,1.6639999999999999,1141,1233,1.544,48.929394469311731]
[null,300,480,1.716,1150,1246,1.5580000000000001,49.445276162824342]
[null,300,500,1.7669999999999999,1160,1258,1.571,49.921474649143676]
[null,300,520,1.8160000000000001,1169,1270,1.583,50.397673135463009]
[null,300,540,1.865,1178,1281,1.595,50.834188414589072]
[null,300,560,1.9119999999999999,1186,1293,1.6060000000000001,51.310386900908405]
[null,300,580,1.9590000000000001,1195,1304,1.617,51.746902180034461]
[null,300,600,2.0049999999999999,1204,1315,1.627,52.183417459160516]
[null,300,620,2.0499999999999998,1212,1326,1.637,52.619932738286579]
[null,300,640,2.0950000000000002,1220,1337,1.647,53.056448017412634]
[null,300,660,2.1389999999999998,1228,1347,1.657,53.453280089345419]
[null,300,680,2.1829999999999998,1237,1358,1.6659999999999999,53.889795368471475]
[null,300,700,2.2269999999999999,1245,1369,1.6759999999999999,54.326310647597538]
[null,300,720,2.2709999999999999,1253,1379,1.6850000000000001,54.723142719530308]
[null,300,740,2.3140000000000001,1261,1390,1.6930000000000001,55.159657998656371]
[null,300,760,2.3570000000000002,1269,1400,1.702,55.556490070589149]
[null,300,780,2.4,1278,1411,1.7110000000000001,55.993005349715212]
[null,300,800,2.4420000000000002,1286,1421,1.7190000000000001,56.389837421647982]
[null,300,820,2.4849999999999999,1294,1432,1.7270000000000001,{"$f":"F3134/$E$22*18","v":56.826352700774045}]
[null,300,840,2.5270000000000001,1302,1442,1.736,57.22318477270683]
[null,300,860,2.569,1310,1453,1.744,57.659700051832878]
[null,300,880,2.6110000000000002,1318,1463,1.752,58.056532123765663]
[null,300,900,2.653,1327,1474,1.7589999999999999,58.493047402891719]
[null,300,920,2.6949999999999998,1335,1484,1.7669999999999999,58.889879474824504]
[null,300,940,2.7360000000000002,1343,1495,1.7749999999999999,59.326394753950552]
[null,300,960,2.778,1351,1505,1.782,59.723226825883337]
[null,300,980,2.819,1360,1516,1.79,60.159742105009393]
[null,300,1000,2.8610000000000002,1368,1527,1.7969999999999999,60.596257384135448]
[null,300,1020,2.9020000000000001,1376,1537,1.804,60.993089456068226]
[null,300,1040,2.9430000000000001,1385,1548,1.8109999999999999,61.429604735194282]
[null,300,1060,2.984,1393,1559,1.8180000000000001,61.866120014320344]
[null,300,1080,3.0249999999999999,1401,1569,1.825,62.262952086253122]
[null,300,1100,3.0659999999999998,1410,1580,1.8320000000000001,62.699467365379185]
[null,300,1120,3.1070000000000002,1418,1591,1.839,63.135982644505241]
[null,300,1140,3.1480000000000001,1427,1602,1.8460000000000001,63.572497923631303]
[null,300,1160,3.1890000000000001,1435,1612,1.853,63.969329995564074]
[null,300,1180,3.23,1444,1623,1.859,64.405845274690137]
[null,300,1200,3.27,1452,1634,1.8660000000000001,64.842360553816192]
[null,300,1220,3.3109999999999999,1461,1645,1.8720000000000001,65.278875832942248]
[null,300,1240,3.3519999999999999,1470,1656,1.879,65.715391112068303]
[null,300,1260,3.3919999999999999,1478,1667,1.885,66.151906391194373]
[null,300,1280,3.4329999999999998,1487,1678,1.891,66.588421670320429]
[null,300,1300,3.4729999999999999,1496,1689,1.8979999999999999,67.024936949446484]
[null,300,1320,3.5139999999999998,1505,1700,1.9039999999999999,67.46145222857254]
[null,300,1340,3.5550000000000002,1514,1711,1.91,67.897967507698596]
[null,300,1360,3.5950000000000002,1522,1722,1.9159999999999999,68.334482786824651]
[null,300,1380,3.6349999999999998,1531,1733,1.9219999999999999,68.770998065950707]
[null,300,1400,3.6760000000000002,1540,1744,1.9279999999999999,69.207513345076762]
[null,300,1420,3.7160000000000002,1549,1755,1.9339999999999999,69.644028624202832]
[null,300,1440,3.7570000000000001,1558,1767,1.94,70.120227110522166]
[null,300,1460,3.7970000000000002,1567,1778,1.946,70.556742389648221]
[null,300,1480,3.8370000000000002,1576,1789,1.952,70.993257668774277]
[null,300,1500,3.8780000000000001,1585,1801,1.958,71.46945615509361]
[null,400,40,1.6E-2,8.0289999999999999,9.2129999999999992,1.6199999999999999E-2,0.36560138787166979]
[null,400,60,1.601E-2,28.02,29.21,5.5440000000000003E-2,1.1591464821156494]
[null,400,80,1.6049999999999998E-2,47.97,49.16,9.3100000000000002E-2,1.9508264656215446]
[null,400,100,1.6109999999999999E-2,67.900000000000006,69.09,0.12939999999999999,2.7417127849835747]
[null,400,120,1.619E-2,87.82,89.02,0.16439999999999999,3.532599104345604]
[null,400,140,1.627E-2,107.8,109,0.19819999999999999,4.3254695840672976]
[null,400,160,1.6369999999999999E-2,127.7,128.9,0.23089999999999999,5.1151654072135289]
[null,400,180,1.6490000000000001E-2,147.69999999999999,148.9,0.26269999999999999,5.9088295510790889]
[null,400,200,1.661E-2,167.8,169,0.29360000000000003,6.7064620156639752]
[null,400,220,1.6750000000000001E-2,187.8,189.1,0.3236,7.5040944802488632]
[null,400,240,1.6899999999999998E-2,208,209.3,0.35289999999999999,8.3056952655530782]
[null,400,260,1.7059999999999999E-2,228.3,229.5,0.38140000000000002,9.1072960508572933]
[null,400,280,1.7239999999999998E-2,248.6,249.9,0.4093,9.9168334776001625]
[null,400,300,1.7420000000000001E-2,269.10000000000002,270.39999999999998,0.43659999999999999,10.730339225062361]
[null,400,320,1.763E-2,289.7,291,0.46339999999999998,11.547813293243888]
[null,400,340,1.7850000000000001E-2,310.39999999999998,311.8,0.48970000000000002,12.373224002864069]
[null,400,360,1.8079999999999999E-2,331.4,332.7,0.51559999999999995,13.202603033203578]
[null,400,380,1.8339999999999999E-2,352.5,353.9,0.54110000000000003,14.043887025701071]
[null,400,400,1.8620000000000001E-2,373.9,375.3,0.56630000000000003,14.89310765963722]
[null,400,420,1.8929999999999999E-2,395.6,397,0.59119999999999995,15.754233255731352]
[null,400,440,1.9259999999999999E-2,417.6,419,0.61599999999999999,16.627263813983468]
[null,400,460,1.198,1129,1217,1.4990000000000001,48.294463154219279]
[null,400,480,1.2430000000000001,1140,1232,1.514,48.889711262118453]
[null,400,500,1.2849999999999999,1150,1246,1.5289999999999999,49.445276162824342]
[null,400,520,1.3260000000000001,1160,1259,1.542,49.961157856336953]
[null,400,540,1.365,1170,1271,1.5549999999999999,50.437356342656294]
[null,400,560,1.403,1180,1283,1.5669999999999999,50.913554828975627]
[null,400,580,1.44,1189,1295,1.579,51.389753315294961]
[null,400,600,1.476,1198,1307,1.59,51.865951801614294]
[null,400,620,1.512,1206,1318,1.6,{"$f":"F3198/$E$22*18","v":52.30246708074035}]
[null,400,640,1.548,1215,1330,1.611,52.77866556705969]
[null,400,660,1.5820000000000001,1224,1341,1.621,53.215180846185753]
[null,400,680,1.617,1232,1352,1.631,53.651696125311801]
[null,400,700,1.651,1241,1363,1.64,54.088211404437857]
[null,400,720,1.6839999999999999,1249,1374,1.649,54.524726683563919]
[null,400,740,1.718,1257,1385,1.659,54.961241962689975]
[null,400,760,1.7509999999999999,1266,1395,1.6679999999999999,55.35807403462276]
[null,400,780,1.784,1274,1406,1.6759999999999999,55.794589313748816]
[null,400,800,1.8169999999999999,1282,1417,1.6850000000000001,56.231104592874878]
[null,400,820,1.849,1291,1428,1.6930000000000001,56.667619872000934]
[null,400,840,1.881,1299,1438,1.702,57.064451943933712]
[null,400,860,1.9139999999999999,1307,1449,1.71,57.500967223059767]
[null,400,880,1.946,1316,1460,1.718,57.93748250218583]
[null,400,900,1.978,1324,1470,1.726,58.334314574118608]
[null,400,920,2.0099999999999998,1332,1481,1.7330000000000001,58.770829853244663]
[null,400,940,2.0409999999999999,1341,1492,1.7410000000000001,59.207345132370719]
[null,400,960,2.073,1349,1502,1.7490000000000001,59.604177204303504]
[null,400,980,2.1040000000000001,1357,1513,1.756,60.040692483429559]
[null,400,1000,2.1360000000000001,1366,1524,1.764,60.477207762555615]
[null,400,1020,2.1669999999999998,1374,1535,1.7709999999999999,60.913723041681678]
[null,400,1040,2.198,1383,1545,1.778,61.310555113614448]
[null,400,1060,2.23,1391,1556,1.7849999999999999,61.747070392740511]
[null,400,1080,2.2610000000000001,1400,1567,1.792,62.183585671866567]
[null,400,1100,2.2919999999999998,1408,1578,1.7989999999999999,62.620100950992622]
[null,400,1120,2.323,1417,1588,1.806,63.016933022925407]
[null,400,1140,2.3540000000000001,1425,1599,1.8129999999999999,63.453448302051456]
[null,400,1160,2.3849999999999998,1434,1610,1.82,63.889963581177518]
[null,400,1180,2.4159999999999999,1442,1621,1.8260000000000001,64.326478860303581]
[null,400,1200,2.4460000000000002,1451,1632,1.833,64.762994139429637]
[null,400,1220,2.4769999999999999,1460,1643,1.84,65.199509418555692]
[null,400,1240,2.508,1468,1654,1.8460000000000001,65.636024697681748]
[null,400,1260,2.5390000000000001,1477,1665,1.853,66.072539976807803]
[null,400,1280,2.569,1486,1676,1.859,66.509055255933873]
[null,400,1300,2.6,1495,1687,1.865,66.945570535059929]
[null,400,1320,2.6309999999999998,1503,1698,1.8720000000000001,67.382085814185984]
[null,400,1340,2.661,1512,1709,1.8779999999999999,67.81860109331204]
[null,400,1360,2.6920000000000002,1521,1720,1.8839999999999999,68.255116372438096]
[null,400,1380,2.722,1530,1732,1.89,68.731314858757429]
[null,400,1400,2.7530000000000001,1539,1743,1.8959999999999999,69.167830137883499]
[null,400,1420,2.7829999999999999,1548,1754,1.9019999999999999,69.604345417009554]
[null,400,1440,2.8140000000000001,1557,1765,1.9079999999999999,70.04086069613561]
[null,400,1460,2.8439999999999999,1566,1777,1.9139999999999999,70.517059182454943]
[null,400,1480,2.8740000000000001,1575,1788,1.92,70.953574461580999]
[null,400,1500,2.9049999999999998,1584,1799,1.9259999999999999,71.390089740707054]
[null,500,40,1.5990000000000001E-2,8.0280000000000005,9.5069999999999997,1.619E-2,0.37726825078649356]
[null,500,60,1.601E-2,28.01,29.49,5.5410000000000001E-2,1.1702577801297671]
[null,500,80,1.6049999999999998E-2,47.95,49.43,9.3060000000000004E-2,1.9615409315637296]
[null,500,100,1.6109999999999999E-2,67.86,69.36,0.1293,2.7524272509257592]
[null,500,120,1.618E-2,87.78,89.28,0.1643,3.5429167382158568]
[null,500,140,1.627E-2,107.7,109.2,0.1981,4.3334062255059536]
[null,500,160,1.6369999999999999E-2,127.7,129.19999999999999,0.23080000000000001,5.1270703693715127]
[null,500,180,1.6480000000000002E-2,147.6,149.19999999999999,0.2626,5.9207345132370719]
[null,500,200,1.661E-2,167.7,169.2,0.29339999999999999,6.7143986571026311]
[null,500,220,1.6740000000000001E-2,187.8,189.3,0.32350000000000001,7.5120311216875191]
[null,500,240,1.6889999999999999E-2,207.9,209.5,0.35270000000000001,8.3136319069917342]
[null,500,260,1.7049999999999999E-2,228.2,229.7,0.38129999999999997,9.1152326922959475]
[null,500,280,1.7229999999999999E-2,248.5,250.1,0.40910000000000002,9.9247701190388185]
[null,500,300,1.7420000000000001E-2,268.89999999999998,270.60000000000002,0.4365,10.738275866501018]
[null,500,320,1.762E-2,289.5,291.2,0.4632,11.555749934682543]
[null,500,340,1.7840000000000002E-2,310.3,311.89999999999998,0.48949999999999999,12.377192323583396]
[null,500,360,1.8069999999999999E-2,331.2,332.8,0.51539999999999997,13.206571353922905]
[null,500,380,1.8329999999999999E-2,352.3,354,0.54079999999999995,14.047855346420398]
[null,500,400,1.8610000000000002E-2,373.7,375.4,0.56599999999999995,14.897075980356545]
[null,500,420,1.891E-2,395.3,397.1,0.59099999999999997,{"$f":"F3262/$E$22*18","v":15.758201576450681}]
[null,500,440,1.925E-2,417.3,419.1,0.61570000000000003,16.631232134702795]
[null,500,460,1.9609999999999999E-2,439.7,441.5,0.64039999999999997,17.520135975832222]
[null,500,480,0.95479999999999998,1128,1216,1.476,48.254779947026002]
[null,500,500,0.99299999999999999,1140,1232,1.4930000000000001,48.889711262118453]
[null,500,520,1.0289999999999999,1151,1247,1.508,49.48495937001762]
[null,500,540,1.0629999999999999,1162,1260,1.522,50.000841063530238]
[null,500,560,1.0960000000000001,1172,1274,1.5349999999999999,50.556405964236127]
[null,500,580,1.1279999999999999,1182,1286,1.5469999999999999,51.032604450555461]
[null,500,600,1.159,1191,1299,1.5589999999999999,51.548486144068079]
[null,500,620,1.1890000000000001,1201,1311,1.57,52.024684630387412]
[null,500,640,1.2190000000000001,1210,1323,1.581,52.500883116706746]
[null,500,660,1.248,1219,1334,1.5920000000000001,52.937398395832801]
[null,500,680,1.276,1228,1346,1.6020000000000001,53.413596882152135]
[null,500,700,1.304,1236,1357,1.6120000000000001,53.85011216127819]
[null,500,720,1.3320000000000001,1245,1368,1.621,54.286627440404253]
[null,500,740,1.36,1254,1379,1.631,54.723142719530308]
[null,500,760,1.387,1262,1390,1.64,55.159657998656371]
[null,500,780,1.4139999999999999,1271,1401,1.649,55.596173277782427]
[null,500,800,1.4410000000000001,1279,1412,1.6579999999999999,56.032688556908482]
[null,500,820,1.468,1288,1423,1.6659999999999999,56.469203836034545]
[null,500,840,1.494,1296,1434,1.675,56.905719115160601]
[null,500,860,1.52,1304,1445,1.6830000000000001,57.342234394286663]
[null,500,880,1.546,1313,1456,1.6910000000000001,57.778749673412719]
[null,500,900,1.5720000000000001,1321,1467,1.6990000000000001,58.215264952538767]
[null,500,920,1.5980000000000001,1330,1478,1.7070000000000001,58.65178023166483]
[null,500,940,1.6240000000000001,1338,1488,1.7150000000000001,59.048612303597608]
[null,500,960,1.65,1347,1499,1.722,59.485127582723671]
[null,500,980,1.675,1355,1510,1.73,59.921642861849726]
[null,500,1000,1.7010000000000001,1364,1521,1.738,60.358158140975782]
[null,500,1020,1.726,1372,1532,1.7450000000000001,60.794673420101844]
[null,500,1040,1.752,1381,1543,1.752,61.2311886992279]
[null,500,1060,1.7769999999999999,1389,1553,1.7589999999999999,61.628020771160678]
[null,500,1080,1.802,1398,1564,1.766,62.064536050286733]
[null,500,1100,1.827,1406,1575,1.774,62.501051329412789]
[null,500,1120,1.8520000000000001,1415,1586,1.78,62.937566608538852]
[null,500,1140,1.877,1423,1597,1.7869999999999999,63.374081887664907]
[null,500,1160,1.9019999999999999,1432,1608,1.794,63.81059716679097]
[null,500,1180,1.927,1441,1619,1.8009999999999999,64.247112445917026]
[null,500,1200,1.952,1449,1630,1.8080000000000001,64.683627725043081]
[null,500,1220,1.9770000000000001,1458,1641,1.8140000000000001,65.120143004169137]
[null,500,1240,2.0019999999999998,1467,1652,1.821,65.556658283295192]
[null,500,1260,2.0259999999999998,1476,1663,1.827,65.993173562421248]
[null,500,1280,2.0510000000000002,1484,1674,1.8340000000000001,66.429688841547303]
[null,500,1300,2.0760000000000001,1493,1685,1.84,66.866204120673373]
[null,500,1320,2.1,1502,1696,1.8460000000000001,67.302719399799429]
[null,500,1340,2.125,1511,1708,1.8520000000000001,67.778917886118762]
[null,500,1360,2.15,1520,1719,1.859,68.215433165244818]
[null,500,1380,2.1739999999999999,1529,1730,1.865,68.651948444370873]
[null,500,1400,2.1989999999999998,1538,1741,1.871,69.088463723496929]
[null,500,1420,2.2229999999999999,1547,1753,1.877,69.564662209816262]
[null,500,1440,2.2480000000000002,1556,1764,1.883,70.001177488942318]
[null,500,1460,2.2719999999999998,1565,1775,1.889,70.437692768068388]
[null,500,1480,2.2970000000000002,1574,1787,1.895,70.913891254387721]
[null,500,1500,2.3210000000000002,1583,1798,1.901,71.350406533513777]
[null,600,40,1.5990000000000001E-2,8.0269999999999992,9.8019999999999996,1.619E-2,0.38897479690851061]
[null,600,60,1.6E-2,28,29.77,5.5379999999999999E-2,1.1813690781438848]
[null,600,80,1.6039999999999999E-2,47.92,49.7,9.3009999999999995E-2,1.9722553975059149]
[null,600,100,1.61E-2,67.83,69.62,0.12920000000000001,2.7627448847960121]
[null,600,120,1.618E-2,87.74,89.53,0.16420000000000001,3.5528375400141758]
[null,600,140,1.626E-2,107.7,109.5,0.19800000000000001,4.3453111876639365]
[null,600,160,1.636E-2,127.6,129.4,0.23069999999999999,5.1350070108101686]
[null,600,180,1.6480000000000002E-2,147.6,149.4,0.26250000000000001,5.9286711546757278]
[null,600,200,1.66E-2,167.6,169.4,0.29330000000000001,6.722335298541287]
[null,600,220,1.6740000000000001E-2,187.7,189.5,0.32329999999999998,{"$f":"F3326/$E$22*18","v":7.5199677631261741}]
[null,600,240,1.6889999999999999E-2,207.8,209.7,0.35260000000000002,8.3215685484303883]
[null,600,260,1.7049999999999999E-2,228,229.9,0.38109999999999999,9.1231693337346051]
[null,600,280,1.7219999999999999E-2,248.4,250.3,0.40899999999999997,9.9327067604774744]
[null,600,300,1.7409999999999998E-2,268.8,270.7,0.43630000000000002,10.742244187220344]
[null,600,320,1.7610000000000001E-2,289.39999999999998,291.3,0.46300000000000002,11.55971825540187]
[null,600,340,1.7829999999999999E-2,310.10000000000002,312.10000000000002,0.48930000000000001,12.385128965022053]
[null,600,360,1.8069999999999999E-2,331,333,0.5151,13.214507995361561]
[null,600,380,1.8319999999999999E-2,352.1,354.1,0.54059999999999997,14.051823667139727]
[null,600,400,1.8599999999999998E-2,373.4,375.5,0.56579999999999997,14.901044301075876]
[null,600,420,1.89E-2,395.1,397.2,0.5907,15.762169897170008]
[null,600,440,1.9230000000000001E-2,417,419.1,0.61539999999999995,16.631232134702795]
[null,600,460,1.9599999999999999E-2,439.4,441.5,0.64,17.520135975832222]
[null,600,480,0.02,462.2,464.4,0.66459999999999997,18.428881420558287]
[null,600,500,0.79530000000000001,1128,1217,1.46,48.294463154219279]
[null,600,520,0.82889999999999997,1141,1233,1.4770000000000001,48.929394469311731]
[null,600,540,0.86029999999999995,1153,1249,1.492,49.564325784404176]
[null,600,560,0.8901,1164,1263,1.5069999999999999,50.119890685110072]
[null,600,580,0.91859999999999997,1175,1277,1.52,50.675455585815961]
[null,600,600,0.94599999999999995,1185,1290,1.5329999999999999,51.191337279328572]
[null,600,620,0.97270000000000001,1195,1303,1.5449999999999999,51.707218972841183]
[null,600,640,0.99860000000000004,1204,1315,1.556,52.183417459160516]
[null,600,660,1.024,1214,1327,1.5669999999999999,52.659615945479857]
[null,600,680,1.0489999999999999,1223,1339,1.577,53.13581443179919]
[null,600,700,1.073,1232,1351,1.5880000000000001,53.612012918118523]
[null,600,720,1.097,1241,1363,1.5980000000000001,54.088211404437857]
[null,600,740,1.121,1250,1374,1.607,54.524726683563919]
[null,600,760,1.1439999999999999,1258,1385,1.617,54.961241962689975]
[null,600,780,1.167,1267,1397,1.6259999999999999,55.437440449009316]
[null,600,800,1.19,1276,1408,1.635,55.873955728135371]
[null,600,820,1.2130000000000001,1284,1419,1.6439999999999999,56.310471007261427]
[null,600,840,1.236,1293,1430,1.6519999999999999,56.746986286387482]
[null,600,860,1.258,1302,1441,1.661,57.183501565513545]
[null,600,880,1.28,1310,1452,1.669,57.620016844639601]
[null,600,900,1.302,1319,1463,1.677,58.056532123765663]
[null,600,920,1.3240000000000001,1327,1474,1.6850000000000001,58.493047402891719]
[null,600,940,1.3460000000000001,1336,1485,1.6930000000000001,58.929562682017774]
[null,600,960,1.3680000000000001,1344,1496,1.7010000000000001,59.366077961143837]
[null,600,980,1.389,1353,1507,1.708,59.802593240269893]
[null,600,1000,1.411,1361,1518,1.716,60.239108519395948]
[null,600,1020,1.4319999999999999,1370,1529,1.7230000000000001,60.675623798522011]
[null,600,1040,1.454,1379,1540,1.7310000000000001,61.11213907764806]
[null,600,1060,1.4750000000000001,1387,1551,1.738,61.548654356774115]
[null,600,1080,1.496,1396,1562,1.7450000000000001,61.985169635900178]
[null,600,1100,1.5169999999999999,1404,1573,1.752,62.421684915026233]
[null,600,1120,1.5389999999999999,1413,1584,1.7589999999999999,62.858200194152289]
[null,600,1140,1.56,1422,1595,1.766,63.294715473278352]
[null,600,1160,1.581,1430,1606,1.7729999999999999,63.731230752404407]
[null,600,1180,1.6020000000000001,1439,1617,1.78,64.16774603153047]
[null,600,1200,1.6220000000000001,1448,1628,1.7869999999999999,64.604261310656526]
[null,600,1220,1.643,1457,1639,1.7929999999999999,65.040776589782581]
[null,600,1240,1.6639999999999999,1465,1650,1.8,65.477291868908637]
[null,600,1260,1.6850000000000001,1474,1661,1.806,65.913807148034707]
[null,600,1280,1.706,1483,1672,1.8129999999999999,66.350322427160748]
[null,600,1300,1.726,1492,1684,1.819,66.826520913480095]
[null,600,1320,1.7470000000000001,1501,1695,1.825,67.263036192606151]
[null,600,1340,1.768,1510,1706,1.8320000000000001,67.699551471732207]
[null,600,1360,1.788,1519,1717,1.8380000000000001,68.136066750858262]
[null,600,1380,1.8089999999999999,1528,1728,1.8440000000000001,68.572582029984318]
[null,600,1400,1.829,1537,1740,1.85,69.048780516303651]
[null,600,1420,1.85,1546,1751,1.8560000000000001,69.485295795429721]
[null,600,1440,1.871,1555,1762,1.8620000000000001,69.921811074555777]
[null,600,1460,1.891,1564,1774,1.8680000000000001,70.39800956087511]
[null,600,1480,1.911,1573,1785,1.8740000000000001,70.834524840001166]
[null,600,1500,1.9319999999999999,1582,1797,1.88,{"$f":"F3390/$E$22*18","v":71.310723326320499}]
[null,700,40,1.5980000000000001E-2,8.0259999999999998,10.1,1.619E-2,0.40080039265210743]
[null,700,60,1.6E-2,27.98,30.06,5.5350000000000003E-2,1.1928772082299355]
[null,700,80,1.6039999999999999E-2,47.9,49.98,9.2969999999999997E-2,1.9833666955200324]
[null,700,100,1.61E-2,67.8,69.88,0.12920000000000001,2.7730625186662641]
[null,700,120,1.617E-2,87.7,89.79,0.1641,3.5631551738844287]
[null,700,140,1.626E-2,107.6,109.7,0.19789999999999999,4.3532478291025924]
[null,700,160,1.636E-2,127.5,129.69999999999999,0.2306,5.1469119729681516]
[null,700,180,1.6469999999999999E-2,147.5,149.6,0.26240000000000002,5.9366077961143828]
[null,700,200,1.66E-2,167.5,169.7,0.29320000000000002,6.73424026069927]
[null,700,220,1.6729999999999998E-2,187.6,189.7,0.32319999999999999,7.5279044045648291]
[null,700,240,1.6879999999999999E-2,207.7,209.9,0.35239999999999999,8.3295051898690442]
[null,700,260,1.704E-2,227.9,230.1,0.38090000000000002,9.1311059751732593]
[null,700,280,1.7219999999999999E-2,248.2,250.5,0.4088,9.9406434019161303]
[null,700,300,1.7399999999999999E-2,268.7,270.89999999999998,0.43609999999999999,10.750180828658998]
[null,700,320,1.7600000000000001E-2,289.2,291.5,0.46279999999999999,11.567654896840526]
[null,700,340,1.7819999999999999E-2,309.89999999999998,312.2,0.48909999999999998,12.38909728574138]
[null,700,360,1.806E-2,330.8,333.1,0.51490000000000002,13.21847631608089]
[null,700,380,1.831E-2,351.9,354.3,0.54039999999999999,14.059760308578383]
[null,700,400,1.8589999999999999E-2,373.2,375.6,0.5655,14.905012621795205]
[null,700,420,1.8890000000000001E-2,394.8,397.2,0.59040000000000004,15.762169897170008]
[null,700,440,1.9220000000000001E-2,416.7,419.2,0.61509999999999998,16.635200455422122]
[null,700,460,1.958E-2,439,441.6,0.63970000000000005,17.524104296551549]
[null,700,480,1.9980000000000001E-2,461.8,464.4,0.66420000000000001,18.428881420558287]
[null,700,500,2.044E-2,485.2,487.9,0.68889999999999996,19.361436789600315]
[null,700,520,0.68369999999999997,1130,1218,1.4470000000000001,48.334146361412564]
[null,700,540,0.71379999999999999,1143,1236,1.4650000000000001,49.048444090891564]
[null,700,560,0.74170000000000003,1155,1252,1.4810000000000001,49.683375405984009]
[null,700,580,0.7681,1167,1266,1.4950000000000001,50.238940306689905]
[null,700,600,0.79330000000000001,1178,1281,1.5089999999999999,50.834188414589072]
[null,700,620,0.81759999999999999,1188,1294,1.5209999999999999,51.350070108101683]
[null,700,640,0.84099999999999997,1198,1307,1.5329999999999999,51.865951801614294]
[null,700,660,0.86380000000000001,1208,1320,1.5449999999999999,52.381833495126912]
[null,700,680,0.88600000000000001,1218,1333,1.556,52.897715188639523]
[null,700,700,0.90769999999999995,1227,1345,1.5669999999999999,53.373913674958857]
[null,700,720,0.92910000000000004,1236,1357,1.577,53.85011216127819]
[null,700,740,0.95,1246,1369,1.587,54.326310647597538]
[null,700,760,0.97070000000000001,1255,1380,1.5960000000000001,54.762825926723586]
[null,700,780,0.99109999999999998,1263,1392,1.6060000000000001,55.239024413042927]
[null,700,800,1.0109999999999999,1272,1403,1.615,55.675539692168982]
[null,700,820,1.0309999999999999,1281,1415,1.6240000000000001,56.151738178488316]
[null,700,840,1.0509999999999999,1290,1426,1.633,56.588253457614378]
[null,700,860,1.071,1299,1437,1.641,57.024768736740434]
[null,700,880,1.0900000000000001,1307,1448,1.65,57.461284015866497]
[null,700,900,1.109,1316,1460,1.6579999999999999,57.93748250218583]
[null,700,920,1.1279999999999999,1325,1471,1.6659999999999999,58.373997781311886]
[null,700,940,1.147,1333,1482,1.6739999999999999,58.810513060437941]
[null,700,960,1.1659999999999999,1342,1493,1.6819999999999999,59.247028339564004]
[null,700,980,1.1850000000000001,1351,1504,1.69,59.683543618690059]
[null,700,1000,1.204,1359,1515,1.6970000000000001,60.120058897816115]
[null,700,1020,1.222,1368,1526,1.7050000000000001,60.556574176942171]
[null,700,1040,1.2410000000000001,1376,1537,1.712,60.993089456068226]
[null,700,1060,1.2589999999999999,1385,1548,1.72,61.429604735194282]
[null,700,1080,1.278,1394,1559,1.7270000000000001,61.866120014320344]
[null,700,1100,1.296,1403,1570,1.734,62.3026352934464]
[null,700,1120,1.3140000000000001,1411,1581,1.7410000000000001,62.739150572572456]
[null,700,1140,1.333,1420,1593,1.748,63.215349058891789]
[null,700,1160,1.351,1429,1604,1.7549999999999999,63.651864338017852]
[null,700,1180,1.369,1437,1615,1.762,64.088379617143914]
[null,700,1200,1.387,1446,1626,1.7689999999999999,64.52489489626997]
[null,700,1220,1.405,1455,1637,1.7749999999999999,64.961410175396026]
[null,700,1240,1.423,1464,1648,1.782,65.397925454522081]
[null,700,1260,1.4410000000000001,1473,1659,1.788,65.834440733648137]
[null,700,1280,1.4590000000000001,1482,1671,1.7949999999999999,66.31063921996747]
[null,700,1300,1.4770000000000001,1491,1682,1.8009999999999999,{"$f":"F3454/$E$22*18","v":66.74715449909354}]
[null,700,1320,1.4950000000000001,1499,1693,1.8080000000000001,67.183669778219596]
[null,700,1340,1.512,1508,1704,1.8140000000000001,67.620185057345651]
[null,700,1360,1.53,1517,1716,1.82,68.096383543664984]
[null,700,1380,1.548,1526,1727,1.8260000000000001,68.53289882279104]
[null,700,1400,1.5660000000000001,1535,1738,1.8320000000000001,68.969414101917096]
[null,700,1420,1.583,1545,1750,1.839,69.445612588236429]
[null,700,1440,1.601,1554,1761,1.845,69.882127867362499]
[null,700,1460,1.619,1563,1772,1.851,70.318643146488554]
[null,700,1480,1.6359999999999999,1572,1784,1.8560000000000001,70.794841632807888]
[null,700,1500,1.6539999999999999,1581,1795,1.8620000000000001,71.231356911933943]
[null,800,40,1.5980000000000001E-2,8.0239999999999991,10.39,1.618E-2,0.41230852273815805]
[null,800,60,1.5990000000000001E-2,27.97,30.34,5.5329999999999997E-2,1.2039885062440534]
[null,800,80,1.6029999999999999E-2,47.87,50.25,9.2920000000000003E-2,1.9940811614622178]
[null,800,100,1.609E-2,67.760000000000005,70.150000000000006,0.12909999999999999,2.7837769846084495]
[null,800,120,1.617E-2,87.65,90.05,0.1641,3.5734728077546807]
[null,800,140,1.6250000000000001E-2,107.6,110,0.1978,4.3651527912605763]
[null,800,160,1.635E-2,127.5,129.9,0.23050000000000001,5.1548486144068075]
[null,800,180,1.6469999999999999E-2,147.4,149.9,0.26229999999999998,5.9485127582723667]
[null,800,200,1.6590000000000001E-2,167.4,169.9,0.29310000000000003,6.7421769021379259]
[null,800,220,1.6729999999999998E-2,187.5,190,0.3231,7.539809366722813]
[null,800,240,1.687E-2,207.6,210.1,0.3523,8.3374418313077001]
[null,800,260,1.704E-2,227.8,230.3,0.38080000000000003,9.1390426166119152]
[null,800,280,1.721E-2,248.1,250.7,0.40860000000000002,9.9485800433547844]
[null,800,300,1.7389999999999999E-2,268.5,271.10000000000002,0.43590000000000001,10.758117470097657]
[null,800,320,1.7600000000000001E-2,289.10000000000002,291.7,0.46260000000000001,11.575591538279181]
[null,800,340,1.7809999999999999E-2,309.8,312.39999999999998,0.4889,12.397033927180036]
[null,800,360,1.805E-2,330.6,333.3,0.51470000000000005,13.226412957519546]
[null,800,380,1.83E-2,351.7,354.4,0.54010000000000002,14.063728629297708]
[null,800,400,1.857E-2,373,375.7,0.56520000000000004,14.90898094251453]
[null,800,420,1.8870000000000001E-2,394.5,397.3,0.59009999999999996,15.766138217889335]
[null,800,440,1.9199999999999998E-2,416.4,419.3,0.61470000000000002,16.639168776141453]
[null,800,460,1.9560000000000001E-2,438.7,441.6,0.63929999999999998,17.524104296551549]
[null,800,480,1.9959999999999999E-2,461.5,464.4,0.66379999999999995,18.428881420558287]
[null,800,500,2.0410000000000001E-2,484.8,487.8,0.6885,19.357468468880992]
[null,800,520,0.57199999999999995,1117,1201,1.4179999999999999,47.659531839126835]
[null,800,540,0.60199999999999998,1132,1221,1.4390000000000001,48.453195982992398]
[null,800,560,0.62919999999999998,1146,1239,1.456,49.167493712471398]
[null,800,580,0.65429999999999999,1159,1256,1.472,49.84210823475712]
[null,800,600,0.67800000000000005,1170,1271,1.4870000000000001,50.437356342656294]
[null,800,620,0.7006,1182,1285,1.5,50.992921243362183]
[null,800,640,0.72230000000000005,1192,1299,1.5129999999999999,51.548486144068079]
[null,800,660,0.74319999999999997,1203,1313,1.5249999999999999,52.104051044773968]
[null,800,680,0.76349999999999996,1213,1326,1.5369999999999999,52.619932738286579]
[null,800,700,0.78339999999999999,1222,1338,1.548,53.096131224605919]
[null,800,720,0.80269999999999997,1232,1351,1.5580000000000001,53.612012918118523]
[null,800,740,0.82169999999999999,1241,1363,1.569,54.088211404437857]
[null,800,760,0.84040000000000004,1251,1375,1.5780000000000001,54.564409890757204]
[null,800,780,0.85870000000000002,1260,1387,1.5880000000000001,55.040608377076538]
[null,800,800,0.87680000000000002,1269,1399,1.597,55.516806863395871]
[null,800,820,0.89470000000000005,1278,1410,1.607,55.953322142521927]
[null,800,840,0.91239999999999999,1287,1422,1.6160000000000001,56.42952062884126]
[null,800,860,0.92979999999999996,1296,1433,1.6240000000000001,56.866035907967316]
[null,800,880,0.94720000000000004,1304,1445,1.633,57.342234394286663]
[null,800,900,0.96430000000000005,1313,1456,1.641,57.778749673412719]
[null,800,920,0.98140000000000005,1322,1467,1.65,58.215264952538767]
[null,800,940,0.99829999999999997,1331,1479,1.6579999999999999,58.691463438858108]
[null,800,960,1.0149999999999999,1339,1490,1.6659999999999999,59.12797871798417]
[null,800,980,1.032,1348,1501,1.673,59.564493997110226]
[null,800,1000,1.048,1357,1512,1.681,60.001009276236275]
[null,800,1020,1.0649999999999999,1366,1523,1.6890000000000001,60.437524555362337]
[null,800,1040,1.081,1374,1534,1.696,60.874039834488393]
[null,800,1060,1.0980000000000001,1383,1546,1.704,61.350238320807733]
[null,800,1080,1.1140000000000001,1392,1557,1.7110000000000001,61.786753599933789]
[null,800,1100,1.1299999999999999,1401,1568,1.718,{"$f":"F3518/$E$22*18","v":62.223268879059844}]
[null,800,1120,1.1459999999999999,1409,1579,1.7250000000000001,62.6597841581859]
[null,800,1140,1.1619999999999999,1418,1590,1.732,63.096299437311956]
[null,800,1160,1.179,1427,1601,1.7390000000000001,63.532814716438018]
[null,800,1180,1.1950000000000001,1436,1613,1.746,64.009013202757345]
[null,800,1200,1.21,1445,1624,1.7529999999999999,64.445528481883414]
[null,800,1220,1.226,1454,1635,1.76,64.88204376100947]
[null,800,1240,1.242,1462,1646,1.766,65.318559040135526]
[null,800,1260,1.258,1471,1658,1.7729999999999999,65.794757526454859]
[null,800,1280,1.274,1480,1669,1.7789999999999999,66.231272805580915]
[null,800,1300,1.29,1489,1680,1.786,66.66778808470697]
[null,800,1320,1.3049999999999999,1498,1691,1.792,67.10430336383304]
[null,800,1340,1.321,1507,1703,1.798,67.580501850152373]
[null,800,1360,1.337,1516,1714,1.8049999999999999,68.017017129278429]
[null,800,1380,1.3520000000000001,1525,1725,1.8109999999999999,68.453532408404484]
[null,800,1400,1.3680000000000001,1534,1737,1.8169999999999999,68.929730894723832]
[null,800,1420,1.383,1543,1748,1.823,69.366246173849888]
[null,800,1440,1.399,1552,1760,1.829,69.842444660169221]
[null,800,1460,1.415,1562,1771,1.835,70.278959939295277]
[null,800,1480,1.43,1571,1783,1.841,70.75515842561461]
[null,800,1500,1.446,1580,1794,1.847,71.191673704740666]
[null,900,40,1.5970000000000002E-2,8.0229999999999997,10.68,1.618E-2,0.42381665282420866]
[null,900,60,1.5990000000000001E-2,27.96,30.62,5.5300000000000002E-2,1.2150998042581713]
[null,900,80,1.6029999999999999E-2,47.85,50.52,9.2880000000000004E-2,2.0047956274044028]
[null,900,100,1.609E-2,67.73,70.41,0.12909999999999999,2.7940946184787014]
[null,900,120,1.6160000000000001E-2,87.61,90.3,0.16400000000000001,3.5833936095529997]
[null,900,140,1.6250000000000001E-2,107.5,110.2,0.19769999999999999,4.3730894326992313]
[null,900,160,1.635E-2,127.4,130.1,0.23039999999999999,5.1627852558454626]
[null,900,180,1.6459999999999999E-2,147.4,150.1,0.26219999999999999,5.9564493997110217]
[null,900,200,1.6590000000000001E-2,167.4,170.1,0.29299999999999998,6.7501135435765809]
[null,900,220,1.6719999999999999E-2,187.4,190.2,0.32290000000000002,7.547746008161468]
[null,900,240,1.687E-2,207.5,210.3,0.35210000000000002,8.345378472746356]
[null,900,260,1.703E-2,227.7,230.6,0.38059999999999999,9.1509475787698982]
[null,900,280,1.72E-2,248,250.9,0.40849999999999997,9.9565166847934421]
[null,900,300,1.7389999999999999E-2,268.39999999999998,271.3,0.43569999999999998,10.766054111536313]
[null,900,320,1.7590000000000001E-2,288.89999999999998,291.89999999999998,0.46239999999999998,11.583528179717836]
[null,900,340,1.78E-2,309.60000000000002,312.60000000000002,0.48870000000000002,12.404970568618692]
[null,900,360,1.804E-2,330.4,333.4,0.51449999999999996,13.230381278238871]
[null,900,380,1.8290000000000001E-2,351.5,354.5,0.53990000000000005,14.067696950017037]
[null,900,400,1.856E-2,372.8,375.8,0.56499999999999995,14.912949263233859]
[null,900,420,1.8859999999999998E-2,394.3,397.4,0.58979999999999999,15.770106538608662]
[null,900,440,1.9189999999999999E-2,416.2,419.4,0.61439999999999995,16.643137096860777]
[null,900,460,1.9550000000000001E-2,438.4,441.7,0.63890000000000002,17.528072617270876]
[null,900,480,1.9939999999999999E-2,461.1,464.4,0.66339999999999999,18.428881420558287]
[null,900,500,2.0389999999999998E-2,484.4,487.8,0.68799999999999994,19.357468468880992]
[null,900,520,2.0899999999999998E-2,508.4,511.8,0.71279999999999999,20.309865441519662]
[null,900,540,0.51300000000000001,1120,1205,1.4119999999999999,47.818264667899946]
[null,900,560,0.54010000000000002,1136,1226,1.4319999999999999,48.651612018958787]
[null,900,580,0.56469999999999998,1150,1244,1.45,49.365909748437787]
[null,900,600,0.58750000000000002,1163,1260,1.466,50.000841063530238]
[null,900,620,0.60899999999999999,1175,1276,1.48,50.635772378622676]
[null,900,640,0.62949999999999995,1186,1291,1.494,51.231020486521849]
[null,900,660,0.64910000000000001,1197,1305,1.5069999999999999,51.786585387227746]
[null,900,680,0.66800000000000004,1207,1319,1.5189999999999999,52.342150287933634]
[null,900,700,0.68640000000000001,1217,1332,1.53,52.858031981446246]
[null,900,720,0.70420000000000005,1227,1345,1.5409999999999999,53.373913674958857]
[null,900,740,0.72170000000000001,1237,1357,1.552,53.85011216127819]
[null,900,760,0.73880000000000001,1247,1370,1.5620000000000001,54.365993854790808]
[null,900,780,0.75560000000000005,1256,1382,1.5720000000000001,54.842192341110142]
[null,900,800,0.77210000000000001,1265,1394,1.5820000000000001,55.318390827429475]
[null,900,820,0.78839999999999999,1274,1406,1.591,55.794589313748816]
[null,900,840,0.80449999999999999,1284,1417,1.6,56.231104592874878]
[null,900,860,0.82040000000000002,1293,1429,1.609,56.707303079194212]
[null,900,880,0.83609999999999995,1302,1441,1.6180000000000001,57.183501565513545]
[null,900,900,0.85160000000000002,1310,1452,1.6259999999999999,{"$f":"F3582/$E$22*18","v":57.620016844639601}]
[null,900,920,0.86699999999999999,1319,1464,1.635,58.096215330958934]
[null,900,940,0.88229999999999997,1328,1475,1.643,58.532730610084997]
[null,900,960,0.89749999999999996,1337,1487,1.651,59.008929096404337]
[null,900,980,0.91259999999999997,1346,1498,1.659,59.445444375530386]
[null,900,1000,0.92749999999999999,1355,1509,1.667,59.881959654656441]
[null,900,1020,0.94240000000000002,1364,1520,1.6739999999999999,60.318474933782504]
[null,900,1040,0.95720000000000005,1372,1532,1.6819999999999999,60.794673420101844]
[null,900,1060,0.97189999999999999,1381,1543,1.6890000000000001,61.2311886992279]
[null,900,1080,0.98650000000000004,1390,1554,1.6970000000000001,61.667703978353948]
[null,900,1100,1.0009999999999999,1399,1566,1.704,62.143902464673289]
[null,900,1120,1.016,1408,1577,1.7110000000000001,62.580417743799352]
[null,900,1140,1.03,1416,1588,1.718,63.016933022925407]
[null,900,1160,1.044,1425,1599,1.7250000000000001,63.453448302051456]
[null,900,1180,1.0589999999999999,1434,1611,1.732,63.929646788370803]
[null,900,1200,1.073,1443,1622,1.7390000000000001,64.366162067496859]
[null,900,1220,1.087,1452,1633,1.746,64.802677346622914]
[null,900,1240,1.1020000000000001,1461,1644,1.752,65.23919262574897]
[null,900,1260,1.1160000000000001,1470,1656,1.7589999999999999,65.715391112068303]
[null,900,1280,1.1299999999999999,1479,1667,1.766,66.151906391194373]
[null,900,1300,1.1439999999999999,1488,1678,1.772,66.588421670320429]
[null,900,1320,1.1579999999999999,1497,1690,1.778,67.064620156639762]
[null,900,1340,1.1719999999999999,1506,1701,1.7849999999999999,67.501135435765818]
[null,900,1360,1.1859999999999999,1515,1712,1.7909999999999999,67.937650714891873]
[null,900,1380,1.2,1524,1724,1.7969999999999999,68.413849201211207]
[null,900,1400,1.214,1533,1735,1.8029999999999999,68.850364480337262]
[null,900,1420,1.228,1542,1747,1.81,69.326562966656596]
[null,900,1440,1.242,1551,1758,1.8160000000000001,69.763078245782651]
[null,900,1460,1.256,1561,1770,1.8220000000000001,70.239276732101985]
[null,900,1480,1.27,1570,1781,1.8280000000000001,70.675792011228054]
[null,900,1500,1.2829999999999999,1579,1793,1.8340000000000001,71.151990497547388]
[null,1000,40,1.5970000000000002E-2,8.0220000000000002,10.98,1.617E-2,0.43572161498219208]
[null,1000,60,1.5980000000000001E-2,27.94,30.9,5.527E-2,1.226211102272289]
[null,1000,80,1.602E-2,47.83,50.79,9.2829999999999996E-2,2.0155100933465877]
[null,1000,100,1.6080000000000001E-2,67.7,70.67,0.129,2.8044122523489539]
[null,1000,120,1.6160000000000001E-2,87.57,90.56,0.16389999999999999,3.5937112434232521]
[null,1000,140,1.6240000000000001E-2,107.5,110.5,0.19769999999999999,4.3849943948572152]
[null,1000,160,1.634E-2,127.4,130.4,0.2303,5.1746902180034464]
[null,1000,180,1.6459999999999999E-2,147.30000000000001,150.30000000000001,0.26200000000000001,5.9643860411496785]
[null,1000,200,1.6580000000000001E-2,167.3,170.3,0.2928,6.7580501850152377]
[null,1000,220,1.6719999999999999E-2,187.3,190.4,0.32279999999999998,7.5556826496001248]
[null,1000,240,1.686E-2,207.4,210.5,0.35199999999999998,8.3533151141850119]
[null,1000,260,1.702E-2,227.6,230.8,0.3805,9.1588842202085541]
[null,1000,280,1.719E-2,247.9,251.1,0.4083,9.9644533262320962]
[null,1000,300,1.738E-2,268.3,271.5,0.43559999999999999,10.773990752974967]
[null,1000,320,1.7579999999999998E-2,288.8,292,0.46229999999999999,11.587496500437165]
[null,1000,340,1.78E-2,309.39999999999998,312.7,0.48849999999999999,12.408938889338017]
[null,1000,360,1.8030000000000001E-2,330.3,333.6,0.51419999999999999,13.238317919677531]
[null,1000,380,1.8280000000000001E-2,351.3,354.7,0.53959999999999997,14.075633591455693]
[null,1000,400,1.8550000000000001E-2,372.5,376,0.56469999999999998,14.920885904672515]
[null,1000,420,1.8849999999999999E-2,394,397.5,0.58950000000000002,15.774074859327989]
[null,1000,440,1.917E-2,415.9,419.4,0.61409999999999998,16.643137096860777]
[null,1000,460,1.9529999999999999E-2,438.1,441.7,0.63859999999999995,17.528072617270876]
[null,1000,480,1.992E-2,460.8,464.4,0.66310000000000002,18.428881420558287]
[null,1000,500,2.0369999999999999E-2,484,487.7,0.68759999999999999,19.353500148161661]
[null,1000,520,2.087E-2,507.9,511.7,0.71230000000000004,20.305897120800331]
[null,1000,540,2.145E-2,532.6,536.6,0.73750000000000004,21.294008979912952]
[null,1000,560,0.46729999999999999,1124,1211,1.4079999999999999,48.056363911059613]
[null,1000,580,0.49199999999999999,1140,1231,1.4279999999999999,48.850028054925168]
[null,1000,600,0.51429999999999998,1154,1249,1.446,49.564325784404176]
[null,1000,620,0.53510000000000002,1167,1266,1.4610000000000001,50.238940306689905]
[null,1000,640,0.55469999999999997,1179,1282,1.476,50.873871621782349]
[null,1000,660,0.57340000000000002,1191,1297,1.4890000000000001,51.469119729681516]
[null,1000,680,0.59119999999999995,1202,1311,1.502,52.024684630387412]
[null,1000,700,0.60850000000000004,1212,1325,1.514,{"$f":"F3646/$E$22*18","v":52.580249531093301}]
[null,1000,720,0.62519999999999998,1223,1338,1.5249999999999999,53.096131224605919]
[null,1000,740,0.64149999999999996,1233,1351,1.536,53.612012918118523]
[null,1000,760,0.65739999999999998,1242,1364,1.5469999999999999,54.127894611631142]
[null,1000,780,0.67300000000000004,1252,1377,1.5569999999999999,54.643776305143753]
[null,1000,800,0.68830000000000002,1262,1389,1.5669999999999999,55.119974791463093]
[null,1000,820,0.70330000000000004,1271,1401,1.577,55.596173277782427]
[null,1000,840,0.71809999999999996,1280,1413,1.5860000000000001,56.07237176410176]
[null,1000,860,0.73270000000000002,1289,1425,1.595,56.548570250421093]
[null,1000,880,0.74709999999999999,1299,1437,1.6040000000000001,57.024768736740434]
[null,1000,900,0.76139999999999997,1308,1449,1.613,57.500967223059767]
[null,1000,920,0.77549999999999997,1317,1460,1.621,57.93748250218583]
[null,1000,940,0.78949999999999998,1326,1472,1.629,58.413680988505163]
[null,1000,960,0.8034,1335,1483,1.6379999999999999,58.850196267631219]
[null,1000,980,0.81710000000000005,1344,1495,1.6459999999999999,59.326394753950552]
[null,1000,1000,0.83079999999999998,1352,1506,1.653,59.762910033076608]
[null,1000,1020,0.84430000000000005,1361,1518,1.661,60.239108519395948]
[null,1000,1040,0.85780000000000001,1370,1529,1.669,60.675623798522011]
[null,1000,1060,0.87119999999999997,1379,1540,1.6759999999999999,61.11213907764806]
[null,1000,1080,0.88460000000000005,1388,1552,1.6839999999999999,61.5883375639674]
[null,1000,1100,0.89780000000000004,1397,1563,1.6910000000000001,62.024852843093456]
[null,1000,1120,0.91100000000000003,1406,1574,1.698,62.461368122219518]
[null,1000,1140,0.92410000000000003,1415,1586,1.7050000000000001,62.937566608538852]
[null,1000,1160,0.93720000000000003,1424,1597,1.7130000000000001,63.374081887664907]
[null,1000,1180,0.95030000000000003,1433,1608,1.7190000000000001,63.81059716679097]
[null,1000,1200,0.96319999999999995,1441,1620,1.726,64.286795653110303]
[null,1000,1220,0.97619999999999996,1450,1631,1.7330000000000001,64.723310932236359]
[null,1000,1240,0.98909999999999998,1459,1642,1.74,65.159826211362414]
[null,1000,1260,1.002,1468,1654,1.7470000000000001,65.636024697681748]
[null,1000,1280,1.0149999999999999,1477,1665,1.7529999999999999,66.072539976807803]
[null,1000,1300,1.028,1486,1677,1.76,66.548738463127137]
[null,1000,1320,1.04,1495,1688,1.766,66.985253742253207]
[null,1000,1340,1.0529999999999999,1505,1699,1.772,67.421769021379262]
[null,1000,1360,1.0660000000000001,1514,1711,1.7789999999999999,67.897967507698596]
[null,1000,1380,1.0780000000000001,1523,1722,1.7849999999999999,68.334482786824651]
[null,1000,1400,1.091,1532,1734,1.7909999999999999,68.810681273143985]
[null,1000,1420,1.1040000000000001,1541,1745,1.7969999999999999,69.24719655227004]
[null,1000,1440,1.1160000000000001,1550,1757,1.8029999999999999,69.723395038589388]
[null,1000,1460,1.129,1559,1768,1.81,70.159910317715443]
[null,1000,1480,1.141,1569,1780,1.8149999999999999,70.636108804034777]
[null,1000,1500,1.1539999999999999,1578,1791,1.821,71.072624083160832]
[null,1100,40,1.5959999999999998E-2,8.0210000000000008,11.27,1.617E-2,0.44722974506824259]
[null,1100,60,1.5980000000000001E-2,27.93,31.18,5.5239999999999997E-2,1.2373224002864067]
[null,1100,80,1.602E-2,47.8,51.06,9.2780000000000001E-2,2.0262245592887727]
[null,1100,100,1.6080000000000001E-2,67.66,70.94,0.12889999999999999,2.8151267182911388]
[null,1100,120,1.6150000000000001E-2,87.53,90.81,0.1638,3.603632045221572]
[null,1100,140,1.6240000000000001E-2,107.4,110.7,0.1976,4.3929310362958702]
[null,1100,160,1.634E-2,127.3,130.6,0.23019999999999999,5.1826268594421023]
[null,1100,180,1.6449999999999999E-2,147.19999999999999,150.6,0.26190000000000002,5.9762910033076615]
[null,1100,200,1.6570000000000001E-2,167.2,170.6,0.29270000000000002,6.7699551471732207]
[null,1100,220,1.6709999999999999E-2,187.2,190.6,0.32269999999999999,7.5636192910387798]
[null,1100,240,1.686E-2,207.3,210.8,0.35189999999999999,8.3652200763429949]
[null,1100,260,1.702E-2,227.5,231,0.38030000000000003,9.16682086164721]
[null,1100,280,1.719E-2,247.8,251.3,0.40820000000000001,9.9723899676707521]
[null,1100,300,1.737E-2,268.10000000000002,271.7,0.43540000000000001,10.781927394413623]
[null,1100,320,1.7569999999999999E-2,288.60000000000002,292.2,0.46210000000000001,11.595433141875819]
[null,1100,340,1.779E-2,309.3,312.89999999999998,0.48830000000000001,12.416875530776673]
[null,1100,360,1.8020000000000001E-2,330.1,333.7,0.51400000000000001,13.242286240396856]
[null,1100,380,1.8270000000000002E-2,351.1,354.8,0.53939999999999999,14.079601912175022]
[null,1100,400,1.8540000000000001E-2,372.3,376.1,0.56440000000000001,14.924854225391842]
[null,1100,420,1.8839999999999999E-2,393.8,397.6,0.58919999999999995,15.77804318004732]
[null,1100,440,1.916E-2,415.6,419.5,0.61380000000000001,16.647105417580107]
[null,1100,460,1.951E-2,437.8,441.7,0.63829999999999998,17.528072617270876]
[null,1100,480,1.9910000000000001E-2,460.4,464.4,0.66269999999999996,18.428881420558287]
[null,1100,500,2.035E-2,483.6,487.7,0.68720000000000003,{"$f":"F3710/$E$22*18","v":19.353500148161661}]
[null,1100,520,2.0840000000000001E-2,507.4,511.6,0.71179999999999999,20.301928800081008]
[null,1100,540,2.1420000000000002E-2,532.1,536.4,0.7369,21.286072338474298]
[null,1100,560,0.40579999999999999,1111,1193,1.3839999999999999,47.342066181580613]
[null,1100,580,0.43120000000000003,1129,1217,1.4059999999999999,48.294463154219279]
[null,1100,600,0.4536,1145,1237,1.4259999999999999,49.088127298084842]
[null,1100,620,0.47410000000000002,1159,1256,1.4430000000000001,49.84210823475712]
[null,1100,640,0.49309999999999998,1172,1272,1.4590000000000001,50.477039549849572]
[null,1100,660,0.5111,1184,1288,1.4730000000000001,51.111970864942016]
[null,1100,680,0.52810000000000001,1196,1303,1.486,51.707218972841183]
[null,1100,700,0.54459999999999997,1207,1318,1.4990000000000001,52.30246708074035]
[null,1100,720,0.56040000000000001,1218,1332,1.5109999999999999,52.858031981446246]
[null,1100,740,0.57569999999999999,1228,1345,1.522,53.373913674958857]
[null,1100,760,0.5907,1238,1358,1.5329999999999999,53.889795368471475]
[null,1100,780,0.60529999999999995,1248,1371,1.5429999999999999,54.405677061984086]
[null,1100,800,0.61960000000000004,1258,1384,1.5529999999999999,54.921558755496704]
[null,1100,820,0.63360000000000005,1267,1396,1.5629999999999999,55.397757241816038]
[null,1100,840,0.64729999999999999,1277,1409,1.573,55.913638935328649]
[null,1100,860,0.66090000000000004,1286,1421,1.5820000000000001,56.389837421647982]
[null,1100,880,0.67430000000000001,1296,1433,1.591,56.866035907967316]
[null,1100,900,0.6875,1305,1445,1.6,57.342234394286663]
[null,1100,920,0.7006,1314,1457,1.609,57.818432880605997]
[null,1100,940,0.71350000000000002,1323,1468,1.617,58.254948159732052]
[null,1100,960,0.72629999999999995,1332,1480,1.625,58.731146646051386]
[null,1100,980,0.73899999999999999,1341,1492,1.633,59.207345132370719]
[null,1100,1000,0.75160000000000005,1350,1503,1.641,59.643860411496775]
[null,1100,1020,0.7641,1359,1515,1.649,60.120058897816115]
[null,1100,1040,0.77649999999999997,1368,1526,1.657,60.556574176942171]
[null,1100,1060,0.78879999999999995,1377,1538,1.665,61.032772663261511]
[null,1100,1080,0.80110000000000003,1386,1549,1.6719999999999999,61.469287942387567]
[null,1100,1100,0.81330000000000002,1395,1561,1.679,61.9454864287069]
[null,1100,1120,0.82540000000000002,1404,1572,1.6870000000000001,62.382001707832956]
[null,1100,1140,0.83750000000000002,1413,1583,1.694,62.818516986959018]
[null,1100,1160,0.84950000000000003,1422,1595,1.7010000000000001,63.294715473278352]
[null,1100,1180,0.86140000000000005,1431,1606,1.708,63.731230752404407]
[null,1100,1200,0.87329999999999997,1440,1618,1.7150000000000001,64.207429238723748]
[null,1100,1220,0.88519999999999999,1449,1629,1.722,64.643944517849803]
[null,1100,1240,0.89700000000000002,1458,1640,1.728,65.080459796975859]
[null,1100,1260,0.90880000000000005,1467,1652,1.7350000000000001,65.556658283295192]
[null,1100,1280,0.92049999999999998,1476,1663,1.742,65.993173562421248]
[null,1100,1300,0.93220000000000003,1485,1675,1.748,66.469372048740595]
[null,1100,1320,0.94389999999999996,1494,1686,1.7549999999999999,66.905887327866637]
[null,1100,1340,0.95550000000000002,1503,1698,1.7609999999999999,67.382085814185984]
[null,1100,1360,0.96709999999999996,1512,1709,1.768,67.81860109331204]
[null,1100,1380,0.97870000000000001,1521,1721,1.774,68.294799579631373]
[null,1100,1400,0.99019999999999997,1531,1732,1.78,68.731314858757429]
[null,1100,1420,1.002,1540,1744,1.786,69.207513345076762]
[null,1100,1440,1.0129999999999999,1549,1755,1.792,69.644028624202832]
[null,1100,1460,1.0249999999999999,1558,1767,1.798,70.120227110522166]
[null,1100,1480,1.036,1568,1778,1.804,70.556742389648221]
[null,1100,1500,1.048,1577,1790,1.81,71.032940875967554]
[null,1200,40,1.5959999999999998E-2,8.0190000000000001,11.56,1.6160000000000001E-2,0.45873787515429326]
[null,1200,60,1.5970000000000002E-2,27.92,31.46,5.5219999999999998E-2,1.2484336983005249]
[null,1200,80,1.601E-2,47.78,51.33,9.2740000000000003E-2,2.036939025230958]
[null,1200,100,1.6070000000000001E-2,67.63,71.2,0.12889999999999999,2.8254443521613912]
[null,1200,120,1.6150000000000001E-2,87.48,91.07,0.1638,3.6139496790918235]
[null,1200,140,1.6230000000000001E-2,107.3,111,0.19750000000000001,4.4048359984538532]
[null,1200,160,1.6330000000000001E-2,127.2,130.9,0.2301,5.1945318216000853]
[null,1200,180,1.6449999999999999E-2,147.19999999999999,150.80000000000001,0.26179999999999998,5.9842276447463174]
[null,1200,200,1.6570000000000001E-2,167.1,170.8,0.29260000000000003,6.7778917886118766]
[null,1200,220,1.67E-2,187.1,190.9,0.32250000000000001,7.5755242531967628]
[null,1200,240,1.685E-2,207.2,211,0.35170000000000001,8.3731567177816508]
[null,1200,260,1.7010000000000001E-2,227.4,231.2,0.38019999999999998,9.1747575030858641]
[null,1200,280,1.7180000000000001E-2,247.6,251.5,0.40799999999999997,9.9803266091094081]
[null,1200,300,1.737E-2,268,271.89999999999998,0.43519999999999998,10.789864035852277]
[null,1200,320,1.7569999999999999E-2,288.5,292.39999999999998,0.46189999999999998,11.603369783314475]
[null,1200,340,1.7780000000000001E-2,309.10000000000002,313.10000000000002,0.48799999999999999,12.424812172215329]
[null,1200,360,1.8010000000000002E-2,329.9,333.9,0.51380000000000003,13.25022288183551]
[null,1200,380,1.8259999999999998E-2,350.9,354.9,0.53910000000000002,14.083570232894347]
[null,1200,400,1.8530000000000001E-2,372.1,376.2,0.56420000000000003,14.928822546111171]
[null,1200,420,1.882E-2,393.5,397.7,0.58889999999999998,15.782011500766645]
[null,1200,440,1.9140000000000001E-2,415.3,419.6,0.61350000000000005,16.651073738299434]
[null,1200,460,1.95E-2,437.5,441.8,0.63790000000000002,17.532040937990207]
[null,1200,480,1.9890000000000001E-2,460,464.5,0.6623,18.432849741277614]
[null,1200,500,2.0320000000000001E-2,483.2,487.7,0.68669999999999998,19.353500148161661]
[null,1200,520,2.0820000000000002E-2,506.9,511.5,0.71140000000000003,20.297960479361677]
[null,1200,540,2.138E-2,531.5,536.29999999999995,0.73629999999999995,21.282104017754971]
[null,1200,560,2.205E-2,557.20000000000005,562.1,0.76190000000000002,22.305930763341546]
[null,1200,580,0.37909999999999999,1117,1201,1.3839999999999999,47.659531839126835]
[null,1200,600,0.40200000000000002,1135,1224,1.4059999999999999,48.572245604572231]
[null,1200,620,0.42249999999999999,1150,1244,1.425,49.365909748437787]
[null,1200,640,0.44130000000000003,1165,1263,1.4419999999999999,50.119890685110072]
[null,1200,660,0.45879999999999999,1178,1279,1.4570000000000001,50.754822000202509]
[null,1200,680,0.4753,1190,1295,1.4710000000000001,51.389753315294961]
[null,1200,700,0.49099999999999999,1201,1311,1.484,52.024684630387412]
[null,1200,720,0.50619999999999998,1213,1325,1.4970000000000001,52.580249531093301]
[null,1200,740,0.52080000000000004,1223,1339,1.508,53.13581443179919]
[null,1200,760,0.53490000000000004,1234,1353,1.52,53.691379332505086]
[null,1200,780,0.54869999999999997,1244,1366,1.53,54.20726102601769]
[null,1200,800,0.56220000000000003,1254,1379,1.5409999999999999,54.723142719530308]
[null,1200,820,0.57540000000000002,1264,1392,1.5509999999999999,55.239024413042927]
[null,1200,840,0.58830000000000005,1274,1404,1.5609999999999999,55.71522289936226]
[null,1200,860,0.60099999999999998,1283,1417,1.57,56.231104592874878]
[null,1200,880,0.61360000000000003,1293,1429,1.579,56.707303079194212]
[null,1200,900,0.62590000000000001,1302,1441,1.5880000000000001,57.183501565513545]
[null,1200,920,0.6381,1311,1453,1.597,57.659700051832878]
[null,1200,940,0.6502,1320,1465,1.605,58.135898538152219]
[null,1200,960,0.66210000000000002,1330,1477,1.6140000000000001,58.612097024471552]
[null,1200,980,0.67390000000000005,1339,1488,1.6220000000000001,59.048612303597608]
[null,1200,1000,0.68559999999999999,1348,1500,1.63,59.524810789916941]
[null,1200,1020,0.69720000000000004,1357,1512,1.6379999999999999,60.001009276236275]
[null,1200,1040,0.7087,1366,1523,1.6459999999999999,60.437524555362337]
[null,1200,1060,0.72019999999999995,1375,1535,1.6539999999999999,60.913723041681678]
[null,1200,1080,0.73150000000000004,1384,1547,1.661,61.389921528001011]
[null,1200,1100,0.74280000000000002,1393,1558,1.669,61.826436807127067]
[null,1200,1120,0.75409999999999999,1402,1570,1.6759999999999999,62.3026352934464]
[null,1200,1140,0.76519999999999999,1411,1581,1.6830000000000001,62.739150572572456]
[null,1200,1160,0.77629999999999999,1420,1593,1.69,63.215349058891789]
[null,1200,1180,0.78739999999999999,1429,1604,1.6970000000000001,63.651864338017852]
[null,1200,1200,0.7984,1438,1616,1.704,64.128062824337192]
[null,1200,1220,0.80940000000000001,1447,1627,1.7110000000000001,64.564578103463248]
[null,1200,1240,0.82030000000000003,1456,1639,1.718,65.040776589782581]
[null,1200,1260,0.83109999999999995,1465,1650,1.7250000000000001,65.477291868908637]
[null,1200,1280,0.84199999999999997,1475,1662,1.7310000000000001,65.95349035522797]
[null,1200,1300,0.8528,1484,1673,1.738,66.39000563435404]
[null,1200,1320,0.86350000000000005,1493,1685,1.744,66.866204120673373]
[null,1200,1340,0.87429999999999997,1502,1696,1.7509999999999999,67.302719399799429]
[null,1200,1360,0.88500000000000001,1511,1708,1.7569999999999999,67.778917886118762]
[null,1200,1380,0.89559999999999995,1520,1719,1.764,68.215433165244818]
[null,1200,1400,0.90629999999999999,1529,1731,1.77,68.691631651564151]
[null,1200,1420,0.91690000000000005,1539,1742,1.776,69.128146930690207]
[null,1200,1440,0.92749999999999999,1548,1754,1.782,69.604345417009554]
[null,1200,1460,0.93810000000000004,1557,1765,1.788,70.04086069613561]
[null,1200,1480,0.9486,1566,1777,1.794,70.517059182454943]
[null,1200,1500,0.95920000000000005,1576,1789,1.8,70.993257668774277]
[null,1300,40,1.5949999999999999E-2,8.0180000000000007,11.85,1.6160000000000001E-2,0.47024600524034388]
[null,1300,60,1.5970000000000002E-2,27.9,31.74,5.5190000000000003E-2,1.2595449963146423]
[null,1300,80,1.601E-2,47.75,51.61,9.2689999999999995E-2,2.0480503232450755]
[null,1300,100,1.6070000000000001E-2,67.599999999999994,71.459999999999994,0.1288,2.8357619860316432]
[null,1300,120,1.6140000000000002E-2,87.44,91.32,0.16370000000000001,3.6238704808901434]
[null,1300,140,1.6230000000000001E-2,107.3,111.2,0.19739999999999999,4.41277263989251]
[null,1300,160,1.6330000000000001E-2,127.2,131.1,0.2301,5.2024684630387403]
[null,1300,180,1.644E-2,147.1,151,0.26169999999999999,5.9921642861849724]
[null,1300,200,1.6559999999999998E-2,167,171,0.29249999999999998,6.7858284300505316]
[null,1300,220,1.67E-2,187.1,191.1,0.32240000000000002,7.5834608946354187]
[null,1300,240,1.685E-2,207.1,211.2,0.35160000000000002,8.381093359220305]
[null,1300,260,1.7000000000000001E-2,227.3,231.4,0.38,9.1826941445245218]
[null,1300,280,1.7170000000000001E-2,247.5,251.7,0.4078,9.9882632505480622]
[null,1300,300,1.736E-2,267.89999999999998,272,0.435,10.793832356571604]
[null,1300,320,1.7559999999999999E-2,288.3,292.60000000000002,0.4617,11.611306424753133]
[null,1300,340,1.7770000000000001E-2,308.89999999999998,313.2,0.48780000000000001,12.428780492934658]
[null,1300,360,1.7999999999999999E-2,329.7,334,0.51359999999999995,13.254191202554839]
[null,1300,380,1.8249999999999999E-2,350.7,355.1,0.53890000000000005,14.091506874333005]
[null,1300,400,1.8519999999999998E-2,371.9,376.3,0.56389999999999996,14.932790866830498]
[null,1300,420,1.881E-2,393.3,397.8,0.58860000000000001,15.785979821485974]
[null,1300,440,1.9130000000000001E-2,415,419.6,0.61319999999999997,16.651073738299434]
[null,1300,460,1.9480000000000001E-2,437.2,441.8,0.63759999999999994,17.532040937990207]
[null,1300,480,1.9869999999999999E-2,459.7,464.5,0.66190000000000004,18.432849741277614]
[null,1300,500,2.0299999999999999E-2,482.7,487.6,0.68630000000000002,19.349531827442338]
[null,1300,520,2.0789999999999999E-2,506.4,511.5,0.71089999999999998,20.297960479361677]
[null,1300,540,2.1350000000000001E-2,531,536.1,0.73580000000000001,21.274167376316317]
[null,1300,560,2.2009999999999998E-2,556.5,561.79999999999995,0.76129999999999998,22.294025801183558]
[null,1300,580,0.33329999999999999,1103,1183,1.361,46.945234109647828]
[null,1300,600,0.3574,1124,1210,1.3859999999999999,48.016680703866335]
[null,1300,620,0.37819999999999998,1141,1232,1.407,48.889711262118453]
[null,1300,640,0.39689999999999998,1157,1252,1.425,49.683375405984009]
[null,1300,660,0.41410000000000002,1171,1270,1.4410000000000001,50.397673135463009]
[null,1300,680,0.43020000000000003,1184,1287,1.456,51.072287657748738]
[null,1300,700,0.44550000000000001,1196,1303,1.47,51.707218972841183]
[null,1300,720,0.46010000000000001,1207,1318,1.4830000000000001,52.30246708074035]
[null,1300,740,0.47410000000000002,1219,1333,1.4950000000000001,52.897715188639523]
[null,1300,760,0.48759999999999998,1229,1347,1.5069999999999999,53.453280089345419]
[null,1300,780,0.50080000000000002,1240,1360,1.518,53.969161782858023]
[null,1300,800,0.51359999999999995,1250,1374,1.5289999999999999,54.524726683563919]
[null,1300,820,0.52610000000000001,1260,1387,1.5389999999999999,55.040608377076538]
[null,1300,840,0.5383,1270,1400,1.5489999999999999,55.556490070589149]
[null,1300,860,0.55030000000000001,1280,1412,1.5589999999999999,56.032688556908482]
[null,1300,880,0.56210000000000004,1289,1425,1.5680000000000001,56.548570250421093]
[null,1300,900,0.57379999999999998,1299,1437,1.577,57.024768736740434]
[null,1300,920,0.58520000000000005,1308,1449,1.5860000000000001,57.500967223059767]
[null,1300,940,0.59650000000000003,1318,1461,1.595,57.977165709379101]
[null,1300,960,0.60770000000000002,1327,1473,1.603,58.453364195698441]
[null,1300,980,0.61880000000000002,1336,1485,1.6120000000000001,58.929562682017774]
[null,1300,1000,0.62980000000000003,1346,1497,1.62,59.405761168337108]
[null,1300,1020,0.64059999999999995,1355,1509,1.6279999999999999,59.881959654656441]
[null,1300,1040,0.65139999999999998,1364,1521,1.6359999999999999,60.358158140975782]
[null,1300,1060,0.66210000000000002,1373,1532,1.643,60.794673420101844]
[null,1300,1080,0.67269999999999996,1382,1544,1.651,61.270871906421178]
[null,1300,1100,0.68320000000000003,1391,1556,1.659,61.747070392740511]
[null,1300,1120,0.69369999999999998,1400,1567,1.6659999999999999,62.183585671866567]
[null,1300,1140,0.70409999999999995,1409,1579,1.673,62.6597841581859]
[null,1300,1160,0.71440000000000003,1418,1590,1.68,63.096299437311956]
[null,1300,1180,0.72470000000000001,1428,1602,1.6879999999999999,63.572497923631303]
[null,1300,1200,0.73499999999999999,1437,1613,1.6950000000000001,64.009013202757345]
[null,1300,1220,0.74519999999999997,1446,1625,1.7010000000000001,64.485211689076692]
[null,1300,1240,0.75529999999999997,1455,1637,1.708,64.961410175396026]
[null,1300,1260,0.76549999999999996,1464,1648,1.7150000000000001,65.397925454522081]
[null,1300,1280,0.77549999999999997,1473,1660,1.722,65.874123940841415]
[null,1300,1300,0.78559999999999997,1482,1671,1.728,66.31063921996747]
[null,1300,1320,0.79559999999999997,1491,1683,1.7350000000000001,66.786837706286803]
[null,1300,1340,0.80549999999999999,1501,1694,1.7410000000000001,67.223352985412873]
[null,1300,1360,0.8155,1510,1706,1.748,67.699551471732207]
[null,1300,1380,0.82540000000000002,1519,1718,1.754,68.17574995805154]
[null,1300,1400,0.83530000000000004,1528,1729,1.76,68.612265237177596]
[null,1300,1420,0.84509999999999996,1537,1741,1.7669999999999999,69.088463723496929]
[null,1300,1440,0.85499999999999998,1547,1752,1.7729999999999999,69.524979002622985]
[null,1300,1460,0.86480000000000001,1556,1764,1.7789999999999999,70.001177488942318]
[null,1300,1480,0.87460000000000004,1565,1776,1.7849999999999999,70.477375975261651]
[null,1300,1500,0.88429999999999997,1575,1787,1.7909999999999999,70.913891254387721]
[null,1400,40,1.5939999999999999E-2,8.016,12.15,1.6150000000000001E-2,0.48215096739832725]
[null,1400,60,1.5959999999999998E-2,27.89,32.020000000000003,5.5160000000000001E-2,1.2706562943287605]
[null,1400,80,1.6E-2,47.73,51.88,9.264E-2,2.0587647891872609]
[null,1400,100,1.6060000000000001E-2,67.56,71.73,0.1288,2.8464764519738286]
[null,1400,120,1.6140000000000002E-2,87.4,91.58,0.1636,3.6341881147603958]
[null,1400,140,1.6219999999999998E-2,107.2,111.5,0.1973,4.424677602050493]
[null,1400,160,1.6320000000000001E-2,127.1,131.30000000000001,0.23,5.2104051044773971]
[null,1400,180,1.644E-2,147,151.30000000000001,0.2616,6.0040692483429563]
[null,1400,200,1.6559999999999998E-2,167,171.3,0.29239999999999999,6.7977333922085164]
[null,1400,220,1.669E-2,187,191.3,0.32229999999999998,7.5913975360740746]
[null,1400,240,1.6840000000000001E-2,207,211.4,0.35139999999999999,8.3890300006589626]
[null,1400,260,1.7000000000000001E-2,227.2,231.6,0.37990000000000002,9.190630785963176]
[null,1400,280,1.7170000000000001E-2,247.4,251.8,0.40770000000000001,9.992231571267391]
[null,1400,300,1.7350000000000001E-2,267.7,272.2,0.43480000000000002,10.801768998010262]
[null,1400,320,1.755E-2,288.2,292.7,0.46150000000000002,11.61527474547246]
[null,1400,340,1.7760000000000001E-2,308.8,313.39999999999998,0.48759999999999998,12.436717134373312]
[null,1400,360,1.7989999999999999E-2,329.5,334.2,0.51329999999999998,13.262127843993495]
[null,1400,380,1.8239999999999999E-2,350.5,355.2,0.53869999999999996,14.095475195052332]
[null,1400,400,1.8509999999999999E-2,371.6,376.4,0.56369999999999998,14.936759187549825]
[null,1400,420,1.8800000000000001E-2,393.1,397.9,0.58840000000000003,15.789948142205301]
[null,1400,440,1.9120000000000002E-2,414.8,419.7,0.6129,16.655042059018761]
[null,1400,460,1.9460000000000002E-2,436.8,441.9,0.63719999999999999,17.53600925870953]
[null,1400,480,1.985E-2,459.3,464.5,0.66149999999999998,18.432849741277614]
[null,1400,500,2.0279999999999999E-2,482.3,487.6,0.68589999999999995,19.349531827442338]
[null,1400,520,2.0760000000000001E-2,506,511.4,0.71040000000000003,20.29399215864235]
[null,1400,540,2.1319999999999999E-2,530.4,535.9,0.73519999999999996,21.266230734877659]
[null,1400,560,2.197E-2,555.9,561.6,0.76060000000000005,22.286089159744904]
[null,1400,580,2.2749999999999999E-2,582.70000000000005,588.6,0.78690000000000004,23.357535753963408]
[null,1400,600,0.31780000000000003,1111,1194,1.365,47.381749388773883]
[null,1400,620,0.33939999999999998,1131,1219,1.3879999999999999,48.373829568605835]
[null,1400,640,0.35830000000000001,1148,1241,1.4079999999999999,49.246860126857953]
[null,1400,660,0.3755,1163,1260,1.4259999999999999,50.000841063530238]
[null,1400,680,0.39129999999999998,1177,1278,1.4419999999999999,50.715138793009238]
[null,1400,700,0.40629999999999999,1190,1295,1.4570000000000001,51.389753315294961]
[null,1400,720,0.4204,1202,1311,1.47,52.024684630387412]
[null,1400,740,0.434,1214,1326,1.4830000000000001,52.619932738286579]
[null,1400,760,0.44700000000000001,1225,1341,1.4950000000000001,53.215180846185753]
[null,1400,780,0.45960000000000001,1236,1355,1.506,53.770745746891642]
[null,1400,800,0.4718,1246,1368,1.5169999999999999,54.286627440404253]
[null,1400,820,0.48370000000000002,1257,1382,1.528,54.842192341110142]
[null,1400,840,0.49540000000000001,1267,1395,1.538,55.35807403462276]
[null,1400,860,0.50680000000000003,1277,1408,1.548,55.873955728135371]
[null,1400,880,0.51800000000000002,1286,1421,1.5569999999999999,56.389837421647982]
[null,1400,900,0.52900000000000003,1296,1433,1.5669999999999999,56.866035907967316]
[null,1400,920,0.53979999999999995,1306,1445,1.5760000000000001,57.342234394286663]
[null,1400,940,0.55049999999999999,1315,1458,1.585,57.858116087799267]
[null,1400,960,0.56110000000000004,1325,1470,1.593,58.334314574118608]
[null,1400,980,0.57150000000000001,1334,1482,1.6020000000000001,58.810513060437941]
[null,1400,1000,0.58189999999999997,1343,1494,1.61,59.286711546757275]
[null,1400,1020,0.59209999999999996,1352,1506,1.6180000000000001,59.762910033076608]
[null,1400,1040,0.60219999999999996,1362,1518,1.6259999999999999,60.239108519395948]
[null,1400,1060,0.61219999999999997,1371,1530,1.6339999999999999,60.715307005715282]
[null,1400,1080,0.62219999999999998,1380,1541,1.6419999999999999,61.151822284841344]
[null,1400,1100,0.6321,1389,1553,1.649,61.628020771160678]
[null,1400,1120,0.64190000000000003,1398,1565,1.657,62.104219257480011]
[null,1400,1140,0.65169999999999995,1408,1576,1.6639999999999999,62.540734536606067]
[null,1400,1160,0.66139999999999999,1417,1588,1.671,{"$f":"F3965/$E$22*18","v":63.016933022925407}]
[null,1400,1180,0.67100000000000004,1426,1600,1.6779999999999999,63.493131509244741]
[null,1400,1200,0.68059999999999998,1435,1611,1.6850000000000001,63.929646788370803]
[null,1400,1220,0.69020000000000004,1444,1623,1.6919999999999999,64.405845274690137]
[null,1400,1240,0.69969999999999999,1453,1635,1.6990000000000001,64.88204376100947]
[null,1400,1260,0.70909999999999995,1463,1646,1.706,65.318559040135526]
[null,1400,1280,0.71860000000000002,1472,1658,1.7130000000000001,65.794757526454859]
[null,1400,1300,0.72799999999999998,1481,1669,1.7190000000000001,66.231272805580915]
[null,1400,1320,0.73729999999999996,1490,1681,1.726,66.707471291900262]
[null,1400,1340,0.74660000000000004,1499,1693,1.732,67.183669778219596]
[null,1400,1360,0.75590000000000002,1509,1704,1.7390000000000001,67.620185057345651]
[null,1400,1380,0.76519999999999999,1518,1716,1.7450000000000001,68.096383543664984]
[null,1400,1400,0.77439999999999998,1527,1728,1.752,68.572582029984318]
[null,1400,1420,0.78359999999999996,1536,1739,1.758,69.009097309110373]
[null,1400,1440,0.79279999999999995,1546,1751,1.764,69.485295795429721]
[null,1400,1460,0.80189999999999995,1555,1763,1.77,69.961494281749054]
[null,1400,1480,0.81110000000000004,1564,1774,1.776,70.39800956087511]
[null,1400,1500,0.82020000000000004,1574,1786,1.782,70.874208047194443]
[null,1500,32,1.5939999999999999E-2,5.2400000000000002E-2,4.4770000000000003,8.2999999999999998E-5,0.17766171860430546]
[null,1500,40,1.5939999999999999E-2,8.0139999999999993,12.44,1.6150000000000001E-2,0.49365909748437786]
[null,1500,60,1.5959999999999998E-2,27.87,32.299999999999997,5.5129999999999998E-2,1.2817675923428782]
[null,1500,80,1.6E-2,47.71,52.15,9.2600000000000002E-2,2.0694792551294459]
[null,1500,100,1.6060000000000001E-2,67.53,71.989999999999995,0.12870000000000001,2.8567940858440806]
[null,1500,120,1.6129999999999999E-2,87.36,91.84,0.16350000000000001,3.6445057486306487]
[null,1500,140,1.6219999999999998E-2,107.2,111.7,0.19719999999999999,4.4326142434891489]
[null,1500,160,1.6320000000000001E-2,127.1,131.6,0.22989999999999999,5.2223100666353801]
[null,1500,180,1.643E-2,147,151.5,0.26150000000000001,6.0120058897816122]
[null,1500,200,1.6549999999999999E-2,166.9,171.5,0.29220000000000002,6.8056700336471714]
[null,1500,220,1.669E-2,186.9,191.5,0.32219999999999999,7.5993341775127305]
[null,1500,240,1.6830000000000001E-2,206.9,211.6,0.3513,8.3969666420976168]
[null,1500,260,1.6990000000000002E-2,227.1,231.8,0.37969999999999998,9.1985674274018319]
[null,1500,280,1.7160000000000002E-2,247.3,252,0.40749999999999997,10.000168212706047]
[null,1500,300,1.7350000000000001E-2,267.60000000000002,272.39999999999998,0.43469999999999998,10.809705639448918]
[null,1500,320,1.754E-2,288,292.89999999999998,0.46129999999999999,11.623211386911114]
[null,1500,340,1.7749999999999998E-2,308.60000000000002,313.60000000000002,0.4874,12.44465377581197]
[null,1500,360,1.7979999999999999E-2,329.4,334.4,0.5131,13.270064485432151]
[null,1500,380,1.823E-2,350.3,355.3,0.53839999999999999,14.099443515771661]
[null,1500,400,1.8499999999999999E-2,371.4,376.6,0.56340000000000001,14.944695828988483]
[null,1500,420,1.8790000000000001E-2,392.8,398,0.58809999999999996,15.79391646292463]
[null,1500,440,1.9099999999999999E-2,414.5,419.8,0.61260000000000003,16.659010379738088]
[null,1500,460,1.9449999999999999E-2,436.5,441.9,0.63690000000000002,17.53600925870953]
[null,1500,480,1.983E-2,459,464.5,0.66120000000000001,18.432849741277614]
[null,1500,500,2.026E-2,482,487.6,0.6855,19.349531827442338]
[null,1500,520,2.0740000000000001E-2,505.5,511.3,0.70989999999999998,20.290023837923023]
[null,1500,540,2.129E-2,529.9,535.79999999999995,0.73470000000000002,21.262262414158329]
[null,1500,560,2.1930000000000002E-2,555.20000000000005,561.29999999999995,0.75990000000000002,22.274184197586919]
[null,1500,580,2.2700000000000001E-2,581.9,588.20000000000005,0.78610000000000002,23.341662471086099]
[null,1500,596.27,2.3460000000000002E-2,605.1,611.6,0.80840000000000001,24.270249519408804]
[null,1500,596.27,0.27700000000000002,1092,1169,1.3360000000000001,46.389669208941939]
[null,1500,600,0.28189999999999998,1097,1175,1.3420000000000001,46.627768452101606]
[null,1500,620,0.3049,1120,1205,1.37,47.818264667899946]
[null,1500,640,0.32429999999999998,1139,1229,1.3919999999999999,48.77066164053862]
[null,1500,660,0.34160000000000001,1155,1250,1.411,49.604008991597453]
[null,1500,680,0.35730000000000001,1170,1269,1.4279999999999999,50.357989928269738]
[null,1500,700,0.372,1184,1287,1.4430000000000001,51.072287657748738]
[null,1500,720,0.38590000000000002,1196,1303,1.4570000000000001,51.707218972841183]
[null,1500,740,0.39900000000000002,1208,1319,1.4710000000000001,52.342150287933634]
[null,1500,760,0.41160000000000002,1220,1334,1.4830000000000001,52.937398395832801]
[null,1500,780,0.42380000000000001,1231,1349,1.4950000000000001,53.532646503731968]
[null,1500,800,0.43559999999999999,1242,1363,1.506,54.088211404437857]
[null,1500,820,0.44700000000000001,1253,1377,1.5169999999999999,54.643776305143753]
[null,1500,840,0.45810000000000001,1263,1390,1.528,55.159657998656371]
[null,1500,860,0.46899999999999997,1273,1403,1.538,55.675539692168982]
[null,1500,880,0.47970000000000002,1283,1416,1.5469999999999999,56.191421385681593]
[null,1500,900,0.49020000000000002,1293,1429,1.5569999999999999,{"$f":"F4029/$E$22*18","v":56.707303079194212}]
[null,1500,920,0.50049999999999994,1303,1442,1.5660000000000001,57.22318477270683]
[null,1500,940,0.51060000000000005,1312,1454,1.575,57.699383259026163]
[null,1500,960,0.52070000000000005,1322,1466,1.5840000000000001,58.175581745345497]
[null,1500,980,0.53059999999999996,1331,1479,1.5920000000000001,58.691463438858108]
[null,1500,1000,0.5403,1341,1491,1.601,59.167661925177441]
[null,1500,1020,0.55000000000000004,1350,1503,1.609,59.643860411496775]
[null,1500,1040,0.55959999999999999,1360,1515,1.617,60.120058897816115]
[null,1500,1060,0.56910000000000005,1369,1527,1.625,60.596257384135448]
[null,1500,1080,0.57850000000000001,1378,1539,1.633,61.072455870454782]
[null,1500,1100,0.58779999999999999,1387,1551,1.64,61.548654356774115]
[null,1500,1120,0.59709999999999996,1397,1562,1.6479999999999999,61.985169635900178]
[null,1500,1140,0.60629999999999995,1406,1574,1.655,62.461368122219518]
[null,1500,1160,0.61539999999999995,1415,1586,1.663,62.937566608538852]
[null,1500,1180,0.62450000000000006,1424,1598,1.67,63.413765094858185]
[null,1500,1200,0.63349999999999995,1433,1609,1.677,63.850280373984241]
[null,1500,1220,0.64249999999999996,1443,1621,1.6839999999999999,64.326478860303581]
[null,1500,1240,0.65149999999999997,1452,1633,1.6910000000000001,64.802677346622914]
[null,1500,1260,0.66039999999999999,1461,1644,1.698,65.23919262574897]
[null,1500,1280,0.66920000000000002,1470,1656,1.704,65.715391112068303]
[null,1500,1300,0.67800000000000005,1479,1668,1.7110000000000001,66.191589598387637]
[null,1500,1320,0.68679999999999997,1489,1679,1.718,66.628104877513707]
[null,1500,1340,0.6956,1498,1691,1.724,67.10430336383304]
[null,1500,1360,0.70430000000000004,1507,1703,1.7310000000000001,67.580501850152373]
[null,1500,1380,0.71299999999999997,1517,1714,1.7370000000000001,68.017017129278429]
[null,1500,1400,0.72170000000000001,1526,1726,1.7430000000000001,68.493215615597762]
[null,1500,1420,0.73029999999999995,1535,1738,1.75,68.969414101917096]
[null,1500,1440,0.7389,1544,1750,1.756,69.445612588236429]
[null,1500,1460,0.74750000000000005,1554,1761,1.762,69.882127867362499]
[null,1500,1480,0.75609999999999999,1563,1773,1.768,70.358326353681832]
[null,1500,1500,0.76459999999999995,1573,1785,1.774,70.834524840001166]
[null,"Source: Knovel Steam Tables - Table: 2b. Compressed Water and Superheated Steam  - English Units"]
[]
["6 Definition of Standard Condition"]
[]
["Temperature",null,null,null,60,60,"° F"]
["Pressure",null,null,null,14.7,14.7,"psi"]
[]
["7  Percentage of Leaking Component >10000 ppmv in Heavy and Light Oil Service"]
[]
[]
["7-1 Light Crude Oil API >=25 ( modified definition )"]
["7-1-1 Leaking Component > 10000 ppmv",null,null,null,null,0.86,0.86,"%","API 4589 survey  Table 1-1 and Table 2-1"]
[]
["7-2 Intermediate Crude   15 < API <25 ( modified definition )"]
["7-2-1 Leaking Component > 10000 ppmv",null,null,null,null,0.43,0.43,"%","This intermediate step is not supported by the standards named in this section"]
[null,null,null,null,null,null,null,null,"This step added to alleviate the step change in CI when switching between heavy and light curde ( for example API 20 to 19 )"]
[3]
["7-3-1 Leaking Component > 10000 ppmv",null,null,null,null,0.01,0.01,"%",{"$f":"I4071","v":"API 4589 survey  Table 1-1 and Table 2-1"}]
[]
["8  This Data Table works with BulkAssessment macro to  automatically verify that in Options/Formulas  calculation mode is set to \"Automatic\" "]
[]
[1]
[4]
[3]
[{"$f":"A4082*A4081+A4083","v":7},1,2]
[3,{"$f":"A4083+3","v":6},9]
[4,7,11]
[]
[9]

{"sheet":"Change Log","index":28,"n_rows":181,"n_cols":5,"rows_kept":181,"cut":false,"hidden":false,"merged":[]}
["Model changes"]
[]
["This sheet tracks model changes from previous model versions"]
[]
["Changes:  OPGEE v2.0a to OPGEE v2.0b"]
[]
[null,"Changes to flaring defaults"]
[null,null,"Oil production data is now updated to BP Statistical Review of World Energy, 2016 volume, for all available countries. Data are collected 2010-2015"]
[null,null,"Oil production data for countries not available in BP (mostly minor producing countries) are updated using EIA International Energy Statistics for 2010-2015"]
[null,null,"Gas flaring by country updated to include all years 2010-2015 from NOAA/World Bank Global Gas Flaring Reduction Partnership"]
[]
[null,"Improvements to steam generation module"]
[null,null,"Solar thermal steam generation is implemented in OPGEE 2.0b"]
[null,null,"The user can now change the fraction of steam generated using solar thermal, on inputs sheet 1.4.13"]
[null,null,"Duct firing is implemented OPGEE 2.0b, as part of a re-implemented steam generation module"]
[null,null,"The user can now turn on duct firing on the Steam Generation worksheet, item 1.2.7.2.3"]
[]
["Changes:  OPGEE v1.1 draft E to OPGEE v2.0a"]
[null,"Exploration emissions added"]
[null,null,"Added emissions from siesmic exploration efforts, non-productive drilling (\"dry holes\") and scientific/exploratory wells"]
[]
[null,"Transport changes"]
[null,null,"Included transport energy use in \"Energy consumption\" gathering sheet"]
[null,null,"Included transport emissions in \"GHG emissions\" gathering sheet"]
[null,null,"Included indirect emissions associated with producing energy carriers used in transport, which were neglected in OPGEE 1.1 method of including transport outside of gathering sheets"]
[null,null,"Included truck transport using heavy-duty diesel vehicle from GREET1_2013 model"]
[]
[null,"Embodied energy added"]
[null,null,"Sheet which models embodied energy in oilfield materials and consumables is added."]
[null,null,"Embodied emissions worksheet from A.R. Brandt (2015) \"Embodied energy and GHG emissions from material use in conventional and unconventional oil and gas operations\". Environmental Science & Technology. DOI: 10.1021/acs.est.5b03540"]
[]
[null,"CO2 EOR feature added"]
[null,null,"Changes throughout model to include CO2 EOR"]
[null,null,"New CO2 accounting table on GHG emissions gathering sheet"]
[null,null,"New compressor work calculations on \"Compressor\" supplemental sheet"]
[null,null,"New gas balance pathways in \"Gas Balance\" worksheet"]
[null,null,"New gas processing technologies including membranes and Ryan-Holmes"]
[]
[null,"Heavy oil and bitumen upgrading added"]
[null,null,"\"Upgrading\" supplemental worksheet added"]
[null,null,"Upgrading section added to surface processing worksheet"]
[]
[null,"New analysis features added"]
[null,null,"Change start and end field to allow assessment of subset of fields"]
[]
[]
["Changes:  OPGEE v1.1 draft D to OPGEE v1.1 draft E"]
[null,"Steam Injection changes"]
[null,null,"Feedwater temperature revised to 140F to account for recycle of hot produced water"]
[null,null,"HRSG exhaust temperature corrected to 350F"]
["Changes:  OPGEE v1.1 draft C to OPGEE v1.1 draft D"]
[null,"Bulk assessment changes"]
[null,null,"The overall error check in Bulk Assessment worksheet was not functional in previous versions. In this version, the Bulk Assessment macro checks for the overall error. "]
[null,null,"The 'Bulk Assessment' worksheet has been split into two worksheets. Data for many fields should be entered in 'Bulk Assessment - Inputs' worksheet."]
[null,null,"The new 'Bulk Assessment - Results' worksheet reports results and allows monitoring of changes which are automatically applied to the user input variables entered in the 'Bulk Assessment - Data' worksheet."]
[null,null,"The Bulk Assessment macro is fixed to correctly solve for fraction of the remaining gas re-injected required to set the export gas to zero."]
[null,null,"In input data worksheet, row 1896, a new section 8 is added. This table works with the Bulk Assessment macro to verify that the Excel calculation mode is set to \"Automatic\" which is a requirement for Bulk Assessment worksheet to function correctly. This was overlooked in previous versions."]
[null,"Fugitive emissions changes"]
[null,null,"Modeling of gas dehydration system fugitives and venting are updated with improved California survey data. Now emissions factors are disaggregated depending on whether vapor recovery systems are applied."]
[null,null,"The number of valves, which are used to scale other components, are updated from new California survey data."]
[null,null,"The number of pump seals are updated using new California survey data."]
[null,null,"Pneumatic devices (controllers and chemical injection pumps) added as venting sources, using US EPA emissions intensities."]
[null,"Gas balance changes"]
[null,null,"In 'Gas Balance' worksheet the rate of the fuel gas consumption (calculated in Energy Consumption worksheet) is added."]
[null,null,"A warning is added in 'User Inputs & Results' worksheet (I97). This warning is activated when the fraction of the remaining gas reinjected is adjusted to a value that causes the non-reinjected portion of the remaining gas become less than fuel gas demand for on-site use"]
[null,null,"In the previous versions when gas lift is the method of recovery and FOR is higher than GOR then OPGEE gives error message on the gas composition."]
[null,"Documentation and clarity improvements"]
[null,null,"In 'Gas Balance' worksheet the 'Fuel Gas/Export' label is changed to 'Fuel gas consumed + export'."]
[null,null,"Typos in 'User Inputs & Results' are corrected: In row 297 and 298, AN19 and AN28 changed to AP19 and AP28"]
[]
["Changes:  OPGEE v1.1 draft B to OPGEE v1.1 draft C"]
[null,"Electricity module substantially revised to allow for variable power source efficiencies"]
[null,"Drivers reworked with user-defined functions to greatly simplify calculation of driver energy use."]
[null,"Bitumen extraction and upgrading sheet updated to GHGenius version 4.03, utilizing GHGenius fuel use directly, or GHGenius LHVs where direct fuel consumption not available. This avoids incongruity between GREET and GHGenius LHV/HHV ratios."]
[null,"In bulk assessment macro, the location of  “Outputs.Range(\"J97\").Value = 0” is changed . In the previous version ( after revision of the electricity module), when the fraction of remaining gas re-injected was set to -1 in bulk assessment work sheet, a type mismatch error would occur."]
[null,"In gas balance work sheet “Process fuel / Export” is changed to “Process fuel consumed + Export”."]
[]
["Changes:  OPGEE v1.1 draft A to OPGEE v1.1 draft B"]
[null,"From OPGEE v.1.1 draft A to OPGEE v1.1 draft B, the following changes were made:"]
[]
[null,"Gas balance and gas properties"]
[null,null,"Gas balance sheet fixed so that gas compositions of C4 = 0% do not trigger gas balance error. This required changing the accounting of fugitive emissions gas composition."]
[null,null,"Densities of gas changed to change of definition of standard conditions changed to 60F and 1 atm. User can select definition of standard conditions."]
[null,null,"Density of VOC is computed directly from VOC composition, rather than assuming density is equal to density of ethane."]
[]
[null,"Production emissions"]
[null,null,"Air separation unit work is now populated with literature data for N2 separation for Cantarell field"]
[null,null,"Warning now generated if no artificial lift is specified but reservoir pressure is not enough to provide artificial lift."]
[]
[null,"Venting and fugitives"]
[null,null,"Error correction in venting and fugitives worksheet. Fraction of leaking components changed from 25% to a formula that suggests a default based on API gravity.  These defaults provided by API studies of leaking components."]
[null,null,"A conversion factor was fixed in computation of emissions from fugitive leaks. This effect partially offsets the reduction in leaking components."]
[null,null,"Corrected error in formula in cell F212 and G212."]
[]
[null,"Other corrections and error fixes"]
[null,null,"GHG emissions worksheet error corrected (cell H22 called incorrect emissions factor)"]
[null,null,"Cells M38 and M40 in the \"Bitumen and Extraction\" worksheet were corrected to address error in VFF accounting"]
[null,null,"Emissions factor tables label changed to be correct (>= signs)"]
[null,null,"Error in steam production calculations for default column fixed (did not affect user calculations)."]
[]
[]
["Changes: OPGEE v1.0 to OPGEE v1.1 draft A"]
[]
[null,"From OPGEE v.1.0 to OPGEE v1.1, the following changes were made:"]
[]
[null,"Overall model organization"]
[null,null,"Added sheet to track model changes (this sheet)"]
[null,null,"Changed color themes to OPGEE custom color theme"]
[null,null,"Divided VFF emissions calculations module into two modules, one for flaring and the other for venting and fugitives"]
[]
[null,"User inputs & results sheet "]
[null,null,"Organized user inputs sheet for the implementation of new macro for the bulk assessment"]
[null,null,"Allow removal of gas processing units on the user inputs sheet"]
[null,null,"Added ocean tanker size to user inputs sheet"]
[null,null,"Added volume fraction of diluent as a user input"]
[null,null,"Added a separate emissions category for diluent life cycle emissions"]
[null,null,"Removed allocation of offsite emissions"]
[null,null,"Added a separate emissions category for total offsite emissions"]
[]
[null,"Defaults and smart defaults"]
[null,null,"Rounded no. of injection wells to the nearest 1 well"]
[]
[null,"Data and input parameters"]
[null,null,"Modified land use change emissions factors to account for 30 year analysis period"]
[null,null,"Added petroleum coke life cycle energy consumption and GHG emissions"]
[null,null,"Water oil ratio model improved with more regional data and new functional form"]
[]
[null,"Error checks and warnings"]
[null,null,"Corrected the gas balance gas composition overall error check"]
[null,null,"Added error check to ensure that downhole pump and gas lift do not co-exist (results in miscalculation of required lifting work)"]
[null,null,"Added error check to ensure that user input for volume fraction of diluent is not less than the volume fraction of NGL produced onsite as crude oil blend"]
[]
[null,"New model functionality"]
[null,null,"Imrpoved flaring calculation sheet is now separate from fugitives and venting"]
[null,null,null,"Added sensitivity of flaring to flare exit velocity, flare diameter, wind speed, etc."]
[null,null,null,"Added smart default for flare diameters based on location (onshore, offishore)"]
[null,null,null,"Added dynamic flare sizing to meet flare exit speed regulation"]
[]
[null,null,"More detailed demethanizer model now includes energy consumed by demethanizer"]
[null,null,null,"Added demethanizer input data"]
[null,null,null,"Added N2 and H2S gas densities to input data sheet"]
[null,null,null,"Calculated gas feed into demethanizer in kmol"]
[null,null,null,"Added demethanizer chilling and fractionation energy consumption "]
[null,null,null,"Updated gathering sheets to include energy consumption and emissions of demethanizer"]
[]
[null,null,"Bulk assessment macro changes"]
[null,null,null,"Developed a new macro which runs the bulk assessment for unlimited number of fields and has a built in logic for errors fixing"]
[null,null,null,"Bulk assessment macro now has the following features:"]
[null,null,null,null,"Works with limited datasets, and fills in defaults or smart defaults where applicable"]
[null,null,null,null,"Resolves errors by changing programmatically the well diameter, productivity index, GOR etc.  See documentation for details."]
[null,null,null,null,"Uses colors to highlight where the macro fills in or alters data"]
[]
[null,null,"Processing configuration flexibility"]
[null,null,null,"Dehydrator can be switched ON/OFF"]
[null,null,null,"AGR unit can be switched ON/OFF"]
[null,null,null,"Demethanizer can be switched ON/OFF"]
[]
[null,null,"Diluent blending and upgrading for non oil sands heavy crudes"]
[null,null,null,"Developed the option of diluent blending after production. The model now accounts for indirect GHG emissions associated with importing NGL for use as diluent. Added an ERROR check to make sure that the diluent volume fraction is the minimum as indicated by model inputs (minimum is NGL produced onsite as blend)."]
[null,null,null,"Calculated non-integrated upgrader emissions and energy consumption for non-bitumen pathways using upgrading data from bitumen sheet "]
[null,null,null,"Added emissions and energy consumption of non-integrated upgrader (if applicable) to conventional oil GHG emissions"]
[]
[null,null,"Supplemental flaring sheet added to compute flaring efficiency using flare exit diameter etc."]
[]
[]
[null,"Corrections and improvements"]
[null,null,"Changed heater/treater calculations using default oil emulsion (14% emulsified water)"]
[null,null,"Corrected the AGR unit venting emissions calculation"]
[null,null,"Heating value basis in Bitumen Extraction & Upgrading sheet is changed from HHV basis to LHV basis to address error in emissions computation"]
[null,null,"Fixed treatment of imported vs. on site energy at bitumen production facilities and clarified use of fuel cycle emissions for imported fuels."]
[null,null,"Diluted bitumen pathways now exhibit sensitivity in flaring and fugitive emissions computations to level of diluent blending.  Upstream flaring and fugitive emissions from diluent life cycle are tracked in the \"Fuel Cycle\" sheet, and therefore should not be double counted in the Bitumen Extraction and Upgrading sheet."]
[null,null,"Improved compressor model (compressor now between 1 and 5 stages)"]
[null,null,"Corrected two typo mistakes in the bulk assessment sheet (scf/bbl liquid for gas lift injection and C4+ instead of C4 for gas composition)"]
[null,null,"Corrected flaring emissions so that calculations are based on reservior gas (pre-processing) composition"]
[]
[null,"Documentation and model explanation"]
[null,null,"Highlighted changes to heater/treater calculations"]
[null,null,"Improved description of offsite credits/debts"]
[null,null,"Fixed error in documentation of small sources."]
[null,null,"Labeling of bitumen extraction and upgrading Table 4.10 fixed "]
[null,null,"Fixed numbering in Bitumen Extraction & Upgrading sheet"]